{"text_format":"1","workbook":"xlsx","n_sheets":6,"sheets":["Entrar","Relatório","Novos Agrupamentos","RelatSuporte","BD","Cadastro"],"not_rendered":{"charts":2,"images":2,"macros":1,"external_links":0,"defined_names":0,"comments":0,"pivot_tables":0},"unopened":[],"bounds":{"document_bytes":16777216,"sheet_cells":100000,"rows_first":2000,"rows_last":500,"rows_between":2000,"halvings":0,"cell_chars":16384,"cell_head_chars":4096},"cells_cut":0,"cells_raw":0,"read":"whole","date_system":"1900"}

{"sheet":"Entrar","index":0,"n_rows":0,"n_cols":0,"rows_kept":0,"cut":false,"hidden":false,"merged":[]}

{"sheet":"Relatório","index":1,"n_rows":63,"n_cols":27,"rows_kept":63,"cut":false,"hidden":true,"merged":[[25,1,25,26],[26,1,26,26],[27,1,27,26],[28,1,28,26],[20,1,20,26],[21,1,21,26],[22,1,22,26],[23,1,23,26],[24,1,24,26],[0,0,0,27],[4,1,4,6],[5,1,6,1],[5,2,5,6],[5,7,5,10],[5,15,5,18],[5,19,5,22],[5,23,5,26],[5,11,5,14],[3,1,3,26],[4,7,4,10],[1,4,1,27],[2,16,2,21],[45,19,45,20],[45,23,45,24],[61,1,61,13],[61,14,61,26],[62,1,62,13],[62,14,62,26],[45,15,45,16],[29,7,29,10],[45,1,46,1],[45,2,45,4],[45,7,45,8],[45,11,45,12],[30,2,30,6],[30,7,30,10],[30,11,30,14],[30,15,30,18],[30,19,30,22],[30,23,30,26],[30,1,31,1],[44,7,44,10]]}
["           CONTRIBUIÇÃO MARGINAL MÊS A MÊS, POR GRUPO SEGURADOR, AGRUPAMENTOS DE RAMOS, RAMOS - valores em R$ mil                             PERÍODO: JANEIRO 2015 A DEZEMBRO 2016"]
[null,"     NOVOS AGRUPAMENTOS",null,null,{"$f":"IF(Cadastro!A1=TRUE,\"Para criar os agrupamentos vá para a planilha 'Novos Agrupamentos'.\",\"\")","v":""}]
[null,1,null,null,null,1,1,null,1,null,1,null,2,1,null,null,{"$f":"O63","v":0},null,null,null,null,null,75,1]
[null,1]
[null,{"$f":"IF(RelatSuporte!C3=1,VLOOKUP(RelatSuporte!B3,Cadastro!D2:F19,3,FALSE),VLOOKUP(RelatSuporte!C3-1,Cadastro!D22:G148,3,FALSE))","v":"TODOS OS RAMOS"},null,null,null,null,null,"MÊS A MÊS"]
[null,"Período","Prêmio Emitido Líquido (PEL)",null,null,null,null,"Prêmio Retido (PR)",null,null,null,"Prêmio Ganho (PG)",null,null,null,"Sinistro Retido",null,null,null,"Despesas de Comercialização (3)",null,null,null,"Contribuição Marginal"]
[null,null,"2016","Part. Merc.","Cresc.","2015","Part. Merc.",{"$f":"C7","v":"2016"},"s/PEL",{"$f":"F7","v":"2015"},"s/PEL",{"$f":"H7","v":"2016"},"s/PR",{"$f":"J7","v":"2015"},"s/PR",{"$f":"L7","v":"2016"},"s/PG",{"$f":"N7","v":"2015"},"s/PG",{"$f":"P7","v":"2016"},"s/PG",{"$f":"R7","v":"2015"},"s/PG",{"$f":"T7","v":"2016"},"s/PG",{"$f":"V7","v":"2015"},"s/PG"]
[1,"JANEIRO",{"$f":"RelatSuporte!C8","v":13384291.607484797},{"$f":"IF(RelatSuporte!C121=0,0,C8/RelatSuporte!C121)","v":1},{"$f":"IFERROR(IF(F8=0,0,IF(C8=0,0,C8/F8-1)),\"\")","v":9.8221297180707934E-2},{"$f":"RelatSuporte!D8","v":12187244.630789986},{"$f":"IF(RelatSuporte!D121=0,0,F8/RelatSuporte!D121)","v":1},{"$f":"RelatSuporte!E8","v":12748613.940394301},{"$f":"IFERROR(IF(C8=0,0,H8/C8),\"\")","v":0.9525056920655397},{"$f":"RelatSuporte!F8","v":11580859.645550193},{"$f":"IF(F8=0,0,J8/F8)","v":0.95024429199461413},{"$f":"RelatSuporte!G8","v":7356646.8334531002},{"$f":"IF(H8=0,0,L8/H8)","v":0.57705464043768562},{"$f":"RelatSuporte!H8","v":6962897.2946502073},{"$f":"IF(J8=0,0,N8/J8)","v":0.60124183417814037},{"$f":"RelatSuporte!I8","v":3573463.5208511022},{"$f":"IF(L8=0,0,P8/L8)","v":0.48574623762029523},{"$f":"RelatSuporte!J8","v":3529945.1649500038},{"$f":"IF(N8=0,0,R8/N8)","v":0.50696499109101634},{"$f":"RelatSuporte!K8","v":1896014.2640900016},{"$f":"IF(L8<=1,0,+T8/L8)","v":0.25772805287705253},{"$f":"RelatSuporte!L8","v":1696386.4221598983},{"$f":"IF(N8=0,0,V8/N8)","v":0.24363226260184542},{"$f":"L8-P8-T8","v":1887169.0485119964},{"$f":"IF(L8<=1,0,+X8/L8)","v":0.25652570950265224},{"$f":"N8-R8-V8","v":1736565.7075403051},{"$f":"IF(N8=0,0,Z8/N8)","v":0.24940274630713827}]
[2,"FEVEREIRO",{"$f":"RelatSuporte!C9","v":13136872.738380989},{"$f":"IF(RelatSuporte!C122=0,0,C9/RelatSuporte!C122)","v":1},{"$f":"IFERROR(IF(F9=0,0,IF(C9=0,0,C9/F9-1)),\"\")","v":2.4903142793823552E-2},{"$f":"RelatSuporte!D9","v":12817672.412020003},{"$f":"IF(RelatSuporte!D122=0,0,F9/RelatSuporte!D122)","v":1},{"$f":"RelatSuporte!E9","v":12481574.303933013},{"$f":"IFERROR(IF(C9=0,0,H9/C9),\"\")","v":0.95011762331125882},{"$f":"RelatSuporte!F9","v":12240988.457300387},{"$f":"IF(F9=0,0,J9/F9)","v":0.95500868362193281},{"$f":"RelatSuporte!G9","v":6734718.3459112979},{"$f":"IF(H9=0,0,L9/H9)","v":0.5395728280677824},{"$f":"RelatSuporte!H9","v":6372408.6959403912},{"$f":"IF(J9=0,0,N9/J9)","v":0.52057958539614169},{"$f":"RelatSuporte!I9","v":3281821.9337789989},{"$f":"IF(L9=0,0,P9/L9)","v":0.48729906214584601},{"$f":"RelatSuporte!J9","v":2842169.4776902031},{"$f":"IF(N9=0,0,R9/N9)","v":0.44601180076551533},{"$f":"RelatSuporte!K9","v":1741566.7715498006},0.2585953386762076,{"$f":"RelatSuporte!L9","v":1655452.6164898993},{"$f":"IF(N9=0,0,V9/N9)","v":0.25978443873892182},{"$f":"L9-P9-T9","v":1711329.6405824984},{"$f":"IF(L9<=1,0,+X9/L9)","v":0.2541055991779464},1874786.6017602887,{"$f":"IF(N9=0,0,Z9/N9)","v":0.29420376049556285}]
[3,"MARÇO",{"$f":"RelatSuporte!C10","v":16233928.901271615},{"$f":"IF(RelatSuporte!C123=0,0,C10/RelatSuporte!C123)","v":1},2.4352539631364856E-3,{"$f":"RelatSuporte!D10","v":16194491.202390017},{"$f":"IF(RelatSuporte!D123=0,0,F10/RelatSuporte!D123)","v":1},{"$f":"RelatSuporte!E10","v":15536828.889930898},0.95705906958320408,{"$f":"RelatSuporte!F10","v":15557761.781874217},0.9606823448444104,{"$f":"RelatSuporte!G10","v":7178824.2489941129},0.46205208925526381,{"$f":"RelatSuporte!H10","v":6886180.1534742014},0.44262023355422758,{"$f":"RelatSuporte!I10","v":3834858.6423872984},0.5341903505890444,{"$f":"RelatSuporte!J10","v":3466118.4725998994},0.50334414658773929,{"$f":"RelatSuporte!K10","v":1874424.1197200008},0.26110461194012968,{"$f":"RelatSuporte!L10","v":1768850.8875300009},0.25686967928621268,1469541.4868868138,0.20470503747082594,1651210.7933443012,0.23978617412604805]
[4,"ABRIL",{"$f":"RelatSuporte!C11","v":16037674.64660229},{"$f":"IF(RelatSuporte!C124=0,0,C11/RelatSuporte!C124)","v":1},0.14082692438378297,{"$f":"RelatSuporte!D11","v":14057938.416263301},{"$f":"IF(RelatSuporte!D124=0,0,F11/RelatSuporte!D124)","v":1},{"$f":"RelatSuporte!E11","v":15335366.975169178},0.95620888396174686,{"$f":"RelatSuporte!F11","v":13440339.069238484},0.95606757344232418,{"$f":"RelatSuporte!G11","v":6916856.9370348901},0.45103954461830437,{"$f":"RelatSuporte!H11","v":6640543.8607130069},0.4940756201539232,{"$f":"RelatSuporte!I11","v":3441190.9326174916},0.49750789469019396,{"$f":"RelatSuporte!J11","v":3052156.4733297983},0.45962447313797017,{"$f":"RelatSuporte!K11","v":1866446.239839999},0.26984022610710595,{"$f":"RelatSuporte!L11","v":1715270.6786898989},0.25830274065921571,1609219.7645773995,0.23265187920270011,1873116.7086933097,0.28207278620281412]
[5,"MAIO",{"$f":"RelatSuporte!C12","v":17244408.942090731},{"$f":"IF(RelatSuporte!C125=0,0,C12/RelatSuporte!C125)","v":1},9.0719405433412614E-2,{"$f":"RelatSuporte!D12","v":15810123.901883295},{"$f":"IF(RelatSuporte!D125=0,0,F12/RelatSuporte!D125)","v":1},{"$f":"RelatSuporte!E12","v":16575741.629433408},0.96122410951266546,{"$f":"RelatSuporte!F12","v":15160578.430509986},0.958915851931057,{"$f":"RelatSuporte!G12","v":7127053.2940969113},0.42996889390707327,{"$f":"RelatSuporte!H12","v":6806243.4301125091},0.44894351896331663,{"$f":"RelatSuporte!I12","v":3433106.8074174058},0.48170073461649682,{"$f":"RelatSuporte!J12","v":3140328.0620443043},0.46138932500573138,{"$f":"RelatSuporte!K12","v":1861330.6036098013},0.26116412026152186,{"$f":"RelatSuporte!L12","v":1791687.8116599992},0.26324180585918039,1832615.8830697043,0.25713514512198132,1874227.5564082055,0.27536886913508823]
[6,"JUNHO",{"$f":"RelatSuporte!C13","v":19479174.481682606},{"$f":"IF(RelatSuporte!C126=0,0,C13/RelatSuporte!C126)","v":1},0.13969478979160677,{"$f":"RelatSuporte!D13","v":17091571.05583011},{"$f":"IF(RelatSuporte!D126=0,0,F13/RelatSuporte!D126)","v":1},{"$f":"RelatSuporte!E13","v":18780195.04789399},0.96411657822327601,{"$f":"RelatSuporte!F13","v":16456354.866856379},0.96283453481843306,{"$f":"RelatSuporte!G13","v":6889269.1759317061},0.3668369342470843,{"$f":"RelatSuporte!H13","v":6759447.2430893015},0.4107499684941191,{"$f":"RelatSuporte!I13","v":3268423.5082835988},0.47442238426423172,{"$f":"RelatSuporte!J13","v":2883350.6150469007},0.42656603585371128,{"$f":"RelatSuporte!K13","v":1941433.3620599997},0.28180541541947224,{"$f":"RelatSuporte!L13","v":1826685.1129900012},0.27024178861038683,1679412.3055881076,0.24377220031629604,2049411.5150523996,0.30319217553590189]
[7,"JULHO",{"$f":"RelatSuporte!C14","v":16433362.295807106},{"$f":"IF(RelatSuporte!C127=0,0,C14/RelatSuporte!C127)","v":1},0.10134147343531064,{"$f":"RelatSuporte!D14","v":14921223.518940106},{"$f":"IF(RelatSuporte!D127=0,0,F14/RelatSuporte!D127)","v":1},{"$f":"RelatSuporte!E14","v":15703011.570192594},0.95555682930444141,{"$f":"RelatSuporte!F14","v":14306340.052591609},0.95879135075163235,{"$f":"RelatSuporte!G14","v":7042257.0598193035},0.44846538056348967,{"$f":"RelatSuporte!H14","v":6932219.6353252046},0.48455577106664854,{"$f":"RelatSuporte!I14","v":3392009.1625253991},0.48166505904464019,{"$f":"RelatSuporte!J14","v":3123347.3075455013},0.45055515720095596,{"$f":"RelatSuporte!K14","v":1851868.1396899009},0.26296514369746932,{"$f":"RelatSuporte!L14","v":1846095.5860000011},0.26630656313782491,1798379.7576040034,0.2553697972578905,1962776.7417797022,0.28313827966121913]
[8,"AGOSTO",{"$f":"RelatSuporte!C15","v":17324168.091749892},{"$f":"IF(RelatSuporte!C128=0,0,C15/RelatSuporte!C128)","v":1},0.18253662477737898,{"$f":"RelatSuporte!D15","v":14650005.529436596},{"$f":"IF(RelatSuporte!D128=0,0,F15/RelatSuporte!D128)","v":1},{"$f":"RelatSuporte!E15","v":16593307.543869998},0.95781266124819331,{"$f":"RelatSuporte!F15","v":14000172.102109723},0.95564278620774934,{"$f":"RelatSuporte!G15","v":7107970.1366099957},0.42836367118596952,{"$f":"RelatSuporte!H15","v":6940367.1098863119},0.4957344137819884,{"$f":"RelatSuporte!I15","v":3490945.0740937991},0.49113108341768241,{"$f":"RelatSuporte!J15","v":3116761.3630734966},0.44907730581481464,{"$f":"RelatSuporte!K15","v":1939611.8609598018},0.27287844823231922,{"$f":"RelatSuporte!L15","v":1828433.157579903},0.26344905516242267,1677413.2015563948,0.23599046834999837,1995172.5892329123,0.28747363902276268]
[9,"SETEMBRO",{"$f":"RelatSuporte!C16","v":14622190.578825314},{"$f":"IF(RelatSuporte!C129=0,0,C16/RelatSuporte!C129)","v":1},3.7793899390930141E-2,{"$f":"RelatSuporte!D16","v":14089686.388990065},{"$f":"IF(RelatSuporte!D129=0,0,F16/RelatSuporte!D129)","v":1},{"$f":"RelatSuporte!E16","v":13924366.784687096},0.95227638496596057,{"$f":"RelatSuporte!F16","v":13355425.611335762},0.94788664861780969,{"$f":"RelatSuporte!G16","v":6780327.975697997},0.48693977116104548,{"$f":"RelatSuporte!H16","v":6709449.5335924048},0.50237631722478293,{"$f":"RelatSuporte!I16","v":3179861.8829333051},0.46898349081792845,{"$f":"RelatSuporte!J16","v":3132565.4906165977},0.46688859867455401,{"$f":"RelatSuporte!K16","v":1874412.6125200978},0.27644866431806159,{"$f":"RelatSuporte!L16","v":1806787.4235798994},0.26928996403263811,1726053.4802445942,0.25456784486400991,1770096.6193959077,0.26382143729280788]
[10,"OUTUBRO",{"$f":"RelatSuporte!C17","v":15807514.392415114},{"$f":"IF(RelatSuporte!C130=0,0,C17/RelatSuporte!C130)","v":1},0.17244055886432608,{"$f":"RelatSuporte!D17","v":13482572.120949926},{"$f":"IF(RelatSuporte!D130=0,0,F17/RelatSuporte!D130)","v":1},{"$f":"RelatSuporte!E17","v":15064290.651693814},0.95298288381898166,{"$f":"RelatSuporte!F17","v":12793055.031163301},0.94885863887090083,{"$f":"RelatSuporte!G17","v":6881038.8044776078},0.45677814930528515,{"$f":"RelatSuporte!H17","v":6831709.2774097072},0.53401703195741546,{"$f":"RelatSuporte!I17","v":3213630.0714862966},0.46702687817937216,{"$f":"RelatSuporte!J17","v":3200834.8928104993},0.4685262154516211,{"$f":"RelatSuporte!K17","v":1910432.5984598009},0.27763723657780426,{"$f":"RelatSuporte!L17","v":1833227.6446200013},0.2683409920094087,1756976.1345315103,0.25533588524282358,1797646.7399792066,0.26313279253897021]
[11,"NOVEMBRO",{"$f":"RelatSuporte!C18","v":18576137.113149289},{"$f":"IF(RelatSuporte!C131=0,0,C18/RelatSuporte!C131)","v":1},0.18107669286961081,{"$f":"RelatSuporte!D18","v":15728137.914580004},{"$f":"IF(RelatSuporte!D131=0,0,F18/RelatSuporte!D131)","v":1},{"$f":"RelatSuporte!E18","v":17757495.20084561},0.95593045489935602,{"$f":"RelatSuporte!F18","v":15061312.882397182},0.95760305283407554,{"$f":"RelatSuporte!G18","v":6708045.7565118009},0.37775855663429175,{"$f":"RelatSuporte!H18","v":6607852.1199072059},0.43873015397151022,{"$f":"RelatSuporte!I18","v":3299254.5481720991},0.49183542687814324,{"$f":"RelatSuporte!J18","v":3133526.286159697},0.47421253219627152,{"$f":"RelatSuporte!K18","v":1908089.5253797993},0.28444789952834343,{"$f":"RelatSuporte!L18","v":1784978.1326898993},0.27012985464858824,1500701.6829599026,0.2237166735935133,1689347.7010576096,0.25565761315514024]
[12,"DEZEMBRO",{"$f":"RelatSuporte!C19","v":23971934.245949704},{"$f":"IF(RelatSuporte!C132=0,0,C19/RelatSuporte!C132)","v":1},0.18675946521411291,{"$f":"RelatSuporte!D19","v":20199488.564116683},{"$f":"IF(RelatSuporte!D132=0,0,F19/RelatSuporte!D132)","v":1},{"$f":"RelatSuporte!E19","v":23231337.974975411},0.96910569404304847,{"$f":"RelatSuporte!F19","v":19403201.120508082},0.9605788314352095,{"$f":"RelatSuporte!G19","v":6841331.4898510119},0.29448719213763896,{"$f":"RelatSuporte!H19","v":6684344.3364608074},0.34449698763343922,{"$f":"RelatSuporte!I19","v":3288702.9195908029},0.4807109441297403,{"$f":"RelatSuporte!J19","v":3430352.3191880011},0.51319204195938928,{"$f":"RelatSuporte!K19","v":2091189.3502498998},0.30566993477105153,{"$f":"RelatSuporte!L19","v":1870981.1953398983},0.27990496915820706,1461439.2200103092,0.21361912109920814,1383010.8219329079,0.2069029888824036]
[13,"TOTAL",{"$f":"RelatSuporte!C20","v":202251658.03540945},{"$f":"IF(RelatSuporte!C133=0,0,C20/RelatSuporte!C133)","v":1},{"$f":"IF(C19=0,\"\",IF(C20=0,0,C20/F20-1))","v":0.11599340243959744},{"$f":"RelatSuporte!D20","v":181230155.6561901},{"$f":"IF(RelatSuporte!D133=0,0,F20/RelatSuporte!D133)","v":1},{"$f":"RelatSuporte!E20","v":193732130.51301929},{"$f":"IF(C20=0,0,H20/C20)","v":0.95787659985017981},{"$f":"RelatSuporte!F20","v":173356389.05143529},0.95655377232201877,{"$f":"RelatSuporte!G20","v":83564340.058389738},0.43133960193956572,{"$f":"RelatSuporte!H20","v":81133662.690561265},0.46801657057178719,{"$f":"RelatSuporte!I20","v":40697269.004137598},0.48701717713202536,{"$f":"RelatSuporte!J20","v":38051455.9250549},0.46899714203931336,{"$f":"RelatSuporte!K20","v":22756819.448128905},0.27232692117508267,{"$f":"RelatSuporte!L20","v":21424836.669329304},0.26406840217533745,20110251.606123235,0.24065590169289197,21657370.09617706,0.26693445578534919]
[null,{"$f":"IF(RelatSuporte!E20=TRUE,\"ATENÇÃO: O percentual informado a frente do nome da seguradora indica a partipação que foi considerada na totalização do grupo segurador. Os valores informados nos quadros abaixo são plenos, ou seja, 100% dos valores realizados\",)","v":0}]
[null,{"$f":"IF(RelatSuporte!E21=TRUE,\"ATENÇÃO: O percentual informado a frente do nome da seguradora indica a partipação que foi considerada na totalização do grupo segurador. Os valores informados nos quadros abaixo são plenos, ou seja, 100% dos valores realizados\",)","v":0}]
[null,{"$f":"IF(RelatSuporte!E22=TRUE,\"ATENÇÃO: O percentual informado a frente do nome da seguradora indica a partipação que foi considerada na totalização do grupo segurador. Os valores informados nos quadros abaixo são plenos, ou seja, 100% dos valores realizados\",)","v":0}]
[null,{"$f":"IF(RelatSuporte!E23=TRUE,\"ATENÇÃO: O percentual informado a frente do nome da seguradora indica a partipação que foi considerada na totalização do grupo segurador. Os valores informados nos quadros abaixo são plenos, ou seja, 100% dos valores realizados\",)","v":0}]
[null,{"$f":"IF(RelatSuporte!E24=TRUE,\"ATENÇÃO: O percentual informado a frente do nome da seguradora indica a partipação que foi considerada na totalização do grupo segurador. Os valores informados nos quadros abaixo são plenos, ou seja, 100% dos valores realizados\",)","v":0}]
[null,{"$f":"IF(RelatSuporte!E25=TRUE,\"ATENÇÃO: O percentual informado a frente do nome da seguradora indica a partipação que foi considerada na totalização do grupo segurador. Os valores informados nos quadros abaixo são plenos, ou seja, 100% dos valores realizados\",)","v":0}]
[null,{"$f":"IF(RelatSuporte!E26=TRUE,\"ATENÇÃO: O percentual informado a frente do nome da seguradora indica a partipação que foi considerada na totalização do grupo segurador. Os valores informados nos quadros abaixo são plenos, ou seja, 100% dos valores realizados\",)","v":0}]
[null,{"$f":"IF(RelatSuporte!E27=TRUE,\"ATENÇÃO: O percentual informado a frente do nome da seguradora indica a partipação que foi considerada na totalização do grupo segurador. Os valores informados nos quadros abaixo são plenos, ou seja, 100% dos valores realizados\",)","v":0}]
[null,{"$f":"IF(RelatSuporte!E28=TRUE,\"ATENÇÃO: O percentual informado a frente do nome da seguradora indica a partipação que foi considerada na totalização do grupo segurador. Os valores informados nos quadros abaixo são plenos, ou seja, 100% dos valores realizados\",)","v":0}]
[null,null,null,null,null,null,null,"ACUMULADO NO ANO"]
[null,"Período","Prêmio Emitido Líquido (PEL)",null,null,null,null,"Prêmio Retido (PR)",null,null,null,"Prêmio Ganho (PG)",null,null,null,"Sinistro Retido",null,null,null,"Despesas de Comercialização (3)",null,null,null,"Contribuição Marginal"]
[null,null,"2016","Part. Merc.","Cresc.","2015","Part. Merc.",{"$f":"C32","v":"2016"},"s/PEL",{"$f":"F32","v":"2015"},"s/PEL",{"$f":"H32","v":"2016"},"s/PR",{"$f":"J32","v":"2015"},"s/PR",{"$f":"L32","v":"2016"},"s/PG",{"$f":"N32","v":"2015"},"s/PG",{"$f":"P32","v":"2016"},"s/PG",{"$f":"R32","v":"2015"},"s/PG",{"$f":"T32","v":"2016"},"s/PG",{"$f":"V32","v":"2015"},"s/PG"]
[15,"JAN",{"$f":"RelatSuporte!C24","v":13384291.607484797},{"$f":"IF(RelatSuporte!C137=0,0,C33/RelatSuporte!C137)","v":1},{"$f":"IF(F33=0,0,IF(C33=0,0,C33/F33-1))","v":9.8221297180707934E-2},{"$f":"RelatSuporte!D24","v":12187244.630789986},{"$f":"IF(RelatSuporte!D137=0,0,F33/RelatSuporte!D137)","v":1},{"$f":"RelatSuporte!E24","v":12748613.940394301},{"$f":"IF(C33=0,0,H33/C33)","v":0.9525056920655397},{"$f":"RelatSuporte!F24","v":11580859.645550193},{"$f":"IF(F33=0,0,J33/F33)","v":0.95024429199461413},{"$f":"RelatSuporte!G24","v":7356646.8334531002},{"$f":"IF(H33=0,0,L33/H33)","v":0.57705464043768562},{"$f":"RelatSuporte!H24","v":6962897.2946502073},{"$f":"IF(J33=0,0,N33/J33)","v":0.60124183417814037},{"$f":"RelatSuporte!I24","v":3573463.5208511022},{"$f":"IF(L33=0,0,P33/L33)","v":0.48574623762029523},{"$f":"RelatSuporte!J24","v":3529945.1649500038},{"$f":"IF(N33=0,0,R33/N33)","v":0.50696499109101634},{"$f":"RelatSuporte!K24","v":1896014.2640900016},{"$f":"IF(L33<=1,0,+T33/L33)","v":0.25772805287705253},{"$f":"RelatSuporte!L24","v":1696386.4221598983},{"$f":"IF(N33=0,0,V33/N33)","v":0.24363226260184542},{"$f":"L33-P33-T33","v":1887169.0485119964},{"$f":"IF(L33<=1,0,+X33/L33)","v":0.25652570950265224},{"$f":"N33-R33-V33","v":1736565.7075403051},{"$f":"IF(N33=0,0,Z33/N33)","v":0.24940274630713827}]
[16,"JAN/FEV",{"$f":"RelatSuporte!C25","v":26521164.345865786},{"$f":"IF(RelatSuporte!C138=0,0,C34/RelatSuporte!C138)","v":1},{"$f":"IF(F34=0,0,IF(C34=0,0,C34/F34-1))","v":6.0637965743292943E-2},{"$f":"RelatSuporte!D25","v":25004917.042809989},{"$f":"IF(RelatSuporte!D138=0,0,F34/RelatSuporte!D138)","v":1},{"$f":"RelatSuporte!E25","v":25230188.244327314},{"$f":"IF(C34=0,0,H34/C34)","v":0.95132279696687927},{"$f":"RelatSuporte!F25","v":23821848.102850579},{"$f":"IF(F34=0,0,J34/F34)","v":0.9526865480923643},{"$f":"RelatSuporte!G25","v":14091365.179364398},{"$f":"IF(H34=0,0,L34/H34)","v":0.55851209047291439},{"$f":"RelatSuporte!H25","v":13335305.990590598},{"$f":"IF(J34=0,0,N34/J34)","v":0.55979309132589361},{"$f":"RelatSuporte!I25","v":6855285.4546301011},{"$f":"IF(L34=0,0,P34/L34)","v":0.48648838259255972},{"$f":"RelatSuporte!J25","v":6372114.642640207},{"$f":"IF(N34=0,0,R34/N34)","v":0.47783790241756552},{"$f":"RelatSuporte!K25","v":3637581.035639802},0.25814255675998865,{"$f":"RelatSuporte!L25","v":3351839.0386497974},{"$f":"IF(N34=0,0,V34/N34)","v":0.25135074073402269},{"$f":"L34-P34-T34","v":3598498.689094495},{"$f":"IF(L34<=1,0,+X34/L34)","v":0.25536906064745163},{"$f":"N34-R34-V34","v":3611352.309300594},{"$f":"IF(N34=0,0,Z34/N34)","v":0.27081135684841179}]
[17,"JAN/MAR",{"$f":"RelatSuporte!C26","v":42755093.247137398},{"$f":"IF(RelatSuporte!C139=0,0,C35/RelatSuporte!C139)","v":1},3.7759887051742602E-2,{"$f":"RelatSuporte!D26","v":41199408.245200008},{"$f":"IF(RelatSuporte!D139=0,0,F35/RelatSuporte!D139)","v":1},{"$f":"RelatSuporte!E26","v":40767017.134258211},0.95350083552882214,{"$f":"RelatSuporte!F26","v":39379609.884724796},0.9558295024616712,{"$f":"RelatSuporte!G26","v":21270189.42835851},0.52174995679250447,{"$f":"RelatSuporte!H26","v":20221486.144064799},0.51350143394662318,{"$f":"RelatSuporte!I26","v":10690144.0970174},0.50258810026227363,{"$f":"RelatSuporte!J26","v":9838233.1152401064},0.48652374237724971,{"$f":"RelatSuporte!K26","v":5512005.1553598028},0.2591422692273212,{"$f":"RelatSuporte!L26","v":5120689.9261797983},0.25323014785848319,5068040.1759813074,0.23826963051040512,5262563.1026448943,0.2602461097642671]
[18,"JAN/ABR",{"$f":"RelatSuporte!C27","v":58792767.893739685},{"$f":"IF(RelatSuporte!C140=0,0,C36/RelatSuporte!C140)","v":1},6.3981016930405588E-2,{"$f":"RelatSuporte!D27","v":55257346.661463305},{"$f":"IF(RelatSuporte!D140=0,0,F36/RelatSuporte!D140)","v":1},{"$f":"RelatSuporte!E27","v":56102384.109427392},0.9542395454288729,{"$f":"RelatSuporte!F27","v":52819948.95396328},0.95589006974162449,{"$f":"RelatSuporte!G27","v":28187046.3653934},0.50242154255717053,{"$f":"RelatSuporte!H27","v":26862030.004777804},0.50855842417019692,{"$f":"RelatSuporte!I27","v":14131335.029634891},0.50134146183491624,{"$f":"RelatSuporte!J27","v":12890389.588569906},0.47987399263112884,{"$f":"RelatSuporte!K27","v":7378451.3951998018},0.26176745514771932,{"$f":"RelatSuporte!L27","v":6835960.6048696972},0.25448414001673819,6677259.9405587073,0.23689108301736439,7135679.8113382012,0.26564186735213297]
[19,"JAN/MAI",{"$f":"RelatSuporte!C28","v":76037176.83583042},{"$f":"IF(RelatSuporte!C141=0,0,C37/RelatSuporte!C141)","v":1},6.9929409800142395E-2,{"$f":"RelatSuporte!D28","v":71067470.563346595},{"$f":"IF(RelatSuporte!D141=0,0,F37/RelatSuporte!D141)","v":1},{"$f":"RelatSuporte!E28","v":72678125.738860801},0.95582356898623355,{"$f":"RelatSuporte!F28","v":67980527.384473264},0.95656320459412214,{"$f":"RelatSuporte!G28","v":35314099.65949031},0.48589722561609694,{"$f":"RelatSuporte!H28","v":33668273.434890315},0.49526349280103027,{"$f":"RelatSuporte!I28","v":17564441.837052297},0.4973775915686422,{"$f":"RelatSuporte!J28","v":16030717.650614209},0.47613720619251099,{"$f":"RelatSuporte!K28","v":9239781.9988096021},0.2616456907553214,{"$f":"RelatSuporte!L28","v":8627648.4165296964},0.2562545546986349,8509875.8236284107,0.24097671767603643,9009907.367746409,0.26760823910885412]
[20,"JAN/JUN",{"$f":"RelatSuporte!C29","v":95516351.317513019},{"$f":"IF(RelatSuporte!C142=0,0,C38/RelatSuporte!C142)","v":1},8.3454964609505522E-2,{"$f":"RelatSuporte!D29","v":88159041.619176701},{"$f":"IF(RelatSuporte!D142=0,0,F38/RelatSuporte!D142)","v":1},{"$f":"RelatSuporte!E29","v":91458320.786754787},0.9575148079382908,{"$f":"RelatSuporte!F29","v":84436882.251329646},0.95777904002262437,{"$f":"RelatSuporte!G29","v":42203368.835422017},0.46144919863359235,{"$f":"RelatSuporte!H29","v":40427720.677979618},0.47879220075470036,{"$f":"RelatSuporte!I29","v":20832865.345335897},0.49363038828906269,{"$f":"RelatSuporte!J29","v":18914068.265661109},0.46784898946735137,{"$f":"RelatSuporte!K29","v":11181215.360869601},0.26493656002847371,{"$f":"RelatSuporte!L29","v":10454333.529519698},0.25859319680157034,10189288.129216518,0.24143305168246362,11059318.882798811,0.27355781373107829]
[21,"JAN/JUL",{"$f":"RelatSuporte!C30","v":111949713.61332013},{"$f":"IF(RelatSuporte!C143=0,0,C39/RelatSuporte!C143)","v":1},8.6044098386041101E-2,{"$f":"RelatSuporte!D30","v":103080265.13811681},{"$f":"IF(RelatSuporte!D143=0,0,F39/RelatSuporte!D143)","v":1},{"$f":"RelatSuporte!E30","v":107161332.35694738},0.95722739164021398,{"$f":"RelatSuporte!F30","v":98743222.303921252},0.95792557548834034,{"$f":"RelatSuporte!G30","v":49245625.89524132},0.45954659961866995,{"$f":"RelatSuporte!H30","v":47359940.313304827},0.47962725145363305,{"$f":"RelatSuporte!I30","v":24224874.507861298},0.49191931399946293,{"$f":"RelatSuporte!J30","v":22037415.573206611},0.46531763822801187,{"$f":"RelatSuporte!K30","v":13033083.500559501},0.26465464218658469,{"$f":"RelatSuporte!L30","v":12300429.115519699},0.25972222587586624,11987667.886820521,0.24342604381395239,13022095.624578517,0.27496013589612189]
[22,"JAN/AGO",{"$f":"RelatSuporte!C31","v":129273881.70507002},{"$f":"IF(RelatSuporte!C144=0,0,C40/RelatSuporte!C144)","v":1},9.8051342038560918E-2,{"$f":"RelatSuporte!D31","v":117730270.6675534},{"$f":"IF(RelatSuporte!D144=0,0,F40/RelatSuporte!D144)","v":1},{"$f":"RelatSuporte!E31","v":123754639.90081738},0.95730582441359324,{"$f":"RelatSuporte!F31","v":112743394.40603098},0.95764151196420544,{"$f":"RelatSuporte!G31","v":56353596.031851314},0.455365520654544,{"$f":"RelatSuporte!H31","v":54300307.423191138},0.48162739563823576,{"$f":"RelatSuporte!I31","v":27715819.581955098},0.49181989320237857,{"$f":"RelatSuporte!J31","v":25154176.936280109},0.4632418881211896,{"$f":"RelatSuporte!K31","v":14972695.361519303},0.26569192413305204,{"$f":"RelatSuporte!L31","v":14128862.273099601},0.26019856872974723,13665081.088376913,0.24248818266456937,15017268.213811427,0.27655954314906322]
[23,"JAN/SET",{"$f":"RelatSuporte!C32","v":143896072.28389534},{"$f":"IF(RelatSuporte!C145=0,0,C41/RelatSuporte!C145)","v":1},9.1610674870512332E-2,{"$f":"RelatSuporte!D32","v":131819957.05654345},{"$f":"IF(RelatSuporte!D145=0,0,F41/RelatSuporte!D145)","v":1},{"$f":"RelatSuporte!E32","v":137679006.68550447},0.95679475124154112,{"$f":"RelatSuporte!F32","v":126098820.01736674},0.95659885523462385,{"$f":"RelatSuporte!G32","v":63133924.007549308},0.45855882844770962,{"$f":"RelatSuporte!H32","v":61009756.956783541},0.4838249632183797,{"$f":"RelatSuporte!I32","v":30895681.464888401},0.48936735599064007,{"$f":"RelatSuporte!J32","v":28286742.426896706},0.46364292922743017,{"$f":"RelatSuporte!K32","v":16847107.974039402},0.26684715450325708,{"$f":"RelatSuporte!L32","v":15935649.696679501},0.26119838025199099,15391134.568621505,0.24378548950610282,16787364.833207332,0.27515869052057879]
[24,"JAN/OUT",{"$f":"RelatSuporte!C33","v":159703586.67631045},{"$f":"IF(RelatSuporte!C146=0,0,C42/RelatSuporte!C146)","v":1},9.9110852235927194E-2,{"$f":"RelatSuporte!D33","v":145302529.17749339},{"$f":"IF(RelatSuporte!D146=0,0,F42/RelatSuporte!D146)","v":1},{"$f":"RelatSuporte!E33","v":152743297.33719829},0.95641745132988543,{"$f":"RelatSuporte!F33","v":138891875.04853004},0.95588064319835442,{"$f":"RelatSuporte!G33","v":70014962.812026918},0.45838320916603553,{"$f":"RelatSuporte!H33","v":67841466.234193251},0.48844805508233541,{"$f":"RelatSuporte!I33","v":34109311.536374696},0.48717174395921442,{"$f":"RelatSuporte!J33","v":31487577.319707207},0.46413468144998515,{"$f":"RelatSuporte!K33","v":18757540.572499204},0.26790759887795157,{"$f":"RelatSuporte!L33","v":17768877.341299504},0.26191764900776404,17148110.703153018,0.24492065716283401,18585011.573186539,0.2739476695422508]
[25,"JAN/NOV",{"$f":"RelatSuporte!C34","v":178279723.78945974},{"$f":"IF(RelatSuporte!C147=0,0,C43/RelatSuporte!C147)","v":1},0.10711659467648937,{"$f":"RelatSuporte!D34","v":161030667.09207341},{"$f":"IF(RelatSuporte!D147=0,0,F43/RelatSuporte!D147)","v":1},{"$f":"RelatSuporte!E34","v":170500792.53804389},0.95636670796841472,{"$f":"RelatSuporte!F34","v":153953187.93092722},0.95604887386388671,{"$f":"RelatSuporte!G34","v":76723008.568538725},0.44998622837145758,{"$f":"RelatSuporte!H34","v":74449318.354100451},0.48358412940109402,{"$f":"RelatSuporte!I34","v":37408566.084546797},0.48757949906420472,{"$f":"RelatSuporte!J34","v":34621103.605866902},0.46502915501791259,{"$f":"RelatSuporte!K34","v":20665630.097879004},0.26935375037356418,{"$f":"RelatSuporte!L34","v":19553855.473989405},0.26264653466652504,18648812.386112925,0.24306675056223115,20274359.274244145,0.27232431031556237]
[26,"JAN/DEZ",{"$f":"RelatSuporte!C35","v":202251658.03540945},{"$f":"IF(RelatSuporte!C148=0,0,C44/RelatSuporte!C148)","v":1},0.11599340243959744,{"$f":"RelatSuporte!D35","v":181230155.6561901},{"$f":"IF(RelatSuporte!D148=0,0,F44/RelatSuporte!D148)","v":1},{"$f":"RelatSuporte!E35","v":193732130.51301929},0.95787659985017981,{"$f":"RelatSuporte!F35","v":173356389.05143529},0.95655377232201877,{"$f":"RelatSuporte!G35","v":83564340.058389738},0.43133960193956572,{"$f":"RelatSuporte!H35","v":81133662.690561265},0.46801657057178719,{"$f":"RelatSuporte!I35","v":40697269.004137598},0.48701717713202536,{"$f":"RelatSuporte!J35","v":38051455.9250549},0.46899714203931336,{"$f":"RelatSuporte!K35","v":22756819.448128905},0.27232692117508267,{"$f":"RelatSuporte!L35","v":21424836.669329304},0.26406840217533745,20110251.606123235,0.24065590169289197,21657370.09617706,0.26693445578534919]
[null,null,null,null,null,null,null,"PERÍODOS DE 12 MESES"]
[null,"Período","Pr. Emitido Líq. (PEL)",null,null,null,null,"Prêmio Retido (PR)",null,null,null,"Prêmio Ganho (PG)",null,null,null,"Sinistro Retido",null,null,null,"Comercialização (3)",null,null,null,"Contrib. Marginal"]
[null,null,{"$f":"C32","v":"2016"},"Part. Merc.","Cresc. Nota 2",null,null,{"$f":"C47","v":"2016"},"s/PEL",null,null,{"$f":"H47","v":"2016"},"s/PR",null,null,{"$f":"L47","v":"2016"},"s/PG",null,null,{"$f":"P47","v":"2016"},"s/PG",null,null,{"$f":"T47","v":"2016"},"s/PG"]
[28,"JAN/DEZ-2015",{"$f":"RelatSuporte!C39","v":181230155.6561901},{"$f":"IF(RelatSuporte!C152=0,0,C48/RelatSuporte!C152)","v":1},"-",null,null,{"$f":"RelatSuporte!E39","v":173356389.05143529},{"$f":"IF(C48=0,0,H48/C48)","v":0.95655377232201877},null,null,{"$f":"RelatSuporte!G39","v":81133662.690561265},{"$f":"IF(H48=0,0,L48/H48)","v":0.46801657057178719},null,null,{"$f":"RelatSuporte!I39","v":38051455.9250549},{"$f":"IF(L48<=1,0,+P48/L48)","v":0.46899714203931336},null,null,{"$f":"RelatSuporte!K39","v":21424836.669329304},{"$f":"IF(L48<=1,0,+T48/L48)","v":0.26406840217533745},null,null,{"$f":"+L48-P48-T48","v":21657370.09617706},{"$f":"IF(L48<=1,0,+X48/L48)","v":0.26693445578534919}]
[29,"FEV-15/JAN-16",{"$f":"RelatSuporte!C40","v":182427202.63288489},{"$f":"IF(RelatSuporte!C153=0,0,C49/RelatSuporte!C153)","v":1},{"$f":"IF($C48=0,0,IF($C49=0,0,+$C49/$C48-1))","v":6.6051202812278387E-3},null,null,{"$f":"RelatSuporte!E40","v":174524143.34627941},{"$f":"IF(C49=0,0,H49/C49)","v":0.95667828496767815},null,null,{"$f":"RelatSuporte!G40","v":81527412.229364157},0.46714116835745062,null,null,{"$f":"RelatSuporte!I40","v":38094974.280956008},0.46726583414400513,null,null,{"$f":"RelatSuporte!K40","v":21624464.511259407},0.26524163983547622,null,null,21807973.437148742,0.26749252602051865]
[30,"MAR-15/FEV-16",{"$f":"RelatSuporte!C41","v":182746402.95924589},{"$f":"IF(RelatSuporte!C154=0,0,C50/RelatSuporte!C154)","v":1},{"$f":"IF($C49=0,0,IF($C50=0,0,+$C50/$C49-1))","v":1.7497408377376011E-3},null,null,{"$f":"RelatSuporte!E41","v":174764729.19291201},0.95632377088093024,null,null,{"$f":"RelatSuporte!G41","v":81889721.879335061},0.46857121718731953,null,null,{"$f":"RelatSuporte!I41","v":38534626.737044796},0.47056731727365947,null,null,{"$f":"RelatSuporte!K41","v":21710578.666319303},0.26511970205870228,null,null,21644516.475970961,0.26431298066763825]
[31,"ABR-15/MAR-16",{"$f":"RelatSuporte!C42","v":182785840.65812749},{"$f":"IF(RelatSuporte!C155=0,0,C51/RelatSuporte!C155)","v":1},2.158056095384886E-4,null,null,{"$f":"RelatSuporte!E42","v":174743796.30096871},0.95600291396640413,null,null,{"$f":"RelatSuporte!G42","v":82182365.974854976},0.47030205200136993,null,null,{"$f":"RelatSuporte!I42","v":38903366.906832203},0.47337852160079352,null,null,{"$f":"RelatSuporte!K42","v":21816151.898509301},0.2654602558556699,null,null,21462847.169513471,0.26116122254353663]
[32,"MAI-15/ABR-16",{"$f":"RelatSuporte!C43","v":184765576.88846648},{"$f":"IF(RelatSuporte!C156=0,0,C52/RelatSuporte!C156)","v":1},1.0830905847033279E-2,null,null,{"$f":"RelatSuporte!E43","v":176638824.2068994},0.95601587255361542,null,null,{"$f":"RelatSuporte!G43","v":82458679.051176846},0.4668208103253218,null,null,{"$f":"RelatSuporte!I43","v":39292401.366119891},0.47651019660081628,null,null,{"$f":"RelatSuporte!K43","v":21967327.459659405},0.26640406701186281,null,null,21198950.22539755,0.25708573638732091]
[33,"JUN-15/MAI-16",{"$f":"RelatSuporte!C44","v":186199861.92867392},{"$f":"IF(RelatSuporte!C157=0,0,C53/RelatSuporte!C157)","v":1},7.7627286660288952E-3,null,null,{"$f":"RelatSuporte!E44","v":178053987.40582281},0.95625198408594159,null,null,{"$f":"RelatSuporte!G44","v":82779488.915161252},0.46491230059616262,null,null,{"$f":"RelatSuporte!I44","v":39585180.111492991},0.4782003444363242,null,null,{"$f":"RelatSuporte!K44","v":22036970.251609206},0.26621292956029696,null,null,21157338.552059054,0.25558672600337884]
[34,"JUL-15/JUN-16",{"$f":"RelatSuporte!C45","v":188587465.3545264},{"$f":"IF(RelatSuporte!C158=0,0,C54/RelatSuporte!C158)","v":1},1.2822799120909556E-2,null,null,{"$f":"RelatSuporte!E45","v":180377827.58686045},0.95646774427858916,null,null,{"$f":"RelatSuporte!G45","v":82909310.848003656},0.45964247356332588,null,null,{"$f":"RelatSuporte!I45","v":39970253.004729688},0.48209607094680268,null,null,{"$f":"RelatSuporte!K45","v":22151718.500679202},0.26718010648152174,null,null,20787339.342594765,0.25072382257167558]
[35,"AGO-15/JUL-16",{"$f":"RelatSuporte!C46","v":190099604.1313934},{"$f":"IF(RelatSuporte!C159=0,0,C55/RelatSuporte!C159)","v":1},8.0182358568972045E-3,null,null,{"$f":"RelatSuporte!E46","v":181774499.10446143},0.95620661565829557,null,null,{"$f":"RelatSuporte!G46","v":83019348.272497758},0.45671614380182413,null,null,{"$f":"RelatSuporte!I46","v":40238914.859709591},0.48469321546143407,null,null,{"$f":"RelatSuporte!K46","v":22157491.054369099},0.26689550707674398,null,null,20622942.358419068,0.24841127746182193]
[36,"SET-15/AGO-16",{"$f":"RelatSuporte!C47","v":192773766.69370669},{"$f":"IF(RelatSuporte!C160=0,0,C56/RelatSuporte!C160)","v":1},1.40671653396236E-2,null,null,{"$f":"RelatSuporte!E47","v":184367634.5462217},0.95639379625319421,null,null,{"$f":"RelatSuporte!G47","v":83186951.299221441},0.45120148937185683,null,null,{"$f":"RelatSuporte!I47","v":40613098.570729889},0.4882147733079622,null,null,{"$f":"RelatSuporte!K47","v":22268669.757749002},0.26769426466476864,null,null,20305182.97074255,0.24409096202726915]
[37,"OUT-15/SET-16",{"$f":"RelatSuporte!C48","v":193306270.88354194},{"$f":"IF(RelatSuporte!C161=0,0,C57/RelatSuporte!C161)","v":1},2.7623270477530326E-3,null,null,{"$f":"RelatSuporte!E48","v":184936575.71957302},0.95670241257195798,null,null,{"$f":"RelatSuporte!G48","v":83257829.741327032},0.45019666562645955,null,null,{"$f":"RelatSuporte!I48","v":40660394.963046595},0.48836722130968335,null,null,{"$f":"RelatSuporte!K48","v":22336294.9466892},0.26827861134605147,null,null,20261139.831591237,0.24335416734426518]
[38,"NOV-15/OUT-16",{"$f":"RelatSuporte!C49","v":195631213.15500712},{"$f":"IF(RelatSuporte!C162=0,0,C58/RelatSuporte!C162)","v":1},1.2027247025347965E-2,null,null,{"$f":"RelatSuporte!E49","v":187207811.34010357},0.95694244451559307,null,null,{"$f":"RelatSuporte!G49","v":83307159.268394932},0.44499830788069744,null,null,{"$f":"RelatSuporte!I49","v":40673190.141722396},0.48823162977726203,null,null,{"$f":"RelatSuporte!K49","v":22413499.900529001},0.26904650329413204,null,null,20220469.226143535,0.24272186692860592]
[39,"DEZ-15/NOV-16",{"$f":"RelatSuporte!C50","v":198479212.35357642},{"$f":"IF(RelatSuporte!C163=0,0,C59/RelatSuporte!C163)","v":1},1.4557999987009795E-2,null,null,{"$f":"RelatSuporte!E50","v":189903993.65855196},0.95679538127273334,null,null,{"$f":"RelatSuporte!G50","v":83407352.904999539},0.43920799820021822,null,null,{"$f":"RelatSuporte!I50","v":40838918.403734796},0.48963211253389222,null,null,{"$f":"RelatSuporte!K50","v":22536611.293218903},0.27019933505008803,null,null,20031823.20804584,0.24016855241601975]
[40,"JAN/DEZ-2016",{"$f":"RelatSuporte!C51","v":202251658.03540945},{"$f":"IF(RelatSuporte!C164=0,0,C60/RelatSuporte!C164)","v":0.50101814700174296},1.900675459711465E-2,null,null,{"$f":"RelatSuporte!E51","v":193732130.51301929},0.95787659985017981,null,null,{"$f":"RelatSuporte!G51","v":83564340.058389738},0.43133960193956572,null,null,{"$f":"RelatSuporte!I51","v":40697269.004137598},0.48701717713202536,null,null,{"$f":"RelatSuporte!K51","v":22756819.448128905},0.27232692117508267,null,null,20110251.606123235,0.24065590169289197]
[]
[null,"1 = Na totalização das unidades seguradoras Bco. do Brasil e Mapfre foi considarada a participação de cada unidade na seguradora Brasilprev Nosso Futuro.",null,null,null,null,null,null,null,null,null,null,null,null,{"$f":"\"Obs.: Os dados do ano de \"&F7&\" foram reprocessados com base no banco de dados SES de \"&BD!X1","v":"Obs.: Os dados do ano de 2015 foram reprocessados com base no banco de dados SES de DEZ/2016"}]
[null,"2 = O Crescimento é calculado sobre o período anterior de 12 meses.            3= As despesas de comercialização não incluem o diferimento das comissões de corretagem.",null,null,null,null,null,null,null,null,null,null,null,null,0]

{"sheet":"Novos Agrupamentos","index":2,"n_rows":131,"n_cols":24,"rows_kept":131,"cut":false,"hidden":true,"merged":[[1,4,2,4],[1,5,1,19],[0,4,0,19]]}
[null,{"$f":"IFERROR(VALUE(RIGHT(VLOOKUP(+Relatório!$B$3-1,Cadastro!AB3:AC17,2,FALSE),2)),0)","v":1},{"$f":"LARGE(C4:C130,1)","v":{"$error":"#NUM!"}},null,"TABELA PARA CRIAÇÃO DE NOVOS AGRUPAMENTOS DE RAMOS"]
[null,null,null,null,"Ramos de Seguros","Agrupamento de Ramos"]
[null,null,null,null,null,1,2,3,4,5,6,7,8,9,10,11,12,13,14,15,null,null,null,"Nome do Agrupamento"]
[null,{"$f":"IF(HLOOKUP($B$1,$F$3:$T$130,ROW(A4)-2,FALSE)=\"X\",$B$1,\"\")","v":""},{"$f":"IF(B4=\"\",\"\",COUNTIFS(B$4:B4,B4))","v":""},{"$f":"IF(B4=\"\",\"\",VLOOKUP(B4,Cadastro!$Z$3:$AC$17,4,FALSE)&C4)","v":""},"0111 - Incêndio Tradicional - Runoff",null,null,null,null,null,null,null,null,null,null,null,null,null,null,null,{"$f":"IF(COUNTIF(F4:T4,\"=X\")>1,\"?\",\"\")","v":""},null,{"$f":"PROPER(Cadastro!AC3)","v":"Agrup. 01"}]
[null,{"$f":"IF(HLOOKUP($B$1,$F$3:$T$130,ROW(A5)-2,FALSE)=\"X\",$B$1,\"\")","v":""},{"$f":"IF(B5=\"\",\"\",COUNTIFS(B$4:B5,B5))","v":""},{"$f":"IF(B5=\"\",\"\",VLOOKUP(B5,Cadastro!$Z$3:$AC$17,4,FALSE)&C5)","v":""},"0112 - Assistência – Bens em Geral",null,null,null,null,null,null,null,null,null,null,null,null,null,null,null,{"$f":"IF(COUNTIF(F5:T5,\"=X\")>1,\"?\",\"\")","v":""},null,{"$f":"PROPER(Cadastro!AC4)","v":"Agrup. 02"}]
[null,"",{"$f":"IF(B6=\"\",\"\",COUNTIFS(B$4:B6,B6))","v":""},{"$f":"IF(B6=\"\",\"\",VLOOKUP(B6,Cadastro!$Z$3:$AC$17,4,FALSE)&C6)","v":""},"0114 - Compreensivo Residencial",null,null,null,null,null,null,null,null,null,null,null,null,null,null,null,"",null,{"$f":"PROPER(Cadastro!AC5)","v":"Agrup. 03"}]
[null,"",{"$f":"IF(B7=\"\",\"\",COUNTIFS(B$4:B7,B7))","v":""},{"$f":"IF(B7=\"\",\"\",VLOOKUP(B7,Cadastro!$Z$3:$AC$17,4,FALSE)&C7)","v":""},"0115 - Roubo - Runoff",null,null,null,null,null,null,null,null,null,null,null,null,null,null,null,"",null,{"$f":"PROPER(Cadastro!AC6)","v":"Agrup. 04"}]
[null,"",{"$f":"IF(B8=\"\",\"\",COUNTIFS(B$4:B8,B8))","v":""},{"$f":"IF(B8=\"\",\"\",VLOOKUP(B8,Cadastro!$Z$3:$AC$17,4,FALSE)&C8)","v":""},"0116 - Compreensivo Condomínio",null,null,null,null,null,null,null,null,null,null,null,null,null,null,null,"",null,{"$f":"PROPER(Cadastro!AC7)","v":"Agrup. 05"}]
[null,"",{"$f":"IF(B9=\"\",\"\",COUNTIFS(B$4:B9,B9))","v":""},{"$f":"IF(B9=\"\",\"\",VLOOKUP(B9,Cadastro!$Z$3:$AC$17,4,FALSE)&C9)","v":""},"0118 - Compreensivo Empresarial",null,null,null,null,null,null,null,null,null,null,null,null,null,null,null,"",null,{"$f":"PROPER(Cadastro!AC8)","v":"Agrup. 06"}]
[null,"",{"$f":"IF(B10=\"\",\"\",COUNTIFS(B$4:B10,B10))","v":""},{"$f":"IF(B10=\"\",\"\",VLOOKUP(B10,Cadastro!$Z$3:$AC$17,4,FALSE)&C10)","v":""},"0141 - Lucros Cessantes",null,null,null,null,null,null,null,null,null,null,null,null,null,null,null,"",null,{"$f":"PROPER(Cadastro!AC9)","v":"Agrup. 07"}]
[null,"",{"$f":"IF(B11=\"\",\"\",COUNTIFS(B$4:B11,B11))","v":""},{"$f":"IF(B11=\"\",\"\",VLOOKUP(B11,Cadastro!$Z$3:$AC$17,4,FALSE)&C11)","v":""},"0167 - Riscos de Engenharia",null,null,null,null,null,null,null,null,null,null,null,null,null,null,null,"",null,{"$f":"PROPER(Cadastro!AC10)","v":"Agrup. 08"}]
[null,"",{"$f":"IF(B12=\"\",\"\",COUNTIFS(B$4:B12,B12))","v":""},{"$f":"IF(B12=\"\",\"\",VLOOKUP(B12,Cadastro!$Z$3:$AC$17,4,FALSE)&C12)","v":""},"0171 - Riscos Diversos",null,null,null,null,null,null,null,null,null,null,null,null,null,null,null,"",null,{"$f":"PROPER(Cadastro!AC11)","v":"Agrup. 09"}]
[null,"",{"$f":"IF(B13=\"\",\"\",COUNTIFS(B$4:B13,B13))","v":""},{"$f":"IF(B13=\"\",\"\",VLOOKUP(B13,Cadastro!$Z$3:$AC$17,4,FALSE)&C13)","v":""},"0173 - Global de Bancos",null,null,null,null,null,null,null,null,null,null,null,null,null,null,null,"",null,{"$f":"PROPER(Cadastro!AC12)","v":"Agrup. 10"}]
[null,"",{"$f":"IF(B14=\"\",\"\",COUNTIFS(B$4:B14,B14))","v":""},{"$f":"IF(B14=\"\",\"\",VLOOKUP(B14,Cadastro!$Z$3:$AC$17,4,FALSE)&C14)","v":""},"0195 - Garantia Estendida – Bens em Geral",null,null,null,null,null,null,null,null,null,null,null,null,null,null,null,"",null,{"$f":"PROPER(Cadastro!AC13)","v":"Agrup. 11"}]
[null,"",{"$f":"IF(B15=\"\",\"\",COUNTIFS(B$4:B15,B15))","v":""},{"$f":"IF(B15=\"\",\"\",VLOOKUP(B15,Cadastro!$Z$3:$AC$17,4,FALSE)&C15)","v":""},"0196 - Riscos Nomeados e Operacionais",null,null,null,null,null,null,null,null,null,null,null,null,null,null,null,"",null,{"$f":"PROPER(Cadastro!AC14)","v":"Agrup. 12"}]
[null,"",{"$f":"IF(B16=\"\",\"\",COUNTIFS(B$4:B16,B16))","v":""},{"$f":"IF(B16=\"\",\"\",VLOOKUP(B16,Cadastro!$Z$3:$AC$17,4,FALSE)&C16)","v":""},"0234 - Riscos de Petróleo - Runoff",null,null,null,null,null,null,null,null,null,null,null,null,null,null,null,"",null,{"$f":"PROPER(Cadastro!AC15)","v":"Agrup. 13"}]
[null,"",{"$f":"IF(B17=\"\",\"\",COUNTIFS(B$4:B17,B17))","v":""},{"$f":"IF(B17=\"\",\"\",VLOOKUP(B17,Cadastro!$Z$3:$AC$17,4,FALSE)&C17)","v":""},"0272 - Riscos Nucleares - Runoff",null,null,null,null,null,null,null,null,null,null,null,null,null,null,null,"",null,{"$f":"PROPER(Cadastro!AC16)","v":"Agrup. 14"}]
[null,"",{"$f":"IF(B18=\"\",\"\",COUNTIFS(B$4:B18,B18))","v":""},{"$f":"IF(B18=\"\",\"\",VLOOKUP(B18,Cadastro!$Z$3:$AC$17,4,FALSE)&C18)","v":""},"0274 - Satélites - Runoff",null,null,null,null,null,null,null,null,null,null,null,null,null,null,null,"",null,{"$f":"PROPER(Cadastro!AC17)","v":"Agrup. 15"}]
[null,"",{"$f":"IF(B19=\"\",\"\",COUNTIFS(B$4:B19,B19))","v":""},{"$f":"IF(B19=\"\",\"\",VLOOKUP(B19,Cadastro!$Z$3:$AC$17,4,FALSE)&C19)","v":""},"0310 - R.C. de Administradores e Diretores – D&O",null,null,null,null,null,null,null,null,null,null,null,null,null,null,null,""]
[null,"",{"$f":"IF(B20=\"\",\"\",COUNTIFS(B$4:B20,B20))","v":""},{"$f":"IF(B20=\"\",\"\",VLOOKUP(B20,Cadastro!$Z$3:$AC$17,4,FALSE)&C20)","v":""},"0313 - R.C. Riscos Ambientais",null,null,null,null,null,null,null,null,null,null,null,null,null,null,null,""]
[null,"",{"$f":"IF(B21=\"\",\"\",COUNTIFS(B$4:B21,B21))","v":""},{"$f":"IF(B21=\"\",\"\",VLOOKUP(B21,Cadastro!$Z$3:$AC$17,4,FALSE)&C21)","v":""},"0351 - R.C. Geral",null,null,null,null,null,null,null,null,null,null,null,null,null,null,null,""]
[null,"",{"$f":"IF(B22=\"\",\"\",COUNTIFS(B$4:B22,B22))","v":""},{"$f":"IF(B22=\"\",\"\",VLOOKUP(B22,Cadastro!$Z$3:$AC$17,4,FALSE)&C22)","v":""},"0378 - R.C. Profissional",null,null,null,null,null,null,null,null,null,null,null,null,null,null,null,""]
[null,"",{"$f":"IF(B23=\"\",\"\",COUNTIFS(B$4:B23,B23))","v":""},{"$f":"IF(B23=\"\",\"\",VLOOKUP(B23,Cadastro!$Z$3:$AC$17,4,FALSE)&C23)","v":""},"0433 - Marítimos - Runoff",null,null,null,null,null,null,null,null,null,null,null,null,null,null,null,""]
[null,"",{"$f":"IF(B24=\"\",\"\",COUNTIFS(B$4:B24,B24))","v":""},{"$f":"IF(B24=\"\",\"\",VLOOKUP(B24,Cadastro!$Z$3:$AC$17,4,FALSE)&C24)","v":""},"0435 - Aeronáuticos - Runoff",null,null,null,null,null,null,null,null,null,null,null,null,null,null,null,""]
[null,"",{"$f":"IF(B25=\"\",\"\",COUNTIFS(B$4:B25,B25))","v":""},{"$f":"IF(B25=\"\",\"\",VLOOKUP(B25,Cadastro!$Z$3:$AC$17,4,FALSE)&C25)","v":""},"0437 - R.C. Hangar - Runoff",null,null,null,null,null,null,null,null,null,null,null,null,null,null,null,""]
[null,"",{"$f":"IF(B26=\"\",\"\",COUNTIFS(B$4:B26,B26))","v":""},{"$f":"IF(B26=\"\",\"\",VLOOKUP(B26,Cadastro!$Z$3:$AC$17,4,FALSE)&C26)","v":""},"0457 - DPEM - Runoff",null,null,null,null,null,null,null,null,null,null,null,null,null,null,null,""]
[null,"",{"$f":"IF(B27=\"\",\"\",COUNTIFS(B$4:B27,B27))","v":""},{"$f":"IF(B27=\"\",\"\",VLOOKUP(B27,Cadastro!$Z$3:$AC$17,4,FALSE)&C27)","v":""},"0520 - Acidentes Pessoais de Passageiros – APP",null,null,null,null,null,null,null,null,null,null,null,null,null,null,null,""]
[null,"",{"$f":"IF(B28=\"\",\"\",COUNTIFS(B$4:B28,B28))","v":""},{"$f":"IF(B28=\"\",\"\",VLOOKUP(B28,Cadastro!$Z$3:$AC$17,4,FALSE)&C28)","v":""},"0523 - R.C.  Transp. Rod. Interest. e Internac. - Runoff",null,null,null,null,null,null,null,null,null,null,null,null,null,null,null,""]
[null,"",{"$f":"IF(B29=\"\",\"\",COUNTIFS(B$4:B29,B29))","v":""},{"$f":"IF(B29=\"\",\"\",VLOOKUP(B29,Cadastro!$Z$3:$AC$17,4,FALSE)&C29)","v":""},"0524 - Garantia Estendida – Auto",null,null,null,null,null,null,null,null,null,null,null,null,null,null,null,""]
[null,"",{"$f":"IF(B30=\"\",\"\",COUNTIFS(B$4:B30,B30))","v":""},{"$f":"IF(B30=\"\",\"\",VLOOKUP(B30,Cadastro!$Z$3:$AC$17,4,FALSE)&C30)","v":""},"0525 - Carta Verde",null,null,null,null,null,null,null,null,null,null,null,null,null,null,null,""]
[null,"",{"$f":"IF(B31=\"\",\"\",COUNTIFS(B$4:B31,B31))","v":""},{"$f":"IF(B31=\"\",\"\",VLOOKUP(B31,Cadastro!$Z$3:$AC$17,4,FALSE)&C31)","v":""},"0526 - Seguro Auto Popular",null,null,null,null,null,null,null,null,null,null,null,null,null,null,null,""]
[null,"",{"$f":"IF(B32=\"\",\"\",COUNTIFS(B$4:B32,B32))","v":""},{"$f":"IF(B32=\"\",\"\",VLOOKUP(B32,Cadastro!$Z$3:$AC$17,4,FALSE)&C32)","v":""},"0531 - Automóvel – Casco",null,null,null,null,null,null,null,null,null,null,null,null,null,null,null,""]
[null,"",{"$f":"IF(B33=\"\",\"\",COUNTIFS(B$4:B33,B33))","v":""},{"$f":"IF(B33=\"\",\"\",VLOOKUP(B33,Cadastro!$Z$3:$AC$17,4,FALSE)&C33)","v":""},"0542 - Assistência e Outras Coberturas – Auto",null,null,null,null,null,null,null,null,null,null,null,null,null,null,null,""]
[null,"",{"$f":"IF(B34=\"\",\"\",COUNTIFS(B$4:B34,B34))","v":""},{"$f":"IF(B34=\"\",\"\",VLOOKUP(B34,Cadastro!$Z$3:$AC$17,4,FALSE)&C34)","v":""},"0544 - R.C. Transp. Rod. Viagem Inter. Pessoas Transp. ou não - Runoff",null,null,null,null,null,null,null,null,null,null,null,null,null,null,null,""]
[null,"",{"$f":"IF(B35=\"\",\"\",COUNTIFS(B$4:B35,B35))","v":""},{"$f":"IF(B35=\"\",\"\",VLOOKUP(B35,Cadastro!$Z$3:$AC$17,4,FALSE)&C35)","v":""},"0553 - R.C. Facultativa Veículos – RCFV",null,null,null,null,null,null,null,null,null,null,null,null,null,null,null,""]
[null,"",{"$f":"IF(B36=\"\",\"\",COUNTIFS(B$4:B36,B36))","v":""},{"$f":"IF(B36=\"\",\"\",VLOOKUP(B36,Cadastro!$Z$3:$AC$17,4,FALSE)&C36)","v":""},"0588 - DPVAT",null,null,null,null,null,null,null,null,null,null,null,null,null,null,null,""]
[null,"",{"$f":"IF(B37=\"\",\"\",COUNTIFS(B$4:B37,B37))","v":""},{"$f":"IF(B37=\"\",\"\",VLOOKUP(B37,Cadastro!$Z$3:$AC$17,4,FALSE)&C37)","v":""},"0589 - DPVAT (Categorias 3 E 4) – Antes de Janeiro de 2005 - Runoff",null,null,null,null,null,null,null,null,null,null,null,null,null,null,null,""]
[null,"",{"$f":"IF(B38=\"\",\"\",COUNTIFS(B$4:B38,B38))","v":""},{"$f":"IF(B38=\"\",\"\",VLOOKUP(B38,Cadastro!$Z$3:$AC$17,4,FALSE)&C38)","v":""},"0621 - Transporte Nacional",null,null,null,null,null,null,null,null,null,null,null,null,null,null,null,""]
[null,"",{"$f":"IF(B39=\"\",\"\",COUNTIFS(B$4:B39,B39))","v":""},{"$f":"IF(B39=\"\",\"\",VLOOKUP(B39,Cadastro!$Z$3:$AC$17,4,FALSE)&C39)","v":""},"0622 - Transporte Internacional",null,null,null,null,null,null,null,null,null,null,null,null,null,null,null,""]
[null,"",{"$f":"IF(B40=\"\",\"\",COUNTIFS(B$4:B40,B40))","v":""},{"$f":"IF(B40=\"\",\"\",VLOOKUP(B40,Cadastro!$Z$3:$AC$17,4,FALSE)&C40)","v":""},"0623 - R. C. Transp. Rod. Interestadual e Internacional – RC Ônibus",null,null,null,null,null,null,null,null,null,null,null,null,null,null,null,""]
[null,"",{"$f":"IF(B41=\"\",\"\",COUNTIFS(B$4:B41,B41))","v":""},{"$f":"IF(B41=\"\",\"\",VLOOKUP(B41,Cadastro!$Z$3:$AC$17,4,FALSE)&C41)","v":""},"0627 - R.C. do Transportador Intermodal - Runoff",null,null,null,null,null,null,null,null,null,null,null,null,null,null,null,""]
[null,"",{"$f":"IF(B42=\"\",\"\",COUNTIFS(B$4:B42,B42))","v":""},{"$f":"IF(B42=\"\",\"\",VLOOKUP(B42,Cadastro!$Z$3:$AC$17,4,FALSE)&C42)","v":""},"0628 - R.C. Facultativa de Veículos – RCFV Ônibus",null,null,null,null,null,null,null,null,null,null,null,null,null,null,null,""]
[null,"",{"$f":"IF(B43=\"\",\"\",COUNTIFS(B$4:B43,B43))","v":""},{"$f":"IF(B43=\"\",\"\",VLOOKUP(B43,Cadastro!$Z$3:$AC$17,4,FALSE)&C43)","v":""},"0632 - R.C. Transp. Rod. de Carga em Viagem Intern. – RCTR-Vi-C",null,null,null,null,null,null,null,null,null,null,null,null,null,null,null,""]
[null,"",{"$f":"IF(B44=\"\",\"\",COUNTIFS(B$4:B44,B44))","v":""},{"$f":"IF(B44=\"\",\"\",VLOOKUP(B44,Cadastro!$Z$3:$AC$17,4,FALSE)&C44)","v":""},"0638 - R.C. do Transportador Ferroviário Carga – RCTF-C",null,null,null,null,null,null,null,null,null,null,null,null,null,null,null,""]
[null,"",{"$f":"IF(B45=\"\",\"\",COUNTIFS(B$4:B45,B45))","v":""},{"$f":"IF(B45=\"\",\"\",VLOOKUP(B45,Cadastro!$Z$3:$AC$17,4,FALSE)&C45)","v":""},"0644 - R.C. Transp. Rod. Viag. Intern. Pess. Transp. ou não – Carta Azul",null,null,null,null,null,null,null,null,null,null,null,null,null,null,null,""]
[null,"",{"$f":"IF(B46=\"\",\"\",COUNTIFS(B$4:B46,B46))","v":""},{"$f":"IF(B46=\"\",\"\",VLOOKUP(B46,Cadastro!$Z$3:$AC$17,4,FALSE)&C46)","v":""},"0652 - R.C. do Transportador Aéreo Carga – RCTA-C",null,null,null,null,null,null,null,null,null,null,null,null,null,null,null,""]
[null,"",{"$f":"IF(B47=\"\",\"\",COUNTIFS(B$4:B47,B47))","v":""},{"$f":"IF(B47=\"\",\"\",VLOOKUP(B47,Cadastro!$Z$3:$AC$17,4,FALSE)&C47)","v":""},"0654 - R.C. do Transportador Rodoviário Carga – RCTR-C",null,null,null,null,null,null,null,null,null,null,null,null,null,null,null,""]
[null,"",{"$f":"IF(B48=\"\",\"\",COUNTIFS(B$4:B48,B48))","v":""},{"$f":"IF(B48=\"\",\"\",VLOOKUP(B48,Cadastro!$Z$3:$AC$17,4,FALSE)&C48)","v":""},"0655 - R.C. do Transportador Desvio de Carga – RCF-DC",null,null,null,null,null,null,null,null,null,null,null,null,null,null,null,""]
[null,"",{"$f":"IF(B49=\"\",\"\",COUNTIFS(B$4:B49,B49))","v":""},{"$f":"IF(B49=\"\",\"\",VLOOKUP(B49,Cadastro!$Z$3:$AC$17,4,FALSE)&C49)","v":""},"0656 - R.C. do Transportador Aquaviário Carga – RCA-C",null,null,null,null,null,null,null,null,null,null,null,null,null,null,null,""]
[null,"",{"$f":"IF(B50=\"\",\"\",COUNTIFS(B$4:B50,B50))","v":""},{"$f":"IF(B50=\"\",\"\",VLOOKUP(B50,Cadastro!$Z$3:$AC$17,4,FALSE)&C50)","v":""},"0658 - R.C. do Operador do Transporte Multimodal – RCOTM-C",null,null,null,null,null,null,null,null,null,null,null,null,null,null,null,""]
[null,"",{"$f":"IF(B51=\"\",\"\",COUNTIFS(B$4:B51,B51))","v":""},{"$f":"IF(B51=\"\",\"\",VLOOKUP(B51,Cadastro!$Z$3:$AC$17,4,FALSE)&C51)","v":""},"0711 - Riscos Diversos – Financeiros",null,null,null,null,null,null,null,null,null,null,null,null,null,null,null,""]
[null,"",{"$f":"IF(B52=\"\",\"\",COUNTIFS(B$4:B52,B52))","v":""},{"$f":"IF(B52=\"\",\"\",VLOOKUP(B52,Cadastro!$Z$3:$AC$17,4,FALSE)&C52)","v":""},"0739 - Garantia Financeira - Runoff",null,null,null,null,null,null,null,null,null,null,null,null,null,null,null,""]
[null,"",{"$f":"IF(B53=\"\",\"\",COUNTIFS(B$4:B53,B53))","v":""},{"$f":"IF(B53=\"\",\"\",VLOOKUP(B53,Cadastro!$Z$3:$AC$17,4,FALSE)&C53)","v":""},"0740 - Garantia de Obrigações Privadas - Runoff",null,null,null,null,null,null,null,null,null,null,null,null,null,null,null,""]
[null,"",{"$f":"IF(B54=\"\",\"\",COUNTIFS(B$4:B54,B54))","v":""},{"$f":"IF(B54=\"\",\"\",VLOOKUP(B54,Cadastro!$Z$3:$AC$17,4,FALSE)&C54)","v":""},"0743 - Stop Loss",null,null,null,null,null,null,null,null,null,null,null,null,null,null,null,""]
[null,"",{"$f":"IF(B55=\"\",\"\",COUNTIFS(B$4:B55,B55))","v":""},{"$f":"IF(B55=\"\",\"\",VLOOKUP(B55,Cadastro!$Z$3:$AC$17,4,FALSE)&C55)","v":""},"0745 - Garantia de Obrigações Públicas - Runoff",null,null,null,null,null,null,null,null,null,null,null,null,null,null,null,""]
[null,"",{"$f":"IF(B56=\"\",\"\",COUNTIFS(B$4:B56,B56))","v":""},{"$f":"IF(B56=\"\",\"\",VLOOKUP(B56,Cadastro!$Z$3:$AC$17,4,FALSE)&C56)","v":""},"0746 - Fiança Locatícia",null,null,null,null,null,null,null,null,null,null,null,null,null,null,null,""]
[null,"",{"$f":"IF(B57=\"\",\"\",COUNTIFS(B$4:B57,B57))","v":""},{"$f":"IF(B57=\"\",\"\",VLOOKUP(B57,Cadastro!$Z$3:$AC$17,4,FALSE)&C57)","v":""},"0747 - Garantia de Concessões Públicas - Runoff",null,null,null,null,null,null,null,null,null,null,null,null,null,null,null,""]
[null,"",{"$f":"IF(B58=\"\",\"\",COUNTIFS(B$4:B58,B58))","v":""},{"$f":"IF(B58=\"\",\"\",VLOOKUP(B58,Cadastro!$Z$3:$AC$17,4,FALSE)&C58)","v":""},"0748 - Crédito Interno",null,null,null,null,null,null,null,null,null,null,null,null,null,null,null,""]
[null,"",{"$f":"IF(B59=\"\",\"\",COUNTIFS(B$4:B59,B59))","v":""},{"$f":"IF(B59=\"\",\"\",VLOOKUP(B59,Cadastro!$Z$3:$AC$17,4,FALSE)&C59)","v":""},"0749 - Crédito à Exportação",null,null,null,null,null,null,null,null,null,null,null,null,null,null,null,""]
[null,"",{"$f":"IF(B60=\"\",\"\",COUNTIFS(B$4:B60,B60))","v":""},{"$f":"IF(B60=\"\",\"\",VLOOKUP(B60,Cadastro!$Z$3:$AC$17,4,FALSE)&C60)","v":""},"0750 - Garantia Judicial - Runoff",null,null,null,null,null,null,null,null,null,null,null,null,null,null,null,""]
[null,"",{"$f":"IF(B61=\"\",\"\",COUNTIFS(B$4:B61,B61))","v":""},{"$f":"IF(B61=\"\",\"\",VLOOKUP(B61,Cadastro!$Z$3:$AC$17,4,FALSE)&C61)","v":""},"0775 - Garantia Segurado – Setor Público",null,null,null,null,null,null,null,null,null,null,null,null,null,null,null,""]
[null,"",{"$f":"IF(B62=\"\",\"\",COUNTIFS(B$4:B62,B62))","v":""},{"$f":"IF(B62=\"\",\"\",VLOOKUP(B62,Cadastro!$Z$3:$AC$17,4,FALSE)&C62)","v":""},"0776 - Garantia Segurado – Setor Privado",null,null,null,null,null,null,null,null,null,null,null,null,null,null,null,""]
[null,"",{"$f":"IF(B63=\"\",\"\",COUNTIFS(B$4:B63,B63))","v":""},{"$f":"IF(B63=\"\",\"\",VLOOKUP(B63,Cadastro!$Z$3:$AC$17,4,FALSE)&C63)","v":""},"0819 - Crédito à Exportação Risco Comercial - Runoff",null,null,null,null,null,null,null,null,null,null,null,null,null,null,null,""]
[null,"",{"$f":"IF(B64=\"\",\"\",COUNTIFS(B$4:B64,B64))","v":""},{"$f":"IF(B64=\"\",\"\",VLOOKUP(B64,Cadastro!$Z$3:$AC$17,4,FALSE)&C64)","v":""},"0859 - Crédito à Exportação Risco Político - Runoff",null,null,null,null,null,null,null,null,null,null,null,null,null,null,null,""]
[null,"",{"$f":"IF(B65=\"\",\"\",COUNTIFS(B$4:B65,B65))","v":""},{"$f":"IF(B65=\"\",\"\",VLOOKUP(B65,Cadastro!$Z$3:$AC$17,4,FALSE)&C65)","v":""},"0860 - Crédito Doméstico Risco Comercial - Runoff",null,null,null,null,null,null,null,null,null,null,null,null,null,null,null,""]
[null,"",{"$f":"IF(B66=\"\",\"\",COUNTIFS(B$4:B66,B66))","v":""},{"$f":"IF(B66=\"\",\"\",VLOOKUP(B66,Cadastro!$Z$3:$AC$17,4,FALSE)&C66)","v":""},"0870 - Crédito Doméstico Risco Pessoa Física - Runoff",null,null,null,null,null,null,null,null,null,null,null,null,null,null,null,""]
[null,"",{"$f":"IF(B67=\"\",\"\",COUNTIFS(B$4:B67,B67))","v":""},{"$f":"IF(B67=\"\",\"\",VLOOKUP(B67,Cadastro!$Z$3:$AC$17,4,FALSE)&C67)","v":""},"0929 - Funeral - Coletivo",null,null,null,null,null,null,null,null,null,null,null,null,null,null,null,""]
[null,"",{"$f":"IF(B68=\"\",\"\",COUNTIFS(B$4:B68,B68))","v":""},{"$f":"IF(B68=\"\",\"\",VLOOKUP(B68,Cadastro!$Z$3:$AC$17,4,FALSE)&C68)","v":""},"0936 - Perda do Certificado de Habilitação de Voo – PCHV - Coletivo",null,null,null,null,null,null,null,null,null,null,null,null,null,null,null,""]
[null,{"$f":"IF(HLOOKUP($B$1,$F$3:$T$130,ROW(A69)-2,FALSE)=\"X\",$B$1,\"\")","v":""},{"$f":"IF(B69=\"\",\"\",COUNTIFS(B$4:B69,B69))","v":""},{"$f":"IF(B69=\"\",\"\",VLOOKUP(B69,Cadastro!$Z$3:$AC$17,4,FALSE)&C69)","v":""},"0969 - Viagem - Coletivo",null,null,null,null,null,null,null,null,null,null,null,null,null,null,null,{"$f":"IF(COUNTIF(F69:T69,\"=X\")>1,\"?\",\"\")","v":""}]
[null,"",{"$f":"IF(B70=\"\",\"\",COUNTIFS(B$4:B70,B70))","v":""},{"$f":"IF(B70=\"\",\"\",VLOOKUP(B70,Cadastro!$Z$3:$AC$17,4,FALSE)&C70)","v":""},"0977 - Prestamista (Exceto Habitacional e Rural) - Coletivo",null,null,null,null,null,null,null,null,null,null,null,null,null,null,null,""]
[null,"",{"$f":"IF(B71=\"\",\"\",COUNTIFS(B$4:B71,B71))","v":""},{"$f":"IF(B71=\"\",\"\",VLOOKUP(B71,Cadastro!$Z$3:$AC$17,4,FALSE)&C71)","v":""},"0980 - Educacional - Coletivo",null,null,null,null,null,null,null,null,null,null,null,null,null,null,null,""]
[null,"",{"$f":"IF(B72=\"\",\"\",COUNTIFS(B$4:B72,B72))","v":""},{"$f":"IF(B72=\"\",\"\",VLOOKUP(B72,Cadastro!$Z$3:$AC$17,4,FALSE)&C72)","v":""},"0981 - Acidentes Pessoais Individual - Runoff",null,null,null,null,null,null,null,null,null,null,null,null,null,null,null,""]
[null,"",{"$f":"IF(B73=\"\",\"\",COUNTIFS(B$4:B73,B73))","v":""},{"$f":"IF(B73=\"\",\"\",VLOOKUP(B73,Cadastro!$Z$3:$AC$17,4,FALSE)&C73)","v":""},"0982 - Acidentes Pessoais - Coletivo",null,null,null,null,null,null,null,null,null,null,null,null,null,null,null,""]
[null,"",{"$f":"IF(B74=\"\",\"\",COUNTIFS(B$4:B74,B74))","v":""},{"$f":"IF(B74=\"\",\"\",VLOOKUP(B74,Cadastro!$Z$3:$AC$17,4,FALSE)&C74)","v":""},"0983 - Dotal Misto - Coletivo",null,null,null,null,null,null,null,null,null,null,null,null,null,null,null,""]
[null,"",{"$f":"IF(B75=\"\",\"\",COUNTIFS(B$4:B75,B75))","v":""},{"$f":"IF(B75=\"\",\"\",VLOOKUP(B75,Cadastro!$Z$3:$AC$17,4,FALSE)&C75)","v":""},"0984 - Doenças Graves ou Doença Terminal - Coletivo",null,null,null,null,null,null,null,null,null,null,null,null,null,null,null,""]
[null,"",{"$f":"IF(B76=\"\",\"\",COUNTIFS(B$4:B76,B76))","v":""},{"$f":"IF(B76=\"\",\"\",VLOOKUP(B76,Cadastro!$Z$3:$AC$17,4,FALSE)&C76)","v":""},"0986 - Dotal Puro - Coletivo",null,null,null,null,null,null,null,null,null,null,null,null,null,null,null,""]
[null,"",{"$f":"IF(B77=\"\",\"\",COUNTIFS(B$4:B77,B77))","v":""},{"$f":"IF(B77=\"\",\"\",VLOOKUP(B77,Cadastro!$Z$3:$AC$17,4,FALSE)&C77)","v":""},"0987 - Desemprego/Perda de Renda - Coletivo",null,null,null,null,null,null,null,null,null,null,null,null,null,null,null,""]
[null,"",{"$f":"IF(B78=\"\",\"\",COUNTIFS(B$4:B78,B78))","v":""},{"$f":"IF(B78=\"\",\"\",VLOOKUP(B78,Cadastro!$Z$3:$AC$17,4,FALSE)&C78)","v":""},"0990 - Eventos Aleatórios - Coletivo",null,null,null,null,null,null,null,null,null,null,null,null,null,null,null,""]
[null,"",{"$f":"IF(B79=\"\",\"\",COUNTIFS(B$4:B79,B79))","v":""},{"$f":"IF(B79=\"\",\"\",VLOOKUP(B79,Cadastro!$Z$3:$AC$17,4,FALSE)&C79)","v":""},"0991 - Vida Individual - Runoff",null,null,null,null,null,null,null,null,null,null,null,null,null,null,null,""]
[null,"",{"$f":"IF(B80=\"\",\"\",COUNTIFS(B$4:B80,B80))","v":""},{"$f":"IF(B80=\"\",\"\",VLOOKUP(B80,Cadastro!$Z$3:$AC$17,4,FALSE)&C80)","v":""},"0992 - Vgbl/Vagp/Vrgp - Coletivo - Runoff",null,null,null,null,null,null,null,null,null,null,null,null,null,null,null,""]
[null,"",{"$f":"IF(B81=\"\",\"\",COUNTIFS(B$4:B81,B81))","v":""},{"$f":"IF(B81=\"\",\"\",VLOOKUP(B81,Cadastro!$Z$3:$AC$17,4,FALSE)&C81)","v":""},"0993 - Vida - Coletivo",null,null,null,null,null,null,null,null,null,null,null,null,null,null,null,""]
[null,"",{"$f":"IF(B82=\"\",\"\",COUNTIFS(B$4:B82,B82))","v":""},{"$f":"IF(B82=\"\",\"\",VLOOKUP(B82,Cadastro!$Z$3:$AC$17,4,FALSE)&C82)","v":""},"0994 - Vgbl/Vagp/Vrgp/Vrsa/Vri - Coletivo",null,null,null,null,null,null,null,null,null,null,null,null,null,null,null,""]
[null,"",{"$f":"IF(B83=\"\",\"\",COUNTIFS(B$4:B83,B83))","v":""},{"$f":"IF(B83=\"\",\"\",VLOOKUP(B83,Cadastro!$Z$3:$AC$17,4,FALSE)&C83)","v":""},"1061 - Seguro Habitacional em Apólices de Mercado – Prestamista",null,null,null,null,null,null,null,null,null,null,null,null,null,null,null,""]
[null,"",{"$f":"IF(B84=\"\",\"\",COUNTIFS(B$4:B84,B84))","v":""},{"$f":"IF(B84=\"\",\"\",VLOOKUP(B84,Cadastro!$Z$3:$AC$17,4,FALSE)&C84)","v":""},"1065 - Seguro Habitacional Apólices de Mercado – Demais Coberturas",null,null,null,null,null,null,null,null,null,null,null,null,null,null,null,""]
[null,"",{"$f":"IF(B85=\"\",\"\",COUNTIFS(B$4:B85,B85))","v":""},{"$f":"IF(B85=\"\",\"\",VLOOKUP(B85,Cadastro!$Z$3:$AC$17,4,FALSE)&C85)","v":""},"1066 - Seguro Habitacional do Sistema Financeiro da Habitação",null,null,null,null,null,null,null,null,null,null,null,null,null,null,null,""]
[null,"",{"$f":"IF(B86=\"\",\"\",COUNTIFS(B$4:B86,B86))","v":""},{"$f":"IF(B86=\"\",\"\",VLOOKUP(B86,Cadastro!$Z$3:$AC$17,4,FALSE)&C86)","v":""},"1068 - Seguro Habitacional Fora do S.F.H. - Runoff",null,null,null,null,null,null,null,null,null,null,null,null,null,null,null,""]
[null,"",{"$f":"IF(B87=\"\",\"\",COUNTIFS(B$4:B87,B87))","v":""},{"$f":"IF(B87=\"\",\"\",VLOOKUP(B87,Cadastro!$Z$3:$AC$17,4,FALSE)&C87)","v":""},"1101 - Seguro Agrícola sem Cobertura do FESR",null,null,null,null,null,null,null,null,null,null,null,null,null,null,null,""]
[null,"",{"$f":"IF(B88=\"\",\"\",COUNTIFS(B$4:B88,B88))","v":""},{"$f":"IF(B88=\"\",\"\",VLOOKUP(B88,Cadastro!$Z$3:$AC$17,4,FALSE)&C88)","v":""},"1102 - Seguro Agrícola com Cobertura do FESR",null,null,null,null,null,null,null,null,null,null,null,null,null,null,null,""]
[null,"",{"$f":"IF(B89=\"\",\"\",COUNTIFS(B$4:B89,B89))","v":""},{"$f":"IF(B89=\"\",\"\",VLOOKUP(B89,Cadastro!$Z$3:$AC$17,4,FALSE)&C89)","v":""},"1103 - Seguro Pecuário sem Cobertura do FESR",null,null,null,null,null,null,null,null,null,null,null,null,null,null,null,""]
[null,"",{"$f":"IF(B90=\"\",\"\",COUNTIFS(B$4:B90,B90))","v":""},{"$f":"IF(B90=\"\",\"\",VLOOKUP(B90,Cadastro!$Z$3:$AC$17,4,FALSE)&C90)","v":""},"1104 - Seguro Pecuário com Cobertura do FESR",null,null,null,null,null,null,null,null,null,null,null,null,null,null,null,""]
[null,"",{"$f":"IF(B91=\"\",\"\",COUNTIFS(B$4:B91,B91))","v":""},{"$f":"IF(B91=\"\",\"\",VLOOKUP(B91,Cadastro!$Z$3:$AC$17,4,FALSE)&C91)","v":""},"1105 - Seguro Aquícola sem Cobertura do FESR",null,null,null,null,null,null,null,null,null,null,null,null,null,null,null,""]
[null,"",{"$f":"IF(B92=\"\",\"\",COUNTIFS(B$4:B92,B92))","v":""},{"$f":"IF(B92=\"\",\"\",VLOOKUP(B92,Cadastro!$Z$3:$AC$17,4,FALSE)&C92)","v":""},"1106 - Seguro Aquícola com Cobertura do FESR",null,null,null,null,null,null,null,null,null,null,null,null,null,null,null,""]
[null,"",{"$f":"IF(B93=\"\",\"\",COUNTIFS(B$4:B93,B93))","v":""},{"$f":"IF(B93=\"\",\"\",VLOOKUP(B93,Cadastro!$Z$3:$AC$17,4,FALSE)&C93)","v":""},"1107 - Seguro Florestas sem Cobertura do FESR",null,null,null,null,null,null,null,null,null,null,null,null,null,null,null,""]
[null,"",{"$f":"IF(B94=\"\",\"\",COUNTIFS(B$4:B94,B94))","v":""},{"$f":"IF(B94=\"\",\"\",VLOOKUP(B94,Cadastro!$Z$3:$AC$17,4,FALSE)&C94)","v":""},"1108 - Seguro Florestas com Cobertura do FESR",null,null,null,null,null,null,null,null,null,null,null,null,null,null,null,""]
[null,"",{"$f":"IF(B95=\"\",\"\",COUNTIFS(B$4:B95,B95))","v":""},{"$f":"IF(B95=\"\",\"\",VLOOKUP(B95,Cadastro!$Z$3:$AC$17,4,FALSE)&C95)","v":""},"1109 - Seguro da Cédula do Produto Rural",null,null,null,null,null,null,null,null,null,null,null,null,null,null,null,""]
[null,"",{"$f":"IF(B96=\"\",\"\",COUNTIFS(B$4:B96,B96))","v":""},{"$f":"IF(B96=\"\",\"\",VLOOKUP(B96,Cadastro!$Z$3:$AC$17,4,FALSE)&C96)","v":""},"1130 - Seguro Benfeitorias e Produtos Agropecuários",null,null,null,null,null,null,null,null,null,null,null,null,null,null,null,""]
[null,"",{"$f":"IF(B97=\"\",\"\",COUNTIFS(B$4:B97,B97))","v":""},{"$f":"IF(B97=\"\",\"\",VLOOKUP(B97,Cadastro!$Z$3:$AC$17,4,FALSE)&C97)","v":""},"1162 - Penhor Rural",null,null,null,null,null,null,null,null,null,null,null,null,null,null,null,""]
[null,"",{"$f":"IF(B98=\"\",\"\",COUNTIFS(B$4:B98,B98))","v":""},{"$f":"IF(B98=\"\",\"\",VLOOKUP(B98,Cadastro!$Z$3:$AC$17,4,FALSE)&C98)","v":""},"1163 - Penhor Rural – Instituições Financeiras Públicas - Runoff",null,null,null,null,null,null,null,null,null,null,null,null,null,null,null,""]
[null,"",{"$f":"IF(B99=\"\",\"\",COUNTIFS(B$4:B99,B99))","v":""},{"$f":"IF(B99=\"\",\"\",VLOOKUP(B99,Cadastro!$Z$3:$AC$17,4,FALSE)&C99)","v":""},"1164 - Seguros Animais",null,null,null,null,null,null,null,null,null,null,null,null,null,null,null,""]
[null,"",{"$f":"IF(B100=\"\",\"\",COUNTIFS(B$4:B100,B100))","v":""},{"$f":"IF(B100=\"\",\"\",VLOOKUP(B100,Cadastro!$Z$3:$AC$17,4,FALSE)&C100)","v":""},"1198 - Seguro de Vida do Produtor Rural",null,null,null,null,null,null,null,null,null,null,null,null,null,null,null,""]
[null,"",{"$f":"IF(B101=\"\",\"\",COUNTIFS(B$4:B101,B101))","v":""},{"$f":"IF(B101=\"\",\"\",VLOOKUP(B101,Cadastro!$Z$3:$AC$17,4,FALSE)&C101)","v":""},"1279 - Seguros no Exterior - Runoff",null,null,null,null,null,null,null,null,null,null,null,null,null,null,null,""]
[null,"",{"$f":"IF(B102=\"\",\"\",COUNTIFS(B$4:B102,B102))","v":""},{"$f":"IF(B102=\"\",\"\",VLOOKUP(B102,Cadastro!$Z$3:$AC$17,4,FALSE)&C102)","v":""},"1299 - Sucursais no Exterior - Runoff",null,null,null,null,null,null,null,null,null,null,null,null,null,null,null,""]
[null,"",{"$f":"IF(B103=\"\",\"\",COUNTIFS(B$4:B103,B103))","v":""},{"$f":"IF(B103=\"\",\"\",VLOOKUP(B103,Cadastro!$Z$3:$AC$17,4,FALSE)&C103)","v":""},"1329 - Funeral - Individual",null,null,null,null,null,null,null,null,null,null,null,null,null,null,null,""]
[null,"",{"$f":"IF(B104=\"\",\"\",COUNTIFS(B$4:B104,B104))","v":""},{"$f":"IF(B104=\"\",\"\",VLOOKUP(B104,Cadastro!$Z$3:$AC$17,4,FALSE)&C104)","v":""},"1336 - Perda do Certificado de Habilitação de Voo – PCHV - Individual",null,null,null,null,null,null,null,null,null,null,null,null,null,null,null,""]
[null,"",{"$f":"IF(B105=\"\",\"\",COUNTIFS(B$4:B105,B105))","v":""},{"$f":"IF(B105=\"\",\"\",VLOOKUP(B105,Cadastro!$Z$3:$AC$17,4,FALSE)&C105)","v":""},"1369 - Viagem - Individual",null,null,null,null,null,null,null,null,null,null,null,null,null,null,null,""]
[null,"",{"$f":"IF(B106=\"\",\"\",COUNTIFS(B$4:B106,B106))","v":""},{"$f":"IF(B106=\"\",\"\",VLOOKUP(B106,Cadastro!$Z$3:$AC$17,4,FALSE)&C106)","v":""},"1377 - Prestamista (Exceto Habitacional e Rural) - Individual",null,null,null,null,null,null,null,null,null,null,null,null,null,null,null,""]
[null,"",{"$f":"IF(B107=\"\",\"\",COUNTIFS(B$4:B107,B107))","v":""},{"$f":"IF(B107=\"\",\"\",VLOOKUP(B107,Cadastro!$Z$3:$AC$17,4,FALSE)&C107)","v":""},"1380 - Educacional - Individual",null,null,null,null,null,null,null,null,null,null,null,null,null,null,null,""]
[null,"",{"$f":"IF(B108=\"\",\"\",COUNTIFS(B$4:B108,B108))","v":""},{"$f":"IF(B108=\"\",\"\",VLOOKUP(B108,Cadastro!$Z$3:$AC$17,4,FALSE)&C108)","v":""},"1381 - Acidentes Pessoais - Individual",null,null,null,null,null,null,null,null,null,null,null,null,null,null,null,""]
[null,"",{"$f":"IF(B109=\"\",\"\",COUNTIFS(B$4:B109,B109))","v":""},{"$f":"IF(B109=\"\",\"\",VLOOKUP(B109,Cadastro!$Z$3:$AC$17,4,FALSE)&C109)","v":""},"1383 - Dotal Misto - Individual",null,null,null,null,null,null,null,null,null,null,null,null,null,null,null,""]
[null,"",{"$f":"IF(B110=\"\",\"\",COUNTIFS(B$4:B110,B110))","v":""},{"$f":"IF(B110=\"\",\"\",VLOOKUP(B110,Cadastro!$Z$3:$AC$17,4,FALSE)&C110)","v":""},"1384 - Doenças Graves ou Doença Terminal - Individual",null,null,null,null,null,null,null,null,null,null,null,null,null,null,null,""]
[null,"",{"$f":"IF(B111=\"\",\"\",COUNTIFS(B$4:B111,B111))","v":""},{"$f":"IF(B111=\"\",\"\",VLOOKUP(B111,Cadastro!$Z$3:$AC$17,4,FALSE)&C111)","v":""},"1386 - Dotal Puro - Individual",null,null,null,null,null,null,null,null,null,null,null,null,null,null,null,""]
[null,"",{"$f":"IF(B112=\"\",\"\",COUNTIFS(B$4:B112,B112))","v":""},{"$f":"IF(B112=\"\",\"\",VLOOKUP(B112,Cadastro!$Z$3:$AC$17,4,FALSE)&C112)","v":""},"1387 - Desemprego/Perda de Renda - Individual",null,null,null,null,null,null,null,null,null,null,null,null,null,null,null,""]
[null,"",{"$f":"IF(B113=\"\",\"\",COUNTIFS(B$4:B113,B113))","v":""},{"$f":"IF(B113=\"\",\"\",VLOOKUP(B113,Cadastro!$Z$3:$AC$17,4,FALSE)&C113)","v":""},"1390 - Eventos Aleatórios - Individual",null,null,null,null,null,null,null,null,null,null,null,null,null,null,null,""]
[null,"",{"$f":"IF(B114=\"\",\"\",COUNTIFS(B$4:B114,B114))","v":""},{"$f":"IF(B114=\"\",\"\",VLOOKUP(B114,Cadastro!$Z$3:$AC$17,4,FALSE)&C114)","v":""},"1391 - Vida - Individual",null,null,null,null,null,null,null,null,null,null,null,null,null,null,null,""]
[null,"",{"$f":"IF(B115=\"\",\"\",COUNTIFS(B$4:B115,B115))","v":""},{"$f":"IF(B115=\"\",\"\",VLOOKUP(B115,Cadastro!$Z$3:$AC$17,4,FALSE)&C115)","v":""},"1392 - Vgbl/Vagp/Vrgp/Vrsa/Vri - Individual",null,null,null,null,null,null,null,null,null,null,null,null,null,null,null,""]
[null,"",{"$f":"IF(B116=\"\",\"\",COUNTIFS(B$4:B116,B116))","v":""},{"$f":"IF(B116=\"\",\"\",VLOOKUP(B116,Cadastro!$Z$3:$AC$17,4,FALSE)&C116)","v":""},"1417 - Seguro Compreensivo para Operadores Portuários",null,null,null,null,null,null,null,null,null,null,null,null,null,null,null,""]
[null,"",{"$f":"IF(B117=\"\",\"\",COUNTIFS(B$4:B117,B117))","v":""},{"$f":"IF(B117=\"\",\"\",VLOOKUP(B117,Cadastro!$Z$3:$AC$17,4,FALSE)&C117)","v":""},"1428 - R.C. Facultativa para Embarcações – RCF",null,null,null,null,null,null,null,null,null,null,null,null,null,null,null,""]
[null,"",{"$f":"IF(B118=\"\",\"\",COUNTIFS(B$4:B118,B118))","v":""},{"$f":"IF(B118=\"\",\"\",VLOOKUP(B118,Cadastro!$Z$3:$AC$17,4,FALSE)&C118)","v":""},"1433 - Marítimos (Casco)",null,null,null,null,null,null,null,null,null,null,null,null,null,null,null,""]
[null,"",{"$f":"IF(B119=\"\",\"\",COUNTIFS(B$4:B119,B119))","v":""},{"$f":"IF(B119=\"\",\"\",VLOOKUP(B119,Cadastro!$Z$3:$AC$17,4,FALSE)&C119)","v":""},"1457 - DPEM",null,null,null,null,null,null,null,null,null,null,null,null,null,null,null,""]
[null,"",{"$f":"IF(B120=\"\",\"\",COUNTIFS(B$4:B120,B120))","v":""},{"$f":"IF(B120=\"\",\"\",VLOOKUP(B120,Cadastro!$Z$3:$AC$17,4,FALSE)&C120)","v":""},"1528 - R.C. Facultativa para Aeronaves – RCF",null,null,null,null,null,null,null,null,null,null,null,null,null,null,null,""]
[null,"",{"$f":"IF(B121=\"\",\"\",COUNTIFS(B$4:B121,B121))","v":""},{"$f":"IF(B121=\"\",\"\",VLOOKUP(B121,Cadastro!$Z$3:$AC$17,4,FALSE)&C121)","v":""},"1535 - Aeronáuticos (Casco)",null,null,null,null,null,null,null,null,null,null,null,null,null,null,null,""]
[null,"",{"$f":"IF(B122=\"\",\"\",COUNTIFS(B$4:B122,B122))","v":""},{"$f":"IF(B122=\"\",\"\",VLOOKUP(B122,Cadastro!$Z$3:$AC$17,4,FALSE)&C122)","v":""},"1537 - R.C. Hangar",null,null,null,null,null,null,null,null,null,null,null,null,null,null,null,{"$f":"IF(COUNTIF(F122:T122,\"=X\")>1,\"?\",\"\")","v":""}]
[null,"",{"$f":"IF(B123=\"\",\"\",COUNTIFS(B$4:B123,B123))","v":""},{"$f":"IF(B123=\"\",\"\",VLOOKUP(B123,Cadastro!$Z$3:$AC$17,4,FALSE)&C123)","v":""},"1574 - Satélites",null,null,null,null,null,null,null,null,null,null,null,null,null,null,null,""]
[null,"",{"$f":"IF(B124=\"\",\"\",COUNTIFS(B$4:B124,B124))","v":""},{"$f":"IF(B124=\"\",\"\",VLOOKUP(B124,Cadastro!$Z$3:$AC$17,4,FALSE)&C124)","v":""},"1597 - Respons. do Explorador ou Transportador Aéreo –Reta"]
[null,"",{"$f":"IF(B125=\"\",\"\",COUNTIFS(B$4:B125,B125))","v":""},{"$f":"IF(B125=\"\",\"\",VLOOKUP(B125,Cadastro!$Z$3:$AC$17,4,FALSE)&C125)","v":""},"1601 - Microsseguros de Pessoas"]
[null,"",{"$f":"IF(B126=\"\",\"\",COUNTIFS(B$4:B126,B126))","v":""},{"$f":"IF(B126=\"\",\"\",VLOOKUP(B126,Cadastro!$Z$3:$AC$17,4,FALSE)&C126)","v":""},"1602 - Microsseguros de Danos"]
[null,"",{"$f":"IF(B127=\"\",\"\",COUNTIFS(B$4:B127,B127))","v":""},{"$f":"IF(B127=\"\",\"\",VLOOKUP(B127,Cadastro!$Z$3:$AC$17,4,FALSE)&C127)","v":""},"1734 - Riscos de Petróleo"]
[null,"",{"$f":"IF(B128=\"\",\"\",COUNTIFS(B$4:B128,B128))","v":""},{"$f":"IF(B128=\"\",\"\",VLOOKUP(B128,Cadastro!$Z$3:$AC$17,4,FALSE)&C128)","v":""},"1872 - Riscos Nucleares"]
[null,"",{"$f":"IF(B129=\"\",\"\",COUNTIFS(B$4:B129,B129))","v":""},{"$f":"IF(B129=\"\",\"\",VLOOKUP(B129,Cadastro!$Z$3:$AC$17,4,FALSE)&C129)","v":""},"2079 - Aceitações do Exterior"]
[null,"",{"$f":"IF(B130=\"\",\"\",COUNTIFS(B$4:B130,B130))","v":""},{"$f":"IF(B130=\"\",\"\",VLOOKUP(B130,Cadastro!$Z$3:$AC$17,4,FALSE)&C130)","v":""},"2199 - Sucursais no Exterior",null,null,null,null,null,null,null,null,null,null,null,null,null,null,null,""]
[null,null,null,null,null,{"$f":"COUNTIF(F4:F130,\"=X\")","v":0},0,0,0,0,0,0,0,0,0,0,0,0,0,0,{"$f":"COUNTIF(U4:U130,\"=#\")","v":0}]

{"sheet":"RelatSuporte","index":3,"n_rows":164,"n_cols":15,"rows_kept":164,"cut":false,"hidden":true,"merged":[]}
[null,{"$f":"Relatório!A1","v":"           CONTRIBUIÇÃO MARGINAL MÊS A MÊS, POR GRUPO SEGURADOR, AGRUPAMENTOS DE RAMOS, RAMOS - valores em R$ mil                             PERÍODO: JANEIRO 2015 A DEZEMBRO 2016"}]
[]
[null,{"$f":"Relatório!$B$3","v":1},{"$f":"Relatório!$G$3","v":1},{"$f":"Relatório!$N$3","v":1},12]
[]
[null,null,{"$f":"VLOOKUP(D3,Cadastro!O2:P164,2,FALSE)","v":"TODAS AS SEGURADORAS"},null,{"$f":"VLOOKUP(D3,Cadastro!O2:Q164,3,FALSE)","v":0},null,{"$f":"IF(C3=1,VLOOKUP(Relatório!B5,Cadastro!C2:E19,3,FALSE),VLOOKUP(C3-1,Cadastro!D22:E148,2,FALSE))","v":"Total"}]
[null,null,"PRÊMIO EMTIDO",null,"PRÊMIO RETIDO",null,"PRÊMIO GANHO",null,"SINISTRO RETIDO",null,"DESP. COMERCIAIS"]
[null,"PERÍODO","2016","2015",{"$f":"C7","v":"2016"},"2015","2016","2015","2016","2015","2016","2015"]
[null,"JAN",{"$f":"C55+C71+C87+C105","v":13384291.607484797},{"$f":"D55+D71+D87+D105","v":12187244.630789986},12748613.940394301,11580859.645550193,7356646.8334531002,6962897.2946502073,{"$f":"I55+I71+I87+I105","v":3573463.5208511022},3529945.1649500038,1896014.2640900016,1696386.4221598983,0]
[null,"FEV",{"$f":"C56+C72+C88+C106","v":13136872.738380989},{"$f":"D56+D72+D88+D106","v":12817672.412020003},12481574.303933013,12240988.457300387,6734718.3459112979,6372408.6959403912,3281821.9337789989,2842169.4776902031,1741566.7715498006,1655452.6164898993,1]
[null,"MAR",16233928.901271615,16194491.202390017,15536828.889930898,15557761.781874217,7178824.2489941129,6886180.1534742014,3834858.6423872984,3466118.4725998994,1874424.1197200008,1768850.8875300009,2]
[null,"ABR",16037674.64660229,14057938.416263301,15335366.975169178,13440339.069238484,6916856.9370348901,6640543.8607130069,3441190.9326174916,3052156.4733297983,1866446.239839999,1715270.6786898989,3]
[null,"MAI",17244408.942090731,15810123.901883295,16575741.629433408,15160578.430509986,7127053.2940969113,6806243.4301125091,3433106.8074174058,3140328.0620443043,1861330.6036098013,1791687.8116599992,4]
[null,"JUN",19479174.481682606,17091571.05583011,18780195.04789399,16456354.866856379,6889269.1759317061,6759447.2430893015,3268423.5082835988,2883350.6150469007,1941433.3620599997,1826685.1129900012,5]
[null,"JUL",16433362.295807106,14921223.518940106,15703011.570192594,14306340.052591609,7042257.0598193035,6932219.6353252046,3392009.1625253991,3123347.3075455013,1851868.1396899009,1846095.5860000011,6]
[null,"AGO",17324168.091749892,14650005.529436596,16593307.543869998,14000172.102109723,7107970.1366099957,6940367.1098863119,3490945.0740937991,3116761.3630734966,1939611.8609598018,1828433.157579903,7]
[null,"SET",14622190.578825314,14089686.388990065,13924366.784687096,13355425.611335762,6780327.975697997,6709449.5335924048,3179861.8829333051,3132565.4906165977,1874412.6125200978,1806787.4235798994,8]
[null,"OUT",15807514.392415114,13482572.120949926,15064290.651693814,12793055.031163301,6881038.8044776078,6831709.2774097072,3213630.0714862966,3200834.8928104993,1910432.5984598009,1833227.6446200013,9]
[null,"NOV",18576137.113149289,15728137.914580004,17757495.20084561,15061312.882397182,6708045.7565118009,6607852.1199072059,3299254.5481720991,3133526.286159697,1908089.5253797993,1784978.1326898993,10]
[null,"DEZ",23971934.245949704,20199488.564116683,23231337.974975411,19403201.120508082,6841331.4898510119,6684344.3364608074,3288702.9195908029,3430352.3191880011,2091189.3502498998,1870981.1953398983,11]
[null,"TOTAL",{"$f":"SUM(C8:C19)","v":202251658.03540945},{"$f":"SUM(D8:D19)","v":181230155.6561901},193732130.51301929,173356389.05143529,83564340.058389738,81133662.690561265,40697269.004137598,38051455.9250549,22756819.448128905,21424836.669329304]
[]
[null,null,"PRÊMIO EMTIDO",null,"PRÊMIO RETIDO",null,"PRÊMIO GANHO",null,"SINISTRO RETIDO",null,"DESP. COMERCIAIS"]
[null,"PERÍODO",{"$f":"C7","v":"2016"},{"$f":"D7","v":"2015"},{"$f":"C23","v":"2016"},"2015","2016","2015","2016","2015","2016","2015"]
[null,"JANEIRO",{"$f":"C8","v":13384291.607484797},{"$f":"D8","v":12187244.630789986},12748613.940394301,11580859.645550193,7356646.8334531002,6962897.2946502073,3573463.5208511022,3529945.1649500038,1896014.2640900016,1696386.4221598983]
[null,"JAN/FEV",{"$f":"IF(C9=0,,C24+C9)","v":26521164.345865786},{"$f":"IF(D9=0,,D24+D9)","v":25004917.042809989},25230188.244327314,23821848.102850579,14091365.179364398,13335305.990590598,6855285.4546301011,6372114.642640207,3637581.035639802,3351839.0386497974]
[null,"JAN/MAR",{"$f":"IF(C10=0,,C25+C10)","v":42755093.247137398},41199408.245200008,40767017.134258211,39379609.884724796,21270189.42835851,20221486.144064799,10690144.0970174,9838233.1152401064,5512005.1553598028,5120689.9261797983]
[null,"JAN/ABR",58792767.893739685,55257346.661463305,56102384.109427392,52819948.95396328,28187046.3653934,26862030.004777804,14131335.029634891,12890389.588569906,7378451.3951998018,6835960.6048696972]
[null,"JAN/MAI",76037176.83583042,71067470.563346595,72678125.738860801,67980527.384473264,35314099.65949031,33668273.434890315,17564441.837052297,16030717.650614209,9239781.9988096021,8627648.4165296964]
[null,"JAN/JUN",95516351.317513019,88159041.619176701,91458320.786754787,84436882.251329646,42203368.835422017,40427720.677979618,20832865.345335897,18914068.265661109,11181215.360869601,10454333.529519698]
[null,"JAN/JUL",111949713.61332013,103080265.13811681,107161332.35694738,98743222.303921252,49245625.89524132,47359940.313304827,24224874.507861298,22037415.573206611,13033083.500559501,12300429.115519699]
[null,"JAN/AGO",129273881.70507002,117730270.6675534,123754639.90081738,112743394.40603098,56353596.031851314,54300307.423191138,27715819.581955098,25154176.936280109,14972695.361519303,14128862.273099601]
[null,"JAN/SET",143896072.28389534,131819957.05654345,137679006.68550447,126098820.01736674,63133924.007549308,61009756.956783541,30895681.464888401,28286742.426896706,16847107.974039402,15935649.696679501]
[null,"JAN/OUT",159703586.67631045,145302529.17749339,152743297.33719829,138891875.04853004,70014962.812026918,67841466.234193251,34109311.536374696,31487577.319707207,18757540.572499204,17768877.341299504]
[null,"JAN/NOV",178279723.78945974,161030667.09207341,170500792.53804389,153953187.93092722,76723008.568538725,74449318.354100451,37408566.084546797,34621103.605866902,20665630.097879004,19553855.473989405]
[null,"JAN/DEZ",202251658.03540945,181230155.6561901,193732130.51301929,173356389.05143529,83564340.058389738,81133662.690561265,40697269.004137598,38051455.9250549,22756819.448128905,21424836.669329304]
[]
[null,null,"PRÊMIO EMTIDO",null,"PRÊMIO RETIDO",null,"PRÊMIO GANHO",null,"SINISTRO RETIDO",null,"DESP. COMERCIAIS"]
[null,"PERÍODO",{"$f":"C23","v":"2016"},null,{"$f":"C38","v":"2016"},null,{"$f":"E38","v":"2016"},null,{"$f":"G38","v":"2016"},null,{"$f":"I38","v":"2016"}]
[1,{"$f":"Relatório!B48","v":"JAN/DEZ-2015"},{"$f":"D20","v":181230155.6561901},null,{"$f":"F20","v":173356389.05143529},null,{"$f":"H20","v":81133662.690561265},null,{"$f":"J20","v":38051455.9250549},null,{"$f":"L20","v":21424836.669329304}]
[{"$f":"A39+1","v":2},{"$f":"Relatório!B49","v":"FEV-15/JAN-16"},{"$f":"IF($E$3+1<A40,0,SUM(D9:D$19)+SUM(C$8:C8))","v":182427202.63288489},null,{"$f":"IF($E$3+1<A40,0,SUM(F9:F$19)+SUM(E$8:E8))","v":174524143.34627941},null,{"$f":"IF($E$3+1<A40,0,SUM(H9:H$19)+SUM(G$8:G8))","v":81527412.229364157},null,{"$f":"IF($E$3+1<A40,0,SUM(J9:J$19)+SUM(I$8:I8))","v":38094974.280956008},null,{"$f":"IF($E$3+1<A40,0,SUM(L9:L$19)+SUM(K$8:K8))","v":21624464.511259407}]
[{"$f":"A40+1","v":3},{"$f":"Relatório!B50","v":"MAR-15/FEV-16"},{"$f":"IF($E$3+1<A41,0,SUM(D10:D$19)+SUM(C$8:C9))","v":182746402.95924589},null,{"$f":"IF($E$3+1<A41,0,SUM(F10:F$19)+SUM(E$8:E9))","v":174764729.19291201},null,{"$f":"IF($E$3+1<A41,0,SUM(H10:H$19)+SUM(G$8:G9))","v":81889721.879335061},null,{"$f":"IF($E$3+1<A41,0,SUM(J10:J$19)+SUM(I$8:I9))","v":38534626.737044796},null,{"$f":"IF($E$3+1<A41,0,SUM(L10:L$19)+SUM(K$8:K9))","v":21710578.666319303}]
[4,{"$f":"Relatório!B51","v":"ABR-15/MAR-16"},{"$f":"IF($E$3+1<A42,0,SUM(D11:D$19)+SUM(C$8:C10))","v":182785840.65812749},null,{"$f":"IF($E$3+1<A42,0,SUM(F11:F$19)+SUM(E$8:E10))","v":174743796.30096871},null,{"$f":"IF($E$3+1<A42,0,SUM(H11:H$19)+SUM(G$8:G10))","v":82182365.974854976},null,{"$f":"IF($E$3+1<A42,0,SUM(J11:J$19)+SUM(I$8:I10))","v":38903366.906832203},null,{"$f":"IF($E$3+1<A42,0,SUM(L11:L$19)+SUM(K$8:K10))","v":21816151.898509301}]
[5,{"$f":"Relatório!B52","v":"MAI-15/ABR-16"},{"$f":"IF($E$3+1<A43,0,SUM(D12:D$19)+SUM(C$8:C11))","v":184765576.88846648},null,{"$f":"IF($E$3+1<A43,0,SUM(F12:F$19)+SUM(E$8:E11))","v":176638824.2068994},null,{"$f":"IF($E$3+1<A43,0,SUM(H12:H$19)+SUM(G$8:G11))","v":82458679.051176846},null,{"$f":"IF($E$3+1<A43,0,SUM(J12:J$19)+SUM(I$8:I11))","v":39292401.366119891},null,{"$f":"IF($E$3+1<A43,0,SUM(L12:L$19)+SUM(K$8:K11))","v":21967327.459659405}]
[6,{"$f":"Relatório!B53","v":"JUN-15/MAI-16"},{"$f":"IF($E$3+1<A44,0,SUM(D13:D$19)+SUM(C$8:C12))","v":186199861.92867392},null,{"$f":"IF($E$3+1<A44,0,SUM(F13:F$19)+SUM(E$8:E12))","v":178053987.40582281},null,{"$f":"IF($E$3+1<A44,0,SUM(H13:H$19)+SUM(G$8:G12))","v":82779488.915161252},null,{"$f":"IF($E$3+1<A44,0,SUM(J13:J$19)+SUM(I$8:I12))","v":39585180.111492991},null,{"$f":"IF($E$3+1<A44,0,SUM(L13:L$19)+SUM(K$8:K12))","v":22036970.251609206}]
[7,{"$f":"Relatório!B54","v":"JUL-15/JUN-16"},{"$f":"IF($E$3+1<A45,0,SUM(D14:D$19)+SUM(C$8:C13))","v":188587465.3545264},null,{"$f":"IF($E$3+1<A45,0,SUM(F14:F$19)+SUM(E$8:E13))","v":180377827.58686045},null,{"$f":"IF($E$3+1<A45,0,SUM(H14:H$19)+SUM(G$8:G13))","v":82909310.848003656},null,{"$f":"IF($E$3+1<A45,0,SUM(J14:J$19)+SUM(I$8:I13))","v":39970253.004729688},null,{"$f":"IF($E$3+1<A45,0,SUM(L14:L$19)+SUM(K$8:K13))","v":22151718.500679202}]
[8,{"$f":"Relatório!B55","v":"AGO-15/JUL-16"},{"$f":"IF($E$3+1<A46,0,SUM(D15:D$19)+SUM(C$8:C14))","v":190099604.1313934},null,{"$f":"IF($E$3+1<A46,0,SUM(F15:F$19)+SUM(E$8:E14))","v":181774499.10446143},null,{"$f":"IF($E$3+1<A46,0,SUM(H15:H$19)+SUM(G$8:G14))","v":83019348.272497758},null,{"$f":"IF($E$3+1<A46,0,SUM(J15:J$19)+SUM(I$8:I14))","v":40238914.859709591},null,{"$f":"IF($E$3+1<A46,0,SUM(L15:L$19)+SUM(K$8:K14))","v":22157491.054369099}]
[9,{"$f":"Relatório!B56","v":"SET-15/AGO-16"},{"$f":"IF($E$3+1<A47,0,SUM(D16:D$19)+SUM(C$8:C15))","v":192773766.69370669},null,{"$f":"IF($E$3+1<A47,0,SUM(F16:F$19)+SUM(E$8:E15))","v":184367634.5462217},null,{"$f":"IF($E$3+1<A47,0,SUM(H16:H$19)+SUM(G$8:G15))","v":83186951.299221441},null,{"$f":"IF($E$3+1<A47,0,SUM(J16:J$19)+SUM(I$8:I15))","v":40613098.570729889},null,{"$f":"IF($E$3+1<A47,0,SUM(L16:L$19)+SUM(K$8:K15))","v":22268669.757749002}]
[10,{"$f":"Relatório!B57","v":"OUT-15/SET-16"},{"$f":"IF($E$3+1<A48,0,SUM(D17:D$19)+SUM(C$8:C16))","v":193306270.88354194},null,{"$f":"IF($E$3+1<A48,0,SUM(F17:F$19)+SUM(E$8:E16))","v":184936575.71957302},null,{"$f":"IF($E$3+1<A48,0,SUM(H17:H$19)+SUM(G$8:G16))","v":83257829.741327032},null,{"$f":"IF($E$3+1<A48,0,SUM(J17:J$19)+SUM(I$8:I16))","v":40660394.963046595},null,{"$f":"IF($E$3+1<A48,0,SUM(L17:L$19)+SUM(K$8:K16))","v":22336294.9466892}]
[11,{"$f":"Relatório!B58","v":"NOV-15/OUT-16"},{"$f":"IF($E$3+1<A49,0,SUM(D18:D$19)+SUM(C$8:C17))","v":195631213.15500712},null,{"$f":"IF($E$3+1<A49,0,SUM(F18:F$19)+SUM(E$8:E17))","v":187207811.34010357},null,{"$f":"IF($E$3+1<A49,0,SUM(H18:H$19)+SUM(G$8:G17))","v":83307159.268394932},null,{"$f":"IF($E$3+1<A49,0,SUM(J18:J$19)+SUM(I$8:I17))","v":40673190.141722396},null,{"$f":"IF($E$3+1<A49,0,SUM(L18:L$19)+SUM(K$8:K17))","v":22413499.900529001}]
[12,{"$f":"Relatório!B59","v":"DEZ-15/NOV-16"},{"$f":"IF($E$3+1<A50,0,SUM(D19:D$19)+SUM(C$8:C18))","v":198479212.35357642},null,{"$f":"IF($E$3+1<A50,0,SUM(F19:F$19)+SUM(E$8:E18))","v":189903993.65855196},null,{"$f":"IF($E$3+1<A50,0,SUM(H19:H$19)+SUM(G$8:G18))","v":83407352.904999539},null,{"$f":"IF($E$3+1<A50,0,SUM(J19:J$19)+SUM(I$8:I18))","v":40838918.403734796},null,{"$f":"IF($E$3+1<A50,0,SUM(L19:L$19)+SUM(K$8:K18))","v":22536611.293218903}]
[13,{"$f":"Relatório!B60","v":"JAN/DEZ-2016"},{"$f":"IF($E$3+1<A50,0,C20)","v":202251658.03540945},null,{"$f":"IF($E$3+1<A50,0,E20)","v":193732130.51301929},null,{"$f":"IF($E$3+1<A50,0,G20)","v":83564340.058389738},null,{"$f":"IF($E$3+1<A50,0,I20)","v":40697269.004137598},null,{"$f":"IF($E$3+1<A50,0,K20)","v":22756819.448128905}]
[null,null,"POR AGRUPAMENTOS / POR RAMOS / POR GRUPO SEGURADOR OU POR SEGURADORA"]
[null,null,"PRÊMIO EMTIDO",null,"PRÊMIO RETIDO",null,"PRÊMIO GANHO",null,"SINISTRO RETIDO",null,"DESP. COMERCIAIS",null,null,"LOCALIZADORES"]
[null,"PERÍODO",{"$f":"C23","v":"2016"},{"$f":"D23","v":"2015"},{"$f":"C54","v":"2016"},"2015","2016","2015","2016","2015","2016","2015",null,{"$f":"K54","v":"2016"},{"$f":"L54","v":"2015"}]
["01","JANEIRO",{"$f":"(IF($C$3<>1,IF($E$5<500,SUMIF(BD!$Q$5:$Q$66000,$N55,BD!$AB$5:$AB$66000),SUMIF(BD!$O$5:$O$66000,$N55,BD!$AB$5:$AB$66000)),IF($E$5<500,SUMIF(BD!$L$5:$L$66000,$N55,BD!$AB$5:$AB$66000),SUMIF(BD!$K$5:$K$66000,$N55,BD!$AB$5:$AB$66000))))/1000","v":0},{"$f":"(IF($C$3<>1,IF($E$5<500,SUMIF(BD!$Z$5:$Z$66000,$O55,BD!$AC$5:$AC$66000),SUMIF(BD!$X$5:$X$66000,$O55,BD!$AC$5:$AC$66000)),IF($E$5<500,SUMIF(BD!$U$5:$U$66000,$O55,BD!$AC$5:$AC$66000),SUMIF(BD!$T$5:$T$66000,$O55,BD!$AC$5:$AC$66000))))/1000","v":0},{"$f":"(IF($C$3<>1,IF($E$5<500,SUMIF(BD!$Q$5:$Q$66000,$N55,BD!$AD$5:$AD$66000),SUMIF(BD!$O$5:$O$66000,$N55,BD!$AD$5:$AD$66000)),IF($E$5<500,SUMIF(BD!$L$5:$L$66000,$N55,BD!$AD$5:$AD$66000),SUMIF(BD!$K$5:$K$66000,$N55,BD!$AD$5:$AD$66000))))/1000","v":0},{"$f":"(IF($C$3<>1,IF($E$5<500,SUMIF(BD!$Z$5:$Z$66000,$O55,BD!$AE$5:$AE$66000),SUMIF(BD!$X$5:$X$66000,$O55,BD!$AE$5:$AE$66000)),IF($E$5<500,SUMIF(BD!$U$5:$U$66000,$O55,BD!$AE$5:$AE$66000),SUMIF(BD!$T$5:$T$66000,$O55,BD!$AE$5:$AE$66000))))/1000","v":0},{"$f":"(IF($C$3<>1,IF($E$5<500,SUMIF(BD!$Q$5:$Q$66000,$N55,BD!$AF$5:$AF$66000),SUMIF(BD!$O$5:$O$66000,$N55,BD!$AF$5:$AF$66000)),IF($E$5<500,SUMIF(BD!$L$5:$L$66000,$N55,BD!$AF$5:$AF$66000),SUMIF(BD!$K$5:$K$66000,$N55,BD!$AF$5:$AF$66000))))/1000","v":0},{"$f":"(IF($C$3<>1,IF($E$5<500,SUMIF(BD!$Z$5:$Z$66000,$O55,BD!$AG$5:$AG$66000),SUMIF(BD!$X$5:$X$66000,$O55,BD!$AG$5:$AG$66000)),IF($E$5<500,SUMIF(BD!$U$5:$U$66000,$O55,BD!$AG$5:$AG$66000),SUMIF(BD!$T$5:$T$66000,$O55,BD!$AG$5:$AG$66000))))/1000","v":0},{"$f":"(IF($C$3<>1,IF($E$5<500,SUMIF(BD!$Q$5:$Q$66000,$N55,BD!$AH$5:$AH$66000),SUMIF(BD!$O$5:$O$66000,$N55,BD!$AH$5:$AH$66000)),IF($E$5<500,SUMIF(BD!$L$5:$L$66000,$N55,BD!$AH$5:$AH$66000),SUMIF(BD!$K$5:$K$66000,$N55,BD!$AH$5:$AH$66000))))/1000","v":0},{"$f":"(IF($C$3<>1,IF($E$5<500,SUMIF(BD!$Z$5:$Z$66000,$O55,BD!$AI$5:$AI$66000),SUMIF(BD!$X$5:$X$66000,$O55,BD!$AI$5:$AI$66000)),IF($E$5<500,SUMIF(BD!$U$5:$U$66000,$O55,BD!$AI$5:$AI$66000),SUMIF(BD!$T$5:$T$66000,$O55,BD!$AI$5:$AI$66000))))/1000","v":0},{"$f":"(IF($C$3<>1,IF($E$5<500,SUMIF(BD!$Q$5:$Q$66000,$N55,BD!$AJ$5:$AJ$66000),SUMIF(BD!$O$5:$O$66000,$N55,BD!$AJ$5:$AJ$66000)),IF($E$5<500,SUMIF(BD!$L$5:$L$66000,$N55,BD!$AJ$5:$AJ$66000),SUMIF(BD!$K$5:$K$66000,$N55,BD!$AJ$5:$AJ$66000))))/1000","v":0},{"$f":"(IF($C$3<>1,IF($E$5<500,SUMIF(BD!$Z$5:$Z$66000,$O55,BD!$AK$5:$AK$66000),SUMIF(BD!$X$5:$X$66000,$O55,BD!$AK$5:$AK$66000)),IF($E$5<500,SUMIF(BD!$U$5:$U$66000,$O55,BD!$AK$5:$AK$66000),SUMIF(BD!$T$5:$T$66000,$O55,BD!$AK$5:$AK$66000))))/1000","v":0},0,{"$f":"IFERROR(VALUE($E$5)&\"/\"&$G$5&\"/\"&$C$7&$A55,\"\")","v":"0/Total/201601"},{"$f":"IFERROR(VALUE($E$5)&\"/\"&$G$5&\"/\"&$D$7&$A55,\"\")","v":"0/Total/201501"}]
["02","FEVEREIRO",{"$f":"(IF($C$3<>1,IF($E$5<500,SUMIF(BD!$Q$5:$Q$66000,$N56,BD!$AB$5:$AB$66000),SUMIF(BD!$O$5:$O$66000,$N56,BD!$AB$5:$AB$66000)),IF($E$5<500,SUMIF(BD!$L$5:$L$66000,$N56,BD!$AB$5:$AB$66000),SUMIF(BD!$K$5:$K$66000,$N56,BD!$AB$5:$AB$66000))))/1000","v":0},{"$f":"(IF($C$3<>1,IF($E$5<500,SUMIF(BD!$Z$5:$Z$66000,$O56,BD!$AC$5:$AC$66000),SUMIF(BD!$X$5:$X$66000,$O56,BD!$AC$5:$AC$66000)),IF($E$5<500,SUMIF(BD!$U$5:$U$66000,$O56,BD!$AC$5:$AC$66000),SUMIF(BD!$T$5:$T$66000,$O56,BD!$AC$5:$AC$66000))))/1000","v":0},{"$f":"(IF($C$3<>1,IF($E$5<500,SUMIF(BD!$Q$5:$Q$66000,$N56,BD!$AD$5:$AD$66000),SUMIF(BD!$O$5:$O$66000,$N56,BD!$AD$5:$AD$66000)),IF($E$5<500,SUMIF(BD!$L$5:$L$66000,$N56,BD!$AD$5:$AD$66000),SUMIF(BD!$K$5:$K$66000,$N56,BD!$AD$5:$AD$66000))))/1000","v":0},{"$f":"(IF($C$3<>1,IF($E$5<500,SUMIF(BD!$Z$5:$Z$66000,$O56,BD!$AE$5:$AE$66000),SUMIF(BD!$X$5:$X$66000,$O56,BD!$AE$5:$AE$66000)),IF($E$5<500,SUMIF(BD!$U$5:$U$66000,$O56,BD!$AE$5:$AE$66000),SUMIF(BD!$T$5:$T$66000,$O56,BD!$AE$5:$AE$66000))))/1000","v":0},{"$f":"(IF($C$3<>1,IF($E$5<500,SUMIF(BD!$Q$5:$Q$66000,$N56,BD!$AF$5:$AF$66000),SUMIF(BD!$O$5:$O$66000,$N56,BD!$AF$5:$AF$66000)),IF($E$5<500,SUMIF(BD!$L$5:$L$66000,$N56,BD!$AF$5:$AF$66000),SUMIF(BD!$K$5:$K$66000,$N56,BD!$AF$5:$AF$66000))))/1000","v":0},{"$f":"(IF($C$3<>1,IF($E$5<500,SUMIF(BD!$Z$5:$Z$66000,$O56,BD!$AG$5:$AG$66000),SUMIF(BD!$X$5:$X$66000,$O56,BD!$AG$5:$AG$66000)),IF($E$5<500,SUMIF(BD!$U$5:$U$66000,$O56,BD!$AG$5:$AG$66000),SUMIF(BD!$T$5:$T$66000,$O56,BD!$AG$5:$AG$66000))))/1000","v":0},{"$f":"(IF($C$3<>1,IF($E$5<500,SUMIF(BD!$Q$5:$Q$66000,$N56,BD!$AH$5:$AH$66000),SUMIF(BD!$O$5:$O$66000,$N56,BD!$AH$5:$AH$66000)),IF($E$5<500,SUMIF(BD!$L$5:$L$66000,$N56,BD!$AH$5:$AH$66000),SUMIF(BD!$K$5:$K$66000,$N56,BD!$AH$5:$AH$66000))))/1000","v":0},{"$f":"(IF($C$3<>1,IF($E$5<500,SUMIF(BD!$Z$5:$Z$66000,$O56,BD!$AI$5:$AI$66000),SUMIF(BD!$X$5:$X$66000,$O56,BD!$AI$5:$AI$66000)),IF($E$5<500,SUMIF(BD!$U$5:$U$66000,$O56,BD!$AI$5:$AI$66000),SUMIF(BD!$T$5:$T$66000,$O56,BD!$AI$5:$AI$66000))))/1000","v":0},{"$f":"(IF($C$3<>1,IF($E$5<500,SUMIF(BD!$Q$5:$Q$66000,$N56,BD!$AJ$5:$AJ$66000),SUMIF(BD!$O$5:$O$66000,$N56,BD!$AJ$5:$AJ$66000)),IF($E$5<500,SUMIF(BD!$L$5:$L$66000,$N56,BD!$AJ$5:$AJ$66000),SUMIF(BD!$K$5:$K$66000,$N56,BD!$AJ$5:$AJ$66000))))/1000","v":0},{"$f":"(IF($C$3<>1,IF($E$5<500,SUMIF(BD!$Z$5:$Z$66000,$O56,BD!$AK$5:$AK$66000),SUMIF(BD!$X$5:$X$66000,$O56,BD!$AK$5:$AK$66000)),IF($E$5<500,SUMIF(BD!$U$5:$U$66000,$O56,BD!$AK$5:$AK$66000),SUMIF(BD!$T$5:$T$66000,$O56,BD!$AK$5:$AK$66000))))/1000","v":0},null,{"$f":"IFERROR(VALUE($E$5)&\"/\"&$G$5&\"/\"&$C$7&$A56,\"\")","v":"0/Total/201602"},{"$f":"IFERROR(VALUE($E$5)&\"/\"&$G$5&\"/\"&$D$7&$A56,\"\")","v":"0/Total/201502"}]
["03","MARÇO",{"$f":"(IF($C$3<>1,IF($E$5<500,SUMIF(BD!$Q$5:$Q$66000,$N57,BD!$AB$5:$AB$66000),SUMIF(BD!$O$5:$O$66000,$N57,BD!$AB$5:$AB$66000)),IF($E$5<500,SUMIF(BD!$L$5:$L$66000,$N57,BD!$AB$5:$AB$66000),SUMIF(BD!$K$5:$K$66000,$N57,BD!$AB$5:$AB$66000))))/1000","v":0},{"$f":"(IF($C$3<>1,IF($E$5<500,SUMIF(BD!$Z$5:$Z$66000,$O57,BD!$AC$5:$AC$66000),SUMIF(BD!$X$5:$X$66000,$O57,BD!$AC$5:$AC$66000)),IF($E$5<500,SUMIF(BD!$U$5:$U$66000,$O57,BD!$AC$5:$AC$66000),SUMIF(BD!$T$5:$T$66000,$O57,BD!$AC$5:$AC$66000))))/1000","v":0},{"$f":"(IF($C$3<>1,IF($E$5<500,SUMIF(BD!$Q$5:$Q$66000,$N57,BD!$AD$5:$AD$66000),SUMIF(BD!$O$5:$O$66000,$N57,BD!$AD$5:$AD$66000)),IF($E$5<500,SUMIF(BD!$L$5:$L$66000,$N57,BD!$AD$5:$AD$66000),SUMIF(BD!$K$5:$K$66000,$N57,BD!$AD$5:$AD$66000))))/1000","v":0},{"$f":"(IF($C$3<>1,IF($E$5<500,SUMIF(BD!$Z$5:$Z$66000,$O57,BD!$AE$5:$AE$66000),SUMIF(BD!$X$5:$X$66000,$O57,BD!$AE$5:$AE$66000)),IF($E$5<500,SUMIF(BD!$U$5:$U$66000,$O57,BD!$AE$5:$AE$66000),SUMIF(BD!$T$5:$T$66000,$O57,BD!$AE$5:$AE$66000))))/1000","v":0},{"$f":"(IF($C$3<>1,IF($E$5<500,SUMIF(BD!$Q$5:$Q$66000,$N57,BD!$AF$5:$AF$66000),SUMIF(BD!$O$5:$O$66000,$N57,BD!$AF$5:$AF$66000)),IF($E$5<500,SUMIF(BD!$L$5:$L$66000,$N57,BD!$AF$5:$AF$66000),SUMIF(BD!$K$5:$K$66000,$N57,BD!$AF$5:$AF$66000))))/1000","v":0},{"$f":"(IF($C$3<>1,IF($E$5<500,SUMIF(BD!$Z$5:$Z$66000,$O57,BD!$AG$5:$AG$66000),SUMIF(BD!$X$5:$X$66000,$O57,BD!$AG$5:$AG$66000)),IF($E$5<500,SUMIF(BD!$U$5:$U$66000,$O57,BD!$AG$5:$AG$66000),SUMIF(BD!$T$5:$T$66000,$O57,BD!$AG$5:$AG$66000))))/1000","v":0},{"$f":"(IF($C$3<>1,IF($E$5<500,SUMIF(BD!$Q$5:$Q$66000,$N57,BD!$AH$5:$AH$66000),SUMIF(BD!$O$5:$O$66000,$N57,BD!$AH$5:$AH$66000)),IF($E$5<500,SUMIF(BD!$L$5:$L$66000,$N57,BD!$AH$5:$AH$66000),SUMIF(BD!$K$5:$K$66000,$N57,BD!$AH$5:$AH$66000))))/1000","v":0},{"$f":"(IF($C$3<>1,IF($E$5<500,SUMIF(BD!$Z$5:$Z$66000,$O57,BD!$AI$5:$AI$66000),SUMIF(BD!$X$5:$X$66000,$O57,BD!$AI$5:$AI$66000)),IF($E$5<500,SUMIF(BD!$U$5:$U$66000,$O57,BD!$AI$5:$AI$66000),SUMIF(BD!$T$5:$T$66000,$O57,BD!$AI$5:$AI$66000))))/1000","v":0},{"$f":"(IF($C$3<>1,IF($E$5<500,SUMIF(BD!$Q$5:$Q$66000,$N57,BD!$AJ$5:$AJ$66000),SUMIF(BD!$O$5:$O$66000,$N57,BD!$AJ$5:$AJ$66000)),IF($E$5<500,SUMIF(BD!$L$5:$L$66000,$N57,BD!$AJ$5:$AJ$66000),SUMIF(BD!$K$5:$K$66000,$N57,BD!$AJ$5:$AJ$66000))))/1000","v":0},{"$f":"(IF($C$3<>1,IF($E$5<500,SUMIF(BD!$Z$5:$Z$66000,$O57,BD!$AK$5:$AK$66000),SUMIF(BD!$X$5:$X$66000,$O57,BD!$AK$5:$AK$66000)),IF($E$5<500,SUMIF(BD!$U$5:$U$66000,$O57,BD!$AK$5:$AK$66000),SUMIF(BD!$T$5:$T$66000,$O57,BD!$AK$5:$AK$66000))))/1000","v":0},null,"0/Total/201603","0/Total/201503"]
["04","ABRIL",{"$f":"(IF($C$3<>1,IF($E$5<500,SUMIF(BD!$Q$5:$Q$66000,$N58,BD!$AB$5:$AB$66000),SUMIF(BD!$O$5:$O$66000,$N58,BD!$AB$5:$AB$66000)),IF($E$5<500,SUMIF(BD!$L$5:$L$66000,$N58,BD!$AB$5:$AB$66000),SUMIF(BD!$K$5:$K$66000,$N58,BD!$AB$5:$AB$66000))))/1000","v":0},{"$f":"(IF($C$3<>1,IF($E$5<500,SUMIF(BD!$Z$5:$Z$66000,$O58,BD!$AC$5:$AC$66000),SUMIF(BD!$X$5:$X$66000,$O58,BD!$AC$5:$AC$66000)),IF($E$5<500,SUMIF(BD!$U$5:$U$66000,$O58,BD!$AC$5:$AC$66000),SUMIF(BD!$T$5:$T$66000,$O58,BD!$AC$5:$AC$66000))))/1000","v":0},{"$f":"(IF($C$3<>1,IF($E$5<500,SUMIF(BD!$Q$5:$Q$66000,$N58,BD!$AD$5:$AD$66000),SUMIF(BD!$O$5:$O$66000,$N58,BD!$AD$5:$AD$66000)),IF($E$5<500,SUMIF(BD!$L$5:$L$66000,$N58,BD!$AD$5:$AD$66000),SUMIF(BD!$K$5:$K$66000,$N58,BD!$AD$5:$AD$66000))))/1000","v":0},{"$f":"(IF($C$3<>1,IF($E$5<500,SUMIF(BD!$Z$5:$Z$66000,$O58,BD!$AE$5:$AE$66000),SUMIF(BD!$X$5:$X$66000,$O58,BD!$AE$5:$AE$66000)),IF($E$5<500,SUMIF(BD!$U$5:$U$66000,$O58,BD!$AE$5:$AE$66000),SUMIF(BD!$T$5:$T$66000,$O58,BD!$AE$5:$AE$66000))))/1000","v":0},{"$f":"(IF($C$3<>1,IF($E$5<500,SUMIF(BD!$Q$5:$Q$66000,$N58,BD!$AF$5:$AF$66000),SUMIF(BD!$O$5:$O$66000,$N58,BD!$AF$5:$AF$66000)),IF($E$5<500,SUMIF(BD!$L$5:$L$66000,$N58,BD!$AF$5:$AF$66000),SUMIF(BD!$K$5:$K$66000,$N58,BD!$AF$5:$AF$66000))))/1000","v":0},{"$f":"(IF($C$3<>1,IF($E$5<500,SUMIF(BD!$Z$5:$Z$66000,$O58,BD!$AG$5:$AG$66000),SUMIF(BD!$X$5:$X$66000,$O58,BD!$AG$5:$AG$66000)),IF($E$5<500,SUMIF(BD!$U$5:$U$66000,$O58,BD!$AG$5:$AG$66000),SUMIF(BD!$T$5:$T$66000,$O58,BD!$AG$5:$AG$66000))))/1000","v":0},{"$f":"(IF($C$3<>1,IF($E$5<500,SUMIF(BD!$Q$5:$Q$66000,$N58,BD!$AH$5:$AH$66000),SUMIF(BD!$O$5:$O$66000,$N58,BD!$AH$5:$AH$66000)),IF($E$5<500,SUMIF(BD!$L$5:$L$66000,$N58,BD!$AH$5:$AH$66000),SUMIF(BD!$K$5:$K$66000,$N58,BD!$AH$5:$AH$66000))))/1000","v":0},{"$f":"(IF($C$3<>1,IF($E$5<500,SUMIF(BD!$Z$5:$Z$66000,$O58,BD!$AI$5:$AI$66000),SUMIF(BD!$X$5:$X$66000,$O58,BD!$AI$5:$AI$66000)),IF($E$5<500,SUMIF(BD!$U$5:$U$66000,$O58,BD!$AI$5:$AI$66000),SUMIF(BD!$T$5:$T$66000,$O58,BD!$AI$5:$AI$66000))))/1000","v":0},{"$f":"(IF($C$3<>1,IF($E$5<500,SUMIF(BD!$Q$5:$Q$66000,$N58,BD!$AJ$5:$AJ$66000),SUMIF(BD!$O$5:$O$66000,$N58,BD!$AJ$5:$AJ$66000)),IF($E$5<500,SUMIF(BD!$L$5:$L$66000,$N58,BD!$AJ$5:$AJ$66000),SUMIF(BD!$K$5:$K$66000,$N58,BD!$AJ$5:$AJ$66000))))/1000","v":0},{"$f":"(IF($C$3<>1,IF($E$5<500,SUMIF(BD!$Z$5:$Z$66000,$O58,BD!$AK$5:$AK$66000),SUMIF(BD!$X$5:$X$66000,$O58,BD!$AK$5:$AK$66000)),IF($E$5<500,SUMIF(BD!$U$5:$U$66000,$O58,BD!$AK$5:$AK$66000),SUMIF(BD!$T$5:$T$66000,$O58,BD!$AK$5:$AK$66000))))/1000","v":0},null,"0/Total/201604","0/Total/201504"]
["05","MAIO",{"$f":"(IF($C$3<>1,IF($E$5<500,SUMIF(BD!$Q$5:$Q$66000,$N59,BD!$AB$5:$AB$66000),SUMIF(BD!$O$5:$O$66000,$N59,BD!$AB$5:$AB$66000)),IF($E$5<500,SUMIF(BD!$L$5:$L$66000,$N59,BD!$AB$5:$AB$66000),SUMIF(BD!$K$5:$K$66000,$N59,BD!$AB$5:$AB$66000))))/1000","v":0},{"$f":"(IF($C$3<>1,IF($E$5<500,SUMIF(BD!$Z$5:$Z$66000,$O59,BD!$AC$5:$AC$66000),SUMIF(BD!$X$5:$X$66000,$O59,BD!$AC$5:$AC$66000)),IF($E$5<500,SUMIF(BD!$U$5:$U$66000,$O59,BD!$AC$5:$AC$66000),SUMIF(BD!$T$5:$T$66000,$O59,BD!$AC$5:$AC$66000))))/1000","v":0},{"$f":"(IF($C$3<>1,IF($E$5<500,SUMIF(BD!$Q$5:$Q$66000,$N59,BD!$AD$5:$AD$66000),SUMIF(BD!$O$5:$O$66000,$N59,BD!$AD$5:$AD$66000)),IF($E$5<500,SUMIF(BD!$L$5:$L$66000,$N59,BD!$AD$5:$AD$66000),SUMIF(BD!$K$5:$K$66000,$N59,BD!$AD$5:$AD$66000))))/1000","v":0},{"$f":"(IF($C$3<>1,IF($E$5<500,SUMIF(BD!$Z$5:$Z$66000,$O59,BD!$AE$5:$AE$66000),SUMIF(BD!$X$5:$X$66000,$O59,BD!$AE$5:$AE$66000)),IF($E$5<500,SUMIF(BD!$U$5:$U$66000,$O59,BD!$AE$5:$AE$66000),SUMIF(BD!$T$5:$T$66000,$O59,BD!$AE$5:$AE$66000))))/1000","v":0},{"$f":"(IF($C$3<>1,IF($E$5<500,SUMIF(BD!$Q$5:$Q$66000,$N59,BD!$AF$5:$AF$66000),SUMIF(BD!$O$5:$O$66000,$N59,BD!$AF$5:$AF$66000)),IF($E$5<500,SUMIF(BD!$L$5:$L$66000,$N59,BD!$AF$5:$AF$66000),SUMIF(BD!$K$5:$K$66000,$N59,BD!$AF$5:$AF$66000))))/1000","v":0},{"$f":"(IF($C$3<>1,IF($E$5<500,SUMIF(BD!$Z$5:$Z$66000,$O59,BD!$AG$5:$AG$66000),SUMIF(BD!$X$5:$X$66000,$O59,BD!$AG$5:$AG$66000)),IF($E$5<500,SUMIF(BD!$U$5:$U$66000,$O59,BD!$AG$5:$AG$66000),SUMIF(BD!$T$5:$T$66000,$O59,BD!$AG$5:$AG$66000))))/1000","v":0},{"$f":"(IF($C$3<>1,IF($E$5<500,SUMIF(BD!$Q$5:$Q$66000,$N59,BD!$AH$5:$AH$66000),SUMIF(BD!$O$5:$O$66000,$N59,BD!$AH$5:$AH$66000)),IF($E$5<500,SUMIF(BD!$L$5:$L$66000,$N59,BD!$AH$5:$AH$66000),SUMIF(BD!$K$5:$K$66000,$N59,BD!$AH$5:$AH$66000))))/1000","v":0},{"$f":"(IF($C$3<>1,IF($E$5<500,SUMIF(BD!$Z$5:$Z$66000,$O59,BD!$AI$5:$AI$66000),SUMIF(BD!$X$5:$X$66000,$O59,BD!$AI$5:$AI$66000)),IF($E$5<500,SUMIF(BD!$U$5:$U$66000,$O59,BD!$AI$5:$AI$66000),SUMIF(BD!$T$5:$T$66000,$O59,BD!$AI$5:$AI$66000))))/1000","v":0},{"$f":"(IF($C$3<>1,IF($E$5<500,SUMIF(BD!$Q$5:$Q$66000,$N59,BD!$AJ$5:$AJ$66000),SUMIF(BD!$O$5:$O$66000,$N59,BD!$AJ$5:$AJ$66000)),IF($E$5<500,SUMIF(BD!$L$5:$L$66000,$N59,BD!$AJ$5:$AJ$66000),SUMIF(BD!$K$5:$K$66000,$N59,BD!$AJ$5:$AJ$66000))))/1000","v":0},{"$f":"(IF($C$3<>1,IF($E$5<500,SUMIF(BD!$Z$5:$Z$66000,$O59,BD!$AK$5:$AK$66000),SUMIF(BD!$X$5:$X$66000,$O59,BD!$AK$5:$AK$66000)),IF($E$5<500,SUMIF(BD!$U$5:$U$66000,$O59,BD!$AK$5:$AK$66000),SUMIF(BD!$T$5:$T$66000,$O59,BD!$AK$5:$AK$66000))))/1000","v":0},null,"0/Total/201605","0/Total/201505"]
["06","JUNHO",{"$f":"(IF($C$3<>1,IF($E$5<500,SUMIF(BD!$Q$5:$Q$66000,$N60,BD!$AB$5:$AB$66000),SUMIF(BD!$O$5:$O$66000,$N60,BD!$AB$5:$AB$66000)),IF($E$5<500,SUMIF(BD!$L$5:$L$66000,$N60,BD!$AB$5:$AB$66000),SUMIF(BD!$K$5:$K$66000,$N60,BD!$AB$5:$AB$66000))))/1000","v":0},{"$f":"(IF($C$3<>1,IF($E$5<500,SUMIF(BD!$Z$5:$Z$66000,$O60,BD!$AC$5:$AC$66000),SUMIF(BD!$X$5:$X$66000,$O60,BD!$AC$5:$AC$66000)),IF($E$5<500,SUMIF(BD!$U$5:$U$66000,$O60,BD!$AC$5:$AC$66000),SUMIF(BD!$T$5:$T$66000,$O60,BD!$AC$5:$AC$66000))))/1000","v":0},{"$f":"(IF($C$3<>1,IF($E$5<500,SUMIF(BD!$Q$5:$Q$66000,$N60,BD!$AD$5:$AD$66000),SUMIF(BD!$O$5:$O$66000,$N60,BD!$AD$5:$AD$66000)),IF($E$5<500,SUMIF(BD!$L$5:$L$66000,$N60,BD!$AD$5:$AD$66000),SUMIF(BD!$K$5:$K$66000,$N60,BD!$AD$5:$AD$66000))))/1000","v":0},{"$f":"(IF($C$3<>1,IF($E$5<500,SUMIF(BD!$Z$5:$Z$66000,$O60,BD!$AE$5:$AE$66000),SUMIF(BD!$X$5:$X$66000,$O60,BD!$AE$5:$AE$66000)),IF($E$5<500,SUMIF(BD!$U$5:$U$66000,$O60,BD!$AE$5:$AE$66000),SUMIF(BD!$T$5:$T$66000,$O60,BD!$AE$5:$AE$66000))))/1000","v":0},{"$f":"(IF($C$3<>1,IF($E$5<500,SUMIF(BD!$Q$5:$Q$66000,$N60,BD!$AF$5:$AF$66000),SUMIF(BD!$O$5:$O$66000,$N60,BD!$AF$5:$AF$66000)),IF($E$5<500,SUMIF(BD!$L$5:$L$66000,$N60,BD!$AF$5:$AF$66000),SUMIF(BD!$K$5:$K$66000,$N60,BD!$AF$5:$AF$66000))))/1000","v":0},{"$f":"(IF($C$3<>1,IF($E$5<500,SUMIF(BD!$Z$5:$Z$66000,$O60,BD!$AG$5:$AG$66000),SUMIF(BD!$X$5:$X$66000,$O60,BD!$AG$5:$AG$66000)),IF($E$5<500,SUMIF(BD!$U$5:$U$66000,$O60,BD!$AG$5:$AG$66000),SUMIF(BD!$T$5:$T$66000,$O60,BD!$AG$5:$AG$66000))))/1000","v":0},{"$f":"(IF($C$3<>1,IF($E$5<500,SUMIF(BD!$Q$5:$Q$66000,$N60,BD!$AH$5:$AH$66000),SUMIF(BD!$O$5:$O$66000,$N60,BD!$AH$5:$AH$66000)),IF($E$5<500,SUMIF(BD!$L$5:$L$66000,$N60,BD!$AH$5:$AH$66000),SUMIF(BD!$K$5:$K$66000,$N60,BD!$AH$5:$AH$66000))))/1000","v":0},{"$f":"(IF($C$3<>1,IF($E$5<500,SUMIF(BD!$Z$5:$Z$66000,$O60,BD!$AI$5:$AI$66000),SUMIF(BD!$X$5:$X$66000,$O60,BD!$AI$5:$AI$66000)),IF($E$5<500,SUMIF(BD!$U$5:$U$66000,$O60,BD!$AI$5:$AI$66000),SUMIF(BD!$T$5:$T$66000,$O60,BD!$AI$5:$AI$66000))))/1000","v":0},{"$f":"(IF($C$3<>1,IF($E$5<500,SUMIF(BD!$Q$5:$Q$66000,$N60,BD!$AJ$5:$AJ$66000),SUMIF(BD!$O$5:$O$66000,$N60,BD!$AJ$5:$AJ$66000)),IF($E$5<500,SUMIF(BD!$L$5:$L$66000,$N60,BD!$AJ$5:$AJ$66000),SUMIF(BD!$K$5:$K$66000,$N60,BD!$AJ$5:$AJ$66000))))/1000","v":0},{"$f":"(IF($C$3<>1,IF($E$5<500,SUMIF(BD!$Z$5:$Z$66000,$O60,BD!$AK$5:$AK$66000),SUMIF(BD!$X$5:$X$66000,$O60,BD!$AK$5:$AK$66000)),IF($E$5<500,SUMIF(BD!$U$5:$U$66000,$O60,BD!$AK$5:$AK$66000),SUMIF(BD!$T$5:$T$66000,$O60,BD!$AK$5:$AK$66000))))/1000","v":0},null,"0/Total/201606","0/Total/201506"]
["07","JULHO",{"$f":"(IF($C$3<>1,IF($E$5<500,SUMIF(BD!$Q$5:$Q$66000,$N61,BD!$AB$5:$AB$66000),SUMIF(BD!$O$5:$O$66000,$N61,BD!$AB$5:$AB$66000)),IF($E$5<500,SUMIF(BD!$L$5:$L$66000,$N61,BD!$AB$5:$AB$66000),SUMIF(BD!$K$5:$K$66000,$N61,BD!$AB$5:$AB$66000))))/1000","v":0},{"$f":"(IF($C$3<>1,IF($E$5<500,SUMIF(BD!$Z$5:$Z$66000,$O61,BD!$AC$5:$AC$66000),SUMIF(BD!$X$5:$X$66000,$O61,BD!$AC$5:$AC$66000)),IF($E$5<500,SUMIF(BD!$U$5:$U$66000,$O61,BD!$AC$5:$AC$66000),SUMIF(BD!$T$5:$T$66000,$O61,BD!$AC$5:$AC$66000))))/1000","v":0},{"$f":"(IF($C$3<>1,IF($E$5<500,SUMIF(BD!$Q$5:$Q$66000,$N61,BD!$AD$5:$AD$66000),SUMIF(BD!$O$5:$O$66000,$N61,BD!$AD$5:$AD$66000)),IF($E$5<500,SUMIF(BD!$L$5:$L$66000,$N61,BD!$AD$5:$AD$66000),SUMIF(BD!$K$5:$K$66000,$N61,BD!$AD$5:$AD$66000))))/1000","v":0},{"$f":"(IF($C$3<>1,IF($E$5<500,SUMIF(BD!$Z$5:$Z$66000,$O61,BD!$AE$5:$AE$66000),SUMIF(BD!$X$5:$X$66000,$O61,BD!$AE$5:$AE$66000)),IF($E$5<500,SUMIF(BD!$U$5:$U$66000,$O61,BD!$AE$5:$AE$66000),SUMIF(BD!$T$5:$T$66000,$O61,BD!$AE$5:$AE$66000))))/1000","v":0},{"$f":"(IF($C$3<>1,IF($E$5<500,SUMIF(BD!$Q$5:$Q$66000,$N61,BD!$AF$5:$AF$66000),SUMIF(BD!$O$5:$O$66000,$N61,BD!$AF$5:$AF$66000)),IF($E$5<500,SUMIF(BD!$L$5:$L$66000,$N61,BD!$AF$5:$AF$66000),SUMIF(BD!$K$5:$K$66000,$N61,BD!$AF$5:$AF$66000))))/1000","v":0},{"$f":"(IF($C$3<>1,IF($E$5<500,SUMIF(BD!$Z$5:$Z$66000,$O61,BD!$AG$5:$AG$66000),SUMIF(BD!$X$5:$X$66000,$O61,BD!$AG$5:$AG$66000)),IF($E$5<500,SUMIF(BD!$U$5:$U$66000,$O61,BD!$AG$5:$AG$66000),SUMIF(BD!$T$5:$T$66000,$O61,BD!$AG$5:$AG$66000))))/1000","v":0},{"$f":"(IF($C$3<>1,IF($E$5<500,SUMIF(BD!$Q$5:$Q$66000,$N61,BD!$AH$5:$AH$66000),SUMIF(BD!$O$5:$O$66000,$N61,BD!$AH$5:$AH$66000)),IF($E$5<500,SUMIF(BD!$L$5:$L$66000,$N61,BD!$AH$5:$AH$66000),SUMIF(BD!$K$5:$K$66000,$N61,BD!$AH$5:$AH$66000))))/1000","v":0},{"$f":"(IF($C$3<>1,IF($E$5<500,SUMIF(BD!$Z$5:$Z$66000,$O61,BD!$AI$5:$AI$66000),SUMIF(BD!$X$5:$X$66000,$O61,BD!$AI$5:$AI$66000)),IF($E$5<500,SUMIF(BD!$U$5:$U$66000,$O61,BD!$AI$5:$AI$66000),SUMIF(BD!$T$5:$T$66000,$O61,BD!$AI$5:$AI$66000))))/1000","v":0},{"$f":"(IF($C$3<>1,IF($E$5<500,SUMIF(BD!$Q$5:$Q$66000,$N61,BD!$AJ$5:$AJ$66000),SUMIF(BD!$O$5:$O$66000,$N61,BD!$AJ$5:$AJ$66000)),IF($E$5<500,SUMIF(BD!$L$5:$L$66000,$N61,BD!$AJ$5:$AJ$66000),SUMIF(BD!$K$5:$K$66000,$N61,BD!$AJ$5:$AJ$66000))))/1000","v":0},{"$f":"(IF($C$3<>1,IF($E$5<500,SUMIF(BD!$Z$5:$Z$66000,$O61,BD!$AK$5:$AK$66000),SUMIF(BD!$X$5:$X$66000,$O61,BD!$AK$5:$AK$66000)),IF($E$5<500,SUMIF(BD!$U$5:$U$66000,$O61,BD!$AK$5:$AK$66000),SUMIF(BD!$T$5:$T$66000,$O61,BD!$AK$5:$AK$66000))))/1000","v":0},null,"0/Total/201607","0/Total/201507"]
["08","AGOSTO",{"$f":"(IF($C$3<>1,IF($E$5<500,SUMIF(BD!$Q$5:$Q$66000,$N62,BD!$AB$5:$AB$66000),SUMIF(BD!$O$5:$O$66000,$N62,BD!$AB$5:$AB$66000)),IF($E$5<500,SUMIF(BD!$L$5:$L$66000,$N62,BD!$AB$5:$AB$66000),SUMIF(BD!$K$5:$K$66000,$N62,BD!$AB$5:$AB$66000))))/1000","v":0},{"$f":"(IF($C$3<>1,IF($E$5<500,SUMIF(BD!$Z$5:$Z$66000,$O62,BD!$AC$5:$AC$66000),SUMIF(BD!$X$5:$X$66000,$O62,BD!$AC$5:$AC$66000)),IF($E$5<500,SUMIF(BD!$U$5:$U$66000,$O62,BD!$AC$5:$AC$66000),SUMIF(BD!$T$5:$T$66000,$O62,BD!$AC$5:$AC$66000))))/1000","v":0},{"$f":"(IF($C$3<>1,IF($E$5<500,SUMIF(BD!$Q$5:$Q$66000,$N62,BD!$AD$5:$AD$66000),SUMIF(BD!$O$5:$O$66000,$N62,BD!$AD$5:$AD$66000)),IF($E$5<500,SUMIF(BD!$L$5:$L$66000,$N62,BD!$AD$5:$AD$66000),SUMIF(BD!$K$5:$K$66000,$N62,BD!$AD$5:$AD$66000))))/1000","v":0},{"$f":"(IF($C$3<>1,IF($E$5<500,SUMIF(BD!$Z$5:$Z$66000,$O62,BD!$AE$5:$AE$66000),SUMIF(BD!$X$5:$X$66000,$O62,BD!$AE$5:$AE$66000)),IF($E$5<500,SUMIF(BD!$U$5:$U$66000,$O62,BD!$AE$5:$AE$66000),SUMIF(BD!$T$5:$T$66000,$O62,BD!$AE$5:$AE$66000))))/1000","v":0},{"$f":"(IF($C$3<>1,IF($E$5<500,SUMIF(BD!$Q$5:$Q$66000,$N62,BD!$AF$5:$AF$66000),SUMIF(BD!$O$5:$O$66000,$N62,BD!$AF$5:$AF$66000)),IF($E$5<500,SUMIF(BD!$L$5:$L$66000,$N62,BD!$AF$5:$AF$66000),SUMIF(BD!$K$5:$K$66000,$N62,BD!$AF$5:$AF$66000))))/1000","v":0},{"$f":"(IF($C$3<>1,IF($E$5<500,SUMIF(BD!$Z$5:$Z$66000,$O62,BD!$AG$5:$AG$66000),SUMIF(BD!$X$5:$X$66000,$O62,BD!$AG$5:$AG$66000)),IF($E$5<500,SUMIF(BD!$U$5:$U$66000,$O62,BD!$AG$5:$AG$66000),SUMIF(BD!$T$5:$T$66000,$O62,BD!$AG$5:$AG$66000))))/1000","v":0},{"$f":"(IF($C$3<>1,IF($E$5<500,SUMIF(BD!$Q$5:$Q$66000,$N62,BD!$AH$5:$AH$66000),SUMIF(BD!$O$5:$O$66000,$N62,BD!$AH$5:$AH$66000)),IF($E$5<500,SUMIF(BD!$L$5:$L$66000,$N62,BD!$AH$5:$AH$66000),SUMIF(BD!$K$5:$K$66000,$N62,BD!$AH$5:$AH$66000))))/1000","v":0},{"$f":"(IF($C$3<>1,IF($E$5<500,SUMIF(BD!$Z$5:$Z$66000,$O62,BD!$AI$5:$AI$66000),SUMIF(BD!$X$5:$X$66000,$O62,BD!$AI$5:$AI$66000)),IF($E$5<500,SUMIF(BD!$U$5:$U$66000,$O62,BD!$AI$5:$AI$66000),SUMIF(BD!$T$5:$T$66000,$O62,BD!$AI$5:$AI$66000))))/1000","v":0},{"$f":"(IF($C$3<>1,IF($E$5<500,SUMIF(BD!$Q$5:$Q$66000,$N62,BD!$AJ$5:$AJ$66000),SUMIF(BD!$O$5:$O$66000,$N62,BD!$AJ$5:$AJ$66000)),IF($E$5<500,SUMIF(BD!$L$5:$L$66000,$N62,BD!$AJ$5:$AJ$66000),SUMIF(BD!$K$5:$K$66000,$N62,BD!$AJ$5:$AJ$66000))))/1000","v":0},{"$f":"(IF($C$3<>1,IF($E$5<500,SUMIF(BD!$Z$5:$Z$66000,$O62,BD!$AK$5:$AK$66000),SUMIF(BD!$X$5:$X$66000,$O62,BD!$AK$5:$AK$66000)),IF($E$5<500,SUMIF(BD!$U$5:$U$66000,$O62,BD!$AK$5:$AK$66000),SUMIF(BD!$T$5:$T$66000,$O62,BD!$AK$5:$AK$66000))))/1000","v":0},null,"0/Total/201608","0/Total/201508"]
["09","SETEMBRO",{"$f":"(IF($C$3<>1,IF($E$5<500,SUMIF(BD!$Q$5:$Q$66000,$N63,BD!$AB$5:$AB$66000),SUMIF(BD!$O$5:$O$66000,$N63,BD!$AB$5:$AB$66000)),IF($E$5<500,SUMIF(BD!$L$5:$L$66000,$N63,BD!$AB$5:$AB$66000),SUMIF(BD!$K$5:$K$66000,$N63,BD!$AB$5:$AB$66000))))/1000","v":0},{"$f":"(IF($C$3<>1,IF($E$5<500,SUMIF(BD!$Z$5:$Z$66000,$O63,BD!$AC$5:$AC$66000),SUMIF(BD!$X$5:$X$66000,$O63,BD!$AC$5:$AC$66000)),IF($E$5<500,SUMIF(BD!$U$5:$U$66000,$O63,BD!$AC$5:$AC$66000),SUMIF(BD!$T$5:$T$66000,$O63,BD!$AC$5:$AC$66000))))/1000","v":0},{"$f":"(IF($C$3<>1,IF($E$5<500,SUMIF(BD!$Q$5:$Q$66000,$N63,BD!$AD$5:$AD$66000),SUMIF(BD!$O$5:$O$66000,$N63,BD!$AD$5:$AD$66000)),IF($E$5<500,SUMIF(BD!$L$5:$L$66000,$N63,BD!$AD$5:$AD$66000),SUMIF(BD!$K$5:$K$66000,$N63,BD!$AD$5:$AD$66000))))/1000","v":0},{"$f":"(IF($C$3<>1,IF($E$5<500,SUMIF(BD!$Z$5:$Z$66000,$O63,BD!$AE$5:$AE$66000),SUMIF(BD!$X$5:$X$66000,$O63,BD!$AE$5:$AE$66000)),IF($E$5<500,SUMIF(BD!$U$5:$U$66000,$O63,BD!$AE$5:$AE$66000),SUMIF(BD!$T$5:$T$66000,$O63,BD!$AE$5:$AE$66000))))/1000","v":0},{"$f":"(IF($C$3<>1,IF($E$5<500,SUMIF(BD!$Q$5:$Q$66000,$N63,BD!$AF$5:$AF$66000),SUMIF(BD!$O$5:$O$66000,$N63,BD!$AF$5:$AF$66000)),IF($E$5<500,SUMIF(BD!$L$5:$L$66000,$N63,BD!$AF$5:$AF$66000),SUMIF(BD!$K$5:$K$66000,$N63,BD!$AF$5:$AF$66000))))/1000","v":0},{"$f":"(IF($C$3<>1,IF($E$5<500,SUMIF(BD!$Z$5:$Z$66000,$O63,BD!$AG$5:$AG$66000),SUMIF(BD!$X$5:$X$66000,$O63,BD!$AG$5:$AG$66000)),IF($E$5<500,SUMIF(BD!$U$5:$U$66000,$O63,BD!$AG$5:$AG$66000),SUMIF(BD!$T$5:$T$66000,$O63,BD!$AG$5:$AG$66000))))/1000","v":0},{"$f":"(IF($C$3<>1,IF($E$5<500,SUMIF(BD!$Q$5:$Q$66000,$N63,BD!$AH$5:$AH$66000),SUMIF(BD!$O$5:$O$66000,$N63,BD!$AH$5:$AH$66000)),IF($E$5<500,SUMIF(BD!$L$5:$L$66000,$N63,BD!$AH$5:$AH$66000),SUMIF(BD!$K$5:$K$66000,$N63,BD!$AH$5:$AH$66000))))/1000","v":0},{"$f":"(IF($C$3<>1,IF($E$5<500,SUMIF(BD!$Z$5:$Z$66000,$O63,BD!$AI$5:$AI$66000),SUMIF(BD!$X$5:$X$66000,$O63,BD!$AI$5:$AI$66000)),IF($E$5<500,SUMIF(BD!$U$5:$U$66000,$O63,BD!$AI$5:$AI$66000),SUMIF(BD!$T$5:$T$66000,$O63,BD!$AI$5:$AI$66000))))/1000","v":0},{"$f":"(IF($C$3<>1,IF($E$5<500,SUMIF(BD!$Q$5:$Q$66000,$N63,BD!$AJ$5:$AJ$66000),SUMIF(BD!$O$5:$O$66000,$N63,BD!$AJ$5:$AJ$66000)),IF($E$5<500,SUMIF(BD!$L$5:$L$66000,$N63,BD!$AJ$5:$AJ$66000),SUMIF(BD!$K$5:$K$66000,$N63,BD!$AJ$5:$AJ$66000))))/1000","v":0},{"$f":"(IF($C$3<>1,IF($E$5<500,SUMIF(BD!$Z$5:$Z$66000,$O63,BD!$AK$5:$AK$66000),SUMIF(BD!$X$5:$X$66000,$O63,BD!$AK$5:$AK$66000)),IF($E$5<500,SUMIF(BD!$U$5:$U$66000,$O63,BD!$AK$5:$AK$66000),SUMIF(BD!$T$5:$T$66000,$O63,BD!$AK$5:$AK$66000))))/1000","v":0},null,"0/Total/201609","0/Total/201509"]
["10","OUTUBRO",{"$f":"(IF($C$3<>1,IF($E$5<500,SUMIF(BD!$Q$5:$Q$66000,$N64,BD!$AB$5:$AB$66000),SUMIF(BD!$O$5:$O$66000,$N64,BD!$AB$5:$AB$66000)),IF($E$5<500,SUMIF(BD!$L$5:$L$66000,$N64,BD!$AB$5:$AB$66000),SUMIF(BD!$K$5:$K$66000,$N64,BD!$AB$5:$AB$66000))))/1000","v":0},{"$f":"(IF($C$3<>1,IF($E$5<500,SUMIF(BD!$Z$5:$Z$66000,$O64,BD!$AC$5:$AC$66000),SUMIF(BD!$X$5:$X$66000,$O64,BD!$AC$5:$AC$66000)),IF($E$5<500,SUMIF(BD!$U$5:$U$66000,$O64,BD!$AC$5:$AC$66000),SUMIF(BD!$T$5:$T$66000,$O64,BD!$AC$5:$AC$66000))))/1000","v":0},{"$f":"(IF($C$3<>1,IF($E$5<500,SUMIF(BD!$Q$5:$Q$66000,$N64,BD!$AD$5:$AD$66000),SUMIF(BD!$O$5:$O$66000,$N64,BD!$AD$5:$AD$66000)),IF($E$5<500,SUMIF(BD!$L$5:$L$66000,$N64,BD!$AD$5:$AD$66000),SUMIF(BD!$K$5:$K$66000,$N64,BD!$AD$5:$AD$66000))))/1000","v":0},{"$f":"(IF($C$3<>1,IF($E$5<500,SUMIF(BD!$Z$5:$Z$66000,$O64,BD!$AE$5:$AE$66000),SUMIF(BD!$X$5:$X$66000,$O64,BD!$AE$5:$AE$66000)),IF($E$5<500,SUMIF(BD!$U$5:$U$66000,$O64,BD!$AE$5:$AE$66000),SUMIF(BD!$T$5:$T$66000,$O64,BD!$AE$5:$AE$66000))))/1000","v":0},{"$f":"(IF($C$3<>1,IF($E$5<500,SUMIF(BD!$Q$5:$Q$66000,$N64,BD!$AF$5:$AF$66000),SUMIF(BD!$O$5:$O$66000,$N64,BD!$AF$5:$AF$66000)),IF($E$5<500,SUMIF(BD!$L$5:$L$66000,$N64,BD!$AF$5:$AF$66000),SUMIF(BD!$K$5:$K$66000,$N64,BD!$AF$5:$AF$66000))))/1000","v":0},{"$f":"(IF($C$3<>1,IF($E$5<500,SUMIF(BD!$Z$5:$Z$66000,$O64,BD!$AG$5:$AG$66000),SUMIF(BD!$X$5:$X$66000,$O64,BD!$AG$5:$AG$66000)),IF($E$5<500,SUMIF(BD!$U$5:$U$66000,$O64,BD!$AG$5:$AG$66000),SUMIF(BD!$T$5:$T$66000,$O64,BD!$AG$5:$AG$66000))))/1000","v":0},{"$f":"(IF($C$3<>1,IF($E$5<500,SUMIF(BD!$Q$5:$Q$66000,$N64,BD!$AH$5:$AH$66000),SUMIF(BD!$O$5:$O$66000,$N64,BD!$AH$5:$AH$66000)),IF($E$5<500,SUMIF(BD!$L$5:$L$66000,$N64,BD!$AH$5:$AH$66000),SUMIF(BD!$K$5:$K$66000,$N64,BD!$AH$5:$AH$66000))))/1000","v":0},{"$f":"(IF($C$3<>1,IF($E$5<500,SUMIF(BD!$Z$5:$Z$66000,$O64,BD!$AI$5:$AI$66000),SUMIF(BD!$X$5:$X$66000,$O64,BD!$AI$5:$AI$66000)),IF($E$5<500,SUMIF(BD!$U$5:$U$66000,$O64,BD!$AI$5:$AI$66000),SUMIF(BD!$T$5:$T$66000,$O64,BD!$AI$5:$AI$66000))))/1000","v":0},{"$f":"(IF($C$3<>1,IF($E$5<500,SUMIF(BD!$Q$5:$Q$66000,$N64,BD!$AJ$5:$AJ$66000),SUMIF(BD!$O$5:$O$66000,$N64,BD!$AJ$5:$AJ$66000)),IF($E$5<500,SUMIF(BD!$L$5:$L$66000,$N64,BD!$AJ$5:$AJ$66000),SUMIF(BD!$K$5:$K$66000,$N64,BD!$AJ$5:$AJ$66000))))/1000","v":0},{"$f":"(IF($C$3<>1,IF($E$5<500,SUMIF(BD!$Z$5:$Z$66000,$O64,BD!$AK$5:$AK$66000),SUMIF(BD!$X$5:$X$66000,$O64,BD!$AK$5:$AK$66000)),IF($E$5<500,SUMIF(BD!$U$5:$U$66000,$O64,BD!$AK$5:$AK$66000),SUMIF(BD!$T$5:$T$66000,$O64,BD!$AK$5:$AK$66000))))/1000","v":0},null,"0/Total/201610","0/Total/201510"]
["11","NOVEMBRO",{"$f":"(IF($C$3<>1,IF($E$5<500,SUMIF(BD!$Q$5:$Q$66000,$N65,BD!$AB$5:$AB$66000),SUMIF(BD!$O$5:$O$66000,$N65,BD!$AB$5:$AB$66000)),IF($E$5<500,SUMIF(BD!$L$5:$L$66000,$N65,BD!$AB$5:$AB$66000),SUMIF(BD!$K$5:$K$66000,$N65,BD!$AB$5:$AB$66000))))/1000","v":0},{"$f":"(IF($C$3<>1,IF($E$5<500,SUMIF(BD!$Z$5:$Z$66000,$O65,BD!$AC$5:$AC$66000),SUMIF(BD!$X$5:$X$66000,$O65,BD!$AC$5:$AC$66000)),IF($E$5<500,SUMIF(BD!$U$5:$U$66000,$O65,BD!$AC$5:$AC$66000),SUMIF(BD!$T$5:$T$66000,$O65,BD!$AC$5:$AC$66000))))/1000","v":0},{"$f":"(IF($C$3<>1,IF($E$5<500,SUMIF(BD!$Q$5:$Q$66000,$N65,BD!$AD$5:$AD$66000),SUMIF(BD!$O$5:$O$66000,$N65,BD!$AD$5:$AD$66000)),IF($E$5<500,SUMIF(BD!$L$5:$L$66000,$N65,BD!$AD$5:$AD$66000),SUMIF(BD!$K$5:$K$66000,$N65,BD!$AD$5:$AD$66000))))/1000","v":0},{"$f":"(IF($C$3<>1,IF($E$5<500,SUMIF(BD!$Z$5:$Z$66000,$O65,BD!$AE$5:$AE$66000),SUMIF(BD!$X$5:$X$66000,$O65,BD!$AE$5:$AE$66000)),IF($E$5<500,SUMIF(BD!$U$5:$U$66000,$O65,BD!$AE$5:$AE$66000),SUMIF(BD!$T$5:$T$66000,$O65,BD!$AE$5:$AE$66000))))/1000","v":0},{"$f":"(IF($C$3<>1,IF($E$5<500,SUMIF(BD!$Q$5:$Q$66000,$N65,BD!$AF$5:$AF$66000),SUMIF(BD!$O$5:$O$66000,$N65,BD!$AF$5:$AF$66000)),IF($E$5<500,SUMIF(BD!$L$5:$L$66000,$N65,BD!$AF$5:$AF$66000),SUMIF(BD!$K$5:$K$66000,$N65,BD!$AF$5:$AF$66000))))/1000","v":0},{"$f":"(IF($C$3<>1,IF($E$5<500,SUMIF(BD!$Z$5:$Z$66000,$O65,BD!$AG$5:$AG$66000),SUMIF(BD!$X$5:$X$66000,$O65,BD!$AG$5:$AG$66000)),IF($E$5<500,SUMIF(BD!$U$5:$U$66000,$O65,BD!$AG$5:$AG$66000),SUMIF(BD!$T$5:$T$66000,$O65,BD!$AG$5:$AG$66000))))/1000","v":0},{"$f":"(IF($C$3<>1,IF($E$5<500,SUMIF(BD!$Q$5:$Q$66000,$N65,BD!$AH$5:$AH$66000),SUMIF(BD!$O$5:$O$66000,$N65,BD!$AH$5:$AH$66000)),IF($E$5<500,SUMIF(BD!$L$5:$L$66000,$N65,BD!$AH$5:$AH$66000),SUMIF(BD!$K$5:$K$66000,$N65,BD!$AH$5:$AH$66000))))/1000","v":0},{"$f":"(IF($C$3<>1,IF($E$5<500,SUMIF(BD!$Z$5:$Z$66000,$O65,BD!$AI$5:$AI$66000),SUMIF(BD!$X$5:$X$66000,$O65,BD!$AI$5:$AI$66000)),IF($E$5<500,SUMIF(BD!$U$5:$U$66000,$O65,BD!$AI$5:$AI$66000),SUMIF(BD!$T$5:$T$66000,$O65,BD!$AI$5:$AI$66000))))/1000","v":0},{"$f":"(IF($C$3<>1,IF($E$5<500,SUMIF(BD!$Q$5:$Q$66000,$N65,BD!$AJ$5:$AJ$66000),SUMIF(BD!$O$5:$O$66000,$N65,BD!$AJ$5:$AJ$66000)),IF($E$5<500,SUMIF(BD!$L$5:$L$66000,$N65,BD!$AJ$5:$AJ$66000),SUMIF(BD!$K$5:$K$66000,$N65,BD!$AJ$5:$AJ$66000))))/1000","v":0},{"$f":"(IF($C$3<>1,IF($E$5<500,SUMIF(BD!$Z$5:$Z$66000,$O65,BD!$AK$5:$AK$66000),SUMIF(BD!$X$5:$X$66000,$O65,BD!$AK$5:$AK$66000)),IF($E$5<500,SUMIF(BD!$U$5:$U$66000,$O65,BD!$AK$5:$AK$66000),SUMIF(BD!$T$5:$T$66000,$O65,BD!$AK$5:$AK$66000))))/1000","v":0},null,"0/Total/201611","0/Total/201511"]
["12","DEZEMBRO",{"$f":"(IF($C$3<>1,IF($E$5<500,SUMIF(BD!$Q$5:$Q$66000,$N66,BD!$AB$5:$AB$66000),SUMIF(BD!$O$5:$O$66000,$N66,BD!$AB$5:$AB$66000)),IF($E$5<500,SUMIF(BD!$L$5:$L$66000,$N66,BD!$AB$5:$AB$66000),SUMIF(BD!$K$5:$K$66000,$N66,BD!$AB$5:$AB$66000))))/1000","v":0},{"$f":"(IF($C$3<>1,IF($E$5<500,SUMIF(BD!$Z$5:$Z$66000,$O66,BD!$AC$5:$AC$66000),SUMIF(BD!$X$5:$X$66000,$O66,BD!$AC$5:$AC$66000)),IF($E$5<500,SUMIF(BD!$U$5:$U$66000,$O66,BD!$AC$5:$AC$66000),SUMIF(BD!$T$5:$T$66000,$O66,BD!$AC$5:$AC$66000))))/1000","v":0},{"$f":"(IF($C$3<>1,IF($E$5<500,SUMIF(BD!$Q$5:$Q$66000,$N66,BD!$AD$5:$AD$66000),SUMIF(BD!$O$5:$O$66000,$N66,BD!$AD$5:$AD$66000)),IF($E$5<500,SUMIF(BD!$L$5:$L$66000,$N66,BD!$AD$5:$AD$66000),SUMIF(BD!$K$5:$K$66000,$N66,BD!$AD$5:$AD$66000))))/1000","v":0},{"$f":"(IF($C$3<>1,IF($E$5<500,SUMIF(BD!$Z$5:$Z$66000,$O66,BD!$AE$5:$AE$66000),SUMIF(BD!$X$5:$X$66000,$O66,BD!$AE$5:$AE$66000)),IF($E$5<500,SUMIF(BD!$U$5:$U$66000,$O66,BD!$AE$5:$AE$66000),SUMIF(BD!$T$5:$T$66000,$O66,BD!$AE$5:$AE$66000))))/1000","v":0},{"$f":"(IF($C$3<>1,IF($E$5<500,SUMIF(BD!$Q$5:$Q$66000,$N66,BD!$AF$5:$AF$66000),SUMIF(BD!$O$5:$O$66000,$N66,BD!$AF$5:$AF$66000)),IF($E$5<500,SUMIF(BD!$L$5:$L$66000,$N66,BD!$AF$5:$AF$66000),SUMIF(BD!$K$5:$K$66000,$N66,BD!$AF$5:$AF$66000))))/1000","v":0},{"$f":"(IF($C$3<>1,IF($E$5<500,SUMIF(BD!$Z$5:$Z$66000,$O66,BD!$AG$5:$AG$66000),SUMIF(BD!$X$5:$X$66000,$O66,BD!$AG$5:$AG$66000)),IF($E$5<500,SUMIF(BD!$U$5:$U$66000,$O66,BD!$AG$5:$AG$66000),SUMIF(BD!$T$5:$T$66000,$O66,BD!$AG$5:$AG$66000))))/1000","v":0},{"$f":"(IF($C$3<>1,IF($E$5<500,SUMIF(BD!$Q$5:$Q$66000,$N66,BD!$AH$5:$AH$66000),SUMIF(BD!$O$5:$O$66000,$N66,BD!$AH$5:$AH$66000)),IF($E$5<500,SUMIF(BD!$L$5:$L$66000,$N66,BD!$AH$5:$AH$66000),SUMIF(BD!$K$5:$K$66000,$N66,BD!$AH$5:$AH$66000))))/1000","v":0},{"$f":"(IF($C$3<>1,IF($E$5<500,SUMIF(BD!$Z$5:$Z$66000,$O66,BD!$AI$5:$AI$66000),SUMIF(BD!$X$5:$X$66000,$O66,BD!$AI$5:$AI$66000)),IF($E$5<500,SUMIF(BD!$U$5:$U$66000,$O66,BD!$AI$5:$AI$66000),SUMIF(BD!$T$5:$T$66000,$O66,BD!$AI$5:$AI$66000))))/1000","v":0},{"$f":"(IF($C$3<>1,IF($E$5<500,SUMIF(BD!$Q$5:$Q$66000,$N66,BD!$AJ$5:$AJ$66000),SUMIF(BD!$O$5:$O$66000,$N66,BD!$AJ$5:$AJ$66000)),IF($E$5<500,SUMIF(BD!$L$5:$L$66000,$N66,BD!$AJ$5:$AJ$66000),SUMIF(BD!$K$5:$K$66000,$N66,BD!$AJ$5:$AJ$66000))))/1000","v":0},{"$f":"(IF($C$3<>1,IF($E$5<500,SUMIF(BD!$Z$5:$Z$66000,$O66,BD!$AK$5:$AK$66000),SUMIF(BD!$X$5:$X$66000,$O66,BD!$AK$5:$AK$66000)),IF($E$5<500,SUMIF(BD!$U$5:$U$66000,$O66,BD!$AK$5:$AK$66000),SUMIF(BD!$T$5:$T$66000,$O66,BD!$AK$5:$AK$66000))))/1000","v":0},null,"0/Total/201612","0/Total/201512"]
[null,"TOTAL",{"$f":"SUM(C55:C66)","v":0},0,0,0,0,0,0,0,0,0]
[null,null,"TODOS OS AGRUPAMENTOS / TODOS OS RAMOS / POR GRUPO SEGURADOR OU POR SEGURADORA"]
[null,null,"PRÊMIO EMTIDO",null,"PRÊMIO RETIDO",null,"PRÊMIO GANHO",null,"SINISTRO RETIDO",null,"DESP. COMERCIAIS",null,null,"LOCALIZADORES"]
[null,"PERÍODO",{"$f":"C54","v":"2016"},{"$f":"D54","v":"2015"},{"$f":"C70","v":"2016"},"2015","2016","2015","2016","2015","2016","2015",null,{"$f":"K70","v":"2016"},{"$f":"L70","v":"2015"}]
["01","JANEIRO",{"$f":"IF(AND($B$3=1,$C$3=1),IF($E$5<500,SUMIF(BD!$P$5:$P$66000,$N71,BD!$AB$5:$AB$66000),SUMIF(BD!$N$5:$N$66000,$N71,BD!$AB$5:$AB$66000)))/1000","v":0},{"$f":"IF(AND($B$3=1,$C$3=1),IF($E$5<500,SUMIF(BD!$Y$5:$Y$66000,$O71,BD!$AC$5:$AC$66000),SUMIF(BD!$W$5:$W$66000,$O71,BD!$AC$5:$AC$66000)))/1000","v":0},{"$f":"IF(AND($B$3=1,$C$3=1),IF($E$5<500,SUMIF(BD!$P$5:$P$66000,$N71,BD!$AD$5:$AD$66000),SUMIF(BD!$N$5:$N$66000,$N71,BD!$AD$5:$AD$66000)))/1000","v":0},{"$f":"IF(AND($B$3=1,$C$3=1),IF($E$5<500,SUMIF(BD!$Y$5:$Y$66000,$O71,BD!$AE$5:$AE$66000),SUMIF(BD!$W$5:$W$66000,$O71,BD!$AE$5:$AE$66000)))/1000","v":0},{"$f":"IF(AND($B$3=1,$C$3=1),IF($E$5<500,SUMIF(BD!$P$5:$P$66000,$N71,BD!$AF$5:$AF$66000),SUMIF(BD!$N$5:$N$66000,$N71,BD!$AF$5:$AF$66000)))/1000","v":0},{"$f":"IF(AND($B$3=1,$C$3=1),IF($E$5<500,SUMIF(BD!$Y$5:$Y$66000,$O71,BD!$AG$5:$AG$66000),SUMIF(BD!$W$5:$W$66000,$O71,BD!$AG$5:$AG$66000)))/1000","v":0},{"$f":"IF(AND($B$3=1,$C$3=1),IF($E$5<500,SUMIF(BD!$P$5:$P$66000,$N71,BD!$AH$5:$AH$66000),SUMIF(BD!$N$5:$N$66000,$N71,BD!$AH$5:$AH$66000)))/1000","v":0},{"$f":"IF(AND($B$3=1,$C$3=1),IF($E$5<500,SUMIF(BD!$Y$5:$Y$66000,$O71,BD!$AI$5:$AI$66000),SUMIF(BD!$W$5:$W$66000,$O71,BD!$AI$5:$AI$66000)))/1000","v":0},{"$f":"IF(AND($B$3=1,$C$3=1),IF($E$5<500,SUMIF(BD!$P$5:$P$66000,$N71,BD!$AJ$5:$AJ$66000),SUMIF(BD!$N$5:$N$66000,$N71,BD!$AJ$5:$AJ$66000)))/1000","v":0},{"$f":"IF(AND($B$3=1,$C$3=1),IF($E$5<500,SUMIF(BD!$Y$5:$Y$66000,$O71,BD!$AK$5:$AK$66000),SUMIF(BD!$W$5:$W$66000,$O71,BD!$AK$5:$AK$66000)))/1000","v":0},null,{"$f":"VALUE($E$5)&\"/\"&$C$7&$A71","v":"0/201601"},{"$f":"VALUE($E$5)&\"/\"&$D$7&$A71","v":"0/201501"}]
["02","FEVEREIRO",{"$f":"IF(AND($B$3=1,$C$3=1),IF($E$5<500,SUMIF(BD!$P$5:$P$66000,$N72,BD!$AB$5:$AB$66000),SUMIF(BD!$N$5:$N$66000,$N72,BD!$AB$5:$AB$66000)))/1000","v":0},{"$f":"IF(AND($B$3=1,$C$3=1),IF($E$5<500,SUMIF(BD!$Y$5:$Y$66000,$O72,BD!$AC$5:$AC$66000),SUMIF(BD!$W$5:$W$66000,$O72,BD!$AC$5:$AC$66000)))/1000","v":0},{"$f":"IF(AND($B$3=1,$C$3=1),IF($E$5<500,SUMIF(BD!$P$5:$P$66000,$N72,BD!$AD$5:$AD$66000),SUMIF(BD!$N$5:$N$66000,$N72,BD!$AD$5:$AD$66000)))/1000","v":0},{"$f":"IF(AND($B$3=1,$C$3=1),IF($E$5<500,SUMIF(BD!$Y$5:$Y$66000,$O72,BD!$AE$5:$AE$66000),SUMIF(BD!$W$5:$W$66000,$O72,BD!$AE$5:$AE$66000)))/1000","v":0},{"$f":"IF(AND($B$3=1,$C$3=1),IF($E$5<500,SUMIF(BD!$P$5:$P$66000,$N72,BD!$AF$5:$AF$66000),SUMIF(BD!$N$5:$N$66000,$N72,BD!$AF$5:$AF$66000)))/1000","v":0},{"$f":"IF(AND($B$3=1,$C$3=1),IF($E$5<500,SUMIF(BD!$Y$5:$Y$66000,$O72,BD!$AG$5:$AG$66000),SUMIF(BD!$W$5:$W$66000,$O72,BD!$AG$5:$AG$66000)))/1000","v":0},{"$f":"IF(AND($B$3=1,$C$3=1),IF($E$5<500,SUMIF(BD!$P$5:$P$66000,$N72,BD!$AH$5:$AH$66000),SUMIF(BD!$N$5:$N$66000,$N72,BD!$AH$5:$AH$66000)))/1000","v":0},{"$f":"IF(AND($B$3=1,$C$3=1),IF($E$5<500,SUMIF(BD!$Y$5:$Y$66000,$O72,BD!$AI$5:$AI$66000),SUMIF(BD!$W$5:$W$66000,$O72,BD!$AI$5:$AI$66000)))/1000","v":0},{"$f":"IF(AND($B$3=1,$C$3=1),IF($E$5<500,SUMIF(BD!$P$5:$P$66000,$N72,BD!$AJ$5:$AJ$66000),SUMIF(BD!$N$5:$N$66000,$N72,BD!$AJ$5:$AJ$66000)))/1000","v":0},{"$f":"IF(AND($B$3=1,$C$3=1),IF($E$5<500,SUMIF(BD!$Y$5:$Y$66000,$O72,BD!$AK$5:$AK$66000),SUMIF(BD!$W$5:$W$66000,$O72,BD!$AK$5:$AK$66000)))/1000","v":0},null,{"$f":"VALUE($E$5)&\"/\"&$C$7&$A72","v":"0/201602"},{"$f":"VALUE($E$5)&\"/\"&$D$7&$A72","v":"0/201502"}]
["03","MARÇO",{"$f":"IF(AND($B$3=1,$C$3=1),IF($E$5<500,SUMIF(BD!$P$5:$P$66000,$N73,BD!$AB$5:$AB$66000),SUMIF(BD!$N$5:$N$66000,$N73,BD!$AB$5:$AB$66000)))/1000","v":0},{"$f":"IF(AND($B$3=1,$C$3=1),IF($E$5<500,SUMIF(BD!$Y$5:$Y$66000,$O73,BD!$AC$5:$AC$66000),SUMIF(BD!$W$5:$W$66000,$O73,BD!$AC$5:$AC$66000)))/1000","v":0},{"$f":"IF(AND($B$3=1,$C$3=1),IF($E$5<500,SUMIF(BD!$P$5:$P$66000,$N73,BD!$AD$5:$AD$66000),SUMIF(BD!$N$5:$N$66000,$N73,BD!$AD$5:$AD$66000)))/1000","v":0},{"$f":"IF(AND($B$3=1,$C$3=1),IF($E$5<500,SUMIF(BD!$Y$5:$Y$66000,$O73,BD!$AE$5:$AE$66000),SUMIF(BD!$W$5:$W$66000,$O73,BD!$AE$5:$AE$66000)))/1000","v":0},{"$f":"IF(AND($B$3=1,$C$3=1),IF($E$5<500,SUMIF(BD!$P$5:$P$66000,$N73,BD!$AF$5:$AF$66000),SUMIF(BD!$N$5:$N$66000,$N73,BD!$AF$5:$AF$66000)))/1000","v":0},{"$f":"IF(AND($B$3=1,$C$3=1),IF($E$5<500,SUMIF(BD!$Y$5:$Y$66000,$O73,BD!$AG$5:$AG$66000),SUMIF(BD!$W$5:$W$66000,$O73,BD!$AG$5:$AG$66000)))/1000","v":0},{"$f":"IF(AND($B$3=1,$C$3=1),IF($E$5<500,SUMIF(BD!$P$5:$P$66000,$N73,BD!$AH$5:$AH$66000),SUMIF(BD!$N$5:$N$66000,$N73,BD!$AH$5:$AH$66000)))/1000","v":0},{"$f":"IF(AND($B$3=1,$C$3=1),IF($E$5<500,SUMIF(BD!$Y$5:$Y$66000,$O73,BD!$AI$5:$AI$66000),SUMIF(BD!$W$5:$W$66000,$O73,BD!$AI$5:$AI$66000)))/1000","v":0},{"$f":"IF(AND($B$3=1,$C$3=1),IF($E$5<500,SUMIF(BD!$P$5:$P$66000,$N73,BD!$AJ$5:$AJ$66000),SUMIF(BD!$N$5:$N$66000,$N73,BD!$AJ$5:$AJ$66000)))/1000","v":0},{"$f":"IF(AND($B$3=1,$C$3=1),IF($E$5<500,SUMIF(BD!$Y$5:$Y$66000,$O73,BD!$AK$5:$AK$66000),SUMIF(BD!$W$5:$W$66000,$O73,BD!$AK$5:$AK$66000)))/1000","v":0},null,"0/201603","0/201503"]
["04","ABRIL",{"$f":"IF(AND($B$3=1,$C$3=1),IF($E$5<500,SUMIF(BD!$P$5:$P$66000,$N74,BD!$AB$5:$AB$66000),SUMIF(BD!$N$5:$N$66000,$N74,BD!$AB$5:$AB$66000)))/1000","v":0},{"$f":"IF(AND($B$3=1,$C$3=1),IF($E$5<500,SUMIF(BD!$Y$5:$Y$66000,$O74,BD!$AC$5:$AC$66000),SUMIF(BD!$W$5:$W$66000,$O74,BD!$AC$5:$AC$66000)))/1000","v":0},{"$f":"IF(AND($B$3=1,$C$3=1),IF($E$5<500,SUMIF(BD!$P$5:$P$66000,$N74,BD!$AD$5:$AD$66000),SUMIF(BD!$N$5:$N$66000,$N74,BD!$AD$5:$AD$66000)))/1000","v":0},{"$f":"IF(AND($B$3=1,$C$3=1),IF($E$5<500,SUMIF(BD!$Y$5:$Y$66000,$O74,BD!$AE$5:$AE$66000),SUMIF(BD!$W$5:$W$66000,$O74,BD!$AE$5:$AE$66000)))/1000","v":0},{"$f":"IF(AND($B$3=1,$C$3=1),IF($E$5<500,SUMIF(BD!$P$5:$P$66000,$N74,BD!$AF$5:$AF$66000),SUMIF(BD!$N$5:$N$66000,$N74,BD!$AF$5:$AF$66000)))/1000","v":0},{"$f":"IF(AND($B$3=1,$C$3=1),IF($E$5<500,SUMIF(BD!$Y$5:$Y$66000,$O74,BD!$AG$5:$AG$66000),SUMIF(BD!$W$5:$W$66000,$O74,BD!$AG$5:$AG$66000)))/1000","v":0},{"$f":"IF(AND($B$3=1,$C$3=1),IF($E$5<500,SUMIF(BD!$P$5:$P$66000,$N74,BD!$AH$5:$AH$66000),SUMIF(BD!$N$5:$N$66000,$N74,BD!$AH$5:$AH$66000)))/1000","v":0},{"$f":"IF(AND($B$3=1,$C$3=1),IF($E$5<500,SUMIF(BD!$Y$5:$Y$66000,$O74,BD!$AI$5:$AI$66000),SUMIF(BD!$W$5:$W$66000,$O74,BD!$AI$5:$AI$66000)))/1000","v":0},{"$f":"IF(AND($B$3=1,$C$3=1),IF($E$5<500,SUMIF(BD!$P$5:$P$66000,$N74,BD!$AJ$5:$AJ$66000),SUMIF(BD!$N$5:$N$66000,$N74,BD!$AJ$5:$AJ$66000)))/1000","v":0},{"$f":"IF(AND($B$3=1,$C$3=1),IF($E$5<500,SUMIF(BD!$Y$5:$Y$66000,$O74,BD!$AK$5:$AK$66000),SUMIF(BD!$W$5:$W$66000,$O74,BD!$AK$5:$AK$66000)))/1000","v":0},null,"0/201604","0/201504"]
["05","MAIO",{"$f":"IF(AND($B$3=1,$C$3=1),IF($E$5<500,SUMIF(BD!$P$5:$P$66000,$N75,BD!$AB$5:$AB$66000),SUMIF(BD!$N$5:$N$66000,$N75,BD!$AB$5:$AB$66000)))/1000","v":0},{"$f":"IF(AND($B$3=1,$C$3=1),IF($E$5<500,SUMIF(BD!$Y$5:$Y$66000,$O75,BD!$AC$5:$AC$66000),SUMIF(BD!$W$5:$W$66000,$O75,BD!$AC$5:$AC$66000)))/1000","v":0},{"$f":"IF(AND($B$3=1,$C$3=1),IF($E$5<500,SUMIF(BD!$P$5:$P$66000,$N75,BD!$AD$5:$AD$66000),SUMIF(BD!$N$5:$N$66000,$N75,BD!$AD$5:$AD$66000)))/1000","v":0},{"$f":"IF(AND($B$3=1,$C$3=1),IF($E$5<500,SUMIF(BD!$Y$5:$Y$66000,$O75,BD!$AE$5:$AE$66000),SUMIF(BD!$W$5:$W$66000,$O75,BD!$AE$5:$AE$66000)))/1000","v":0},{"$f":"IF(AND($B$3=1,$C$3=1),IF($E$5<500,SUMIF(BD!$P$5:$P$66000,$N75,BD!$AF$5:$AF$66000),SUMIF(BD!$N$5:$N$66000,$N75,BD!$AF$5:$AF$66000)))/1000","v":0},{"$f":"IF(AND($B$3=1,$C$3=1),IF($E$5<500,SUMIF(BD!$Y$5:$Y$66000,$O75,BD!$AG$5:$AG$66000),SUMIF(BD!$W$5:$W$66000,$O75,BD!$AG$5:$AG$66000)))/1000","v":0},{"$f":"IF(AND($B$3=1,$C$3=1),IF($E$5<500,SUMIF(BD!$P$5:$P$66000,$N75,BD!$AH$5:$AH$66000),SUMIF(BD!$N$5:$N$66000,$N75,BD!$AH$5:$AH$66000)))/1000","v":0},{"$f":"IF(AND($B$3=1,$C$3=1),IF($E$5<500,SUMIF(BD!$Y$5:$Y$66000,$O75,BD!$AI$5:$AI$66000),SUMIF(BD!$W$5:$W$66000,$O75,BD!$AI$5:$AI$66000)))/1000","v":0},{"$f":"IF(AND($B$3=1,$C$3=1),IF($E$5<500,SUMIF(BD!$P$5:$P$66000,$N75,BD!$AJ$5:$AJ$66000),SUMIF(BD!$N$5:$N$66000,$N75,BD!$AJ$5:$AJ$66000)))/1000","v":0},{"$f":"IF(AND($B$3=1,$C$3=1),IF($E$5<500,SUMIF(BD!$Y$5:$Y$66000,$O75,BD!$AK$5:$AK$66000),SUMIF(BD!$W$5:$W$66000,$O75,BD!$AK$5:$AK$66000)))/1000","v":0},null,"0/201605","0/201505"]
["06","JUNHO",{"$f":"IF(AND($B$3=1,$C$3=1),IF($E$5<500,SUMIF(BD!$P$5:$P$66000,$N76,BD!$AB$5:$AB$66000),SUMIF(BD!$N$5:$N$66000,$N76,BD!$AB$5:$AB$66000)))/1000","v":0},{"$f":"IF(AND($B$3=1,$C$3=1),IF($E$5<500,SUMIF(BD!$Y$5:$Y$66000,$O76,BD!$AC$5:$AC$66000),SUMIF(BD!$W$5:$W$66000,$O76,BD!$AC$5:$AC$66000)))/1000","v":0},{"$f":"IF(AND($B$3=1,$C$3=1),IF($E$5<500,SUMIF(BD!$P$5:$P$66000,$N76,BD!$AD$5:$AD$66000),SUMIF(BD!$N$5:$N$66000,$N76,BD!$AD$5:$AD$66000)))/1000","v":0},{"$f":"IF(AND($B$3=1,$C$3=1),IF($E$5<500,SUMIF(BD!$Y$5:$Y$66000,$O76,BD!$AE$5:$AE$66000),SUMIF(BD!$W$5:$W$66000,$O76,BD!$AE$5:$AE$66000)))/1000","v":0},{"$f":"IF(AND($B$3=1,$C$3=1),IF($E$5<500,SUMIF(BD!$P$5:$P$66000,$N76,BD!$AF$5:$AF$66000),SUMIF(BD!$N$5:$N$66000,$N76,BD!$AF$5:$AF$66000)))/1000","v":0},{"$f":"IF(AND($B$3=1,$C$3=1),IF($E$5<500,SUMIF(BD!$Y$5:$Y$66000,$O76,BD!$AG$5:$AG$66000),SUMIF(BD!$W$5:$W$66000,$O76,BD!$AG$5:$AG$66000)))/1000","v":0},{"$f":"IF(AND($B$3=1,$C$3=1),IF($E$5<500,SUMIF(BD!$P$5:$P$66000,$N76,BD!$AH$5:$AH$66000),SUMIF(BD!$N$5:$N$66000,$N76,BD!$AH$5:$AH$66000)))/1000","v":0},{"$f":"IF(AND($B$3=1,$C$3=1),IF($E$5<500,SUMIF(BD!$Y$5:$Y$66000,$O76,BD!$AI$5:$AI$66000),SUMIF(BD!$W$5:$W$66000,$O76,BD!$AI$5:$AI$66000)))/1000","v":0},{"$f":"IF(AND($B$3=1,$C$3=1),IF($E$5<500,SUMIF(BD!$P$5:$P$66000,$N76,BD!$AJ$5:$AJ$66000),SUMIF(BD!$N$5:$N$66000,$N76,BD!$AJ$5:$AJ$66000)))/1000","v":0},{"$f":"IF(AND($B$3=1,$C$3=1),IF($E$5<500,SUMIF(BD!$Y$5:$Y$66000,$O76,BD!$AK$5:$AK$66000),SUMIF(BD!$W$5:$W$66000,$O76,BD!$AK$5:$AK$66000)))/1000","v":0},null,"0/201606","0/201506"]
["07","JULHO",{"$f":"IF(AND($B$3=1,$C$3=1),IF($E$5<500,SUMIF(BD!$P$5:$P$66000,$N77,BD!$AB$5:$AB$66000),SUMIF(BD!$N$5:$N$66000,$N77,BD!$AB$5:$AB$66000)))/1000","v":0},{"$f":"IF(AND($B$3=1,$C$3=1),IF($E$5<500,SUMIF(BD!$Y$5:$Y$66000,$O77,BD!$AC$5:$AC$66000),SUMIF(BD!$W$5:$W$66000,$O77,BD!$AC$5:$AC$66000)))/1000","v":0},{"$f":"IF(AND($B$3=1,$C$3=1),IF($E$5<500,SUMIF(BD!$P$5:$P$66000,$N77,BD!$AD$5:$AD$66000),SUMIF(BD!$N$5:$N$66000,$N77,BD!$AD$5:$AD$66000)))/1000","v":0},{"$f":"IF(AND($B$3=1,$C$3=1),IF($E$5<500,SUMIF(BD!$Y$5:$Y$66000,$O77,BD!$AE$5:$AE$66000),SUMIF(BD!$W$5:$W$66000,$O77,BD!$AE$5:$AE$66000)))/1000","v":0},{"$f":"IF(AND($B$3=1,$C$3=1),IF($E$5<500,SUMIF(BD!$P$5:$P$66000,$N77,BD!$AF$5:$AF$66000),SUMIF(BD!$N$5:$N$66000,$N77,BD!$AF$5:$AF$66000)))/1000","v":0},{"$f":"IF(AND($B$3=1,$C$3=1),IF($E$5<500,SUMIF(BD!$Y$5:$Y$66000,$O77,BD!$AG$5:$AG$66000),SUMIF(BD!$W$5:$W$66000,$O77,BD!$AG$5:$AG$66000)))/1000","v":0},{"$f":"IF(AND($B$3=1,$C$3=1),IF($E$5<500,SUMIF(BD!$P$5:$P$66000,$N77,BD!$AH$5:$AH$66000),SUMIF(BD!$N$5:$N$66000,$N77,BD!$AH$5:$AH$66000)))/1000","v":0},{"$f":"IF(AND($B$3=1,$C$3=1),IF($E$5<500,SUMIF(BD!$Y$5:$Y$66000,$O77,BD!$AI$5:$AI$66000),SUMIF(BD!$W$5:$W$66000,$O77,BD!$AI$5:$AI$66000)))/1000","v":0},{"$f":"IF(AND($B$3=1,$C$3=1),IF($E$5<500,SUMIF(BD!$P$5:$P$66000,$N77,BD!$AJ$5:$AJ$66000),SUMIF(BD!$N$5:$N$66000,$N77,BD!$AJ$5:$AJ$66000)))/1000","v":0},{"$f":"IF(AND($B$3=1,$C$3=1),IF($E$5<500,SUMIF(BD!$Y$5:$Y$66000,$O77,BD!$AK$5:$AK$66000),SUMIF(BD!$W$5:$W$66000,$O77,BD!$AK$5:$AK$66000)))/1000","v":0},null,"0/201607","0/201507"]
["08","AGOSTO",{"$f":"IF(AND($B$3=1,$C$3=1),IF($E$5<500,SUMIF(BD!$P$5:$P$66000,$N78,BD!$AB$5:$AB$66000),SUMIF(BD!$N$5:$N$66000,$N78,BD!$AB$5:$AB$66000)))/1000","v":0},{"$f":"IF(AND($B$3=1,$C$3=1),IF($E$5<500,SUMIF(BD!$Y$5:$Y$66000,$O78,BD!$AC$5:$AC$66000),SUMIF(BD!$W$5:$W$66000,$O78,BD!$AC$5:$AC$66000)))/1000","v":0},{"$f":"IF(AND($B$3=1,$C$3=1),IF($E$5<500,SUMIF(BD!$P$5:$P$66000,$N78,BD!$AD$5:$AD$66000),SUMIF(BD!$N$5:$N$66000,$N78,BD!$AD$5:$AD$66000)))/1000","v":0},{"$f":"IF(AND($B$3=1,$C$3=1),IF($E$5<500,SUMIF(BD!$Y$5:$Y$66000,$O78,BD!$AE$5:$AE$66000),SUMIF(BD!$W$5:$W$66000,$O78,BD!$AE$5:$AE$66000)))/1000","v":0},{"$f":"IF(AND($B$3=1,$C$3=1),IF($E$5<500,SUMIF(BD!$P$5:$P$66000,$N78,BD!$AF$5:$AF$66000),SUMIF(BD!$N$5:$N$66000,$N78,BD!$AF$5:$AF$66000)))/1000","v":0},{"$f":"IF(AND($B$3=1,$C$3=1),IF($E$5<500,SUMIF(BD!$Y$5:$Y$66000,$O78,BD!$AG$5:$AG$66000),SUMIF(BD!$W$5:$W$66000,$O78,BD!$AG$5:$AG$66000)))/1000","v":0},{"$f":"IF(AND($B$3=1,$C$3=1),IF($E$5<500,SUMIF(BD!$P$5:$P$66000,$N78,BD!$AH$5:$AH$66000),SUMIF(BD!$N$5:$N$66000,$N78,BD!$AH$5:$AH$66000)))/1000","v":0},{"$f":"IF(AND($B$3=1,$C$3=1),IF($E$5<500,SUMIF(BD!$Y$5:$Y$66000,$O78,BD!$AI$5:$AI$66000),SUMIF(BD!$W$5:$W$66000,$O78,BD!$AI$5:$AI$66000)))/1000","v":0},{"$f":"IF(AND($B$3=1,$C$3=1),IF($E$5<500,SUMIF(BD!$P$5:$P$66000,$N78,BD!$AJ$5:$AJ$66000),SUMIF(BD!$N$5:$N$66000,$N78,BD!$AJ$5:$AJ$66000)))/1000","v":0},{"$f":"IF(AND($B$3=1,$C$3=1),IF($E$5<500,SUMIF(BD!$Y$5:$Y$66000,$O78,BD!$AK$5:$AK$66000),SUMIF(BD!$W$5:$W$66000,$O78,BD!$AK$5:$AK$66000)))/1000","v":0},null,"0/201608","0/201508"]
["09","SETEMBRO",{"$f":"IF(AND($B$3=1,$C$3=1),IF($E$5<500,SUMIF(BD!$P$5:$P$66000,$N79,BD!$AB$5:$AB$66000),SUMIF(BD!$N$5:$N$66000,$N79,BD!$AB$5:$AB$66000)))/1000","v":0},{"$f":"IF(AND($B$3=1,$C$3=1),IF($E$5<500,SUMIF(BD!$Y$5:$Y$66000,$O79,BD!$AC$5:$AC$66000),SUMIF(BD!$W$5:$W$66000,$O79,BD!$AC$5:$AC$66000)))/1000","v":0},{"$f":"IF(AND($B$3=1,$C$3=1),IF($E$5<500,SUMIF(BD!$P$5:$P$66000,$N79,BD!$AD$5:$AD$66000),SUMIF(BD!$N$5:$N$66000,$N79,BD!$AD$5:$AD$66000)))/1000","v":0},{"$f":"IF(AND($B$3=1,$C$3=1),IF($E$5<500,SUMIF(BD!$Y$5:$Y$66000,$O79,BD!$AE$5:$AE$66000),SUMIF(BD!$W$5:$W$66000,$O79,BD!$AE$5:$AE$66000)))/1000","v":0},{"$f":"IF(AND($B$3=1,$C$3=1),IF($E$5<500,SUMIF(BD!$P$5:$P$66000,$N79,BD!$AF$5:$AF$66000),SUMIF(BD!$N$5:$N$66000,$N79,BD!$AF$5:$AF$66000)))/1000","v":0},{"$f":"IF(AND($B$3=1,$C$3=1),IF($E$5<500,SUMIF(BD!$Y$5:$Y$66000,$O79,BD!$AG$5:$AG$66000),SUMIF(BD!$W$5:$W$66000,$O79,BD!$AG$5:$AG$66000)))/1000","v":0},{"$f":"IF(AND($B$3=1,$C$3=1),IF($E$5<500,SUMIF(BD!$P$5:$P$66000,$N79,BD!$AH$5:$AH$66000),SUMIF(BD!$N$5:$N$66000,$N79,BD!$AH$5:$AH$66000)))/1000","v":0},{"$f":"IF(AND($B$3=1,$C$3=1),IF($E$5<500,SUMIF(BD!$Y$5:$Y$66000,$O79,BD!$AI$5:$AI$66000),SUMIF(BD!$W$5:$W$66000,$O79,BD!$AI$5:$AI$66000)))/1000","v":0},{"$f":"IF(AND($B$3=1,$C$3=1),IF($E$5<500,SUMIF(BD!$P$5:$P$66000,$N79,BD!$AJ$5:$AJ$66000),SUMIF(BD!$N$5:$N$66000,$N79,BD!$AJ$5:$AJ$66000)))/1000","v":0},{"$f":"IF(AND($B$3=1,$C$3=1),IF($E$5<500,SUMIF(BD!$Y$5:$Y$66000,$O79,BD!$AK$5:$AK$66000),SUMIF(BD!$W$5:$W$66000,$O79,BD!$AK$5:$AK$66000)))/1000","v":0},null,"0/201609","0/201509"]
["10","OUTUBRO",{"$f":"IF(AND($B$3=1,$C$3=1),IF($E$5<500,SUMIF(BD!$P$5:$P$66000,$N80,BD!$AB$5:$AB$66000),SUMIF(BD!$N$5:$N$66000,$N80,BD!$AB$5:$AB$66000)))/1000","v":0},{"$f":"IF(AND($B$3=1,$C$3=1),IF($E$5<500,SUMIF(BD!$Y$5:$Y$66000,$O80,BD!$AC$5:$AC$66000),SUMIF(BD!$W$5:$W$66000,$O80,BD!$AC$5:$AC$66000)))/1000","v":0},{"$f":"IF(AND($B$3=1,$C$3=1),IF($E$5<500,SUMIF(BD!$P$5:$P$66000,$N80,BD!$AD$5:$AD$66000),SUMIF(BD!$N$5:$N$66000,$N80,BD!$AD$5:$AD$66000)))/1000","v":0},{"$f":"IF(AND($B$3=1,$C$3=1),IF($E$5<500,SUMIF(BD!$Y$5:$Y$66000,$O80,BD!$AE$5:$AE$66000),SUMIF(BD!$W$5:$W$66000,$O80,BD!$AE$5:$AE$66000)))/1000","v":0},{"$f":"IF(AND($B$3=1,$C$3=1),IF($E$5<500,SUMIF(BD!$P$5:$P$66000,$N80,BD!$AF$5:$AF$66000),SUMIF(BD!$N$5:$N$66000,$N80,BD!$AF$5:$AF$66000)))/1000","v":0},{"$f":"IF(AND($B$3=1,$C$3=1),IF($E$5<500,SUMIF(BD!$Y$5:$Y$66000,$O80,BD!$AG$5:$AG$66000),SUMIF(BD!$W$5:$W$66000,$O80,BD!$AG$5:$AG$66000)))/1000","v":0},{"$f":"IF(AND($B$3=1,$C$3=1),IF($E$5<500,SUMIF(BD!$P$5:$P$66000,$N80,BD!$AH$5:$AH$66000),SUMIF(BD!$N$5:$N$66000,$N80,BD!$AH$5:$AH$66000)))/1000","v":0},{"$f":"IF(AND($B$3=1,$C$3=1),IF($E$5<500,SUMIF(BD!$Y$5:$Y$66000,$O80,BD!$AI$5:$AI$66000),SUMIF(BD!$W$5:$W$66000,$O80,BD!$AI$5:$AI$66000)))/1000","v":0},{"$f":"IF(AND($B$3=1,$C$3=1),IF($E$5<500,SUMIF(BD!$P$5:$P$66000,$N80,BD!$AJ$5:$AJ$66000),SUMIF(BD!$N$5:$N$66000,$N80,BD!$AJ$5:$AJ$66000)))/1000","v":0},{"$f":"IF(AND($B$3=1,$C$3=1),IF($E$5<500,SUMIF(BD!$Y$5:$Y$66000,$O80,BD!$AK$5:$AK$66000),SUMIF(BD!$W$5:$W$66000,$O80,BD!$AK$5:$AK$66000)))/1000","v":0},null,"0/201610","0/201510"]
["11","NOVEMBRO",{"$f":"IF(AND($B$3=1,$C$3=1),IF($E$5<500,SUMIF(BD!$P$5:$P$66000,$N81,BD!$AB$5:$AB$66000),SUMIF(BD!$N$5:$N$66000,$N81,BD!$AB$5:$AB$66000)))/1000","v":0},{"$f":"IF(AND($B$3=1,$C$3=1),IF($E$5<500,SUMIF(BD!$Y$5:$Y$66000,$O81,BD!$AC$5:$AC$66000),SUMIF(BD!$W$5:$W$66000,$O81,BD!$AC$5:$AC$66000)))/1000","v":0},{"$f":"IF(AND($B$3=1,$C$3=1),IF($E$5<500,SUMIF(BD!$P$5:$P$66000,$N81,BD!$AD$5:$AD$66000),SUMIF(BD!$N$5:$N$66000,$N81,BD!$AD$5:$AD$66000)))/1000","v":0},{"$f":"IF(AND($B$3=1,$C$3=1),IF($E$5<500,SUMIF(BD!$Y$5:$Y$66000,$O81,BD!$AE$5:$AE$66000),SUMIF(BD!$W$5:$W$66000,$O81,BD!$AE$5:$AE$66000)))/1000","v":0},{"$f":"IF(AND($B$3=1,$C$3=1),IF($E$5<500,SUMIF(BD!$P$5:$P$66000,$N81,BD!$AF$5:$AF$66000),SUMIF(BD!$N$5:$N$66000,$N81,BD!$AF$5:$AF$66000)))/1000","v":0},{"$f":"IF(AND($B$3=1,$C$3=1),IF($E$5<500,SUMIF(BD!$Y$5:$Y$66000,$O81,BD!$AG$5:$AG$66000),SUMIF(BD!$W$5:$W$66000,$O81,BD!$AG$5:$AG$66000)))/1000","v":0},{"$f":"IF(AND($B$3=1,$C$3=1),IF($E$5<500,SUMIF(BD!$P$5:$P$66000,$N81,BD!$AH$5:$AH$66000),SUMIF(BD!$N$5:$N$66000,$N81,BD!$AH$5:$AH$66000)))/1000","v":0},{"$f":"IF(AND($B$3=1,$C$3=1),IF($E$5<500,SUMIF(BD!$Y$5:$Y$66000,$O81,BD!$AI$5:$AI$66000),SUMIF(BD!$W$5:$W$66000,$O81,BD!$AI$5:$AI$66000)))/1000","v":0},{"$f":"IF(AND($B$3=1,$C$3=1),IF($E$5<500,SUMIF(BD!$P$5:$P$66000,$N81,BD!$AJ$5:$AJ$66000),SUMIF(BD!$N$5:$N$66000,$N81,BD!$AJ$5:$AJ$66000)))/1000","v":0},{"$f":"IF(AND($B$3=1,$C$3=1),IF($E$5<500,SUMIF(BD!$Y$5:$Y$66000,$O81,BD!$AK$5:$AK$66000),SUMIF(BD!$W$5:$W$66000,$O81,BD!$AK$5:$AK$66000)))/1000","v":0},null,"0/201611","0/201511"]
["12","DEZEMBRO",{"$f":"IF(AND($B$3=1,$C$3=1),IF($E$5<500,SUMIF(BD!$P$5:$P$66000,$N82,BD!$AB$5:$AB$66000),SUMIF(BD!$N$5:$N$66000,$N82,BD!$AB$5:$AB$66000)))/1000","v":0},{"$f":"IF(AND($B$3=1,$C$3=1),IF($E$5<500,SUMIF(BD!$Y$5:$Y$66000,$O82,BD!$AC$5:$AC$66000),SUMIF(BD!$W$5:$W$66000,$O82,BD!$AC$5:$AC$66000)))/1000","v":0},{"$f":"IF(AND($B$3=1,$C$3=1),IF($E$5<500,SUMIF(BD!$P$5:$P$66000,$N82,BD!$AD$5:$AD$66000),SUMIF(BD!$N$5:$N$66000,$N82,BD!$AD$5:$AD$66000)))/1000","v":0},{"$f":"IF(AND($B$3=1,$C$3=1),IF($E$5<500,SUMIF(BD!$Y$5:$Y$66000,$O82,BD!$AE$5:$AE$66000),SUMIF(BD!$W$5:$W$66000,$O82,BD!$AE$5:$AE$66000)))/1000","v":0},{"$f":"IF(AND($B$3=1,$C$3=1),IF($E$5<500,SUMIF(BD!$P$5:$P$66000,$N82,BD!$AF$5:$AF$66000),SUMIF(BD!$N$5:$N$66000,$N82,BD!$AF$5:$AF$66000)))/1000","v":0},{"$f":"IF(AND($B$3=1,$C$3=1),IF($E$5<500,SUMIF(BD!$Y$5:$Y$66000,$O82,BD!$AG$5:$AG$66000),SUMIF(BD!$W$5:$W$66000,$O82,BD!$AG$5:$AG$66000)))/1000","v":0},{"$f":"IF(AND($B$3=1,$C$3=1),IF($E$5<500,SUMIF(BD!$P$5:$P$66000,$N82,BD!$AH$5:$AH$66000),SUMIF(BD!$N$5:$N$66000,$N82,BD!$AH$5:$AH$66000)))/1000","v":0},{"$f":"IF(AND($B$3=1,$C$3=1),IF($E$5<500,SUMIF(BD!$Y$5:$Y$66000,$O82,BD!$AI$5:$AI$66000),SUMIF(BD!$W$5:$W$66000,$O82,BD!$AI$5:$AI$66000)))/1000","v":0},{"$f":"IF(AND($B$3=1,$C$3=1),IF($E$5<500,SUMIF(BD!$P$5:$P$66000,$N82,BD!$AJ$5:$AJ$66000),SUMIF(BD!$N$5:$N$66000,$N82,BD!$AJ$5:$AJ$66000)))/1000","v":0},{"$f":"IF(AND($B$3=1,$C$3=1),IF($E$5<500,SUMIF(BD!$Y$5:$Y$66000,$O82,BD!$AK$5:$AK$66000),SUMIF(BD!$W$5:$W$66000,$O82,BD!$AK$5:$AK$66000)))/1000","v":0},null,"0/201612","0/201512"]
[null,"TOTAL",{"$f":"SUM(C71:C82)","v":0},0,0,0,0,0,0,0,0,0]
[null,null,"POR AGRUPAMENTOS / POR RAMOS / TODAS AS COMPANHIAS"]
[null,null,"PRÊMIO EMTIDO",null,"PRÊMIO RETIDO",null,"PRÊMIO GANHO",null,"SINISTRO RETIDO",null,"DESP. COMERCIAIS",null,null,"LOCALIZADORES"]
[null,"PERÍODO",{"$f":"C70","v":"2016"},{"$f":"D70","v":"2015"},{"$f":"C86","v":"2016"},"2015","2016","2015","2016","2015","2016","2015",null,{"$f":"K86","v":"2016"},{"$f":"L86","v":"2015"}]
["01","JANEIRO",{"$f":"IF(AND($B$3=1,$C$3=1,$D$3=1),SUMIF(BD!$D$5:$D$66000,RelatSuporte!$C$86&RelatSuporte!$A87,BD!$AB$5:$AB$66000),(IF(AND($B$3>1,$C$3=1,$D$3=1),SUMIF(BD!$M$5:$M$66000,$N87,BD!$AB$5:$AB$66000),IF($D$3=1,SUMIF(BD!$R$5:$R$66000,$N87,BD!$AB$5:$AB$66000)))))/1000","v":13384291.607484797},{"$f":"IF(AND($B$3=1,$C$3=1,$D$3=1),SUMIF(BD!$H$5:$H$66000,RelatSuporte!$D$86&RelatSuporte!$A87,BD!$AC$5:$AC$66000),(IF(AND($B$3>1,$C$3=1,$D$3=1),SUMIF(BD!$V$5:$V$66000,$O87,BD!$AC$5:$AC$66000),IF($D$3=1,SUMIF(BD!$AA$5:$AA$66000,$O87,BD!$AC$5:$AC$66000)))))/1000","v":12187244.630789986},{"$f":"IF(AND($B$3=1,$C$3=1,$D$3=1),SUMIF(BD!$D$5:$D$66000,RelatSuporte!$C$86&RelatSuporte!$A87,BD!$AD$5:$AD$66000),(IF(AND($B$3>1,$C$3=1,$D$3=1),SUMIF(BD!$M$5:$M$66000,$N87,BD!$AD$5:$AD$66000),IF($D$3=1,SUMIF(BD!$R$5:$R$66000,$N87,BD!$AD$5:$AD$66000)))))/1000","v":12748613.940394301},{"$f":"IF(AND($B$3=1,$C$3=1,$D$3=1),SUMIF(BD!$H$5:$H$66000,RelatSuporte!$D$86&RelatSuporte!$A87,BD!$AE$5:$AE$66000),(IF(AND($B$3>1,$C$3=1,$D$3=1),SUMIF(BD!$V$5:$V$66000,$O87,BD!$AE$5:$AE$66000),IF($D$3=1,SUMIF(BD!$AA$5:$AA$66000,$O87,BD!$AE$5:$AE$66000)))))/1000","v":11580859.645550193},{"$f":"IF(AND($B$3=1,$C$3=1,$D$3=1),SUMIF(BD!$D$5:$D$66000,RelatSuporte!$C$86&RelatSuporte!$A87,BD!$AF$5:$AF$66000),(IF(AND($B$3>1,$C$3=1,$D$3=1),SUMIF(BD!$M$5:$M$66000,$N87,BD!$AF$5:$AF$66000),IF($D$3=1,SUMIF(BD!$R$5:$R$66000,$N87,BD!$AF$5:$AF$66000)))))/1000","v":7356646.8334531002},{"$f":"IF(AND($B$3=1,$C$3=1,$D$3=1),SUMIF(BD!$H$5:$H$66000,RelatSuporte!$D$86&RelatSuporte!$A87,BD!$AG$5:$AG$66000),(IF(AND($B$3>1,$C$3=1,$D$3=1),SUMIF(BD!$V$5:$V$66000,$O87,BD!$AG$5:$AG$66000),IF($D$3=1,SUMIF(BD!$AA$5:$AA$66000,$O87,BD!$AG$5:$AG$66000)))))/1000","v":6962897.2946502073},{"$f":"IF(AND($B$3=1,$C$3=1,$D$3=1),SUMIF(BD!$D$5:$D$66000,RelatSuporte!$C$86&RelatSuporte!$A87,BD!$AH$5:$AH$66000),(IF(AND($B$3>1,$C$3=1,$D$3=1),SUMIF(BD!$M$5:$M$66000,$N87,BD!$AH$5:$AH$66000),IF($D$3=1,SUMIF(BD!$R$5:$R$66000,$N87,BD!$AH$5:$AH$66000)))))/1000","v":3573463.5208511022},{"$f":"IF(AND($B$3=1,$C$3=1,$D$3=1),SUMIF(BD!$H$5:$H$66000,RelatSuporte!$D$86&RelatSuporte!$A87,BD!$AI$5:$AI$66000),(IF(AND($B$3>1,$C$3=1,$D$3=1),SUMIF(BD!$V$5:$V$66000,$O87,BD!$AI$5:$AI$66000),IF($D$3=1,SUMIF(BD!$AA$5:$AA$66000,$O87,BD!$AI$5:$AI$66000)))))/1000","v":3529945.1649500038},{"$f":"IF(AND($B$3=1,$C$3=1,$D$3=1),SUMIF(BD!$D$5:$D$66000,RelatSuporte!$C$86&RelatSuporte!$A87,BD!$AJ$5:$AJ$66000),(IF(AND($B$3>1,$C$3=1,$D$3=1),SUMIF(BD!$M$5:$M$66000,$N87,BD!$AJ$5:$AJ$66000),IF($D$3=1,SUMIF(BD!$R$5:$R$66000,$N87,BD!$AJ$5:$AJ$66000)))))/1000","v":1896014.2640900016},{"$f":"IF(AND($B$3=1,$C$3=1,$D$3=1),SUMIF(BD!$H$5:$H$66000,RelatSuporte!$D$86&RelatSuporte!$A87,BD!$AK$5:$AK$66000),(IF(AND($B$3>1,$C$3=1,$D$3=1),SUMIF(BD!$V$5:$V$66000,$O87,BD!$AK$5:$AK$66000),IF($D$3=1,SUMIF(BD!$AA$5:$AA$66000,$O87,BD!$AK$5:$AK$66000)))))/1000","v":1696386.4221598983},null,{"$f":"IF($G$5=\"\",0,$G$5)&\"/\"&RelatSuporte!$C$86&RelatSuporte!$A87","v":"Total/201601"},{"$f":"IF($G$5=\"\",0,$G$5)&\"/\"&RelatSuporte!$D$86&RelatSuporte!$A87","v":"Total/201501"}]
["02","FEVEREIRO",{"$f":"IF(AND($B$3=1,$C$3=1,$D$3=1),SUMIF(BD!$D$5:$D$66000,RelatSuporte!$C$86&RelatSuporte!$A88,BD!$AB$5:$AB$66000),(IF(AND($B$3>1,$C$3=1,$D$3=1),SUMIF(BD!$M$5:$M$66000,$N88,BD!$AB$5:$AB$66000),IF($D$3=1,SUMIF(BD!$R$5:$R$66000,$N88,BD!$AB$5:$AB$66000)))))/1000","v":13136872.738380989},{"$f":"IF(AND($B$3=1,$C$3=1,$D$3=1),SUMIF(BD!$H$5:$H$66000,RelatSuporte!$D$86&RelatSuporte!$A88,BD!$AC$5:$AC$66000),(IF(AND($B$3>1,$C$3=1,$D$3=1),SUMIF(BD!$V$5:$V$66000,$O88,BD!$AC$5:$AC$66000),IF($D$3=1,SUMIF(BD!$AA$5:$AA$66000,$O88,BD!$AC$5:$AC$66000)))))/1000","v":12817672.412020003},{"$f":"IF(AND($B$3=1,$C$3=1,$D$3=1),SUMIF(BD!$D$5:$D$66000,RelatSuporte!$C$86&RelatSuporte!$A88,BD!$AD$5:$AD$66000),(IF(AND($B$3>1,$C$3=1,$D$3=1),SUMIF(BD!$M$5:$M$66000,$N88,BD!$AD$5:$AD$66000),IF($D$3=1,SUMIF(BD!$R$5:$R$66000,$N88,BD!$AD$5:$AD$66000)))))/1000","v":12481574.303933013},{"$f":"IF(AND($B$3=1,$C$3=1,$D$3=1),SUMIF(BD!$H$5:$H$66000,RelatSuporte!$D$86&RelatSuporte!$A88,BD!$AE$5:$AE$66000),(IF(AND($B$3>1,$C$3=1,$D$3=1),SUMIF(BD!$V$5:$V$66000,$O88,BD!$AE$5:$AE$66000),IF($D$3=1,SUMIF(BD!$AA$5:$AA$66000,$O88,BD!$AE$5:$AE$66000)))))/1000","v":12240988.457300387},{"$f":"IF(AND($B$3=1,$C$3=1,$D$3=1),SUMIF(BD!$D$5:$D$66000,RelatSuporte!$C$86&RelatSuporte!$A88,BD!$AF$5:$AF$66000),(IF(AND($B$3>1,$C$3=1,$D$3=1),SUMIF(BD!$M$5:$M$66000,$N88,BD!$AF$5:$AF$66000),IF($D$3=1,SUMIF(BD!$R$5:$R$66000,$N88,BD!$AF$5:$AF$66000)))))/1000","v":6734718.3459112979},{"$f":"IF(AND($B$3=1,$C$3=1,$D$3=1),SUMIF(BD!$H$5:$H$66000,RelatSuporte!$D$86&RelatSuporte!$A88,BD!$AG$5:$AG$66000),(IF(AND($B$3>1,$C$3=1,$D$3=1),SUMIF(BD!$V$5:$V$66000,$O88,BD!$AG$5:$AG$66000),IF($D$3=1,SUMIF(BD!$AA$5:$AA$66000,$O88,BD!$AG$5:$AG$66000)))))/1000","v":6372408.6959403912},{"$f":"IF(AND($B$3=1,$C$3=1,$D$3=1),SUMIF(BD!$D$5:$D$66000,RelatSuporte!$C$86&RelatSuporte!$A88,BD!$AH$5:$AH$66000),(IF(AND($B$3>1,$C$3=1,$D$3=1),SUMIF(BD!$M$5:$M$66000,$N88,BD!$AH$5:$AH$66000),IF($D$3=1,SUMIF(BD!$R$5:$R$66000,$N88,BD!$AH$5:$AH$66000)))))/1000","v":3281821.9337789989},{"$f":"IF(AND($B$3=1,$C$3=1,$D$3=1),SUMIF(BD!$H$5:$H$66000,RelatSuporte!$D$86&RelatSuporte!$A88,BD!$AI$5:$AI$66000),(IF(AND($B$3>1,$C$3=1,$D$3=1),SUMIF(BD!$V$5:$V$66000,$O88,BD!$AI$5:$AI$66000),IF($D$3=1,SUMIF(BD!$AA$5:$AA$66000,$O88,BD!$AI$5:$AI$66000)))))/1000","v":2842169.4776902031},{"$f":"IF(AND($B$3=1,$C$3=1,$D$3=1),SUMIF(BD!$D$5:$D$66000,RelatSuporte!$C$86&RelatSuporte!$A88,BD!$AJ$5:$AJ$66000),(IF(AND($B$3>1,$C$3=1,$D$3=1),SUMIF(BD!$M$5:$M$66000,$N88,BD!$AJ$5:$AJ$66000),IF($D$3=1,SUMIF(BD!$R$5:$R$66000,$N88,BD!$AJ$5:$AJ$66000)))))/1000","v":1741566.7715498006},{"$f":"IF(AND($B$3=1,$C$3=1,$D$3=1),SUMIF(BD!$H$5:$H$66000,RelatSuporte!$D$86&RelatSuporte!$A88,BD!$AK$5:$AK$66000),(IF(AND($B$3>1,$C$3=1,$D$3=1),SUMIF(BD!$V$5:$V$66000,$O88,BD!$AK$5:$AK$66000),IF($D$3=1,SUMIF(BD!$AA$5:$AA$66000,$O88,BD!$AK$5:$AK$66000)))))/1000","v":1655452.6164898993},null,{"$f":"IF($G$5=\"\",0,$G$5)&\"/\"&RelatSuporte!$C$86&RelatSuporte!$A88","v":"Total/201602"},{"$f":"IF($G$5=\"\",0,$G$5)&\"/\"&RelatSuporte!$D$86&RelatSuporte!$A88","v":"Total/201502"}]
["03","MARÇO",{"$f":"IF(AND($B$3=1,$C$3=1,$D$3=1),SUMIF(BD!$D$5:$D$66000,RelatSuporte!$C$86&RelatSuporte!$A89,BD!$AB$5:$AB$66000),(IF(AND($B$3>1,$C$3=1,$D$3=1),SUMIF(BD!$M$5:$M$66000,$N89,BD!$AB$5:$AB$66000),IF($D$3=1,SUMIF(BD!$R$5:$R$66000,$N89,BD!$AB$5:$AB$66000)))))/1000","v":16233928.901271615},{"$f":"IF(AND($B$3=1,$C$3=1,$D$3=1),SUMIF(BD!$H$5:$H$66000,RelatSuporte!$D$86&RelatSuporte!$A89,BD!$AC$5:$AC$66000),(IF(AND($B$3>1,$C$3=1,$D$3=1),SUMIF(BD!$V$5:$V$66000,$O89,BD!$AC$5:$AC$66000),IF($D$3=1,SUMIF(BD!$AA$5:$AA$66000,$O89,BD!$AC$5:$AC$66000)))))/1000","v":16194491.202390017},{"$f":"IF(AND($B$3=1,$C$3=1,$D$3=1),SUMIF(BD!$D$5:$D$66000,RelatSuporte!$C$86&RelatSuporte!$A89,BD!$AD$5:$AD$66000),(IF(AND($B$3>1,$C$3=1,$D$3=1),SUMIF(BD!$M$5:$M$66000,$N89,BD!$AD$5:$AD$66000),IF($D$3=1,SUMIF(BD!$R$5:$R$66000,$N89,BD!$AD$5:$AD$66000)))))/1000","v":15536828.889930898},{"$f":"IF(AND($B$3=1,$C$3=1,$D$3=1),SUMIF(BD!$H$5:$H$66000,RelatSuporte!$D$86&RelatSuporte!$A89,BD!$AE$5:$AE$66000),(IF(AND($B$3>1,$C$3=1,$D$3=1),SUMIF(BD!$V$5:$V$66000,$O89,BD!$AE$5:$AE$66000),IF($D$3=1,SUMIF(BD!$AA$5:$AA$66000,$O89,BD!$AE$5:$AE$66000)))))/1000","v":15557761.781874217},{"$f":"IF(AND($B$3=1,$C$3=1,$D$3=1),SUMIF(BD!$D$5:$D$66000,RelatSuporte!$C$86&RelatSuporte!$A89,BD!$AF$5:$AF$66000),(IF(AND($B$3>1,$C$3=1,$D$3=1),SUMIF(BD!$M$5:$M$66000,$N89,BD!$AF$5:$AF$66000),IF($D$3=1,SUMIF(BD!$R$5:$R$66000,$N89,BD!$AF$5:$AF$66000)))))/1000","v":7178824.2489941129},{"$f":"IF(AND($B$3=1,$C$3=1,$D$3=1),SUMIF(BD!$H$5:$H$66000,RelatSuporte!$D$86&RelatSuporte!$A89,BD!$AG$5:$AG$66000),(IF(AND($B$3>1,$C$3=1,$D$3=1),SUMIF(BD!$V$5:$V$66000,$O89,BD!$AG$5:$AG$66000),IF($D$3=1,SUMIF(BD!$AA$5:$AA$66000,$O89,BD!$AG$5:$AG$66000)))))/1000","v":6886180.1534742014},{"$f":"IF(AND($B$3=1,$C$3=1,$D$3=1),SUMIF(BD!$D$5:$D$66000,RelatSuporte!$C$86&RelatSuporte!$A89,BD!$AH$5:$AH$66000),(IF(AND($B$3>1,$C$3=1,$D$3=1),SUMIF(BD!$M$5:$M$66000,$N89,BD!$AH$5:$AH$66000),IF($D$3=1,SUMIF(BD!$R$5:$R$66000,$N89,BD!$AH$5:$AH$66000)))))/1000","v":3834858.6423872984},{"$f":"IF(AND($B$3=1,$C$3=1,$D$3=1),SUMIF(BD!$H$5:$H$66000,RelatSuporte!$D$86&RelatSuporte!$A89,BD!$AI$5:$AI$66000),(IF(AND($B$3>1,$C$3=1,$D$3=1),SUMIF(BD!$V$5:$V$66000,$O89,BD!$AI$5:$AI$66000),IF($D$3=1,SUMIF(BD!$AA$5:$AA$66000,$O89,BD!$AI$5:$AI$66000)))))/1000","v":3466118.4725998994},{"$f":"IF(AND($B$3=1,$C$3=1,$D$3=1),SUMIF(BD!$D$5:$D$66000,RelatSuporte!$C$86&RelatSuporte!$A89,BD!$AJ$5:$AJ$66000),(IF(AND($B$3>1,$C$3=1,$D$3=1),SUMIF(BD!$M$5:$M$66000,$N89,BD!$AJ$5:$AJ$66000),IF($D$3=1,SUMIF(BD!$R$5:$R$66000,$N89,BD!$AJ$5:$AJ$66000)))))/1000","v":1874424.1197200008},{"$f":"IF(AND($B$3=1,$C$3=1,$D$3=1),SUMIF(BD!$H$5:$H$66000,RelatSuporte!$D$86&RelatSuporte!$A89,BD!$AK$5:$AK$66000),(IF(AND($B$3>1,$C$3=1,$D$3=1),SUMIF(BD!$V$5:$V$66000,$O89,BD!$AK$5:$AK$66000),IF($D$3=1,SUMIF(BD!$AA$5:$AA$66000,$O89,BD!$AK$5:$AK$66000)))))/1000","v":1768850.8875300009},null,{"$f":"IF($G$5=\"\",0,$G$5)&\"/\"&RelatSuporte!$C$86&RelatSuporte!$A89","v":"Total/201603"},{"$f":"IF($G$5=\"\",0,$G$5)&\"/\"&RelatSuporte!$D$86&RelatSuporte!$A89","v":"Total/201503"}]
["04","ABRIL",{"$f":"IF(AND($B$3=1,$C$3=1,$D$3=1),SUMIF(BD!$D$5:$D$66000,RelatSuporte!$C$86&RelatSuporte!$A90,BD!$AB$5:$AB$66000),(IF(AND($B$3>1,$C$3=1,$D$3=1),SUMIF(BD!$M$5:$M$66000,$N90,BD!$AB$5:$AB$66000),IF($D$3=1,SUMIF(BD!$R$5:$R$66000,$N90,BD!$AB$5:$AB$66000)))))/1000","v":16037674.64660229},{"$f":"IF(AND($B$3=1,$C$3=1,$D$3=1),SUMIF(BD!$H$5:$H$66000,RelatSuporte!$D$86&RelatSuporte!$A90,BD!$AC$5:$AC$66000),(IF(AND($B$3>1,$C$3=1,$D$3=1),SUMIF(BD!$V$5:$V$66000,$O90,BD!$AC$5:$AC$66000),IF($D$3=1,SUMIF(BD!$AA$5:$AA$66000,$O90,BD!$AC$5:$AC$66000)))))/1000","v":14057938.416263301},{"$f":"IF(AND($B$3=1,$C$3=1,$D$3=1),SUMIF(BD!$D$5:$D$66000,RelatSuporte!$C$86&RelatSuporte!$A90,BD!$AD$5:$AD$66000),(IF(AND($B$3>1,$C$3=1,$D$3=1),SUMIF(BD!$M$5:$M$66000,$N90,BD!$AD$5:$AD$66000),IF($D$3=1,SUMIF(BD!$R$5:$R$66000,$N90,BD!$AD$5:$AD$66000)))))/1000","v":15335366.975169178},{"$f":"IF(AND($B$3=1,$C$3=1,$D$3=1),SUMIF(BD!$H$5:$H$66000,RelatSuporte!$D$86&RelatSuporte!$A90,BD!$AE$5:$AE$66000),(IF(AND($B$3>1,$C$3=1,$D$3=1),SUMIF(BD!$V$5:$V$66000,$O90,BD!$AE$5:$AE$66000),IF($D$3=1,SUMIF(BD!$AA$5:$AA$66000,$O90,BD!$AE$5:$AE$66000)))))/1000","v":13440339.069238484},{"$f":"IF(AND($B$3=1,$C$3=1,$D$3=1),SUMIF(BD!$D$5:$D$66000,RelatSuporte!$C$86&RelatSuporte!$A90,BD!$AF$5:$AF$66000),(IF(AND($B$3>1,$C$3=1,$D$3=1),SUMIF(BD!$M$5:$M$66000,$N90,BD!$AF$5:$AF$66000),IF($D$3=1,SUMIF(BD!$R$5:$R$66000,$N90,BD!$AF$5:$AF$66000)))))/1000","v":6916856.9370348901},{"$f":"IF(AND($B$3=1,$C$3=1,$D$3=1),SUMIF(BD!$H$5:$H$66000,RelatSuporte!$D$86&RelatSuporte!$A90,BD!$AG$5:$AG$66000),(IF(AND($B$3>1,$C$3=1,$D$3=1),SUMIF(BD!$V$5:$V$66000,$O90,BD!$AG$5:$AG$66000),IF($D$3=1,SUMIF(BD!$AA$5:$AA$66000,$O90,BD!$AG$5:$AG$66000)))))/1000","v":6640543.8607130069},{"$f":"IF(AND($B$3=1,$C$3=1,$D$3=1),SUMIF(BD!$D$5:$D$66000,RelatSuporte!$C$86&RelatSuporte!$A90,BD!$AH$5:$AH$66000),(IF(AND($B$3>1,$C$3=1,$D$3=1),SUMIF(BD!$M$5:$M$66000,$N90,BD!$AH$5:$AH$66000),IF($D$3=1,SUMIF(BD!$R$5:$R$66000,$N90,BD!$AH$5:$AH$66000)))))/1000","v":3441190.9326174916},{"$f":"IF(AND($B$3=1,$C$3=1,$D$3=1),SUMIF(BD!$H$5:$H$66000,RelatSuporte!$D$86&RelatSuporte!$A90,BD!$AI$5:$AI$66000),(IF(AND($B$3>1,$C$3=1,$D$3=1),SUMIF(BD!$V$5:$V$66000,$O90,BD!$AI$5:$AI$66000),IF($D$3=1,SUMIF(BD!$AA$5:$AA$66000,$O90,BD!$AI$5:$AI$66000)))))/1000","v":3052156.4733297983},{"$f":"IF(AND($B$3=1,$C$3=1,$D$3=1),SUMIF(BD!$D$5:$D$66000,RelatSuporte!$C$86&RelatSuporte!$A90,BD!$AJ$5:$AJ$66000),(IF(AND($B$3>1,$C$3=1,$D$3=1),SUMIF(BD!$M$5:$M$66000,$N90,BD!$AJ$5:$AJ$66000),IF($D$3=1,SUMIF(BD!$R$5:$R$66000,$N90,BD!$AJ$5:$AJ$66000)))))/1000","v":1866446.239839999},{"$f":"IF(AND($B$3=1,$C$3=1,$D$3=1),SUMIF(BD!$H$5:$H$66000,RelatSuporte!$D$86&RelatSuporte!$A90,BD!$AK$5:$AK$66000),(IF(AND($B$3>1,$C$3=1,$D$3=1),SUMIF(BD!$V$5:$V$66000,$O90,BD!$AK$5:$AK$66000),IF($D$3=1,SUMIF(BD!$AA$5:$AA$66000,$O90,BD!$AK$5:$AK$66000)))))/1000","v":1715270.6786898989},null,{"$f":"IF($G$5=\"\",0,$G$5)&\"/\"&RelatSuporte!$C$86&RelatSuporte!$A90","v":"Total/201604"},{"$f":"IF($G$5=\"\",0,$G$5)&\"/\"&RelatSuporte!$D$86&RelatSuporte!$A90","v":"Total/201504"}]
["05","MAIO",{"$f":"IF(AND($B$3=1,$C$3=1,$D$3=1),SUMIF(BD!$D$5:$D$66000,RelatSuporte!$C$86&RelatSuporte!$A91,BD!$AB$5:$AB$66000),(IF(AND($B$3>1,$C$3=1,$D$3=1),SUMIF(BD!$M$5:$M$66000,$N91,BD!$AB$5:$AB$66000),IF($D$3=1,SUMIF(BD!$R$5:$R$66000,$N91,BD!$AB$5:$AB$66000)))))/1000","v":17244408.942090731},{"$f":"IF(AND($B$3=1,$C$3=1,$D$3=1),SUMIF(BD!$H$5:$H$66000,RelatSuporte!$D$86&RelatSuporte!$A91,BD!$AC$5:$AC$66000),(IF(AND($B$3>1,$C$3=1,$D$3=1),SUMIF(BD!$V$5:$V$66000,$O91,BD!$AC$5:$AC$66000),IF($D$3=1,SUMIF(BD!$AA$5:$AA$66000,$O91,BD!$AC$5:$AC$66000)))))/1000","v":15810123.901883295},{"$f":"IF(AND($B$3=1,$C$3=1,$D$3=1),SUMIF(BD!$D$5:$D$66000,RelatSuporte!$C$86&RelatSuporte!$A91,BD!$AD$5:$AD$66000),(IF(AND($B$3>1,$C$3=1,$D$3=1),SUMIF(BD!$M$5:$M$66000,$N91,BD!$AD$5:$AD$66000),IF($D$3=1,SUMIF(BD!$R$5:$R$66000,$N91,BD!$AD$5:$AD$66000)))))/1000","v":16575741.629433408},{"$f":"IF(AND($B$3=1,$C$3=1,$D$3=1),SUMIF(BD!$H$5:$H$66000,RelatSuporte!$D$86&RelatSuporte!$A91,BD!$AE$5:$AE$66000),(IF(AND($B$3>1,$C$3=1,$D$3=1),SUMIF(BD!$V$5:$V$66000,$O91,BD!$AE$5:$AE$66000),IF($D$3=1,SUMIF(BD!$AA$5:$AA$66000,$O91,BD!$AE$5:$AE$66000)))))/1000","v":15160578.430509986},{"$f":"IF(AND($B$3=1,$C$3=1,$D$3=1),SUMIF(BD!$D$5:$D$66000,RelatSuporte!$C$86&RelatSuporte!$A91,BD!$AF$5:$AF$66000),(IF(AND($B$3>1,$C$3=1,$D$3=1),SUMIF(BD!$M$5:$M$66000,$N91,BD!$AF$5:$AF$66000),IF($D$3=1,SUMIF(BD!$R$5:$R$66000,$N91,BD!$AF$5:$AF$66000)))))/1000","v":7127053.2940969113},{"$f":"IF(AND($B$3=1,$C$3=1,$D$3=1),SUMIF(BD!$H$5:$H$66000,RelatSuporte!$D$86&RelatSuporte!$A91,BD!$AG$5:$AG$66000),(IF(AND($B$3>1,$C$3=1,$D$3=1),SUMIF(BD!$V$5:$V$66000,$O91,BD!$AG$5:$AG$66000),IF($D$3=1,SUMIF(BD!$AA$5:$AA$66000,$O91,BD!$AG$5:$AG$66000)))))/1000","v":6806243.4301125091},{"$f":"IF(AND($B$3=1,$C$3=1,$D$3=1),SUMIF(BD!$D$5:$D$66000,RelatSuporte!$C$86&RelatSuporte!$A91,BD!$AH$5:$AH$66000),(IF(AND($B$3>1,$C$3=1,$D$3=1),SUMIF(BD!$M$5:$M$66000,$N91,BD!$AH$5:$AH$66000),IF($D$3=1,SUMIF(BD!$R$5:$R$66000,$N91,BD!$AH$5:$AH$66000)))))/1000","v":3433106.8074174058},{"$f":"IF(AND($B$3=1,$C$3=1,$D$3=1),SUMIF(BD!$H$5:$H$66000,RelatSuporte!$D$86&RelatSuporte!$A91,BD!$AI$5:$AI$66000),(IF(AND($B$3>1,$C$3=1,$D$3=1),SUMIF(BD!$V$5:$V$66000,$O91,BD!$AI$5:$AI$66000),IF($D$3=1,SUMIF(BD!$AA$5:$AA$66000,$O91,BD!$AI$5:$AI$66000)))))/1000","v":3140328.0620443043},{"$f":"IF(AND($B$3=1,$C$3=1,$D$3=1),SUMIF(BD!$D$5:$D$66000,RelatSuporte!$C$86&RelatSuporte!$A91,BD!$AJ$5:$AJ$66000),(IF(AND($B$3>1,$C$3=1,$D$3=1),SUMIF(BD!$M$5:$M$66000,$N91,BD!$AJ$5:$AJ$66000),IF($D$3=1,SUMIF(BD!$R$5:$R$66000,$N91,BD!$AJ$5:$AJ$66000)))))/1000","v":1861330.6036098013},{"$f":"IF(AND($B$3=1,$C$3=1,$D$3=1),SUMIF(BD!$H$5:$H$66000,RelatSuporte!$D$86&RelatSuporte!$A91,BD!$AK$5:$AK$66000),(IF(AND($B$3>1,$C$3=1,$D$3=1),SUMIF(BD!$V$5:$V$66000,$O91,BD!$AK$5:$AK$66000),IF($D$3=1,SUMIF(BD!$AA$5:$AA$66000,$O91,BD!$AK$5:$AK$66000)))))/1000","v":1791687.8116599992},null,{"$f":"IF($G$5=\"\",0,$G$5)&\"/\"&RelatSuporte!$C$86&RelatSuporte!$A91","v":"Total/201605"},{"$f":"IF($G$5=\"\",0,$G$5)&\"/\"&RelatSuporte!$D$86&RelatSuporte!$A91","v":"Total/201505"}]
["06","JUNHO",{"$f":"IF(AND($B$3=1,$C$3=1,$D$3=1),SUMIF(BD!$D$5:$D$66000,RelatSuporte!$C$86&RelatSuporte!$A92,BD!$AB$5:$AB$66000),(IF(AND($B$3>1,$C$3=1,$D$3=1),SUMIF(BD!$M$5:$M$66000,$N92,BD!$AB$5:$AB$66000),IF($D$3=1,SUMIF(BD!$R$5:$R$66000,$N92,BD!$AB$5:$AB$66000)))))/1000","v":19479174.481682606},{"$f":"IF(AND($B$3=1,$C$3=1,$D$3=1),SUMIF(BD!$H$5:$H$66000,RelatSuporte!$D$86&RelatSuporte!$A92,BD!$AC$5:$AC$66000),(IF(AND($B$3>1,$C$3=1,$D$3=1),SUMIF(BD!$V$5:$V$66000,$O92,BD!$AC$5:$AC$66000),IF($D$3=1,SUMIF(BD!$AA$5:$AA$66000,$O92,BD!$AC$5:$AC$66000)))))/1000","v":17091571.05583011},{"$f":"IF(AND($B$3=1,$C$3=1,$D$3=1),SUMIF(BD!$D$5:$D$66000,RelatSuporte!$C$86&RelatSuporte!$A92,BD!$AD$5:$AD$66000),(IF(AND($B$3>1,$C$3=1,$D$3=1),SUMIF(BD!$M$5:$M$66000,$N92,BD!$AD$5:$AD$66000),IF($D$3=1,SUMIF(BD!$R$5:$R$66000,$N92,BD!$AD$5:$AD$66000)))))/1000","v":18780195.04789399},{"$f":"IF(AND($B$3=1,$C$3=1,$D$3=1),SUMIF(BD!$H$5:$H$66000,RelatSuporte!$D$86&RelatSuporte!$A92,BD!$AE$5:$AE$66000),(IF(AND($B$3>1,$C$3=1,$D$3=1),SUMIF(BD!$V$5:$V$66000,$O92,BD!$AE$5:$AE$66000),IF($D$3=1,SUMIF(BD!$AA$5:$AA$66000,$O92,BD!$AE$5:$AE$66000)))))/1000","v":16456354.866856379},{"$f":"IF(AND($B$3=1,$C$3=1,$D$3=1),SUMIF(BD!$D$5:$D$66000,RelatSuporte!$C$86&RelatSuporte!$A92,BD!$AF$5:$AF$66000),(IF(AND($B$3>1,$C$3=1,$D$3=1),SUMIF(BD!$M$5:$M$66000,$N92,BD!$AF$5:$AF$66000),IF($D$3=1,SUMIF(BD!$R$5:$R$66000,$N92,BD!$AF$5:$AF$66000)))))/1000","v":6889269.1759317061},{"$f":"IF(AND($B$3=1,$C$3=1,$D$3=1),SUMIF(BD!$H$5:$H$66000,RelatSuporte!$D$86&RelatSuporte!$A92,BD!$AG$5:$AG$66000),(IF(AND($B$3>1,$C$3=1,$D$3=1),SUMIF(BD!$V$5:$V$66000,$O92,BD!$AG$5:$AG$66000),IF($D$3=1,SUMIF(BD!$AA$5:$AA$66000,$O92,BD!$AG$5:$AG$66000)))))/1000","v":6759447.2430893015},{"$f":"IF(AND($B$3=1,$C$3=1,$D$3=1),SUMIF(BD!$D$5:$D$66000,RelatSuporte!$C$86&RelatSuporte!$A92,BD!$AH$5:$AH$66000),(IF(AND($B$3>1,$C$3=1,$D$3=1),SUMIF(BD!$M$5:$M$66000,$N92,BD!$AH$5:$AH$66000),IF($D$3=1,SUMIF(BD!$R$5:$R$66000,$N92,BD!$AH$5:$AH$66000)))))/1000","v":3268423.5082835988},{"$f":"IF(AND($B$3=1,$C$3=1,$D$3=1),SUMIF(BD!$H$5:$H$66000,RelatSuporte!$D$86&RelatSuporte!$A92,BD!$AI$5:$AI$66000),(IF(AND($B$3>1,$C$3=1,$D$3=1),SUMIF(BD!$V$5:$V$66000,$O92,BD!$AI$5:$AI$66000),IF($D$3=1,SUMIF(BD!$AA$5:$AA$66000,$O92,BD!$AI$5:$AI$66000)))))/1000","v":2883350.6150469007},{"$f":"IF(AND($B$3=1,$C$3=1,$D$3=1),SUMIF(BD!$D$5:$D$66000,RelatSuporte!$C$86&RelatSuporte!$A92,BD!$AJ$5:$AJ$66000),(IF(AND($B$3>1,$C$3=1,$D$3=1),SUMIF(BD!$M$5:$M$66000,$N92,BD!$AJ$5:$AJ$66000),IF($D$3=1,SUMIF(BD!$R$5:$R$66000,$N92,BD!$AJ$5:$AJ$66000)))))/1000","v":1941433.3620599997},{"$f":"IF(AND($B$3=1,$C$3=1,$D$3=1),SUMIF(BD!$H$5:$H$66000,RelatSuporte!$D$86&RelatSuporte!$A92,BD!$AK$5:$AK$66000),(IF(AND($B$3>1,$C$3=1,$D$3=1),SUMIF(BD!$V$5:$V$66000,$O92,BD!$AK$5:$AK$66000),IF($D$3=1,SUMIF(BD!$AA$5:$AA$66000,$O92,BD!$AK$5:$AK$66000)))))/1000","v":1826685.1129900012},null,{"$f":"IF($G$5=\"\",0,$G$5)&\"/\"&RelatSuporte!$C$86&RelatSuporte!$A92","v":"Total/201606"},{"$f":"IF($G$5=\"\",0,$G$5)&\"/\"&RelatSuporte!$D$86&RelatSuporte!$A92","v":"Total/201506"}]
["07","JULHO",{"$f":"IF(AND($B$3=1,$C$3=1,$D$3=1),SUMIF(BD!$D$5:$D$66000,RelatSuporte!$C$86&RelatSuporte!$A93,BD!$AB$5:$AB$66000),(IF(AND($B$3>1,$C$3=1,$D$3=1),SUMIF(BD!$M$5:$M$66000,$N93,BD!$AB$5:$AB$66000),IF($D$3=1,SUMIF(BD!$R$5:$R$66000,$N93,BD!$AB$5:$AB$66000)))))/1000","v":16433362.295807106},{"$f":"IF(AND($B$3=1,$C$3=1,$D$3=1),SUMIF(BD!$H$5:$H$66000,RelatSuporte!$D$86&RelatSuporte!$A93,BD!$AC$5:$AC$66000),(IF(AND($B$3>1,$C$3=1,$D$3=1),SUMIF(BD!$V$5:$V$66000,$O93,BD!$AC$5:$AC$66000),IF($D$3=1,SUMIF(BD!$AA$5:$AA$66000,$O93,BD!$AC$5:$AC$66000)))))/1000","v":14921223.518940106},{"$f":"IF(AND($B$3=1,$C$3=1,$D$3=1),SUMIF(BD!$D$5:$D$66000,RelatSuporte!$C$86&RelatSuporte!$A93,BD!$AD$5:$AD$66000),(IF(AND($B$3>1,$C$3=1,$D$3=1),SUMIF(BD!$M$5:$M$66000,$N93,BD!$AD$5:$AD$66000),IF($D$3=1,SUMIF(BD!$R$5:$R$66000,$N93,BD!$AD$5:$AD$66000)))))/1000","v":15703011.570192594},{"$f":"IF(AND($B$3=1,$C$3=1,$D$3=1),SUMIF(BD!$H$5:$H$66000,RelatSuporte!$D$86&RelatSuporte!$A93,BD!$AE$5:$AE$66000),(IF(AND($B$3>1,$C$3=1,$D$3=1),SUMIF(BD!$V$5:$V$66000,$O93,BD!$AE$5:$AE$66000),IF($D$3=1,SUMIF(BD!$AA$5:$AA$66000,$O93,BD!$AE$5:$AE$66000)))))/1000","v":14306340.052591609},{"$f":"IF(AND($B$3=1,$C$3=1,$D$3=1),SUMIF(BD!$D$5:$D$66000,RelatSuporte!$C$86&RelatSuporte!$A93,BD!$AF$5:$AF$66000),(IF(AND($B$3>1,$C$3=1,$D$3=1),SUMIF(BD!$M$5:$M$66000,$N93,BD!$AF$5:$AF$66000),IF($D$3=1,SUMIF(BD!$R$5:$R$66000,$N93,BD!$AF$5:$AF$66000)))))/1000","v":7042257.0598193035},{"$f":"IF(AND($B$3=1,$C$3=1,$D$3=1),SUMIF(BD!$H$5:$H$66000,RelatSuporte!$D$86&RelatSuporte!$A93,BD!$AG$5:$AG$66000),(IF(AND($B$3>1,$C$3=1,$D$3=1),SUMIF(BD!$V$5:$V$66000,$O93,BD!$AG$5:$AG$66000),IF($D$3=1,SUMIF(BD!$AA$5:$AA$66000,$O93,BD!$AG$5:$AG$66000)))))/1000","v":6932219.6353252046},{"$f":"IF(AND($B$3=1,$C$3=1,$D$3=1),SUMIF(BD!$D$5:$D$66000,RelatSuporte!$C$86&RelatSuporte!$A93,BD!$AH$5:$AH$66000),(IF(AND($B$3>1,$C$3=1,$D$3=1),SUMIF(BD!$M$5:$M$66000,$N93,BD!$AH$5:$AH$66000),IF($D$3=1,SUMIF(BD!$R$5:$R$66000,$N93,BD!$AH$5:$AH$66000)))))/1000","v":3392009.1625253991},{"$f":"IF(AND($B$3=1,$C$3=1,$D$3=1),SUMIF(BD!$H$5:$H$66000,RelatSuporte!$D$86&RelatSuporte!$A93,BD!$AI$5:$AI$66000),(IF(AND($B$3>1,$C$3=1,$D$3=1),SUMIF(BD!$V$5:$V$66000,$O93,BD!$AI$5:$AI$66000),IF($D$3=1,SUMIF(BD!$AA$5:$AA$66000,$O93,BD!$AI$5:$AI$66000)))))/1000","v":3123347.3075455013},{"$f":"IF(AND($B$3=1,$C$3=1,$D$3=1),SUMIF(BD!$D$5:$D$66000,RelatSuporte!$C$86&RelatSuporte!$A93,BD!$AJ$5:$AJ$66000),(IF(AND($B$3>1,$C$3=1,$D$3=1),SUMIF(BD!$M$5:$M$66000,$N93,BD!$AJ$5:$AJ$66000),IF($D$3=1,SUMIF(BD!$R$5:$R$66000,$N93,BD!$AJ$5:$AJ$66000)))))/1000","v":1851868.1396899009},{"$f":"IF(AND($B$3=1,$C$3=1,$D$3=1),SUMIF(BD!$H$5:$H$66000,RelatSuporte!$D$86&RelatSuporte!$A93,BD!$AK$5:$AK$66000),(IF(AND($B$3>1,$C$3=1,$D$3=1),SUMIF(BD!$V$5:$V$66000,$O93,BD!$AK$5:$AK$66000),IF($D$3=1,SUMIF(BD!$AA$5:$AA$66000,$O93,BD!$AK$5:$AK$66000)))))/1000","v":1846095.5860000011},null,{"$f":"IF($G$5=\"\",0,$G$5)&\"/\"&RelatSuporte!$C$86&RelatSuporte!$A93","v":"Total/201607"},{"$f":"IF($G$5=\"\",0,$G$5)&\"/\"&RelatSuporte!$D$86&RelatSuporte!$A93","v":"Total/201507"}]
["08","AGOSTO",{"$f":"IF(AND($B$3=1,$C$3=1,$D$3=1),SUMIF(BD!$D$5:$D$66000,RelatSuporte!$C$86&RelatSuporte!$A94,BD!$AB$5:$AB$66000),(IF(AND($B$3>1,$C$3=1,$D$3=1),SUMIF(BD!$M$5:$M$66000,$N94,BD!$AB$5:$AB$66000),IF($D$3=1,SUMIF(BD!$R$5:$R$66000,$N94,BD!$AB$5:$AB$66000)))))/1000","v":17324168.091749892},{"$f":"IF(AND($B$3=1,$C$3=1,$D$3=1),SUMIF(BD!$H$5:$H$66000,RelatSuporte!$D$86&RelatSuporte!$A94,BD!$AC$5:$AC$66000),(IF(AND($B$3>1,$C$3=1,$D$3=1),SUMIF(BD!$V$5:$V$66000,$O94,BD!$AC$5:$AC$66000),IF($D$3=1,SUMIF(BD!$AA$5:$AA$66000,$O94,BD!$AC$5:$AC$66000)))))/1000","v":14650005.529436596},{"$f":"IF(AND($B$3=1,$C$3=1,$D$3=1),SUMIF(BD!$D$5:$D$66000,RelatSuporte!$C$86&RelatSuporte!$A94,BD!$AD$5:$AD$66000),(IF(AND($B$3>1,$C$3=1,$D$3=1),SUMIF(BD!$M$5:$M$66000,$N94,BD!$AD$5:$AD$66000),IF($D$3=1,SUMIF(BD!$R$5:$R$66000,$N94,BD!$AD$5:$AD$66000)))))/1000","v":16593307.543869998},{"$f":"IF(AND($B$3=1,$C$3=1,$D$3=1),SUMIF(BD!$H$5:$H$66000,RelatSuporte!$D$86&RelatSuporte!$A94,BD!$AE$5:$AE$66000),(IF(AND($B$3>1,$C$3=1,$D$3=1),SUMIF(BD!$V$5:$V$66000,$O94,BD!$AE$5:$AE$66000),IF($D$3=1,SUMIF(BD!$AA$5:$AA$66000,$O94,BD!$AE$5:$AE$66000)))))/1000","v":14000172.102109723},{"$f":"IF(AND($B$3=1,$C$3=1,$D$3=1),SUMIF(BD!$D$5:$D$66000,RelatSuporte!$C$86&RelatSuporte!$A94,BD!$AF$5:$AF$66000),(IF(AND($B$3>1,$C$3=1,$D$3=1),SUMIF(BD!$M$5:$M$66000,$N94,BD!$AF$5:$AF$66000),IF($D$3=1,SUMIF(BD!$R$5:$R$66000,$N94,BD!$AF$5:$AF$66000)))))/1000","v":7107970.1366099957},{"$f":"IF(AND($B$3=1,$C$3=1,$D$3=1),SUMIF(BD!$H$5:$H$66000,RelatSuporte!$D$86&RelatSuporte!$A94,BD!$AG$5:$AG$66000),(IF(AND($B$3>1,$C$3=1,$D$3=1),SUMIF(BD!$V$5:$V$66000,$O94,BD!$AG$5:$AG$66000),IF($D$3=1,SUMIF(BD!$AA$5:$AA$66000,$O94,BD!$AG$5:$AG$66000)))))/1000","v":6940367.1098863119},{"$f":"IF(AND($B$3=1,$C$3=1,$D$3=1),SUMIF(BD!$D$5:$D$66000,RelatSuporte!$C$86&RelatSuporte!$A94,BD!$AH$5:$AH$66000),(IF(AND($B$3>1,$C$3=1,$D$3=1),SUMIF(BD!$M$5:$M$66000,$N94,BD!$AH$5:$AH$66000),IF($D$3=1,SUMIF(BD!$R$5:$R$66000,$N94,BD!$AH$5:$AH$66000)))))/1000","v":3490945.0740937991},{"$f":"IF(AND($B$3=1,$C$3=1,$D$3=1),SUMIF(BD!$H$5:$H$66000,RelatSuporte!$D$86&RelatSuporte!$A94,BD!$AI$5:$AI$66000),(IF(AND($B$3>1,$C$3=1,$D$3=1),SUMIF(BD!$V$5:$V$66000,$O94,BD!$AI$5:$AI$66000),IF($D$3=1,SUMIF(BD!$AA$5:$AA$66000,$O94,BD!$AI$5:$AI$66000)))))/1000","v":3116761.3630734966},{"$f":"IF(AND($B$3=1,$C$3=1,$D$3=1),SUMIF(BD!$D$5:$D$66000,RelatSuporte!$C$86&RelatSuporte!$A94,BD!$AJ$5:$AJ$66000),(IF(AND($B$3>1,$C$3=1,$D$3=1),SUMIF(BD!$M$5:$M$66000,$N94,BD!$AJ$5:$AJ$66000),IF($D$3=1,SUMIF(BD!$R$5:$R$66000,$N94,BD!$AJ$5:$AJ$66000)))))/1000","v":1939611.8609598018},{"$f":"IF(AND($B$3=1,$C$3=1,$D$3=1),SUMIF(BD!$H$5:$H$66000,RelatSuporte!$D$86&RelatSuporte!$A94,BD!$AK$5:$AK$66000),(IF(AND($B$3>1,$C$3=1,$D$3=1),SUMIF(BD!$V$5:$V$66000,$O94,BD!$AK$5:$AK$66000),IF($D$3=1,SUMIF(BD!$AA$5:$AA$66000,$O94,BD!$AK$5:$AK$66000)))))/1000","v":1828433.157579903},null,{"$f":"IF($G$5=\"\",0,$G$5)&\"/\"&RelatSuporte!$C$86&RelatSuporte!$A94","v":"Total/201608"},{"$f":"IF($G$5=\"\",0,$G$5)&\"/\"&RelatSuporte!$D$86&RelatSuporte!$A94","v":"Total/201508"}]
["09","SETEMBRO",{"$f":"IF(AND($B$3=1,$C$3=1,$D$3=1),SUMIF(BD!$D$5:$D$66000,RelatSuporte!$C$86&RelatSuporte!$A95,BD!$AB$5:$AB$66000),(IF(AND($B$3>1,$C$3=1,$D$3=1),SUMIF(BD!$M$5:$M$66000,$N95,BD!$AB$5:$AB$66000),IF($D$3=1,SUMIF(BD!$R$5:$R$66000,$N95,BD!$AB$5:$AB$66000)))))/1000","v":14622190.578825314},{"$f":"IF(AND($B$3=1,$C$3=1,$D$3=1),SUMIF(BD!$H$5:$H$66000,RelatSuporte!$D$86&RelatSuporte!$A95,BD!$AC$5:$AC$66000),(IF(AND($B$3>1,$C$3=1,$D$3=1),SUMIF(BD!$V$5:$V$66000,$O95,BD!$AC$5:$AC$66000),IF($D$3=1,SUMIF(BD!$AA$5:$AA$66000,$O95,BD!$AC$5:$AC$66000)))))/1000","v":14089686.388990065},{"$f":"IF(AND($B$3=1,$C$3=1,$D$3=1),SUMIF(BD!$D$5:$D$66000,RelatSuporte!$C$86&RelatSuporte!$A95,BD!$AD$5:$AD$66000),(IF(AND($B$3>1,$C$3=1,$D$3=1),SUMIF(BD!$M$5:$M$66000,$N95,BD!$AD$5:$AD$66000),IF($D$3=1,SUMIF(BD!$R$5:$R$66000,$N95,BD!$AD$5:$AD$66000)))))/1000","v":13924366.784687096},{"$f":"IF(AND($B$3=1,$C$3=1,$D$3=1),SUMIF(BD!$H$5:$H$66000,RelatSuporte!$D$86&RelatSuporte!$A95,BD!$AE$5:$AE$66000),(IF(AND($B$3>1,$C$3=1,$D$3=1),SUMIF(BD!$V$5:$V$66000,$O95,BD!$AE$5:$AE$66000),IF($D$3=1,SUMIF(BD!$AA$5:$AA$66000,$O95,BD!$AE$5:$AE$66000)))))/1000","v":13355425.611335762},{"$f":"IF(AND($B$3=1,$C$3=1,$D$3=1),SUMIF(BD!$D$5:$D$66000,RelatSuporte!$C$86&RelatSuporte!$A95,BD!$AF$5:$AF$66000),(IF(AND($B$3>1,$C$3=1,$D$3=1),SUMIF(BD!$M$5:$M$66000,$N95,BD!$AF$5:$AF$66000),IF($D$3=1,SUMIF(BD!$R$5:$R$66000,$N95,BD!$AF$5:$AF$66000)))))/1000","v":6780327.975697997},{"$f":"IF(AND($B$3=1,$C$3=1,$D$3=1),SUMIF(BD!$H$5:$H$66000,RelatSuporte!$D$86&RelatSuporte!$A95,BD!$AG$5:$AG$66000),(IF(AND($B$3>1,$C$3=1,$D$3=1),SUMIF(BD!$V$5:$V$66000,$O95,BD!$AG$5:$AG$66000),IF($D$3=1,SUMIF(BD!$AA$5:$AA$66000,$O95,BD!$AG$5:$AG$66000)))))/1000","v":6709449.5335924048},{"$f":"IF(AND($B$3=1,$C$3=1,$D$3=1),SUMIF(BD!$D$5:$D$66000,RelatSuporte!$C$86&RelatSuporte!$A95,BD!$AH$5:$AH$66000),(IF(AND($B$3>1,$C$3=1,$D$3=1),SUMIF(BD!$M$5:$M$66000,$N95,BD!$AH$5:$AH$66000),IF($D$3=1,SUMIF(BD!$R$5:$R$66000,$N95,BD!$AH$5:$AH$66000)))))/1000","v":3179861.8829333051},{"$f":"IF(AND($B$3=1,$C$3=1,$D$3=1),SUMIF(BD!$H$5:$H$66000,RelatSuporte!$D$86&RelatSuporte!$A95,BD!$AI$5:$AI$66000),(IF(AND($B$3>1,$C$3=1,$D$3=1),SUMIF(BD!$V$5:$V$66000,$O95,BD!$AI$5:$AI$66000),IF($D$3=1,SUMIF(BD!$AA$5:$AA$66000,$O95,BD!$AI$5:$AI$66000)))))/1000","v":3132565.4906165977},{"$f":"IF(AND($B$3=1,$C$3=1,$D$3=1),SUMIF(BD!$D$5:$D$66000,RelatSuporte!$C$86&RelatSuporte!$A95,BD!$AJ$5:$AJ$66000),(IF(AND($B$3>1,$C$3=1,$D$3=1),SUMIF(BD!$M$5:$M$66000,$N95,BD!$AJ$5:$AJ$66000),IF($D$3=1,SUMIF(BD!$R$5:$R$66000,$N95,BD!$AJ$5:$AJ$66000)))))/1000","v":1874412.6125200978},{"$f":"IF(AND($B$3=1,$C$3=1,$D$3=1),SUMIF(BD!$H$5:$H$66000,RelatSuporte!$D$86&RelatSuporte!$A95,BD!$AK$5:$AK$66000),(IF(AND($B$3>1,$C$3=1,$D$3=1),SUMIF(BD!$V$5:$V$66000,$O95,BD!$AK$5:$AK$66000),IF($D$3=1,SUMIF(BD!$AA$5:$AA$66000,$O95,BD!$AK$5:$AK$66000)))))/1000","v":1806787.4235798994},null,{"$f":"IF($G$5=\"\",0,$G$5)&\"/\"&RelatSuporte!$C$86&RelatSuporte!$A95","v":"Total/201609"},{"$f":"IF($G$5=\"\",0,$G$5)&\"/\"&RelatSuporte!$D$86&RelatSuporte!$A95","v":"Total/201509"}]
["10","OUTUBRO",{"$f":"IF(AND($B$3=1,$C$3=1,$D$3=1),SUMIF(BD!$D$5:$D$66000,RelatSuporte!$C$86&RelatSuporte!$A96,BD!$AB$5:$AB$66000),(IF(AND($B$3>1,$C$3=1,$D$3=1),SUMIF(BD!$M$5:$M$66000,$N96,BD!$AB$5:$AB$66000),IF($D$3=1,SUMIF(BD!$R$5:$R$66000,$N96,BD!$AB$5:$AB$66000)))))/1000","v":15807514.392415114},{"$f":"IF(AND($B$3=1,$C$3=1,$D$3=1),SUMIF(BD!$H$5:$H$66000,RelatSuporte!$D$86&RelatSuporte!$A96,BD!$AC$5:$AC$66000),(IF(AND($B$3>1,$C$3=1,$D$3=1),SUMIF(BD!$V$5:$V$66000,$O96,BD!$AC$5:$AC$66000),IF($D$3=1,SUMIF(BD!$AA$5:$AA$66000,$O96,BD!$AC$5:$AC$66000)))))/1000","v":13482572.120949926},{"$f":"IF(AND($B$3=1,$C$3=1,$D$3=1),SUMIF(BD!$D$5:$D$66000,RelatSuporte!$C$86&RelatSuporte!$A96,BD!$AD$5:$AD$66000),(IF(AND($B$3>1,$C$3=1,$D$3=1),SUMIF(BD!$M$5:$M$66000,$N96,BD!$AD$5:$AD$66000),IF($D$3=1,SUMIF(BD!$R$5:$R$66000,$N96,BD!$AD$5:$AD$66000)))))/1000","v":15064290.651693814},{"$f":"IF(AND($B$3=1,$C$3=1,$D$3=1),SUMIF(BD!$H$5:$H$66000,RelatSuporte!$D$86&RelatSuporte!$A96,BD!$AE$5:$AE$66000),(IF(AND($B$3>1,$C$3=1,$D$3=1),SUMIF(BD!$V$5:$V$66000,$O96,BD!$AE$5:$AE$66000),IF($D$3=1,SUMIF(BD!$AA$5:$AA$66000,$O96,BD!$AE$5:$AE$66000)))))/1000","v":12793055.031163301},{"$f":"IF(AND($B$3=1,$C$3=1,$D$3=1),SUMIF(BD!$D$5:$D$66000,RelatSuporte!$C$86&RelatSuporte!$A96,BD!$AF$5:$AF$66000),(IF(AND($B$3>1,$C$3=1,$D$3=1),SUMIF(BD!$M$5:$M$66000,$N96,BD!$AF$5:$AF$66000),IF($D$3=1,SUMIF(BD!$R$5:$R$66000,$N96,BD!$AF$5:$AF$66000)))))/1000","v":6881038.8044776078},{"$f":"IF(AND($B$3=1,$C$3=1,$D$3=1),SUMIF(BD!$H$5:$H$66000,RelatSuporte!$D$86&RelatSuporte!$A96,BD!$AG$5:$AG$66000),(IF(AND($B$3>1,$C$3=1,$D$3=1),SUMIF(BD!$V$5:$V$66000,$O96,BD!$AG$5:$AG$66000),IF($D$3=1,SUMIF(BD!$AA$5:$AA$66000,$O96,BD!$AG$5:$AG$66000)))))/1000","v":6831709.2774097072},{"$f":"IF(AND($B$3=1,$C$3=1,$D$3=1),SUMIF(BD!$D$5:$D$66000,RelatSuporte!$C$86&RelatSuporte!$A96,BD!$AH$5:$AH$66000),(IF(AND($B$3>1,$C$3=1,$D$3=1),SUMIF(BD!$M$5:$M$66000,$N96,BD!$AH$5:$AH$66000),IF($D$3=1,SUMIF(BD!$R$5:$R$66000,$N96,BD!$AH$5:$AH$66000)))))/1000","v":3213630.0714862966},{"$f":"IF(AND($B$3=1,$C$3=1,$D$3=1),SUMIF(BD!$H$5:$H$66000,RelatSuporte!$D$86&RelatSuporte!$A96,BD!$AI$5:$AI$66000),(IF(AND($B$3>1,$C$3=1,$D$3=1),SUMIF(BD!$V$5:$V$66000,$O96,BD!$AI$5:$AI$66000),IF($D$3=1,SUMIF(BD!$AA$5:$AA$66000,$O96,BD!$AI$5:$AI$66000)))))/1000","v":3200834.8928104993},{"$f":"IF(AND($B$3=1,$C$3=1,$D$3=1),SUMIF(BD!$D$5:$D$66000,RelatSuporte!$C$86&RelatSuporte!$A96,BD!$AJ$5:$AJ$66000),(IF(AND($B$3>1,$C$3=1,$D$3=1),SUMIF(BD!$M$5:$M$66000,$N96,BD!$AJ$5:$AJ$66000),IF($D$3=1,SUMIF(BD!$R$5:$R$66000,$N96,BD!$AJ$5:$AJ$66000)))))/1000","v":1910432.5984598009},{"$f":"IF(AND($B$3=1,$C$3=1,$D$3=1),SUMIF(BD!$H$5:$H$66000,RelatSuporte!$D$86&RelatSuporte!$A96,BD!$AK$5:$AK$66000),(IF(AND($B$3>1,$C$3=1,$D$3=1),SUMIF(BD!$V$5:$V$66000,$O96,BD!$AK$5:$AK$66000),IF($D$3=1,SUMIF(BD!$AA$5:$AA$66000,$O96,BD!$AK$5:$AK$66000)))))/1000","v":1833227.6446200013},null,{"$f":"IF($G$5=\"\",0,$G$5)&\"/\"&RelatSuporte!$C$86&RelatSuporte!$A96","v":"Total/201610"},{"$f":"IF($G$5=\"\",0,$G$5)&\"/\"&RelatSuporte!$D$86&RelatSuporte!$A96","v":"Total/201510"}]
["11","NOVEMBRO",{"$f":"IF(AND($B$3=1,$C$3=1,$D$3=1),SUMIF(BD!$D$5:$D$66000,RelatSuporte!$C$86&RelatSuporte!$A97,BD!$AB$5:$AB$66000),(IF(AND($B$3>1,$C$3=1,$D$3=1),SUMIF(BD!$M$5:$M$66000,$N97,BD!$AB$5:$AB$66000),IF($D$3=1,SUMIF(BD!$R$5:$R$66000,$N97,BD!$AB$5:$AB$66000)))))/1000","v":18576137.113149289},{"$f":"IF(AND($B$3=1,$C$3=1,$D$3=1),SUMIF(BD!$H$5:$H$66000,RelatSuporte!$D$86&RelatSuporte!$A97,BD!$AC$5:$AC$66000),(IF(AND($B$3>1,$C$3=1,$D$3=1),SUMIF(BD!$V$5:$V$66000,$O97,BD!$AC$5:$AC$66000),IF($D$3=1,SUMIF(BD!$AA$5:$AA$66000,$O97,BD!$AC$5:$AC$66000)))))/1000","v":15728137.914580004},{"$f":"IF(AND($B$3=1,$C$3=1,$D$3=1),SUMIF(BD!$D$5:$D$66000,RelatSuporte!$C$86&RelatSuporte!$A97,BD!$AD$5:$AD$66000),(IF(AND($B$3>1,$C$3=1,$D$3=1),SUMIF(BD!$M$5:$M$66000,$N97,BD!$AD$5:$AD$66000),IF($D$3=1,SUMIF(BD!$R$5:$R$66000,$N97,BD!$AD$5:$AD$66000)))))/1000","v":17757495.20084561},{"$f":"IF(AND($B$3=1,$C$3=1,$D$3=1),SUMIF(BD!$H$5:$H$66000,RelatSuporte!$D$86&RelatSuporte!$A97,BD!$AE$5:$AE$66000),(IF(AND($B$3>1,$C$3=1,$D$3=1),SUMIF(BD!$V$5:$V$66000,$O97,BD!$AE$5:$AE$66000),IF($D$3=1,SUMIF(BD!$AA$5:$AA$66000,$O97,BD!$AE$5:$AE$66000)))))/1000","v":15061312.882397182},{"$f":"IF(AND($B$3=1,$C$3=1,$D$3=1),SUMIF(BD!$D$5:$D$66000,RelatSuporte!$C$86&RelatSuporte!$A97,BD!$AF$5:$AF$66000),(IF(AND($B$3>1,$C$3=1,$D$3=1),SUMIF(BD!$M$5:$M$66000,$N97,BD!$AF$5:$AF$66000),IF($D$3=1,SUMIF(BD!$R$5:$R$66000,$N97,BD!$AF$5:$AF$66000)))))/1000","v":6708045.7565118009},{"$f":"IF(AND($B$3=1,$C$3=1,$D$3=1),SUMIF(BD!$H$5:$H$66000,RelatSuporte!$D$86&RelatSuporte!$A97,BD!$AG$5:$AG$66000),(IF(AND($B$3>1,$C$3=1,$D$3=1),SUMIF(BD!$V$5:$V$66000,$O97,BD!$AG$5:$AG$66000),IF($D$3=1,SUMIF(BD!$AA$5:$AA$66000,$O97,BD!$AG$5:$AG$66000)))))/1000","v":6607852.1199072059},{"$f":"IF(AND($B$3=1,$C$3=1,$D$3=1),SUMIF(BD!$D$5:$D$66000,RelatSuporte!$C$86&RelatSuporte!$A97,BD!$AH$5:$AH$66000),(IF(AND($B$3>1,$C$3=1,$D$3=1),SUMIF(BD!$M$5:$M$66000,$N97,BD!$AH$5:$AH$66000),IF($D$3=1,SUMIF(BD!$R$5:$R$66000,$N97,BD!$AH$5:$AH$66000)))))/1000","v":3299254.5481720991},{"$f":"IF(AND($B$3=1,$C$3=1,$D$3=1),SUMIF(BD!$H$5:$H$66000,RelatSuporte!$D$86&RelatSuporte!$A97,BD!$AI$5:$AI$66000),(IF(AND($B$3>1,$C$3=1,$D$3=1),SUMIF(BD!$V$5:$V$66000,$O97,BD!$AI$5:$AI$66000),IF($D$3=1,SUMIF(BD!$AA$5:$AA$66000,$O97,BD!$AI$5:$AI$66000)))))/1000","v":3133526.286159697},{"$f":"IF(AND($B$3=1,$C$3=1,$D$3=1),SUMIF(BD!$D$5:$D$66000,RelatSuporte!$C$86&RelatSuporte!$A97,BD!$AJ$5:$AJ$66000),(IF(AND($B$3>1,$C$3=1,$D$3=1),SUMIF(BD!$M$5:$M$66000,$N97,BD!$AJ$5:$AJ$66000),IF($D$3=1,SUMIF(BD!$R$5:$R$66000,$N97,BD!$AJ$5:$AJ$66000)))))/1000","v":1908089.5253797993},{"$f":"IF(AND($B$3=1,$C$3=1,$D$3=1),SUMIF(BD!$H$5:$H$66000,RelatSuporte!$D$86&RelatSuporte!$A97,BD!$AK$5:$AK$66000),(IF(AND($B$3>1,$C$3=1,$D$3=1),SUMIF(BD!$V$5:$V$66000,$O97,BD!$AK$5:$AK$66000),IF($D$3=1,SUMIF(BD!$AA$5:$AA$66000,$O97,BD!$AK$5:$AK$66000)))))/1000","v":1784978.1326898993},null,{"$f":"IF($G$5=\"\",0,$G$5)&\"/\"&RelatSuporte!$C$86&RelatSuporte!$A97","v":"Total/201611"},{"$f":"IF($G$5=\"\",0,$G$5)&\"/\"&RelatSuporte!$D$86&RelatSuporte!$A97","v":"Total/201511"}]
["12","DEZEMBRO",{"$f":"IF(AND($B$3=1,$C$3=1,$D$3=1),SUMIF(BD!$D$5:$D$66000,RelatSuporte!$C$86&RelatSuporte!$A98,BD!$AB$5:$AB$66000),(IF(AND($B$3>1,$C$3=1,$D$3=1),SUMIF(BD!$M$5:$M$66000,$N98,BD!$AB$5:$AB$66000),IF($D$3=1,SUMIF(BD!$R$5:$R$66000,$N98,BD!$AB$5:$AB$66000)))))/1000","v":23971934.245949704},{"$f":"IF(AND($B$3=1,$C$3=1,$D$3=1),SUMIF(BD!$H$5:$H$66000,RelatSuporte!$D$86&RelatSuporte!$A98,BD!$AC$5:$AC$66000),(IF(AND($B$3>1,$C$3=1,$D$3=1),SUMIF(BD!$V$5:$V$66000,$O98,BD!$AC$5:$AC$66000),IF($D$3=1,SUMIF(BD!$AA$5:$AA$66000,$O98,BD!$AC$5:$AC$66000)))))/1000","v":20199488.564116683},{"$f":"IF(AND($B$3=1,$C$3=1,$D$3=1),SUMIF(BD!$D$5:$D$66000,RelatSuporte!$C$86&RelatSuporte!$A98,BD!$AD$5:$AD$66000),(IF(AND($B$3>1,$C$3=1,$D$3=1),SUMIF(BD!$M$5:$M$66000,$N98,BD!$AD$5:$AD$66000),IF($D$3=1,SUMIF(BD!$R$5:$R$66000,$N98,BD!$AD$5:$AD$66000)))))/1000","v":23231337.974975411},{"$f":"IF(AND($B$3=1,$C$3=1,$D$3=1),SUMIF(BD!$H$5:$H$66000,RelatSuporte!$D$86&RelatSuporte!$A98,BD!$AE$5:$AE$66000),(IF(AND($B$3>1,$C$3=1,$D$3=1),SUMIF(BD!$V$5:$V$66000,$O98,BD!$AE$5:$AE$66000),IF($D$3=1,SUMIF(BD!$AA$5:$AA$66000,$O98,BD!$AE$5:$AE$66000)))))/1000","v":19403201.120508082},{"$f":"IF(AND($B$3=1,$C$3=1,$D$3=1),SUMIF(BD!$D$5:$D$66000,RelatSuporte!$C$86&RelatSuporte!$A98,BD!$AF$5:$AF$66000),(IF(AND($B$3>1,$C$3=1,$D$3=1),SUMIF(BD!$M$5:$M$66000,$N98,BD!$AF$5:$AF$66000),IF($D$3=1,SUMIF(BD!$R$5:$R$66000,$N98,BD!$AF$5:$AF$66000)))))/1000","v":6841331.4898510119},{"$f":"IF(AND($B$3=1,$C$3=1,$D$3=1),SUMIF(BD!$H$5:$H$66000,RelatSuporte!$D$86&RelatSuporte!$A98,BD!$AG$5:$AG$66000),(IF(AND($B$3>1,$C$3=1,$D$3=1),SUMIF(BD!$V$5:$V$66000,$O98,BD!$AG$5:$AG$66000),IF($D$3=1,SUMIF(BD!$AA$5:$AA$66000,$O98,BD!$AG$5:$AG$66000)))))/1000","v":6684344.3364608074},{"$f":"IF(AND($B$3=1,$C$3=1,$D$3=1),SUMIF(BD!$D$5:$D$66000,RelatSuporte!$C$86&RelatSuporte!$A98,BD!$AH$5:$AH$66000),(IF(AND($B$3>1,$C$3=1,$D$3=1),SUMIF(BD!$M$5:$M$66000,$N98,BD!$AH$5:$AH$66000),IF($D$3=1,SUMIF(BD!$R$5:$R$66000,$N98,BD!$AH$5:$AH$66000)))))/1000","v":3288702.9195908029},{"$f":"IF(AND($B$3=1,$C$3=1,$D$3=1),SUMIF(BD!$H$5:$H$66000,RelatSuporte!$D$86&RelatSuporte!$A98,BD!$AI$5:$AI$66000),(IF(AND($B$3>1,$C$3=1,$D$3=1),SUMIF(BD!$V$5:$V$66000,$O98,BD!$AI$5:$AI$66000),IF($D$3=1,SUMIF(BD!$AA$5:$AA$66000,$O98,BD!$AI$5:$AI$66000)))))/1000","v":3430352.3191880011},{"$f":"IF(AND($B$3=1,$C$3=1,$D$3=1),SUMIF(BD!$D$5:$D$66000,RelatSuporte!$C$86&RelatSuporte!$A98,BD!$AJ$5:$AJ$66000),(IF(AND($B$3>1,$C$3=1,$D$3=1),SUMIF(BD!$M$5:$M$66000,$N98,BD!$AJ$5:$AJ$66000),IF($D$3=1,SUMIF(BD!$R$5:$R$66000,$N98,BD!$AJ$5:$AJ$66000)))))/1000","v":2091189.3502498998},{"$f":"IF(AND($B$3=1,$C$3=1,$D$3=1),SUMIF(BD!$H$5:$H$66000,RelatSuporte!$D$86&RelatSuporte!$A98,BD!$AK$5:$AK$66000),(IF(AND($B$3>1,$C$3=1,$D$3=1),SUMIF(BD!$V$5:$V$66000,$O98,BD!$AK$5:$AK$66000),IF($D$3=1,SUMIF(BD!$AA$5:$AA$66000,$O98,BD!$AK$5:$AK$66000)))))/1000","v":1870981.1953398983},null,{"$f":"IF($G$5=\"\",0,$G$5)&\"/\"&RelatSuporte!$C$86&RelatSuporte!$A98","v":"Total/201612"},{"$f":"IF($G$5=\"\",0,$G$5)&\"/\"&RelatSuporte!$D$86&RelatSuporte!$A98","v":"Total/201512"}]
[null,"TOTAL",{"$f":"SUM(C87:C98)","v":202251658.03540945},181230155.6561901,193732130.51301929,173356389.05143529,83564340.058389738,81133662.690561265,40697269.004137598,38051455.9250549,22756819.448128905,21424836.669329304]
[]
[null,{"$f":"IF(E5=9,-I101,IF(E5=42,I101,0))","v":0},"   MAPFRE NOSSA CAIXA",null,"04561",null,"PARTICIPAÇÃO DA MAPFRE =",null,0.51,null,null,null,null,"situação específica para a Mapfre"]
[null,null,"PARTICIPAÇÃO DA MAPFRE NA MAPFRE NOSSA CAIXA A SER ESTORNADA NA TOTALIZAÇÃO DO BCO. DO BRASIL E ACRESCIDA NA TOTALIZAÇÃO DA MAPFRE"]
[null,null,"PRÊMIO EMTIDO",null,"PRÊMIO RETIDO",null,"PRÊMIO GANHO",null,"SINISTRO RETIDO",null,"DESP. COMERCIAIS"]
[null,"PERÍODO",{"$f":"C86","v":"2016"},{"$f":"D86","v":"2015"},{"$f":"C104","v":"2016"},"2015","2016","2015","2016","2015","2016","2015"]
["01","JANEIRO",{"$f":"IF($B$101=0,0,(IF($C$3<>1,IF($E$5<500,SUMIF(BD!$O$5:$O$66000,VALUE($E$101)&\"/\"&$G$5&\"/\"&$C$7&$A105,BD!$AB$5:$AB$66000),0),IF(AND($B$3<>1,$E$5<500),SUMIF(BD!$K$5:$K$66000,VALUE($E$101)&\"/\"&$G$5&\"/\"&$C$7&$A105,BD!$AB$5:$AB$66000),IF(AND($B$3=1,$E$5<500),SUMIF(BD!$N$5:$N$66000,VALUE($E$101)&\"/\"&$C$7&$A105,BD!$AB$5:$AB$66000),0))))/1000*$B$101)","v":0},{"$f":"IF($B$101=0,0,(IF($C$3<>1,IF($E$5<500,SUMIF(BD!$X$5:$X$66000,VALUE($E$101)&\"/\"&$G$5&\"/\"&$D$7&$A105,BD!$AC$5:$AC$66000),0),IF(AND($B$3<>1,$E$5<500),SUMIF(BD!$T$5:$T$66000,VALUE($E$101)&\"/\"&$G$5&\"/\"&$D$7&$A105,BD!$AC$5:$AC$66000),IF(AND($B$3=1,$E$5<500),SUMIF(BD!$W$5:$W$66000,VALUE($E$101)&\"/\"&$D$7&$A105,BD!$AC$5:$AC$66000),0))))/1000*$B$101)","v":0},{"$f":"IF($B$101=0,0,(IF($C$3<>1,IF($E$5<500,SUMIF(BD!$O$5:$O$66000,VALUE($E$101)&\"/\"&$G$5&\"/\"&$C$7&$A105,BD!$AD$5:$AD$66000),0),IF(AND($B$3<>1,$E$5<500),SUMIF(BD!$K$5:$K$66000,VALUE($E$101)&\"/\"&$G$5&\"/\"&$C$7&$A105,BD!$AD$5:$AD$66000),IF(AND($B$3=1,$E$5<500),SUMIF(BD!$N$5:$N$66000,VALUE($E$101)&\"/\"&$C$7&$A105,BD!$AD$5:$AD$66000),0))))/1000*$B$101)","v":0},{"$f":"IF($B$101=0,0,(IF($C$3<>1,IF($E$5<500,SUMIF(BD!$X$5:$X$66000,VALUE($E$101)&\"/\"&$G$5&\"/\"&$D$7&$A105,BD!$AE$5:$AE$66000),0),IF(AND($B$3<>1,$E$5<500),SUMIF(BD!$T$5:$T$66000,VALUE($E$101)&\"/\"&$G$5&\"/\"&$D$7&$A105,BD!$AE$5:$AE$66000),IF(AND($B$3=1,$E$5<500),SUMIF(BD!$W$5:$W$66000,VALUE($E$101)&\"/\"&$D$7&$A105,BD!$AE$5:$AE$66000),0))))/1000*$B$101)","v":0},{"$f":"IF($B$101=0,0,(IF($C$3<>1,IF($E$5<500,SUMIF(BD!$O$5:$O$66000,VALUE($E$101)&\"/\"&$G$5&\"/\"&$C$7&$A105,BD!$AF$5:$AF$66000),0),IF(AND($B$3<>1,$E$5<500),SUMIF(BD!$K$5:$K$66000,VALUE($E$101)&\"/\"&$G$5&\"/\"&$C$7&$A105,BD!$AF$5:$AF$66000),IF(AND($B$3=1,$E$5<500),SUMIF(BD!$N$5:$N$66000,VALUE($E$101)&\"/\"&$C$7&$A105,BD!$AF$5:$AF$66000),0))))/1000*$B$101)","v":0},{"$f":"IF($B$101=0,0,(IF($C$3<>1,IF($E$5<500,SUMIF(BD!$X$5:$X$66000,VALUE($E$101)&\"/\"&$G$5&\"/\"&$D$7&$A105,BD!$AG$5:$AG$66000),0),IF(AND($B$3<>1,$E$5<500),SUMIF(BD!$T$5:$T$66000,VALUE($E$101)&\"/\"&$G$5&\"/\"&$D$7&$A105,BD!$AG$5:$AG$66000),IF(AND($B$3=1,$E$5<500),SUMIF(BD!$W$5:$W$66000,VALUE($E$101)&\"/\"&$D$7&$A105,BD!$AG$5:$AG$66000),0))))/1000*$B$101)","v":0},{"$f":"IF($B$101=0,0,(IF($C$3<>1,IF($E$5<500,SUMIF(BD!$O$5:$O$66000,VALUE($E$101)&\"/\"&$G$5&\"/\"&$C$7&$A105,BD!$AH$5:$AH$66000),0),IF(AND($B$3<>1,$E$5<500),SUMIF(BD!$K$5:$K$66000,VALUE($E$101)&\"/\"&$G$5&\"/\"&$C$7&$A105,BD!$AH$5:$AH$66000),IF(AND($B$3=1,$E$5<500),SUMIF(BD!$N$5:$N$66000,VALUE($E$101)&\"/\"&$C$7&$A105,BD!$AH$5:$AH$66000),0))))/1000*$B$101)","v":0},{"$f":"IF($B$101=0,0,(IF($C$3<>1,IF($E$5<500,SUMIF(BD!$X$5:$X$66000,VALUE($E$101)&\"/\"&$G$5&\"/\"&$D$7&$A105,BD!$AI$5:$AI$66000),0),IF(AND($B$3<>1,$E$5<500),SUMIF(BD!$T$5:$T$66000,VALUE($E$101)&\"/\"&$G$5&\"/\"&$D$7&$A105,BD!$AI$5:$AI$66000),IF(AND($B$3=1,$E$5<500),SUMIF(BD!$W$5:$W$66000,VALUE($E$101)&\"/\"&$D$7&$A105,BD!$AI$5:$AI$66000),0))))/1000*$B$101)","v":0},{"$f":"IF($B$101=0,0,(IF($C$3<>1,IF($E$5<500,SUMIF(BD!$O$5:$O$66000,VALUE($E$101)&\"/\"&$G$5&\"/\"&$C$7&$A105,BD!$AJ$5:$AJ$66000),0),IF(AND($B$3<>1,$E$5<500),SUMIF(BD!$K$5:$K$66000,VALUE($E$101)&\"/\"&$G$5&\"/\"&$C$7&$A105,BD!$AJ$5:$AJ$66000),IF(AND($B$3=1,$E$5<500),SUMIF(BD!$N$5:$N$66000,VALUE($E$101)&\"/\"&$C$7&$A105,BD!$AJ$5:$AJ$66000),0))))/1000*$B$101)","v":0},{"$f":"IF($B$101=0,0,(IF($C$3<>1,IF($E$5<500,SUMIF(BD!$X$5:$X$66000,VALUE($E$101)&\"/\"&$G$5&\"/\"&$D$7&$A105,BD!$AK$5:$AK$66000),0),IF(AND($B$3<>1,$E$5<500),SUMIF(BD!$T$5:$T$66000,VALUE($E$101)&\"/\"&$G$5&\"/\"&$D$7&$A105,BD!$AK$5:$AK$66000),IF(AND($B$3=1,$E$5<500),SUMIF(BD!$W$5:$W$66000,VALUE($E$101)&\"/\"&$D$7&$A105,BD!$AK$5:$AK$66000),0))))/1000*$B$101)","v":0},0]
["02","FEVEREIRO",{"$f":"IF($B$101=0,0,(IF($C$3<>1,IF($E$5<500,SUMIF(BD!$O$5:$O$66000,VALUE($E$101)&\"/\"&$G$5&\"/\"&$C$7&$A106,BD!$AB$5:$AB$66000),0),IF(AND($B$3<>1,$E$5<500),SUMIF(BD!$K$5:$K$66000,VALUE($E$101)&\"/\"&$G$5&\"/\"&$C$7&$A106,BD!$AB$5:$AB$66000),IF(AND($B$3=1,$E$5<500),SUMIF(BD!$N$5:$N$66000,VALUE($E$101)&\"/\"&$C$7&$A106,BD!$AB$5:$AB$66000),0))))/1000*$B$101)","v":0},{"$f":"IF($B$101=0,0,(IF($C$3<>1,IF($E$5<500,SUMIF(BD!$X$5:$X$66000,VALUE($E$101)&\"/\"&$G$5&\"/\"&$D$7&$A106,BD!$AC$5:$AC$66000),0),IF(AND($B$3<>1,$E$5<500),SUMIF(BD!$T$5:$T$66000,VALUE($E$101)&\"/\"&$G$5&\"/\"&$D$7&$A106,BD!$AC$5:$AC$66000),IF(AND($B$3=1,$E$5<500),SUMIF(BD!$W$5:$W$66000,VALUE($E$101)&\"/\"&$D$7&$A106,BD!$AC$5:$AC$66000),0))))/1000*$B$101)","v":0},{"$f":"IF($B$101=0,0,(IF($C$3<>1,IF($E$5<500,SUMIF(BD!$O$5:$O$66000,VALUE($E$101)&\"/\"&$G$5&\"/\"&$C$7&$A106,BD!$AD$5:$AD$66000),0),IF(AND($B$3<>1,$E$5<500),SUMIF(BD!$K$5:$K$66000,VALUE($E$101)&\"/\"&$G$5&\"/\"&$C$7&$A106,BD!$AD$5:$AD$66000),IF(AND($B$3=1,$E$5<500),SUMIF(BD!$N$5:$N$66000,VALUE($E$101)&\"/\"&$C$7&$A106,BD!$AD$5:$AD$66000),0))))/1000*$B$101)","v":0},{"$f":"IF($B$101=0,0,(IF($C$3<>1,IF($E$5<500,SUMIF(BD!$X$5:$X$66000,VALUE($E$101)&\"/\"&$G$5&\"/\"&$D$7&$A106,BD!$AE$5:$AE$66000),0),IF(AND($B$3<>1,$E$5<500),SUMIF(BD!$T$5:$T$66000,VALUE($E$101)&\"/\"&$G$5&\"/\"&$D$7&$A106,BD!$AE$5:$AE$66000),IF(AND($B$3=1,$E$5<500),SUMIF(BD!$W$5:$W$66000,VALUE($E$101)&\"/\"&$D$7&$A106,BD!$AE$5:$AE$66000),0))))/1000*$B$101)","v":0},{"$f":"IF($B$101=0,0,(IF($C$3<>1,IF($E$5<500,SUMIF(BD!$O$5:$O$66000,VALUE($E$101)&\"/\"&$G$5&\"/\"&$C$7&$A106,BD!$AF$5:$AF$66000),0),IF(AND($B$3<>1,$E$5<500),SUMIF(BD!$K$5:$K$66000,VALUE($E$101)&\"/\"&$G$5&\"/\"&$C$7&$A106,BD!$AF$5:$AF$66000),IF(AND($B$3=1,$E$5<500),SUMIF(BD!$N$5:$N$66000,VALUE($E$101)&\"/\"&$C$7&$A106,BD!$AF$5:$AF$66000),0))))/1000*$B$101)","v":0},{"$f":"IF($B$101=0,0,(IF($C$3<>1,IF($E$5<500,SUMIF(BD!$X$5:$X$66000,VALUE($E$101)&\"/\"&$G$5&\"/\"&$D$7&$A106,BD!$AG$5:$AG$66000),0),IF(AND($B$3<>1,$E$5<500),SUMIF(BD!$T$5:$T$66000,VALUE($E$101)&\"/\"&$G$5&\"/\"&$D$7&$A106,BD!$AG$5:$AG$66000),IF(AND($B$3=1,$E$5<500),SUMIF(BD!$W$5:$W$66000,VALUE($E$101)&\"/\"&$D$7&$A106,BD!$AG$5:$AG$66000),0))))/1000*$B$101)","v":0},{"$f":"IF($B$101=0,0,(IF($C$3<>1,IF($E$5<500,SUMIF(BD!$O$5:$O$66000,VALUE($E$101)&\"/\"&$G$5&\"/\"&$C$7&$A106,BD!$AH$5:$AH$66000),0),IF(AND($B$3<>1,$E$5<500),SUMIF(BD!$K$5:$K$66000,VALUE($E$101)&\"/\"&$G$5&\"/\"&$C$7&$A106,BD!$AH$5:$AH$66000),IF(AND($B$3=1,$E$5<500),SUMIF(BD!$N$5:$N$66000,VALUE($E$101)&\"/\"&$C$7&$A106,BD!$AH$5:$AH$66000),0))))/1000*$B$101)","v":0},{"$f":"IF($B$101=0,0,(IF($C$3<>1,IF($E$5<500,SUMIF(BD!$X$5:$X$66000,VALUE($E$101)&\"/\"&$G$5&\"/\"&$D$7&$A106,BD!$AI$5:$AI$66000),0),IF(AND($B$3<>1,$E$5<500),SUMIF(BD!$T$5:$T$66000,VALUE($E$101)&\"/\"&$G$5&\"/\"&$D$7&$A106,BD!$AI$5:$AI$66000),IF(AND($B$3=1,$E$5<500),SUMIF(BD!$W$5:$W$66000,VALUE($E$101)&\"/\"&$D$7&$A106,BD!$AI$5:$AI$66000),0))))/1000*$B$101)","v":0},{"$f":"IF($B$101=0,0,(IF($C$3<>1,IF($E$5<500,SUMIF(BD!$O$5:$O$66000,VALUE($E$101)&\"/\"&$G$5&\"/\"&$C$7&$A106,BD!$AJ$5:$AJ$66000),0),IF(AND($B$3<>1,$E$5<500),SUMIF(BD!$K$5:$K$66000,VALUE($E$101)&\"/\"&$G$5&\"/\"&$C$7&$A106,BD!$AJ$5:$AJ$66000),IF(AND($B$3=1,$E$5<500),SUMIF(BD!$N$5:$N$66000,VALUE($E$101)&\"/\"&$C$7&$A106,BD!$AJ$5:$AJ$66000),0))))/1000*$B$101)","v":0},{"$f":"IF($B$101=0,0,(IF($C$3<>1,IF($E$5<500,SUMIF(BD!$X$5:$X$66000,VALUE($E$101)&\"/\"&$G$5&\"/\"&$D$7&$A106,BD!$AK$5:$AK$66000),0),IF(AND($B$3<>1,$E$5<500),SUMIF(BD!$T$5:$T$66000,VALUE($E$101)&\"/\"&$G$5&\"/\"&$D$7&$A106,BD!$AK$5:$AK$66000),IF(AND($B$3=1,$E$5<500),SUMIF(BD!$W$5:$W$66000,VALUE($E$101)&\"/\"&$D$7&$A106,BD!$AK$5:$AK$66000),0))))/1000*$B$101)","v":0}]
["03","MARÇO",{"$f":"IF($B$101=0,0,(IF($C$3<>1,IF($E$5<500,SUMIF(BD!$O$5:$O$66000,VALUE($E$101)&\"/\"&$G$5&\"/\"&$C$7&$A107,BD!$AB$5:$AB$66000),0),IF(AND($B$3<>1,$E$5<500),SUMIF(BD!$K$5:$K$66000,VALUE($E$101)&\"/\"&$G$5&\"/\"&$C$7&$A107,BD!$AB$5:$AB$66000),IF(AND($B$3=1,$E$5<500),SUMIF(BD!$N$5:$N$66000,VALUE($E$101)&\"/\"&$C$7&$A107,BD!$AB$5:$AB$66000),0))))/1000*$B$101)","v":0},{"$f":"IF($B$101=0,0,(IF($C$3<>1,IF($E$5<500,SUMIF(BD!$X$5:$X$66000,VALUE($E$101)&\"/\"&$G$5&\"/\"&$D$7&$A107,BD!$AC$5:$AC$66000),0),IF(AND($B$3<>1,$E$5<500),SUMIF(BD!$T$5:$T$66000,VALUE($E$101)&\"/\"&$G$5&\"/\"&$D$7&$A107,BD!$AC$5:$AC$66000),IF(AND($B$3=1,$E$5<500),SUMIF(BD!$W$5:$W$66000,VALUE($E$101)&\"/\"&$D$7&$A107,BD!$AC$5:$AC$66000),0))))/1000*$B$101)","v":0},{"$f":"IF($B$101=0,0,(IF($C$3<>1,IF($E$5<500,SUMIF(BD!$O$5:$O$66000,VALUE($E$101)&\"/\"&$G$5&\"/\"&$C$7&$A107,BD!$AD$5:$AD$66000),0),IF(AND($B$3<>1,$E$5<500),SUMIF(BD!$K$5:$K$66000,VALUE($E$101)&\"/\"&$G$5&\"/\"&$C$7&$A107,BD!$AD$5:$AD$66000),IF(AND($B$3=1,$E$5<500),SUMIF(BD!$N$5:$N$66000,VALUE($E$101)&\"/\"&$C$7&$A107,BD!$AD$5:$AD$66000),0))))/1000*$B$101)","v":0},{"$f":"IF($B$101=0,0,(IF($C$3<>1,IF($E$5<500,SUMIF(BD!$X$5:$X$66000,VALUE($E$101)&\"/\"&$G$5&\"/\"&$D$7&$A107,BD!$AE$5:$AE$66000),0),IF(AND($B$3<>1,$E$5<500),SUMIF(BD!$T$5:$T$66000,VALUE($E$101)&\"/\"&$G$5&\"/\"&$D$7&$A107,BD!$AE$5:$AE$66000),IF(AND($B$3=1,$E$5<500),SUMIF(BD!$W$5:$W$66000,VALUE($E$101)&\"/\"&$D$7&$A107,BD!$AE$5:$AE$66000),0))))/1000*$B$101)","v":0},{"$f":"IF($B$101=0,0,(IF($C$3<>1,IF($E$5<500,SUMIF(BD!$O$5:$O$66000,VALUE($E$101)&\"/\"&$G$5&\"/\"&$C$7&$A107,BD!$AF$5:$AF$66000),0),IF(AND($B$3<>1,$E$5<500),SUMIF(BD!$K$5:$K$66000,VALUE($E$101)&\"/\"&$G$5&\"/\"&$C$7&$A107,BD!$AF$5:$AF$66000),IF(AND($B$3=1,$E$5<500),SUMIF(BD!$N$5:$N$66000,VALUE($E$101)&\"/\"&$C$7&$A107,BD!$AF$5:$AF$66000),0))))/1000*$B$101)","v":0},{"$f":"IF($B$101=0,0,(IF($C$3<>1,IF($E$5<500,SUMIF(BD!$X$5:$X$66000,VALUE($E$101)&\"/\"&$G$5&\"/\"&$D$7&$A107,BD!$AG$5:$AG$66000),0),IF(AND($B$3<>1,$E$5<500),SUMIF(BD!$T$5:$T$66000,VALUE($E$101)&\"/\"&$G$5&\"/\"&$D$7&$A107,BD!$AG$5:$AG$66000),IF(AND($B$3=1,$E$5<500),SUMIF(BD!$W$5:$W$66000,VALUE($E$101)&\"/\"&$D$7&$A107,BD!$AG$5:$AG$66000),0))))/1000*$B$101)","v":0},{"$f":"IF($B$101=0,0,(IF($C$3<>1,IF($E$5<500,SUMIF(BD!$O$5:$O$66000,VALUE($E$101)&\"/\"&$G$5&\"/\"&$C$7&$A107,BD!$AH$5:$AH$66000),0),IF(AND($B$3<>1,$E$5<500),SUMIF(BD!$K$5:$K$66000,VALUE($E$101)&\"/\"&$G$5&\"/\"&$C$7&$A107,BD!$AH$5:$AH$66000),IF(AND($B$3=1,$E$5<500),SUMIF(BD!$N$5:$N$66000,VALUE($E$101)&\"/\"&$C$7&$A107,BD!$AH$5:$AH$66000),0))))/1000*$B$101)","v":0},{"$f":"IF($B$101=0,0,(IF($C$3<>1,IF($E$5<500,SUMIF(BD!$X$5:$X$66000,VALUE($E$101)&\"/\"&$G$5&\"/\"&$D$7&$A107,BD!$AI$5:$AI$66000),0),IF(AND($B$3<>1,$E$5<500),SUMIF(BD!$T$5:$T$66000,VALUE($E$101)&\"/\"&$G$5&\"/\"&$D$7&$A107,BD!$AI$5:$AI$66000),IF(AND($B$3=1,$E$5<500),SUMIF(BD!$W$5:$W$66000,VALUE($E$101)&\"/\"&$D$7&$A107,BD!$AI$5:$AI$66000),0))))/1000*$B$101)","v":0},{"$f":"IF($B$101=0,0,(IF($C$3<>1,IF($E$5<500,SUMIF(BD!$O$5:$O$66000,VALUE($E$101)&\"/\"&$G$5&\"/\"&$C$7&$A107,BD!$AJ$5:$AJ$66000),0),IF(AND($B$3<>1,$E$5<500),SUMIF(BD!$K$5:$K$66000,VALUE($E$101)&\"/\"&$G$5&\"/\"&$C$7&$A107,BD!$AJ$5:$AJ$66000),IF(AND($B$3=1,$E$5<500),SUMIF(BD!$N$5:$N$66000,VALUE($E$101)&\"/\"&$C$7&$A107,BD!$AJ$5:$AJ$66000),0))))/1000*$B$101)","v":0},{"$f":"IF($B$101=0,0,(IF($C$3<>1,IF($E$5<500,SUMIF(BD!$X$5:$X$66000,VALUE($E$101)&\"/\"&$G$5&\"/\"&$D$7&$A107,BD!$AK$5:$AK$66000),0),IF(AND($B$3<>1,$E$5<500),SUMIF(BD!$T$5:$T$66000,VALUE($E$101)&\"/\"&$G$5&\"/\"&$D$7&$A107,BD!$AK$5:$AK$66000),IF(AND($B$3=1,$E$5<500),SUMIF(BD!$W$5:$W$66000,VALUE($E$101)&\"/\"&$D$7&$A107,BD!$AK$5:$AK$66000),0))))/1000*$B$101)","v":0}]
["04","ABRIL",{"$f":"IF($B$101=0,0,(IF($C$3<>1,IF($E$5<500,SUMIF(BD!$O$5:$O$66000,VALUE($E$101)&\"/\"&$G$5&\"/\"&$C$7&$A108,BD!$AB$5:$AB$66000),0),IF(AND($B$3<>1,$E$5<500),SUMIF(BD!$K$5:$K$66000,VALUE($E$101)&\"/\"&$G$5&\"/\"&$C$7&$A108,BD!$AB$5:$AB$66000),IF(AND($B$3=1,$E$5<500),SUMIF(BD!$N$5:$N$66000,VALUE($E$101)&\"/\"&$C$7&$A108,BD!$AB$5:$AB$66000),0))))/1000*$B$101)","v":0},{"$f":"IF($B$101=0,0,(IF($C$3<>1,IF($E$5<500,SUMIF(BD!$X$5:$X$66000,VALUE($E$101)&\"/\"&$G$5&\"/\"&$D$7&$A108,BD!$AC$5:$AC$66000),0),IF(AND($B$3<>1,$E$5<500),SUMIF(BD!$T$5:$T$66000,VALUE($E$101)&\"/\"&$G$5&\"/\"&$D$7&$A108,BD!$AC$5:$AC$66000),IF(AND($B$3=1,$E$5<500),SUMIF(BD!$W$5:$W$66000,VALUE($E$101)&\"/\"&$D$7&$A108,BD!$AC$5:$AC$66000),0))))/1000*$B$101)","v":0},{"$f":"IF($B$101=0,0,(IF($C$3<>1,IF($E$5<500,SUMIF(BD!$O$5:$O$66000,VALUE($E$101)&\"/\"&$G$5&\"/\"&$C$7&$A108,BD!$AD$5:$AD$66000),0),IF(AND($B$3<>1,$E$5<500),SUMIF(BD!$K$5:$K$66000,VALUE($E$101)&\"/\"&$G$5&\"/\"&$C$7&$A108,BD!$AD$5:$AD$66000),IF(AND($B$3=1,$E$5<500),SUMIF(BD!$N$5:$N$66000,VALUE($E$101)&\"/\"&$C$7&$A108,BD!$AD$5:$AD$66000),0))))/1000*$B$101)","v":0},{"$f":"IF($B$101=0,0,(IF($C$3<>1,IF($E$5<500,SUMIF(BD!$X$5:$X$66000,VALUE($E$101)&\"/\"&$G$5&\"/\"&$D$7&$A108,BD!$AE$5:$AE$66000),0),IF(AND($B$3<>1,$E$5<500),SUMIF(BD!$T$5:$T$66000,VALUE($E$101)&\"/\"&$G$5&\"/\"&$D$7&$A108,BD!$AE$5:$AE$66000),IF(AND($B$3=1,$E$5<500),SUMIF(BD!$W$5:$W$66000,VALUE($E$101)&\"/\"&$D$7&$A108,BD!$AE$5:$AE$66000),0))))/1000*$B$101)","v":0},{"$f":"IF($B$101=0,0,(IF($C$3<>1,IF($E$5<500,SUMIF(BD!$O$5:$O$66000,VALUE($E$101)&\"/\"&$G$5&\"/\"&$C$7&$A108,BD!$AF$5:$AF$66000),0),IF(AND($B$3<>1,$E$5<500),SUMIF(BD!$K$5:$K$66000,VALUE($E$101)&\"/\"&$G$5&\"/\"&$C$7&$A108,BD!$AF$5:$AF$66000),IF(AND($B$3=1,$E$5<500),SUMIF(BD!$N$5:$N$66000,VALUE($E$101)&\"/\"&$C$7&$A108,BD!$AF$5:$AF$66000),0))))/1000*$B$101)","v":0},{"$f":"IF($B$101=0,0,(IF($C$3<>1,IF($E$5<500,SUMIF(BD!$X$5:$X$66000,VALUE($E$101)&\"/\"&$G$5&\"/\"&$D$7&$A108,BD!$AG$5:$AG$66000),0),IF(AND($B$3<>1,$E$5<500),SUMIF(BD!$T$5:$T$66000,VALUE($E$101)&\"/\"&$G$5&\"/\"&$D$7&$A108,BD!$AG$5:$AG$66000),IF(AND($B$3=1,$E$5<500),SUMIF(BD!$W$5:$W$66000,VALUE($E$101)&\"/\"&$D$7&$A108,BD!$AG$5:$AG$66000),0))))/1000*$B$101)","v":0},{"$f":"IF($B$101=0,0,(IF($C$3<>1,IF($E$5<500,SUMIF(BD!$O$5:$O$66000,VALUE($E$101)&\"/\"&$G$5&\"/\"&$C$7&$A108,BD!$AH$5:$AH$66000),0),IF(AND($B$3<>1,$E$5<500),SUMIF(BD!$K$5:$K$66000,VALUE($E$101)&\"/\"&$G$5&\"/\"&$C$7&$A108,BD!$AH$5:$AH$66000),IF(AND($B$3=1,$E$5<500),SUMIF(BD!$N$5:$N$66000,VALUE($E$101)&\"/\"&$C$7&$A108,BD!$AH$5:$AH$66000),0))))/1000*$B$101)","v":0},{"$f":"IF($B$101=0,0,(IF($C$3<>1,IF($E$5<500,SUMIF(BD!$X$5:$X$66000,VALUE($E$101)&\"/\"&$G$5&\"/\"&$D$7&$A108,BD!$AI$5:$AI$66000),0),IF(AND($B$3<>1,$E$5<500),SUMIF(BD!$T$5:$T$66000,VALUE($E$101)&\"/\"&$G$5&\"/\"&$D$7&$A108,BD!$AI$5:$AI$66000),IF(AND($B$3=1,$E$5<500),SUMIF(BD!$W$5:$W$66000,VALUE($E$101)&\"/\"&$D$7&$A108,BD!$AI$5:$AI$66000),0))))/1000*$B$101)","v":0},{"$f":"IF($B$101=0,0,(IF($C$3<>1,IF($E$5<500,SUMIF(BD!$O$5:$O$66000,VALUE($E$101)&\"/\"&$G$5&\"/\"&$C$7&$A108,BD!$AJ$5:$AJ$66000),0),IF(AND($B$3<>1,$E$5<500),SUMIF(BD!$K$5:$K$66000,VALUE($E$101)&\"/\"&$G$5&\"/\"&$C$7&$A108,BD!$AJ$5:$AJ$66000),IF(AND($B$3=1,$E$5<500),SUMIF(BD!$N$5:$N$66000,VALUE($E$101)&\"/\"&$C$7&$A108,BD!$AJ$5:$AJ$66000),0))))/1000*$B$101)","v":0},{"$f":"IF($B$101=0,0,(IF($C$3<>1,IF($E$5<500,SUMIF(BD!$X$5:$X$66000,VALUE($E$101)&\"/\"&$G$5&\"/\"&$D$7&$A108,BD!$AK$5:$AK$66000),0),IF(AND($B$3<>1,$E$5<500),SUMIF(BD!$T$5:$T$66000,VALUE($E$101)&\"/\"&$G$5&\"/\"&$D$7&$A108,BD!$AK$5:$AK$66000),IF(AND($B$3=1,$E$5<500),SUMIF(BD!$W$5:$W$66000,VALUE($E$101)&\"/\"&$D$7&$A108,BD!$AK$5:$AK$66000),0))))/1000*$B$101)","v":0}]
["05","MAIO",{"$f":"IF($B$101=0,0,(IF($C$3<>1,IF($E$5<500,SUMIF(BD!$O$5:$O$66000,VALUE($E$101)&\"/\"&$G$5&\"/\"&$C$7&$A109,BD!$AB$5:$AB$66000),0),IF(AND($B$3<>1,$E$5<500),SUMIF(BD!$K$5:$K$66000,VALUE($E$101)&\"/\"&$G$5&\"/\"&$C$7&$A109,BD!$AB$5:$AB$66000),IF(AND($B$3=1,$E$5<500),SUMIF(BD!$N$5:$N$66000,VALUE($E$101)&\"/\"&$C$7&$A109,BD!$AB$5:$AB$66000),0))))/1000*$B$101)","v":0},{"$f":"IF($B$101=0,0,(IF($C$3<>1,IF($E$5<500,SUMIF(BD!$X$5:$X$66000,VALUE($E$101)&\"/\"&$G$5&\"/\"&$D$7&$A109,BD!$AC$5:$AC$66000),0),IF(AND($B$3<>1,$E$5<500),SUMIF(BD!$T$5:$T$66000,VALUE($E$101)&\"/\"&$G$5&\"/\"&$D$7&$A109,BD!$AC$5:$AC$66000),IF(AND($B$3=1,$E$5<500),SUMIF(BD!$W$5:$W$66000,VALUE($E$101)&\"/\"&$D$7&$A109,BD!$AC$5:$AC$66000),0))))/1000*$B$101)","v":0},{"$f":"IF($B$101=0,0,(IF($C$3<>1,IF($E$5<500,SUMIF(BD!$O$5:$O$66000,VALUE($E$101)&\"/\"&$G$5&\"/\"&$C$7&$A109,BD!$AD$5:$AD$66000),0),IF(AND($B$3<>1,$E$5<500),SUMIF(BD!$K$5:$K$66000,VALUE($E$101)&\"/\"&$G$5&\"/\"&$C$7&$A109,BD!$AD$5:$AD$66000),IF(AND($B$3=1,$E$5<500),SUMIF(BD!$N$5:$N$66000,VALUE($E$101)&\"/\"&$C$7&$A109,BD!$AD$5:$AD$66000),0))))/1000*$B$101)","v":0},{"$f":"IF($B$101=0,0,(IF($C$3<>1,IF($E$5<500,SUMIF(BD!$X$5:$X$66000,VALUE($E$101)&\"/\"&$G$5&\"/\"&$D$7&$A109,BD!$AE$5:$AE$66000),0),IF(AND($B$3<>1,$E$5<500),SUMIF(BD!$T$5:$T$66000,VALUE($E$101)&\"/\"&$G$5&\"/\"&$D$7&$A109,BD!$AE$5:$AE$66000),IF(AND($B$3=1,$E$5<500),SUMIF(BD!$W$5:$W$66000,VALUE($E$101)&\"/\"&$D$7&$A109,BD!$AE$5:$AE$66000),0))))/1000*$B$101)","v":0},{"$f":"IF($B$101=0,0,(IF($C$3<>1,IF($E$5<500,SUMIF(BD!$O$5:$O$66000,VALUE($E$101)&\"/\"&$G$5&\"/\"&$C$7&$A109,BD!$AF$5:$AF$66000),0),IF(AND($B$3<>1,$E$5<500),SUMIF(BD!$K$5:$K$66000,VALUE($E$101)&\"/\"&$G$5&\"/\"&$C$7&$A109,BD!$AF$5:$AF$66000),IF(AND($B$3=1,$E$5<500),SUMIF(BD!$N$5:$N$66000,VALUE($E$101)&\"/\"&$C$7&$A109,BD!$AF$5:$AF$66000),0))))/1000*$B$101)","v":0},{"$f":"IF($B$101=0,0,(IF($C$3<>1,IF($E$5<500,SUMIF(BD!$X$5:$X$66000,VALUE($E$101)&\"/\"&$G$5&\"/\"&$D$7&$A109,BD!$AG$5:$AG$66000),0),IF(AND($B$3<>1,$E$5<500),SUMIF(BD!$T$5:$T$66000,VALUE($E$101)&\"/\"&$G$5&\"/\"&$D$7&$A109,BD!$AG$5:$AG$66000),IF(AND($B$3=1,$E$5<500),SUMIF(BD!$W$5:$W$66000,VALUE($E$101)&\"/\"&$D$7&$A109,BD!$AG$5:$AG$66000),0))))/1000*$B$101)","v":0},{"$f":"IF($B$101=0,0,(IF($C$3<>1,IF($E$5<500,SUMIF(BD!$O$5:$O$66000,VALUE($E$101)&\"/\"&$G$5&\"/\"&$C$7&$A109,BD!$AH$5:$AH$66000),0),IF(AND($B$3<>1,$E$5<500),SUMIF(BD!$K$5:$K$66000,VALUE($E$101)&\"/\"&$G$5&\"/\"&$C$7&$A109,BD!$AH$5:$AH$66000),IF(AND($B$3=1,$E$5<500),SUMIF(BD!$N$5:$N$66000,VALUE($E$101)&\"/\"&$C$7&$A109,BD!$AH$5:$AH$66000),0))))/1000*$B$101)","v":0},{"$f":"IF($B$101=0,0,(IF($C$3<>1,IF($E$5<500,SUMIF(BD!$X$5:$X$66000,VALUE($E$101)&\"/\"&$G$5&\"/\"&$D$7&$A109,BD!$AI$5:$AI$66000),0),IF(AND($B$3<>1,$E$5<500),SUMIF(BD!$T$5:$T$66000,VALUE($E$101)&\"/\"&$G$5&\"/\"&$D$7&$A109,BD!$AI$5:$AI$66000),IF(AND($B$3=1,$E$5<500),SUMIF(BD!$W$5:$W$66000,VALUE($E$101)&\"/\"&$D$7&$A109,BD!$AI$5:$AI$66000),0))))/1000*$B$101)","v":0},{"$f":"IF($B$101=0,0,(IF($C$3<>1,IF($E$5<500,SUMIF(BD!$O$5:$O$66000,VALUE($E$101)&\"/\"&$G$5&\"/\"&$C$7&$A109,BD!$AJ$5:$AJ$66000),0),IF(AND($B$3<>1,$E$5<500),SUMIF(BD!$K$5:$K$66000,VALUE($E$101)&\"/\"&$G$5&\"/\"&$C$7&$A109,BD!$AJ$5:$AJ$66000),IF(AND($B$3=1,$E$5<500),SUMIF(BD!$N$5:$N$66000,VALUE($E$101)&\"/\"&$C$7&$A109,BD!$AJ$5:$AJ$66000),0))))/1000*$B$101)","v":0},{"$f":"IF($B$101=0,0,(IF($C$3<>1,IF($E$5<500,SUMIF(BD!$X$5:$X$66000,VALUE($E$101)&\"/\"&$G$5&\"/\"&$D$7&$A109,BD!$AK$5:$AK$66000),0),IF(AND($B$3<>1,$E$5<500),SUMIF(BD!$T$5:$T$66000,VALUE($E$101)&\"/\"&$G$5&\"/\"&$D$7&$A109,BD!$AK$5:$AK$66000),IF(AND($B$3=1,$E$5<500),SUMIF(BD!$W$5:$W$66000,VALUE($E$101)&\"/\"&$D$7&$A109,BD!$AK$5:$AK$66000),0))))/1000*$B$101)","v":0}]
["06","JUNHO",{"$f":"IF($B$101=0,0,(IF($C$3<>1,IF($E$5<500,SUMIF(BD!$O$5:$O$66000,VALUE($E$101)&\"/\"&$G$5&\"/\"&$C$7&$A110,BD!$AB$5:$AB$66000),0),IF(AND($B$3<>1,$E$5<500),SUMIF(BD!$K$5:$K$66000,VALUE($E$101)&\"/\"&$G$5&\"/\"&$C$7&$A110,BD!$AB$5:$AB$66000),IF(AND($B$3=1,$E$5<500),SUMIF(BD!$N$5:$N$66000,VALUE($E$101)&\"/\"&$C$7&$A110,BD!$AB$5:$AB$66000),0))))/1000*$B$101)","v":0},{"$f":"IF($B$101=0,0,(IF($C$3<>1,IF($E$5<500,SUMIF(BD!$X$5:$X$66000,VALUE($E$101)&\"/\"&$G$5&\"/\"&$D$7&$A110,BD!$AC$5:$AC$66000),0),IF(AND($B$3<>1,$E$5<500),SUMIF(BD!$T$5:$T$66000,VALUE($E$101)&\"/\"&$G$5&\"/\"&$D$7&$A110,BD!$AC$5:$AC$66000),IF(AND($B$3=1,$E$5<500),SUMIF(BD!$W$5:$W$66000,VALUE($E$101)&\"/\"&$D$7&$A110,BD!$AC$5:$AC$66000),0))))/1000*$B$101)","v":0},{"$f":"IF($B$101=0,0,(IF($C$3<>1,IF($E$5<500,SUMIF(BD!$O$5:$O$66000,VALUE($E$101)&\"/\"&$G$5&\"/\"&$C$7&$A110,BD!$AD$5:$AD$66000),0),IF(AND($B$3<>1,$E$5<500),SUMIF(BD!$K$5:$K$66000,VALUE($E$101)&\"/\"&$G$5&\"/\"&$C$7&$A110,BD!$AD$5:$AD$66000),IF(AND($B$3=1,$E$5<500),SUMIF(BD!$N$5:$N$66000,VALUE($E$101)&\"/\"&$C$7&$A110,BD!$AD$5:$AD$66000),0))))/1000*$B$101)","v":0},{"$f":"IF($B$101=0,0,(IF($C$3<>1,IF($E$5<500,SUMIF(BD!$X$5:$X$66000,VALUE($E$101)&\"/\"&$G$5&\"/\"&$D$7&$A110,BD!$AE$5:$AE$66000),0),IF(AND($B$3<>1,$E$5<500),SUMIF(BD!$T$5:$T$66000,VALUE($E$101)&\"/\"&$G$5&\"/\"&$D$7&$A110,BD!$AE$5:$AE$66000),IF(AND($B$3=1,$E$5<500),SUMIF(BD!$W$5:$W$66000,VALUE($E$101)&\"/\"&$D$7&$A110,BD!$AE$5:$AE$66000),0))))/1000*$B$101)","v":0},{"$f":"IF($B$101=0,0,(IF($C$3<>1,IF($E$5<500,SUMIF(BD!$O$5:$O$66000,VALUE($E$101)&\"/\"&$G$5&\"/\"&$C$7&$A110,BD!$AF$5:$AF$66000),0),IF(AND($B$3<>1,$E$5<500),SUMIF(BD!$K$5:$K$66000,VALUE($E$101)&\"/\"&$G$5&\"/\"&$C$7&$A110,BD!$AF$5:$AF$66000),IF(AND($B$3=1,$E$5<500),SUMIF(BD!$N$5:$N$66000,VALUE($E$101)&\"/\"&$C$7&$A110,BD!$AF$5:$AF$66000),0))))/1000*$B$101)","v":0},{"$f":"IF($B$101=0,0,(IF($C$3<>1,IF($E$5<500,SUMIF(BD!$X$5:$X$66000,VALUE($E$101)&\"/\"&$G$5&\"/\"&$D$7&$A110,BD!$AG$5:$AG$66000),0),IF(AND($B$3<>1,$E$5<500),SUMIF(BD!$T$5:$T$66000,VALUE($E$101)&\"/\"&$G$5&\"/\"&$D$7&$A110,BD!$AG$5:$AG$66000),IF(AND($B$3=1,$E$5<500),SUMIF(BD!$W$5:$W$66000,VALUE($E$101)&\"/\"&$D$7&$A110,BD!$AG$5:$AG$66000),0))))/1000*$B$101)","v":0},{"$f":"IF($B$101=0,0,(IF($C$3<>1,IF($E$5<500,SUMIF(BD!$O$5:$O$66000,VALUE($E$101)&\"/\"&$G$5&\"/\"&$C$7&$A110,BD!$AH$5:$AH$66000),0),IF(AND($B$3<>1,$E$5<500),SUMIF(BD!$K$5:$K$66000,VALUE($E$101)&\"/\"&$G$5&\"/\"&$C$7&$A110,BD!$AH$5:$AH$66000),IF(AND($B$3=1,$E$5<500),SUMIF(BD!$N$5:$N$66000,VALUE($E$101)&\"/\"&$C$7&$A110,BD!$AH$5:$AH$66000),0))))/1000*$B$101)","v":0},{"$f":"IF($B$101=0,0,(IF($C$3<>1,IF($E$5<500,SUMIF(BD!$X$5:$X$66000,VALUE($E$101)&\"/\"&$G$5&\"/\"&$D$7&$A110,BD!$AI$5:$AI$66000),0),IF(AND($B$3<>1,$E$5<500),SUMIF(BD!$T$5:$T$66000,VALUE($E$101)&\"/\"&$G$5&\"/\"&$D$7&$A110,BD!$AI$5:$AI$66000),IF(AND($B$3=1,$E$5<500),SUMIF(BD!$W$5:$W$66000,VALUE($E$101)&\"/\"&$D$7&$A110,BD!$AI$5:$AI$66000),0))))/1000*$B$101)","v":0},{"$f":"IF($B$101=0,0,(IF($C$3<>1,IF($E$5<500,SUMIF(BD!$O$5:$O$66000,VALUE($E$101)&\"/\"&$G$5&\"/\"&$C$7&$A110,BD!$AJ$5:$AJ$66000),0),IF(AND($B$3<>1,$E$5<500),SUMIF(BD!$K$5:$K$66000,VALUE($E$101)&\"/\"&$G$5&\"/\"&$C$7&$A110,BD!$AJ$5:$AJ$66000),IF(AND($B$3=1,$E$5<500),SUMIF(BD!$N$5:$N$66000,VALUE($E$101)&\"/\"&$C$7&$A110,BD!$AJ$5:$AJ$66000),0))))/1000*$B$101)","v":0},{"$f":"IF($B$101=0,0,(IF($C$3<>1,IF($E$5<500,SUMIF(BD!$X$5:$X$66000,VALUE($E$101)&\"/\"&$G$5&\"/\"&$D$7&$A110,BD!$AK$5:$AK$66000),0),IF(AND($B$3<>1,$E$5<500),SUMIF(BD!$T$5:$T$66000,VALUE($E$101)&\"/\"&$G$5&\"/\"&$D$7&$A110,BD!$AK$5:$AK$66000),IF(AND($B$3=1,$E$5<500),SUMIF(BD!$W$5:$W$66000,VALUE($E$101)&\"/\"&$D$7&$A110,BD!$AK$5:$AK$66000),0))))/1000*$B$101)","v":0}]
["07","JULHO",{"$f":"IF($B$101=0,0,(IF($C$3<>1,IF($E$5<500,SUMIF(BD!$O$5:$O$66000,VALUE($E$101)&\"/\"&$G$5&\"/\"&$C$7&$A111,BD!$AB$5:$AB$66000),0),IF(AND($B$3<>1,$E$5<500),SUMIF(BD!$K$5:$K$66000,VALUE($E$101)&\"/\"&$G$5&\"/\"&$C$7&$A111,BD!$AB$5:$AB$66000),IF(AND($B$3=1,$E$5<500),SUMIF(BD!$N$5:$N$66000,VALUE($E$101)&\"/\"&$C$7&$A111,BD!$AB$5:$AB$66000),0))))/1000*$B$101)","v":0},{"$f":"IF($B$101=0,0,(IF($C$3<>1,IF($E$5<500,SUMIF(BD!$X$5:$X$66000,VALUE($E$101)&\"/\"&$G$5&\"/\"&$D$7&$A111,BD!$AC$5:$AC$66000),0),IF(AND($B$3<>1,$E$5<500),SUMIF(BD!$T$5:$T$66000,VALUE($E$101)&\"/\"&$G$5&\"/\"&$D$7&$A111,BD!$AC$5:$AC$66000),IF(AND($B$3=1,$E$5<500),SUMIF(BD!$W$5:$W$66000,VALUE($E$101)&\"/\"&$D$7&$A111,BD!$AC$5:$AC$66000),0))))/1000*$B$101)","v":0},{"$f":"IF($B$101=0,0,(IF($C$3<>1,IF($E$5<500,SUMIF(BD!$O$5:$O$66000,VALUE($E$101)&\"/\"&$G$5&\"/\"&$C$7&$A111,BD!$AD$5:$AD$66000),0),IF(AND($B$3<>1,$E$5<500),SUMIF(BD!$K$5:$K$66000,VALUE($E$101)&\"/\"&$G$5&\"/\"&$C$7&$A111,BD!$AD$5:$AD$66000),IF(AND($B$3=1,$E$5<500),SUMIF(BD!$N$5:$N$66000,VALUE($E$101)&\"/\"&$C$7&$A111,BD!$AD$5:$AD$66000),0))))/1000*$B$101)","v":0},{"$f":"IF($B$101=0,0,(IF($C$3<>1,IF($E$5<500,SUMIF(BD!$X$5:$X$66000,VALUE($E$101)&\"/\"&$G$5&\"/\"&$D$7&$A111,BD!$AE$5:$AE$66000),0),IF(AND($B$3<>1,$E$5<500),SUMIF(BD!$T$5:$T$66000,VALUE($E$101)&\"/\"&$G$5&\"/\"&$D$7&$A111,BD!$AE$5:$AE$66000),IF(AND($B$3=1,$E$5<500),SUMIF(BD!$W$5:$W$66000,VALUE($E$101)&\"/\"&$D$7&$A111,BD!$AE$5:$AE$66000),0))))/1000*$B$101)","v":0},{"$f":"IF($B$101=0,0,(IF($C$3<>1,IF($E$5<500,SUMIF(BD!$O$5:$O$66000,VALUE($E$101)&\"/\"&$G$5&\"/\"&$C$7&$A111,BD!$AF$5:$AF$66000),0),IF(AND($B$3<>1,$E$5<500),SUMIF(BD!$K$5:$K$66000,VALUE($E$101)&\"/\"&$G$5&\"/\"&$C$7&$A111,BD!$AF$5:$AF$66000),IF(AND($B$3=1,$E$5<500),SUMIF(BD!$N$5:$N$66000,VALUE($E$101)&\"/\"&$C$7&$A111,BD!$AF$5:$AF$66000),0))))/1000*$B$101)","v":0},{"$f":"IF($B$101=0,0,(IF($C$3<>1,IF($E$5<500,SUMIF(BD!$X$5:$X$66000,VALUE($E$101)&\"/\"&$G$5&\"/\"&$D$7&$A111,BD!$AG$5:$AG$66000),0),IF(AND($B$3<>1,$E$5<500),SUMIF(BD!$T$5:$T$66000,VALUE($E$101)&\"/\"&$G$5&\"/\"&$D$7&$A111,BD!$AG$5:$AG$66000),IF(AND($B$3=1,$E$5<500),SUMIF(BD!$W$5:$W$66000,VALUE($E$101)&\"/\"&$D$7&$A111,BD!$AG$5:$AG$66000),0))))/1000*$B$101)","v":0},{"$f":"IF($B$101=0,0,(IF($C$3<>1,IF($E$5<500,SUMIF(BD!$O$5:$O$66000,VALUE($E$101)&\"/\"&$G$5&\"/\"&$C$7&$A111,BD!$AH$5:$AH$66000),0),IF(AND($B$3<>1,$E$5<500),SUMIF(BD!$K$5:$K$66000,VALUE($E$101)&\"/\"&$G$5&\"/\"&$C$7&$A111,BD!$AH$5:$AH$66000),IF(AND($B$3=1,$E$5<500),SUMIF(BD!$N$5:$N$66000,VALUE($E$101)&\"/\"&$C$7&$A111,BD!$AH$5:$AH$66000),0))))/1000*$B$101)","v":0},{"$f":"IF($B$101=0,0,(IF($C$3<>1,IF($E$5<500,SUMIF(BD!$X$5:$X$66000,VALUE($E$101)&\"/\"&$G$5&\"/\"&$D$7&$A111,BD!$AI$5:$AI$66000),0),IF(AND($B$3<>1,$E$5<500),SUMIF(BD!$T$5:$T$66000,VALUE($E$101)&\"/\"&$G$5&\"/\"&$D$7&$A111,BD!$AI$5:$AI$66000),IF(AND($B$3=1,$E$5<500),SUMIF(BD!$W$5:$W$66000,VALUE($E$101)&\"/\"&$D$7&$A111,BD!$AI$5:$AI$66000),0))))/1000*$B$101)","v":0},{"$f":"IF($B$101=0,0,(IF($C$3<>1,IF($E$5<500,SUMIF(BD!$O$5:$O$66000,VALUE($E$101)&\"/\"&$G$5&\"/\"&$C$7&$A111,BD!$AJ$5:$AJ$66000),0),IF(AND($B$3<>1,$E$5<500),SUMIF(BD!$K$5:$K$66000,VALUE($E$101)&\"/\"&$G$5&\"/\"&$C$7&$A111,BD!$AJ$5:$AJ$66000),IF(AND($B$3=1,$E$5<500),SUMIF(BD!$N$5:$N$66000,VALUE($E$101)&\"/\"&$C$7&$A111,BD!$AJ$5:$AJ$66000),0))))/1000*$B$101)","v":0},{"$f":"IF($B$101=0,0,(IF($C$3<>1,IF($E$5<500,SUMIF(BD!$X$5:$X$66000,VALUE($E$101)&\"/\"&$G$5&\"/\"&$D$7&$A111,BD!$AK$5:$AK$66000),0),IF(AND($B$3<>1,$E$5<500),SUMIF(BD!$T$5:$T$66000,VALUE($E$101)&\"/\"&$G$5&\"/\"&$D$7&$A111,BD!$AK$5:$AK$66000),IF(AND($B$3=1,$E$5<500),SUMIF(BD!$W$5:$W$66000,VALUE($E$101)&\"/\"&$D$7&$A111,BD!$AK$5:$AK$66000),0))))/1000*$B$101)","v":0}]
["08","AGOSTO",{"$f":"IF($B$101=0,0,(IF($C$3<>1,IF($E$5<500,SUMIF(BD!$O$5:$O$66000,VALUE($E$101)&\"/\"&$G$5&\"/\"&$C$7&$A112,BD!$AB$5:$AB$66000),0),IF(AND($B$3<>1,$E$5<500),SUMIF(BD!$K$5:$K$66000,VALUE($E$101)&\"/\"&$G$5&\"/\"&$C$7&$A112,BD!$AB$5:$AB$66000),IF(AND($B$3=1,$E$5<500),SUMIF(BD!$N$5:$N$66000,VALUE($E$101)&\"/\"&$C$7&$A112,BD!$AB$5:$AB$66000),0))))/1000*$B$101)","v":0},{"$f":"IF($B$101=0,0,(IF($C$3<>1,IF($E$5<500,SUMIF(BD!$X$5:$X$66000,VALUE($E$101)&\"/\"&$G$5&\"/\"&$D$7&$A112,BD!$AC$5:$AC$66000),0),IF(AND($B$3<>1,$E$5<500),SUMIF(BD!$T$5:$T$66000,VALUE($E$101)&\"/\"&$G$5&\"/\"&$D$7&$A112,BD!$AC$5:$AC$66000),IF(AND($B$3=1,$E$5<500),SUMIF(BD!$W$5:$W$66000,VALUE($E$101)&\"/\"&$D$7&$A112,BD!$AC$5:$AC$66000),0))))/1000*$B$101)","v":0},{"$f":"IF($B$101=0,0,(IF($C$3<>1,IF($E$5<500,SUMIF(BD!$O$5:$O$66000,VALUE($E$101)&\"/\"&$G$5&\"/\"&$C$7&$A112,BD!$AD$5:$AD$66000),0),IF(AND($B$3<>1,$E$5<500),SUMIF(BD!$K$5:$K$66000,VALUE($E$101)&\"/\"&$G$5&\"/\"&$C$7&$A112,BD!$AD$5:$AD$66000),IF(AND($B$3=1,$E$5<500),SUMIF(BD!$N$5:$N$66000,VALUE($E$101)&\"/\"&$C$7&$A112,BD!$AD$5:$AD$66000),0))))/1000*$B$101)","v":0},{"$f":"IF($B$101=0,0,(IF($C$3<>1,IF($E$5<500,SUMIF(BD!$X$5:$X$66000,VALUE($E$101)&\"/\"&$G$5&\"/\"&$D$7&$A112,BD!$AE$5:$AE$66000),0),IF(AND($B$3<>1,$E$5<500),SUMIF(BD!$T$5:$T$66000,VALUE($E$101)&\"/\"&$G$5&\"/\"&$D$7&$A112,BD!$AE$5:$AE$66000),IF(AND($B$3=1,$E$5<500),SUMIF(BD!$W$5:$W$66000,VALUE($E$101)&\"/\"&$D$7&$A112,BD!$AE$5:$AE$66000),0))))/1000*$B$101)","v":0},{"$f":"IF($B$101=0,0,(IF($C$3<>1,IF($E$5<500,SUMIF(BD!$O$5:$O$66000,VALUE($E$101)&\"/\"&$G$5&\"/\"&$C$7&$A112,BD!$AF$5:$AF$66000),0),IF(AND($B$3<>1,$E$5<500),SUMIF(BD!$K$5:$K$66000,VALUE($E$101)&\"/\"&$G$5&\"/\"&$C$7&$A112,BD!$AF$5:$AF$66000),IF(AND($B$3=1,$E$5<500),SUMIF(BD!$N$5:$N$66000,VALUE($E$101)&\"/\"&$C$7&$A112,BD!$AF$5:$AF$66000),0))))/1000*$B$101)","v":0},{"$f":"IF($B$101=0,0,(IF($C$3<>1,IF($E$5<500,SUMIF(BD!$X$5:$X$66000,VALUE($E$101)&\"/\"&$G$5&\"/\"&$D$7&$A112,BD!$AG$5:$AG$66000),0),IF(AND($B$3<>1,$E$5<500),SUMIF(BD!$T$5:$T$66000,VALUE($E$101)&\"/\"&$G$5&\"/\"&$D$7&$A112,BD!$AG$5:$AG$66000),IF(AND($B$3=1,$E$5<500),SUMIF(BD!$W$5:$W$66000,VALUE($E$101)&\"/\"&$D$7&$A112,BD!$AG$5:$AG$66000),0))))/1000*$B$101)","v":0},{"$f":"IF($B$101=0,0,(IF($C$3<>1,IF($E$5<500,SUMIF(BD!$O$5:$O$66000,VALUE($E$101)&\"/\"&$G$5&\"/\"&$C$7&$A112,BD!$AH$5:$AH$66000),0),IF(AND($B$3<>1,$E$5<500),SUMIF(BD!$K$5:$K$66000,VALUE($E$101)&\"/\"&$G$5&\"/\"&$C$7&$A112,BD!$AH$5:$AH$66000),IF(AND($B$3=1,$E$5<500),SUMIF(BD!$N$5:$N$66000,VALUE($E$101)&\"/\"&$C$7&$A112,BD!$AH$5:$AH$66000),0))))/1000*$B$101)","v":0},{"$f":"IF($B$101=0,0,(IF($C$3<>1,IF($E$5<500,SUMIF(BD!$X$5:$X$66000,VALUE($E$101)&\"/\"&$G$5&\"/\"&$D$7&$A112,BD!$AI$5:$AI$66000),0),IF(AND($B$3<>1,$E$5<500),SUMIF(BD!$T$5:$T$66000,VALUE($E$101)&\"/\"&$G$5&\"/\"&$D$7&$A112,BD!$AI$5:$AI$66000),IF(AND($B$3=1,$E$5<500),SUMIF(BD!$W$5:$W$66000,VALUE($E$101)&\"/\"&$D$7&$A112,BD!$AI$5:$AI$66000),0))))/1000*$B$101)","v":0},{"$f":"IF($B$101=0,0,(IF($C$3<>1,IF($E$5<500,SUMIF(BD!$O$5:$O$66000,VALUE($E$101)&\"/\"&$G$5&\"/\"&$C$7&$A112,BD!$AJ$5:$AJ$66000),0),IF(AND($B$3<>1,$E$5<500),SUMIF(BD!$K$5:$K$66000,VALUE($E$101)&\"/\"&$G$5&\"/\"&$C$7&$A112,BD!$AJ$5:$AJ$66000),IF(AND($B$3=1,$E$5<500),SUMIF(BD!$N$5:$N$66000,VALUE($E$101)&\"/\"&$C$7&$A112,BD!$AJ$5:$AJ$66000),0))))/1000*$B$101)","v":0},{"$f":"IF($B$101=0,0,(IF($C$3<>1,IF($E$5<500,SUMIF(BD!$X$5:$X$66000,VALUE($E$101)&\"/\"&$G$5&\"/\"&$D$7&$A112,BD!$AK$5:$AK$66000),0),IF(AND($B$3<>1,$E$5<500),SUMIF(BD!$T$5:$T$66000,VALUE($E$101)&\"/\"&$G$5&\"/\"&$D$7&$A112,BD!$AK$5:$AK$66000),IF(AND($B$3=1,$E$5<500),SUMIF(BD!$W$5:$W$66000,VALUE($E$101)&\"/\"&$D$7&$A112,BD!$AK$5:$AK$66000),0))))/1000*$B$101)","v":0}]
["09","SETEMBRO",{"$f":"IF($B$101=0,0,(IF($C$3<>1,IF($E$5<500,SUMIF(BD!$O$5:$O$66000,VALUE($E$101)&\"/\"&$G$5&\"/\"&$C$7&$A113,BD!$AB$5:$AB$66000),0),IF(AND($B$3<>1,$E$5<500),SUMIF(BD!$K$5:$K$66000,VALUE($E$101)&\"/\"&$G$5&\"/\"&$C$7&$A113,BD!$AB$5:$AB$66000),IF(AND($B$3=1,$E$5<500),SUMIF(BD!$N$5:$N$66000,VALUE($E$101)&\"/\"&$C$7&$A113,BD!$AB$5:$AB$66000),0))))/1000*$B$101)","v":0},{"$f":"IF($B$101=0,0,(IF($C$3<>1,IF($E$5<500,SUMIF(BD!$X$5:$X$66000,VALUE($E$101)&\"/\"&$G$5&\"/\"&$D$7&$A113,BD!$AC$5:$AC$66000),0),IF(AND($B$3<>1,$E$5<500),SUMIF(BD!$T$5:$T$66000,VALUE($E$101)&\"/\"&$G$5&\"/\"&$D$7&$A113,BD!$AC$5:$AC$66000),IF(AND($B$3=1,$E$5<500),SUMIF(BD!$W$5:$W$66000,VALUE($E$101)&\"/\"&$D$7&$A113,BD!$AC$5:$AC$66000),0))))/1000*$B$101)","v":0},{"$f":"IF($B$101=0,0,(IF($C$3<>1,IF($E$5<500,SUMIF(BD!$O$5:$O$66000,VALUE($E$101)&\"/\"&$G$5&\"/\"&$C$7&$A113,BD!$AD$5:$AD$66000),0),IF(AND($B$3<>1,$E$5<500),SUMIF(BD!$K$5:$K$66000,VALUE($E$101)&\"/\"&$G$5&\"/\"&$C$7&$A113,BD!$AD$5:$AD$66000),IF(AND($B$3=1,$E$5<500),SUMIF(BD!$N$5:$N$66000,VALUE($E$101)&\"/\"&$C$7&$A113,BD!$AD$5:$AD$66000),0))))/1000*$B$101)","v":0},{"$f":"IF($B$101=0,0,(IF($C$3<>1,IF($E$5<500,SUMIF(BD!$X$5:$X$66000,VALUE($E$101)&\"/\"&$G$5&\"/\"&$D$7&$A113,BD!$AE$5:$AE$66000),0),IF(AND($B$3<>1,$E$5<500),SUMIF(BD!$T$5:$T$66000,VALUE($E$101)&\"/\"&$G$5&\"/\"&$D$7&$A113,BD!$AE$5:$AE$66000),IF(AND($B$3=1,$E$5<500),SUMIF(BD!$W$5:$W$66000,VALUE($E$101)&\"/\"&$D$7&$A113,BD!$AE$5:$AE$66000),0))))/1000*$B$101)","v":0},{"$f":"IF($B$101=0,0,(IF($C$3<>1,IF($E$5<500,SUMIF(BD!$O$5:$O$66000,VALUE($E$101)&\"/\"&$G$5&\"/\"&$C$7&$A113,BD!$AF$5:$AF$66000),0),IF(AND($B$3<>1,$E$5<500),SUMIF(BD!$K$5:$K$66000,VALUE($E$101)&\"/\"&$G$5&\"/\"&$C$7&$A113,BD!$AF$5:$AF$66000),IF(AND($B$3=1,$E$5<500),SUMIF(BD!$N$5:$N$66000,VALUE($E$101)&\"/\"&$C$7&$A113,BD!$AF$5:$AF$66000),0))))/1000*$B$101)","v":0},{"$f":"IF($B$101=0,0,(IF($C$3<>1,IF($E$5<500,SUMIF(BD!$X$5:$X$66000,VALUE($E$101)&\"/\"&$G$5&\"/\"&$D$7&$A113,BD!$AG$5:$AG$66000),0),IF(AND($B$3<>1,$E$5<500),SUMIF(BD!$T$5:$T$66000,VALUE($E$101)&\"/\"&$G$5&\"/\"&$D$7&$A113,BD!$AG$5:$AG$66000),IF(AND($B$3=1,$E$5<500),SUMIF(BD!$W$5:$W$66000,VALUE($E$101)&\"/\"&$D$7&$A113,BD!$AG$5:$AG$66000),0))))/1000*$B$101)","v":0},{"$f":"IF($B$101=0,0,(IF($C$3<>1,IF($E$5<500,SUMIF(BD!$O$5:$O$66000,VALUE($E$101)&\"/\"&$G$5&\"/\"&$C$7&$A113,BD!$AH$5:$AH$66000),0),IF(AND($B$3<>1,$E$5<500),SUMIF(BD!$K$5:$K$66000,VALUE($E$101)&\"/\"&$G$5&\"/\"&$C$7&$A113,BD!$AH$5:$AH$66000),IF(AND($B$3=1,$E$5<500),SUMIF(BD!$N$5:$N$66000,VALUE($E$101)&\"/\"&$C$7&$A113,BD!$AH$5:$AH$66000),0))))/1000*$B$101)","v":0},{"$f":"IF($B$101=0,0,(IF($C$3<>1,IF($E$5<500,SUMIF(BD!$X$5:$X$66000,VALUE($E$101)&\"/\"&$G$5&\"/\"&$D$7&$A113,BD!$AI$5:$AI$66000),0),IF(AND($B$3<>1,$E$5<500),SUMIF(BD!$T$5:$T$66000,VALUE($E$101)&\"/\"&$G$5&\"/\"&$D$7&$A113,BD!$AI$5:$AI$66000),IF(AND($B$3=1,$E$5<500),SUMIF(BD!$W$5:$W$66000,VALUE($E$101)&\"/\"&$D$7&$A113,BD!$AI$5:$AI$66000),0))))/1000*$B$101)","v":0},{"$f":"IF($B$101=0,0,(IF($C$3<>1,IF($E$5<500,SUMIF(BD!$O$5:$O$66000,VALUE($E$101)&\"/\"&$G$5&\"/\"&$C$7&$A113,BD!$AJ$5:$AJ$66000),0),IF(AND($B$3<>1,$E$5<500),SUMIF(BD!$K$5:$K$66000,VALUE($E$101)&\"/\"&$G$5&\"/\"&$C$7&$A113,BD!$AJ$5:$AJ$66000),IF(AND($B$3=1,$E$5<500),SUMIF(BD!$N$5:$N$66000,VALUE($E$101)&\"/\"&$C$7&$A113,BD!$AJ$5:$AJ$66000),0))))/1000*$B$101)","v":0},{"$f":"IF($B$101=0,0,(IF($C$3<>1,IF($E$5<500,SUMIF(BD!$X$5:$X$66000,VALUE($E$101)&\"/\"&$G$5&\"/\"&$D$7&$A113,BD!$AK$5:$AK$66000),0),IF(AND($B$3<>1,$E$5<500),SUMIF(BD!$T$5:$T$66000,VALUE($E$101)&\"/\"&$G$5&\"/\"&$D$7&$A113,BD!$AK$5:$AK$66000),IF(AND($B$3=1,$E$5<500),SUMIF(BD!$W$5:$W$66000,VALUE($E$101)&\"/\"&$D$7&$A113,BD!$AK$5:$AK$66000),0))))/1000*$B$101)","v":0}]
["10","OUTUBRO",{"$f":"IF($B$101=0,0,(IF($C$3<>1,IF($E$5<500,SUMIF(BD!$O$5:$O$66000,VALUE($E$101)&\"/\"&$G$5&\"/\"&$C$7&$A114,BD!$AB$5:$AB$66000),0),IF(AND($B$3<>1,$E$5<500),SUMIF(BD!$K$5:$K$66000,VALUE($E$101)&\"/\"&$G$5&\"/\"&$C$7&$A114,BD!$AB$5:$AB$66000),IF(AND($B$3=1,$E$5<500),SUMIF(BD!$N$5:$N$66000,VALUE($E$101)&\"/\"&$C$7&$A114,BD!$AB$5:$AB$66000),0))))/1000*$B$101)","v":0},{"$f":"IF($B$101=0,0,(IF($C$3<>1,IF($E$5<500,SUMIF(BD!$X$5:$X$66000,VALUE($E$101)&\"/\"&$G$5&\"/\"&$D$7&$A114,BD!$AC$5:$AC$66000),0),IF(AND($B$3<>1,$E$5<500),SUMIF(BD!$T$5:$T$66000,VALUE($E$101)&\"/\"&$G$5&\"/\"&$D$7&$A114,BD!$AC$5:$AC$66000),IF(AND($B$3=1,$E$5<500),SUMIF(BD!$W$5:$W$66000,VALUE($E$101)&\"/\"&$D$7&$A114,BD!$AC$5:$AC$66000),0))))/1000*$B$101)","v":0},{"$f":"IF($B$101=0,0,(IF($C$3<>1,IF($E$5<500,SUMIF(BD!$O$5:$O$66000,VALUE($E$101)&\"/\"&$G$5&\"/\"&$C$7&$A114,BD!$AD$5:$AD$66000),0),IF(AND($B$3<>1,$E$5<500),SUMIF(BD!$K$5:$K$66000,VALUE($E$101)&\"/\"&$G$5&\"/\"&$C$7&$A114,BD!$AD$5:$AD$66000),IF(AND($B$3=1,$E$5<500),SUMIF(BD!$N$5:$N$66000,VALUE($E$101)&\"/\"&$C$7&$A114,BD!$AD$5:$AD$66000),0))))/1000*$B$101)","v":0},{"$f":"IF($B$101=0,0,(IF($C$3<>1,IF($E$5<500,SUMIF(BD!$X$5:$X$66000,VALUE($E$101)&\"/\"&$G$5&\"/\"&$D$7&$A114,BD!$AE$5:$AE$66000),0),IF(AND($B$3<>1,$E$5<500),SUMIF(BD!$T$5:$T$66000,VALUE($E$101)&\"/\"&$G$5&\"/\"&$D$7&$A114,BD!$AE$5:$AE$66000),IF(AND($B$3=1,$E$5<500),SUMIF(BD!$W$5:$W$66000,VALUE($E$101)&\"/\"&$D$7&$A114,BD!$AE$5:$AE$66000),0))))/1000*$B$101)","v":0},{"$f":"IF($B$101=0,0,(IF($C$3<>1,IF($E$5<500,SUMIF(BD!$O$5:$O$66000,VALUE($E$101)&\"/\"&$G$5&\"/\"&$C$7&$A114,BD!$AF$5:$AF$66000),0),IF(AND($B$3<>1,$E$5<500),SUMIF(BD!$K$5:$K$66000,VALUE($E$101)&\"/\"&$G$5&\"/\"&$C$7&$A114,BD!$AF$5:$AF$66000),IF(AND($B$3=1,$E$5<500),SUMIF(BD!$N$5:$N$66000,VALUE($E$101)&\"/\"&$C$7&$A114,BD!$AF$5:$AF$66000),0))))/1000*$B$101)","v":0},{"$f":"IF($B$101=0,0,(IF($C$3<>1,IF($E$5<500,SUMIF(BD!$X$5:$X$66000,VALUE($E$101)&\"/\"&$G$5&\"/\"&$D$7&$A114,BD!$AG$5:$AG$66000),0),IF(AND($B$3<>1,$E$5<500),SUMIF(BD!$T$5:$T$66000,VALUE($E$101)&\"/\"&$G$5&\"/\"&$D$7&$A114,BD!$AG$5:$AG$66000),IF(AND($B$3=1,$E$5<500),SUMIF(BD!$W$5:$W$66000,VALUE($E$101)&\"/\"&$D$7&$A114,BD!$AG$5:$AG$66000),0))))/1000*$B$101)","v":0},{"$f":"IF($B$101=0,0,(IF($C$3<>1,IF($E$5<500,SUMIF(BD!$O$5:$O$66000,VALUE($E$101)&\"/\"&$G$5&\"/\"&$C$7&$A114,BD!$AH$5:$AH$66000),0),IF(AND($B$3<>1,$E$5<500),SUMIF(BD!$K$5:$K$66000,VALUE($E$101)&\"/\"&$G$5&\"/\"&$C$7&$A114,BD!$AH$5:$AH$66000),IF(AND($B$3=1,$E$5<500),SUMIF(BD!$N$5:$N$66000,VALUE($E$101)&\"/\"&$C$7&$A114,BD!$AH$5:$AH$66000),0))))/1000*$B$101)","v":0},{"$f":"IF($B$101=0,0,(IF($C$3<>1,IF($E$5<500,SUMIF(BD!$X$5:$X$66000,VALUE($E$101)&\"/\"&$G$5&\"/\"&$D$7&$A114,BD!$AI$5:$AI$66000),0),IF(AND($B$3<>1,$E$5<500),SUMIF(BD!$T$5:$T$66000,VALUE($E$101)&\"/\"&$G$5&\"/\"&$D$7&$A114,BD!$AI$5:$AI$66000),IF(AND($B$3=1,$E$5<500),SUMIF(BD!$W$5:$W$66000,VALUE($E$101)&\"/\"&$D$7&$A114,BD!$AI$5:$AI$66000),0))))/1000*$B$101)","v":0},{"$f":"IF($B$101=0,0,(IF($C$3<>1,IF($E$5<500,SUMIF(BD!$O$5:$O$66000,VALUE($E$101)&\"/\"&$G$5&\"/\"&$C$7&$A114,BD!$AJ$5:$AJ$66000),0),IF(AND($B$3<>1,$E$5<500),SUMIF(BD!$K$5:$K$66000,VALUE($E$101)&\"/\"&$G$5&\"/\"&$C$7&$A114,BD!$AJ$5:$AJ$66000),IF(AND($B$3=1,$E$5<500),SUMIF(BD!$N$5:$N$66000,VALUE($E$101)&\"/\"&$C$7&$A114,BD!$AJ$5:$AJ$66000),0))))/1000*$B$101)","v":0},{"$f":"IF($B$101=0,0,(IF($C$3<>1,IF($E$5<500,SUMIF(BD!$X$5:$X$66000,VALUE($E$101)&\"/\"&$G$5&\"/\"&$D$7&$A114,BD!$AK$5:$AK$66000),0),IF(AND($B$3<>1,$E$5<500),SUMIF(BD!$T$5:$T$66000,VALUE($E$101)&\"/\"&$G$5&\"/\"&$D$7&$A114,BD!$AK$5:$AK$66000),IF(AND($B$3=1,$E$5<500),SUMIF(BD!$W$5:$W$66000,VALUE($E$101)&\"/\"&$D$7&$A114,BD!$AK$5:$AK$66000),0))))/1000*$B$101)","v":0}]
["11","NOVEMBRO",{"$f":"IF($B$101=0,0,(IF($C$3<>1,IF($E$5<500,SUMIF(BD!$O$5:$O$66000,VALUE($E$101)&\"/\"&$G$5&\"/\"&$C$7&$A115,BD!$AB$5:$AB$66000),0),IF(AND($B$3<>1,$E$5<500),SUMIF(BD!$K$5:$K$66000,VALUE($E$101)&\"/\"&$G$5&\"/\"&$C$7&$A115,BD!$AB$5:$AB$66000),IF(AND($B$3=1,$E$5<500),SUMIF(BD!$N$5:$N$66000,VALUE($E$101)&\"/\"&$C$7&$A115,BD!$AB$5:$AB$66000),0))))/1000*$B$101)","v":0},{"$f":"IF($B$101=0,0,(IF($C$3<>1,IF($E$5<500,SUMIF(BD!$X$5:$X$66000,VALUE($E$101)&\"/\"&$G$5&\"/\"&$D$7&$A115,BD!$AC$5:$AC$66000),0),IF(AND($B$3<>1,$E$5<500),SUMIF(BD!$T$5:$T$66000,VALUE($E$101)&\"/\"&$G$5&\"/\"&$D$7&$A115,BD!$AC$5:$AC$66000),IF(AND($B$3=1,$E$5<500),SUMIF(BD!$W$5:$W$66000,VALUE($E$101)&\"/\"&$D$7&$A115,BD!$AC$5:$AC$66000),0))))/1000*$B$101)","v":0},{"$f":"IF($B$101=0,0,(IF($C$3<>1,IF($E$5<500,SUMIF(BD!$O$5:$O$66000,VALUE($E$101)&\"/\"&$G$5&\"/\"&$C$7&$A115,BD!$AD$5:$AD$66000),0),IF(AND($B$3<>1,$E$5<500),SUMIF(BD!$K$5:$K$66000,VALUE($E$101)&\"/\"&$G$5&\"/\"&$C$7&$A115,BD!$AD$5:$AD$66000),IF(AND($B$3=1,$E$5<500),SUMIF(BD!$N$5:$N$66000,VALUE($E$101)&\"/\"&$C$7&$A115,BD!$AD$5:$AD$66000),0))))/1000*$B$101)","v":0},{"$f":"IF($B$101=0,0,(IF($C$3<>1,IF($E$5<500,SUMIF(BD!$X$5:$X$66000,VALUE($E$101)&\"/\"&$G$5&\"/\"&$D$7&$A115,BD!$AE$5:$AE$66000),0),IF(AND($B$3<>1,$E$5<500),SUMIF(BD!$T$5:$T$66000,VALUE($E$101)&\"/\"&$G$5&\"/\"&$D$7&$A115,BD!$AE$5:$AE$66000),IF(AND($B$3=1,$E$5<500),SUMIF(BD!$W$5:$W$66000,VALUE($E$101)&\"/\"&$D$7&$A115,BD!$AE$5:$AE$66000),0))))/1000*$B$101)","v":0},{"$f":"IF($B$101=0,0,(IF($C$3<>1,IF($E$5<500,SUMIF(BD!$O$5:$O$66000,VALUE($E$101)&\"/\"&$G$5&\"/\"&$C$7&$A115,BD!$AF$5:$AF$66000),0),IF(AND($B$3<>1,$E$5<500),SUMIF(BD!$K$5:$K$66000,VALUE($E$101)&\"/\"&$G$5&\"/\"&$C$7&$A115,BD!$AF$5:$AF$66000),IF(AND($B$3=1,$E$5<500),SUMIF(BD!$N$5:$N$66000,VALUE($E$101)&\"/\"&$C$7&$A115,BD!$AF$5:$AF$66000),0))))/1000*$B$101)","v":0},{"$f":"IF($B$101=0,0,(IF($C$3<>1,IF($E$5<500,SUMIF(BD!$X$5:$X$66000,VALUE($E$101)&\"/\"&$G$5&\"/\"&$D$7&$A115,BD!$AG$5:$AG$66000),0),IF(AND($B$3<>1,$E$5<500),SUMIF(BD!$T$5:$T$66000,VALUE($E$101)&\"/\"&$G$5&\"/\"&$D$7&$A115,BD!$AG$5:$AG$66000),IF(AND($B$3=1,$E$5<500),SUMIF(BD!$W$5:$W$66000,VALUE($E$101)&\"/\"&$D$7&$A115,BD!$AG$5:$AG$66000),0))))/1000*$B$101)","v":0},{"$f":"IF($B$101=0,0,(IF($C$3<>1,IF($E$5<500,SUMIF(BD!$O$5:$O$66000,VALUE($E$101)&\"/\"&$G$5&\"/\"&$C$7&$A115,BD!$AH$5:$AH$66000),0),IF(AND($B$3<>1,$E$5<500),SUMIF(BD!$K$5:$K$66000,VALUE($E$101)&\"/\"&$G$5&\"/\"&$C$7&$A115,BD!$AH$5:$AH$66000),IF(AND($B$3=1,$E$5<500),SUMIF(BD!$N$5:$N$66000,VALUE($E$101)&\"/\"&$C$7&$A115,BD!$AH$5:$AH$66000),0))))/1000*$B$101)","v":0},{"$f":"IF($B$101=0,0,(IF($C$3<>1,IF($E$5<500,SUMIF(BD!$X$5:$X$66000,VALUE($E$101)&\"/\"&$G$5&\"/\"&$D$7&$A115,BD!$AI$5:$AI$66000),0),IF(AND($B$3<>1,$E$5<500),SUMIF(BD!$T$5:$T$66000,VALUE($E$101)&\"/\"&$G$5&\"/\"&$D$7&$A115,BD!$AI$5:$AI$66000),IF(AND($B$3=1,$E$5<500),SUMIF(BD!$W$5:$W$66000,VALUE($E$101)&\"/\"&$D$7&$A115,BD!$AI$5:$AI$66000),0))))/1000*$B$101)","v":0},{"$f":"IF($B$101=0,0,(IF($C$3<>1,IF($E$5<500,SUMIF(BD!$O$5:$O$66000,VALUE($E$101)&\"/\"&$G$5&\"/\"&$C$7&$A115,BD!$AJ$5:$AJ$66000),0),IF(AND($B$3<>1,$E$5<500),SUMIF(BD!$K$5:$K$66000,VALUE($E$101)&\"/\"&$G$5&\"/\"&$C$7&$A115,BD!$AJ$5:$AJ$66000),IF(AND($B$3=1,$E$5<500),SUMIF(BD!$N$5:$N$66000,VALUE($E$101)&\"/\"&$C$7&$A115,BD!$AJ$5:$AJ$66000),0))))/1000*$B$101)","v":0},{"$f":"IF($B$101=0,0,(IF($C$3<>1,IF($E$5<500,SUMIF(BD!$X$5:$X$66000,VALUE($E$101)&\"/\"&$G$5&\"/\"&$D$7&$A115,BD!$AK$5:$AK$66000),0),IF(AND($B$3<>1,$E$5<500),SUMIF(BD!$T$5:$T$66000,VALUE($E$101)&\"/\"&$G$5&\"/\"&$D$7&$A115,BD!$AK$5:$AK$66000),IF(AND($B$3=1,$E$5<500),SUMIF(BD!$W$5:$W$66000,VALUE($E$101)&\"/\"&$D$7&$A115,BD!$AK$5:$AK$66000),0))))/1000*$B$101)","v":0}]
["12","DEZEMBRO",{"$f":"IF($B$101=0,0,(IF($C$3<>1,IF($E$5<500,SUMIF(BD!$O$5:$O$66000,VALUE($E$101)&\"/\"&$G$5&\"/\"&$C$7&$A116,BD!$AB$5:$AB$66000),0),IF(AND($B$3<>1,$E$5<500),SUMIF(BD!$K$5:$K$66000,VALUE($E$101)&\"/\"&$G$5&\"/\"&$C$7&$A116,BD!$AB$5:$AB$66000),IF(AND($B$3=1,$E$5<500),SUMIF(BD!$N$5:$N$66000,VALUE($E$101)&\"/\"&$C$7&$A116,BD!$AB$5:$AB$66000),0))))/1000*$B$101)","v":0},{"$f":"IF($B$101=0,0,(IF($C$3<>1,IF($E$5<500,SUMIF(BD!$X$5:$X$66000,VALUE($E$101)&\"/\"&$G$5&\"/\"&$D$7&$A116,BD!$AC$5:$AC$66000),0),IF(AND($B$3<>1,$E$5<500),SUMIF(BD!$T$5:$T$66000,VALUE($E$101)&\"/\"&$G$5&\"/\"&$D$7&$A116,BD!$AC$5:$AC$66000),IF(AND($B$3=1,$E$5<500),SUMIF(BD!$W$5:$W$66000,VALUE($E$101)&\"/\"&$D$7&$A116,BD!$AC$5:$AC$66000),0))))/1000*$B$101)","v":0},{"$f":"IF($B$101=0,0,(IF($C$3<>1,IF($E$5<500,SUMIF(BD!$O$5:$O$66000,VALUE($E$101)&\"/\"&$G$5&\"/\"&$C$7&$A116,BD!$AD$5:$AD$66000),0),IF(AND($B$3<>1,$E$5<500),SUMIF(BD!$K$5:$K$66000,VALUE($E$101)&\"/\"&$G$5&\"/\"&$C$7&$A116,BD!$AD$5:$AD$66000),IF(AND($B$3=1,$E$5<500),SUMIF(BD!$N$5:$N$66000,VALUE($E$101)&\"/\"&$C$7&$A116,BD!$AD$5:$AD$66000),0))))/1000*$B$101)","v":0},{"$f":"IF($B$101=0,0,(IF($C$3<>1,IF($E$5<500,SUMIF(BD!$X$5:$X$66000,VALUE($E$101)&\"/\"&$G$5&\"/\"&$D$7&$A116,BD!$AE$5:$AE$66000),0),IF(AND($B$3<>1,$E$5<500),SUMIF(BD!$T$5:$T$66000,VALUE($E$101)&\"/\"&$G$5&\"/\"&$D$7&$A116,BD!$AE$5:$AE$66000),IF(AND($B$3=1,$E$5<500),SUMIF(BD!$W$5:$W$66000,VALUE($E$101)&\"/\"&$D$7&$A116,BD!$AE$5:$AE$66000),0))))/1000*$B$101)","v":0},{"$f":"IF($B$101=0,0,(IF($C$3<>1,IF($E$5<500,SUMIF(BD!$O$5:$O$66000,VALUE($E$101)&\"/\"&$G$5&\"/\"&$C$7&$A116,BD!$AF$5:$AF$66000),0),IF(AND($B$3<>1,$E$5<500),SUMIF(BD!$K$5:$K$66000,VALUE($E$101)&\"/\"&$G$5&\"/\"&$C$7&$A116,BD!$AF$5:$AF$66000),IF(AND($B$3=1,$E$5<500),SUMIF(BD!$N$5:$N$66000,VALUE($E$101)&\"/\"&$C$7&$A116,BD!$AF$5:$AF$66000),0))))/1000*$B$101)","v":0},{"$f":"IF($B$101=0,0,(IF($C$3<>1,IF($E$5<500,SUMIF(BD!$X$5:$X$66000,VALUE($E$101)&\"/\"&$G$5&\"/\"&$D$7&$A116,BD!$AG$5:$AG$66000),0),IF(AND($B$3<>1,$E$5<500),SUMIF(BD!$T$5:$T$66000,VALUE($E$101)&\"/\"&$G$5&\"/\"&$D$7&$A116,BD!$AG$5:$AG$66000),IF(AND($B$3=1,$E$5<500),SUMIF(BD!$W$5:$W$66000,VALUE($E$101)&\"/\"&$D$7&$A116,BD!$AG$5:$AG$66000),0))))/1000*$B$101)","v":0},{"$f":"IF($B$101=0,0,(IF($C$3<>1,IF($E$5<500,SUMIF(BD!$O$5:$O$66000,VALUE($E$101)&\"/\"&$G$5&\"/\"&$C$7&$A116,BD!$AH$5:$AH$66000),0),IF(AND($B$3<>1,$E$5<500),SUMIF(BD!$K$5:$K$66000,VALUE($E$101)&\"/\"&$G$5&\"/\"&$C$7&$A116,BD!$AH$5:$AH$66000),IF(AND($B$3=1,$E$5<500),SUMIF(BD!$N$5:$N$66000,VALUE($E$101)&\"/\"&$C$7&$A116,BD!$AH$5:$AH$66000),0))))/1000*$B$101)","v":0},{"$f":"IF($B$101=0,0,(IF($C$3<>1,IF($E$5<500,SUMIF(BD!$X$5:$X$66000,VALUE($E$101)&\"/\"&$G$5&\"/\"&$D$7&$A116,BD!$AI$5:$AI$66000),0),IF(AND($B$3<>1,$E$5<500),SUMIF(BD!$T$5:$T$66000,VALUE($E$101)&\"/\"&$G$5&\"/\"&$D$7&$A116,BD!$AI$5:$AI$66000),IF(AND($B$3=1,$E$5<500),SUMIF(BD!$W$5:$W$66000,VALUE($E$101)&\"/\"&$D$7&$A116,BD!$AI$5:$AI$66000),0))))/1000*$B$101)","v":0},{"$f":"IF($B$101=0,0,(IF($C$3<>1,IF($E$5<500,SUMIF(BD!$O$5:$O$66000,VALUE($E$101)&\"/\"&$G$5&\"/\"&$C$7&$A116,BD!$AJ$5:$AJ$66000),0),IF(AND($B$3<>1,$E$5<500),SUMIF(BD!$K$5:$K$66000,VALUE($E$101)&\"/\"&$G$5&\"/\"&$C$7&$A116,BD!$AJ$5:$AJ$66000),IF(AND($B$3=1,$E$5<500),SUMIF(BD!$N$5:$N$66000,VALUE($E$101)&\"/\"&$C$7&$A116,BD!$AJ$5:$AJ$66000),0))))/1000*$B$101)","v":0},{"$f":"IF($B$101=0,0,(IF($C$3<>1,IF($E$5<500,SUMIF(BD!$X$5:$X$66000,VALUE($E$101)&\"/\"&$G$5&\"/\"&$D$7&$A116,BD!$AK$5:$AK$66000),0),IF(AND($B$3<>1,$E$5<500),SUMIF(BD!$T$5:$T$66000,VALUE($E$101)&\"/\"&$G$5&\"/\"&$D$7&$A116,BD!$AK$5:$AK$66000),IF(AND($B$3=1,$E$5<500),SUMIF(BD!$W$5:$W$66000,VALUE($E$101)&\"/\"&$D$7&$A116,BD!$AK$5:$AK$66000),0))))/1000*$B$101)","v":0}]
[null,"TOTAL",{"$f":"SUM(C105:C116)","v":0},0,0,0,0,0,0,0,0,0]
[null,null,"TOTALIZADOR PARA CÁLCULO DA PARTICIPAÇÃO NO MERCADO"]
[null,null,"PRÊMIO EMTIDO"]
[null,"PERÍODO",{"$f":"C104","v":"2016"},{"$f":"D104","v":"2015"}]
["01","JANEIRO",{"$f":"IF(AND($B$3=1,$C$3=1),SUMIF(BD!$D$5:$D$66000,RelatSuporte!$C$120&RelatSuporte!$A121,BD!$AB$5:$AB$66000),IF($C$3=1,SUMIF(BD!$M$5:$M$66000,$G$5&\"/\"&RelatSuporte!$C$120&RelatSuporte!$A121,BD!$AB$5:$AB$66000),SUMIF(BD!$R$5:$R$66000,$G$5&\"/\"&RelatSuporte!$C$120&RelatSuporte!$A121,BD!$AB$5:$AB$66000)))/1000","v":13384291.607484797},{"$f":"IF(AND($B$3=1,$C$3=1),SUMIF(BD!$H$5:$H$66000,RelatSuporte!$D$120&RelatSuporte!$A121,BD!$AC$5:$AC$66000),IF($C$3=1,SUMIF(BD!$V$5:$V$66000,$G$5&\"/\"&RelatSuporte!$D$120&RelatSuporte!$A121,BD!$AC$5:$AC$66000),SUMIF(BD!$AA$5:$AA$66000,$G$5&\"/\"&RelatSuporte!$D$120&RelatSuporte!$A121,BD!$AC$5:$AC$66000)))/1000","v":12187244.630789986}]
["02","FEVEREIRO",{"$f":"IF(AND($B$3=1,$C$3=1),SUMIF(BD!$D$5:$D$66000,RelatSuporte!$C$120&RelatSuporte!$A122,BD!$AB$5:$AB$66000),IF($C$3=1,SUMIF(BD!$M$5:$M$66000,$G$5&\"/\"&RelatSuporte!$C$120&RelatSuporte!$A122,BD!$AB$5:$AB$66000),SUMIF(BD!$R$5:$R$66000,$G$5&\"/\"&RelatSuporte!$C$120&RelatSuporte!$A122,BD!$AB$5:$AB$66000)))/1000","v":13136872.738380989},{"$f":"IF(AND($B$3=1,$C$3=1),SUMIF(BD!$H$5:$H$66000,RelatSuporte!$D$120&RelatSuporte!$A122,BD!$AC$5:$AC$66000),IF($C$3=1,SUMIF(BD!$V$5:$V$66000,$G$5&\"/\"&RelatSuporte!$D$120&RelatSuporte!$A122,BD!$AC$5:$AC$66000),SUMIF(BD!$AA$5:$AA$66000,$G$5&\"/\"&RelatSuporte!$D$120&RelatSuporte!$A122,BD!$AC$5:$AC$66000)))/1000","v":12817672.412020003}]
["03","MARÇO",{"$f":"IF(AND($B$3=1,$C$3=1),SUMIF(BD!$D$5:$D$66000,RelatSuporte!$C$120&RelatSuporte!$A123,BD!$AB$5:$AB$66000),IF($C$3=1,SUMIF(BD!$M$5:$M$66000,$G$5&\"/\"&RelatSuporte!$C$120&RelatSuporte!$A123,BD!$AB$5:$AB$66000),SUMIF(BD!$R$5:$R$66000,$G$5&\"/\"&RelatSuporte!$C$120&RelatSuporte!$A123,BD!$AB$5:$AB$66000)))/1000","v":16233928.901271615},{"$f":"IF(AND($B$3=1,$C$3=1),SUMIF(BD!$H$5:$H$66000,RelatSuporte!$D$120&RelatSuporte!$A123,BD!$AC$5:$AC$66000),IF($C$3=1,SUMIF(BD!$V$5:$V$66000,$G$5&\"/\"&RelatSuporte!$D$120&RelatSuporte!$A123,BD!$AC$5:$AC$66000),SUMIF(BD!$AA$5:$AA$66000,$G$5&\"/\"&RelatSuporte!$D$120&RelatSuporte!$A123,BD!$AC$5:$AC$66000)))/1000","v":16194491.202390017}]
["04","ABRIL",{"$f":"IF(AND($B$3=1,$C$3=1),SUMIF(BD!$D$5:$D$66000,RelatSuporte!$C$120&RelatSuporte!$A124,BD!$AB$5:$AB$66000),IF($C$3=1,SUMIF(BD!$M$5:$M$66000,$G$5&\"/\"&RelatSuporte!$C$120&RelatSuporte!$A124,BD!$AB$5:$AB$66000),SUMIF(BD!$R$5:$R$66000,$G$5&\"/\"&RelatSuporte!$C$120&RelatSuporte!$A124,BD!$AB$5:$AB$66000)))/1000","v":16037674.64660229},{"$f":"IF(AND($B$3=1,$C$3=1),SUMIF(BD!$H$5:$H$66000,RelatSuporte!$D$120&RelatSuporte!$A124,BD!$AC$5:$AC$66000),IF($C$3=1,SUMIF(BD!$V$5:$V$66000,$G$5&\"/\"&RelatSuporte!$D$120&RelatSuporte!$A124,BD!$AC$5:$AC$66000),SUMIF(BD!$AA$5:$AA$66000,$G$5&\"/\"&RelatSuporte!$D$120&RelatSuporte!$A124,BD!$AC$5:$AC$66000)))/1000","v":14057938.416263301}]
["05","MAIO",{"$f":"IF(AND($B$3=1,$C$3=1),SUMIF(BD!$D$5:$D$66000,RelatSuporte!$C$120&RelatSuporte!$A125,BD!$AB$5:$AB$66000),IF($C$3=1,SUMIF(BD!$M$5:$M$66000,$G$5&\"/\"&RelatSuporte!$C$120&RelatSuporte!$A125,BD!$AB$5:$AB$66000),SUMIF(BD!$R$5:$R$66000,$G$5&\"/\"&RelatSuporte!$C$120&RelatSuporte!$A125,BD!$AB$5:$AB$66000)))/1000","v":17244408.942090731},{"$f":"IF(AND($B$3=1,$C$3=1),SUMIF(BD!$H$5:$H$66000,RelatSuporte!$D$120&RelatSuporte!$A125,BD!$AC$5:$AC$66000),IF($C$3=1,SUMIF(BD!$V$5:$V$66000,$G$5&\"/\"&RelatSuporte!$D$120&RelatSuporte!$A125,BD!$AC$5:$AC$66000),SUMIF(BD!$AA$5:$AA$66000,$G$5&\"/\"&RelatSuporte!$D$120&RelatSuporte!$A125,BD!$AC$5:$AC$66000)))/1000","v":15810123.901883295}]
["06","JUNHO",{"$f":"IF(AND($B$3=1,$C$3=1),SUMIF(BD!$D$5:$D$66000,RelatSuporte!$C$120&RelatSuporte!$A126,BD!$AB$5:$AB$66000),IF($C$3=1,SUMIF(BD!$M$5:$M$66000,$G$5&\"/\"&RelatSuporte!$C$120&RelatSuporte!$A126,BD!$AB$5:$AB$66000),SUMIF(BD!$R$5:$R$66000,$G$5&\"/\"&RelatSuporte!$C$120&RelatSuporte!$A126,BD!$AB$5:$AB$66000)))/1000","v":19479174.481682606},{"$f":"IF(AND($B$3=1,$C$3=1),SUMIF(BD!$H$5:$H$66000,RelatSuporte!$D$120&RelatSuporte!$A126,BD!$AC$5:$AC$66000),IF($C$3=1,SUMIF(BD!$V$5:$V$66000,$G$5&\"/\"&RelatSuporte!$D$120&RelatSuporte!$A126,BD!$AC$5:$AC$66000),SUMIF(BD!$AA$5:$AA$66000,$G$5&\"/\"&RelatSuporte!$D$120&RelatSuporte!$A126,BD!$AC$5:$AC$66000)))/1000","v":17091571.05583011}]
["07","JULHO",{"$f":"IF(AND($B$3=1,$C$3=1),SUMIF(BD!$D$5:$D$66000,RelatSuporte!$C$120&RelatSuporte!$A127,BD!$AB$5:$AB$66000),IF($C$3=1,SUMIF(BD!$M$5:$M$66000,$G$5&\"/\"&RelatSuporte!$C$120&RelatSuporte!$A127,BD!$AB$5:$AB$66000),SUMIF(BD!$R$5:$R$66000,$G$5&\"/\"&RelatSuporte!$C$120&RelatSuporte!$A127,BD!$AB$5:$AB$66000)))/1000","v":16433362.295807106},{"$f":"IF(AND($B$3=1,$C$3=1),SUMIF(BD!$H$5:$H$66000,RelatSuporte!$D$120&RelatSuporte!$A127,BD!$AC$5:$AC$66000),IF($C$3=1,SUMIF(BD!$V$5:$V$66000,$G$5&\"/\"&RelatSuporte!$D$120&RelatSuporte!$A127,BD!$AC$5:$AC$66000),SUMIF(BD!$AA$5:$AA$66000,$G$5&\"/\"&RelatSuporte!$D$120&RelatSuporte!$A127,BD!$AC$5:$AC$66000)))/1000","v":14921223.518940106}]
["08","AGOSTO",{"$f":"IF(AND($B$3=1,$C$3=1),SUMIF(BD!$D$5:$D$66000,RelatSuporte!$C$120&RelatSuporte!$A128,BD!$AB$5:$AB$66000),IF($C$3=1,SUMIF(BD!$M$5:$M$66000,$G$5&\"/\"&RelatSuporte!$C$120&RelatSuporte!$A128,BD!$AB$5:$AB$66000),SUMIF(BD!$R$5:$R$66000,$G$5&\"/\"&RelatSuporte!$C$120&RelatSuporte!$A128,BD!$AB$5:$AB$66000)))/1000","v":17324168.091749892},{"$f":"IF(AND($B$3=1,$C$3=1),SUMIF(BD!$H$5:$H$66000,RelatSuporte!$D$120&RelatSuporte!$A128,BD!$AC$5:$AC$66000),IF($C$3=1,SUMIF(BD!$V$5:$V$66000,$G$5&\"/\"&RelatSuporte!$D$120&RelatSuporte!$A128,BD!$AC$5:$AC$66000),SUMIF(BD!$AA$5:$AA$66000,$G$5&\"/\"&RelatSuporte!$D$120&RelatSuporte!$A128,BD!$AC$5:$AC$66000)))/1000","v":14650005.529436596}]
["09","SETEMBRO",{"$f":"IF(AND($B$3=1,$C$3=1),SUMIF(BD!$D$5:$D$66000,RelatSuporte!$C$120&RelatSuporte!$A129,BD!$AB$5:$AB$66000),IF($C$3=1,SUMIF(BD!$M$5:$M$66000,$G$5&\"/\"&RelatSuporte!$C$120&RelatSuporte!$A129,BD!$AB$5:$AB$66000),SUMIF(BD!$R$5:$R$66000,$G$5&\"/\"&RelatSuporte!$C$120&RelatSuporte!$A129,BD!$AB$5:$AB$66000)))/1000","v":14622190.578825314},{"$f":"IF(AND($B$3=1,$C$3=1),SUMIF(BD!$H$5:$H$66000,RelatSuporte!$D$120&RelatSuporte!$A129,BD!$AC$5:$AC$66000),IF($C$3=1,SUMIF(BD!$V$5:$V$66000,$G$5&\"/\"&RelatSuporte!$D$120&RelatSuporte!$A129,BD!$AC$5:$AC$66000),SUMIF(BD!$AA$5:$AA$66000,$G$5&\"/\"&RelatSuporte!$D$120&RelatSuporte!$A129,BD!$AC$5:$AC$66000)))/1000","v":14089686.388990065}]
["10","OUTUBRO",{"$f":"IF(AND($B$3=1,$C$3=1),SUMIF(BD!$D$5:$D$66000,RelatSuporte!$C$120&RelatSuporte!$A130,BD!$AB$5:$AB$66000),IF($C$3=1,SUMIF(BD!$M$5:$M$66000,$G$5&\"/\"&RelatSuporte!$C$120&RelatSuporte!$A130,BD!$AB$5:$AB$66000),SUMIF(BD!$R$5:$R$66000,$G$5&\"/\"&RelatSuporte!$C$120&RelatSuporte!$A130,BD!$AB$5:$AB$66000)))/1000","v":15807514.392415114},{"$f":"IF(AND($B$3=1,$C$3=1),SUMIF(BD!$H$5:$H$66000,RelatSuporte!$D$120&RelatSuporte!$A130,BD!$AC$5:$AC$66000),IF($C$3=1,SUMIF(BD!$V$5:$V$66000,$G$5&\"/\"&RelatSuporte!$D$120&RelatSuporte!$A130,BD!$AC$5:$AC$66000),SUMIF(BD!$AA$5:$AA$66000,$G$5&\"/\"&RelatSuporte!$D$120&RelatSuporte!$A130,BD!$AC$5:$AC$66000)))/1000","v":13482572.120949926}]
["11","NOVEMBRO",{"$f":"IF(AND($B$3=1,$C$3=1),SUMIF(BD!$D$5:$D$66000,RelatSuporte!$C$120&RelatSuporte!$A131,BD!$AB$5:$AB$66000),IF($C$3=1,SUMIF(BD!$M$5:$M$66000,$G$5&\"/\"&RelatSuporte!$C$120&RelatSuporte!$A131,BD!$AB$5:$AB$66000),SUMIF(BD!$R$5:$R$66000,$G$5&\"/\"&RelatSuporte!$C$120&RelatSuporte!$A131,BD!$AB$5:$AB$66000)))/1000","v":18576137.113149289},{"$f":"IF(AND($B$3=1,$C$3=1),SUMIF(BD!$H$5:$H$66000,RelatSuporte!$D$120&RelatSuporte!$A131,BD!$AC$5:$AC$66000),IF($C$3=1,SUMIF(BD!$V$5:$V$66000,$G$5&\"/\"&RelatSuporte!$D$120&RelatSuporte!$A131,BD!$AC$5:$AC$66000),SUMIF(BD!$AA$5:$AA$66000,$G$5&\"/\"&RelatSuporte!$D$120&RelatSuporte!$A131,BD!$AC$5:$AC$66000)))/1000","v":15728137.914580004}]
["12","DEZEMBRO",{"$f":"IF(AND($B$3=1,$C$3=1),SUMIF(BD!$D$5:$D$66000,RelatSuporte!$C$120&RelatSuporte!$A132,BD!$AB$5:$AB$66000),IF($C$3=1,SUMIF(BD!$M$5:$M$66000,$G$5&\"/\"&RelatSuporte!$C$120&RelatSuporte!$A132,BD!$AB$5:$AB$66000),SUMIF(BD!$R$5:$R$66000,$G$5&\"/\"&RelatSuporte!$C$120&RelatSuporte!$A132,BD!$AB$5:$AB$66000)))/1000","v":23971934.245949704},{"$f":"IF(AND($B$3=1,$C$3=1),SUMIF(BD!$H$5:$H$66000,RelatSuporte!$D$120&RelatSuporte!$A132,BD!$AC$5:$AC$66000),IF($C$3=1,SUMIF(BD!$V$5:$V$66000,$G$5&\"/\"&RelatSuporte!$D$120&RelatSuporte!$A132,BD!$AC$5:$AC$66000),SUMIF(BD!$AA$5:$AA$66000,$G$5&\"/\"&RelatSuporte!$D$120&RelatSuporte!$A132,BD!$AC$5:$AC$66000)))/1000","v":20199488.564116683}]
[null,"TOTAL",{"$f":"SUM(C121:C132)","v":202251658.03540945},{"$f":"SUM(D121:D132)","v":181230155.6561901}]
[]
[null,null,"PRÊMIO EMTIDO"]
[null,"PERÍODO",{"$f":"C120","v":"2016"},{"$f":"D120","v":"2015"}]
[null,"JANEIRO",{"$f":"C121","v":13384291.607484797},{"$f":"D121","v":12187244.630789986}]
[null,"JAN/FEV",{"$f":"IF(C122=0,,C137+C122)","v":26521164.345865786},{"$f":"IF(D122=0,,D137+D122)","v":25004917.042809989}]
[null,"JAN/MAR",{"$f":"IF(C123=0,,C138+C123)","v":42755093.247137398},41199408.245200008]
[null,"JAN/ABR",58792767.893739685,55257346.661463305]
[null,"JAN/MAI",76037176.83583042,71067470.563346595]
[null,"JAN/JUN",95516351.317513019,88159041.619176701]
[null,"JAN/JUL",111949713.61332013,103080265.13811681]
[null,"JAN/AGO",129273881.70507002,117730270.6675534]
[null,"JAN/SET",143896072.28389534,131819957.05654345]
[null,"JAN/OUT",159703586.67631045,145302529.17749339]
[null,"JAN/NOV",178279723.78945974,161030667.09207341]
[null,"JAN/DEZ",202251658.03540945,181230155.6561901]
[]
[null,null,"PRÊMIO EMTIDO"]
[null,"PERÍODO",{"$f":"C136","v":"2016"}]
[1,{"$f":"B39","v":"JAN/DEZ-2015"},{"$f":"D133","v":181230155.6561901}]
[{"$f":"A152+1","v":2},{"$f":"B40","v":"FEV-15/JAN-16"},{"$f":"IF($E$3+1<A153,0,SUM(D122:D$132)+SUM(C$121:C121))","v":182427202.63288489}]
[{"$f":"A153+1","v":3},"MAR-15/FEV-16",{"$f":"IF($E$3+1<A154,0,SUM(D123:D$132)+SUM(C$121:C122))","v":182746402.95924589}]
[4,"ABR-15/MAR-16",{"$f":"IF($E$3+1<A155,0,SUM(D124:D$132)+SUM(C$121:C123))","v":182785840.65812749}]
[5,"MAI-15/ABR-16",{"$f":"IF($E$3+1<A156,0,SUM(D125:D$132)+SUM(C$121:C124))","v":184765576.88846648}]
[6,"JUN-15/MAI-16",{"$f":"IF($E$3+1<A157,0,SUM(D126:D$132)+SUM(C$121:C125))","v":186199861.92867392}]
[7,"JUL-15/JUN-16",{"$f":"IF($E$3+1<A158,0,SUM(D127:D$132)+SUM(C$121:C126))","v":188587465.3545264}]
[8,"AGO-15/JUL-16",{"$f":"IF($E$3+1<A159,0,SUM(D128:D$132)+SUM(C$121:C127))","v":190099604.1313934}]
[9,"SET-15/AGO-16",{"$f":"IF($E$3+1<A160,0,SUM(D129:D$132)+SUM(C$121:C128))","v":192773766.69370669}]
[10,"OUT-15/SET-16",{"$f":"IF($E$3+1<A161,0,SUM(D130:D$132)+SUM(C$121:C129))","v":193306270.88354194}]
[11,"NOV-15/OUT-16",{"$f":"IF($E$3+1<A162,0,SUM(D131:D$132)+SUM(C$121:C130))","v":195631213.15500712}]
[12,"DEZ-15/NOV-16",{"$f":"IF($E$3+1<A163,0,SUM(D132:D$132)+SUM(C$121:C131))","v":198479212.35357642}]
[13,"JAN/DEZ-2016",{"$f":"IF($E$3+1<A163,0,SUM(D$132:D133)+SUM(C$121:C132))","v":403681302.2557162}]

{"sheet":"BD","index":4,"n_rows":66002,"n_cols":44,"rows_kept":2250,"cut":true,"hidden":true,"merged":[],"bounds":{"rows_first":1000,"rows_last":250,"rows_between":1000,"halvings":1}}
["Atenção: Os cálculos são feitos com até 66.000 linhas. Mais do que isso precisa abrir linhas",null,null,null,null,null,null,null,null,null,null,null,null,null,null,null,null,null,null,null,null,"jan/dez 2015 processado no BD de ",null,"DEZ/2016"]
[]
[null,"2016",null,null,null,"2015",null,null,null,null,null,null,null,null,null,null,null,null,null,null,null,null,null,null,null,null,null,"premio_de_seguros",null,"Soma de premio_retido",null,"Soma de premio_ganho",null,"Soma de sinistro_retido",null,"Soma de desp_com",null,null,null,null,null,null,"Ramos","Agrup."]
[null,null,null,null,null,null,null,null,null,{"$f":"B3","v":"2016"},null,null,null,null,null,null,null,null,{"$f":"F3","v":"2015"},null,null,null,null,null,null,null,null,"2016","2015","2016","2015","2016","2015","2016","2015","2016","2015",null,null,null,null,null,{"$f":"Cadastro!K2","v":"0435"},{"$f":"Cadastro!H2","v":"Aero"}]
[null,"01007","0111","201601",null,"01007","0111","201501",null,{"$f":"IF(C5=0,0,+VLOOKUP(C5,$AQ$4:$AR$130,2,FALSE))","v":"Pat"},{"$f":"IF(J5=0,0,+CONCATENATE(VALUE(B5),\"/\",J5,\"/\",D5))","v":"1007/Pat/201601"},{"$f":"IF(J5=0,0,+CONCATENATE(VLOOKUP(B5,Cadastro!$Q$3:$R$162,2,FALSE),\"/\",J5,\"/\",D5))","v":"64/Pat/201601"},{"$f":"IF(J5=0,0,+CONCATENATE(J5,\"/\",D5))","v":"Pat/201601"},"1007/201601","1007/0111/201601","64/201601","64/0111/201601","0111/201601",{"$f":"+VLOOKUP(G5,$AQ$4:$AR$130,2,FALSE)","v":"Pat"},{"$f":"+CONCATENATE(VALUE(F5),\"/\",S5,\"/\",H5)","v":"1007/Pat/201501"},{"$f":"+CONCATENATE(VLOOKUP(F5,Cadastro!$Q$3:$R$162,2,FALSE),\"/\",S5,\"/\",H5)","v":"64/Pat/201501"},{"$f":"+CONCATENATE(S5,\"/\",H5)","v":"Pat/201501"},"1007/201501","1007/0111/201501","64/201501","64/0111/201501","0111/201501",0,0,0,0,0,0,0,0,0,0,null,null,null,null,null,{"$f":"Cadastro!K3","v":"0437"},{"$f":"Cadastro!H3","v":"Aero"}]
[null,"01007","0111","201602",null,"01007","0111","201502",null,"Pat","1007/Pat/201602",{"$f":"IF(J6=0,0,+CONCATENATE(VLOOKUP(B6,Cadastro!$Q$3:$R$162,2,FALSE),\"/\",J6,\"/\",D6))","v":"64/Pat/201602"},"Pat/201602","1007/201602","1007/0111/201602","64/201602","64/0111/201602","0111/201602","Pat","1007/Pat/201502",{"$f":"+CONCATENATE(VLOOKUP(F6,Cadastro!$Q$3:$R$162,2,FALSE),\"/\",S6,\"/\",H6)","v":"64/Pat/201502"},{"$f":"+CONCATENATE(S6,\"/\",H6)","v":"Pat/201502"},"1007/201502","1007/0111/201502","64/201502","64/0111/201502","0111/201502",0,0,0,0,0,0,-7.46,0,0,0,null,null,null,null,null,{"$f":"Cadastro!K4","v":"1528"},{"$f":"Cadastro!H4","v":"Aero"}]
[null,"01007","0111","201603",null,"01007","0111","201503",null,"Pat","1007/Pat/201603",{"$f":"IF(J7=0,0,+CONCATENATE(VLOOKUP(B7,Cadastro!$Q$3:$R$162,2,FALSE),\"/\",J7,\"/\",D7))","v":"64/Pat/201603"},"Pat/201603","1007/201603","1007/0111/201603","64/201603","64/0111/201603","0111/201603","Pat","1007/Pat/201503",{"$f":"+CONCATENATE(VLOOKUP(F7,Cadastro!$Q$3:$R$162,2,FALSE),\"/\",S7,\"/\",H7)","v":"64/Pat/201503"},"Pat/201503","1007/201503","1007/0111/201503","64/201503","64/0111/201503","0111/201503",0,0,0,0,0,0,0,0,0,0,null,null,null,null,null,{"$f":"Cadastro!K5","v":"1535"},{"$f":"Cadastro!H5","v":"Aero"}]
[null,"01007","0111","201604",null,"01007","0111","201504",null,"Pat","1007/Pat/201604",{"$f":"IF(J8=0,0,+CONCATENATE(VLOOKUP(B8,Cadastro!$Q$3:$R$162,2,FALSE),\"/\",J8,\"/\",D8))","v":"64/Pat/201604"},"Pat/201604","1007/201604","1007/0111/201604","64/201604","64/0111/201604","0111/201604","Pat","1007/Pat/201504",{"$f":"+CONCATENATE(VLOOKUP(F8,Cadastro!$Q$3:$R$162,2,FALSE),\"/\",S8,\"/\",H8)","v":"64/Pat/201504"},"Pat/201504","1007/201504","1007/0111/201504","64/201504","64/0111/201504","0111/201504",0,0,0,0,0,0,0,0,0,0,null,null,null,null,null,{"$f":"Cadastro!K6","v":"1537"},{"$f":"Cadastro!H6","v":"Aero"}]
[null,"01007","0111","201605",null,"01007","0111","201505",null,"Pat","1007/Pat/201605",{"$f":"IF(J9=0,0,+CONCATENATE(VLOOKUP(B9,Cadastro!$Q$3:$R$162,2,FALSE),\"/\",J9,\"/\",D9))","v":"64/Pat/201605"},"Pat/201605","1007/201605","1007/0111/201605","64/201605","64/0111/201605","0111/201605","Pat","1007/Pat/201505",{"$f":"+CONCATENATE(VLOOKUP(F9,Cadastro!$Q$3:$R$162,2,FALSE),\"/\",S9,\"/\",H9)","v":"64/Pat/201505"},"Pat/201505","1007/201505","1007/0111/201505","64/201505","64/0111/201505","0111/201505",0,0,0,0,0,0,0,0,0,0,null,null,null,null,null,{"$f":"Cadastro!K7","v":"1574"},{"$f":"Cadastro!H7","v":"Aero"}]
[null,"01007","0111","201606",null,"01007","0111","201506",null,"Pat","1007/Pat/201606",{"$f":"IF(J10=0,0,+CONCATENATE(VLOOKUP(B10,Cadastro!$Q$3:$R$162,2,FALSE),\"/\",J10,\"/\",D10))","v":"64/Pat/201606"},"Pat/201606","1007/201606","1007/0111/201606","64/201606","64/0111/201606","0111/201606","Pat","1007/Pat/201506",{"$f":"+CONCATENATE(VLOOKUP(F10,Cadastro!$Q$3:$R$162,2,FALSE),\"/\",S10,\"/\",H10)","v":"64/Pat/201506"},"Pat/201506","1007/201506","1007/0111/201506","64/201506","64/0111/201506","0111/201506",0,0,0,0,0,0,0,0,0,0,null,null,null,null,null,{"$f":"Cadastro!K8","v":"1597"},{"$f":"Cadastro!H8","v":"Aero"}]
[null,"01007","0111","201607",null,"01007","0111","201507",null,"Pat","1007/Pat/201607",{"$f":"IF(J11=0,0,+CONCATENATE(VLOOKUP(B11,Cadastro!$Q$3:$R$162,2,FALSE),\"/\",J11,\"/\",D11))","v":"64/Pat/201607"},"Pat/201607","1007/201607","1007/0111/201607","64/201607","64/0111/201607","0111/201607","Pat","1007/Pat/201507",{"$f":"+CONCATENATE(VLOOKUP(F11,Cadastro!$Q$3:$R$162,2,FALSE),\"/\",S11,\"/\",H11)","v":"64/Pat/201507"},"Pat/201507","1007/201507","1007/0111/201507","64/201507","64/0111/201507","0111/201507",0,0,0,0,0,0,0,0,0,0,null,null,null,null,null,{"$f":"Cadastro!K9","v":"0520"},{"$f":"Cadastro!H9","v":"Aut"}]
[null,"01007","0111","201608",null,"01007","0111","201508",null,"Pat","1007/Pat/201608",{"$f":"IF(J12=0,0,+CONCATENATE(VLOOKUP(B12,Cadastro!$Q$3:$R$162,2,FALSE),\"/\",J12,\"/\",D12))","v":"64/Pat/201608"},"Pat/201608","1007/201608","1007/0111/201608","64/201608","64/0111/201608","0111/201608","Pat","1007/Pat/201508",{"$f":"+CONCATENATE(VLOOKUP(F12,Cadastro!$Q$3:$R$162,2,FALSE),\"/\",S12,\"/\",H12)","v":"64/Pat/201508"},"Pat/201508","1007/201508","1007/0111/201508","64/201508","64/0111/201508","0111/201508",0,0,0,0,0,0,0,0,0,0,null,null,null,null,null,{"$f":"Cadastro!K10","v":"0524"},{"$f":"Cadastro!H10","v":"Aut"}]
[null,"01007","0111","201609",null,"01007","0111","201509",null,"Pat","1007/Pat/201609",{"$f":"IF(J13=0,0,+CONCATENATE(VLOOKUP(B13,Cadastro!$Q$3:$R$162,2,FALSE),\"/\",J13,\"/\",D13))","v":"64/Pat/201609"},"Pat/201609","1007/201609","1007/0111/201609","64/201609","64/0111/201609","0111/201609","Pat","1007/Pat/201509",{"$f":"+CONCATENATE(VLOOKUP(F13,Cadastro!$Q$3:$R$162,2,FALSE),\"/\",S13,\"/\",H13)","v":"64/Pat/201509"},"Pat/201509","1007/201509","1007/0111/201509","64/201509","64/0111/201509","0111/201509",0,0,0,0,0,0,0,0,0,0,null,null,null,null,null,{"$f":"Cadastro!K11","v":"0525"},{"$f":"Cadastro!H11","v":"Aut"}]
[null,"01007","0111","201610",null,"01007","0111","201510",null,"Pat","1007/Pat/201610",{"$f":"IF(J14=0,0,+CONCATENATE(VLOOKUP(B14,Cadastro!$Q$3:$R$162,2,FALSE),\"/\",J14,\"/\",D14))","v":"64/Pat/201610"},"Pat/201610","1007/201610","1007/0111/201610","64/201610","64/0111/201610","0111/201610","Pat","1007/Pat/201510",{"$f":"+CONCATENATE(VLOOKUP(F14,Cadastro!$Q$3:$R$162,2,FALSE),\"/\",S14,\"/\",H14)","v":"64/Pat/201510"},"Pat/201510","1007/201510","1007/0111/201510","64/201510","64/0111/201510","0111/201510",0,0,0,0,0,0,0,0,0,0,null,null,null,null,null,{"$f":"Cadastro!K12","v":"0526"},{"$f":"Cadastro!H12","v":"Aut"}]
[null,"01007","0111","201611",null,"01007","0111","201511",null,"Pat","1007/Pat/201611",{"$f":"IF(J15=0,0,+CONCATENATE(VLOOKUP(B15,Cadastro!$Q$3:$R$162,2,FALSE),\"/\",J15,\"/\",D15))","v":"64/Pat/201611"},"Pat/201611","1007/201611","1007/0111/201611","64/201611","64/0111/201611","0111/201611","Pat","1007/Pat/201511",{"$f":"+CONCATENATE(VLOOKUP(F15,Cadastro!$Q$3:$R$162,2,FALSE),\"/\",S15,\"/\",H15)","v":"64/Pat/201511"},"Pat/201511","1007/201511","1007/0111/201511","64/201511","64/0111/201511","0111/201511",0,0,0,0,0,0,0,0,0,0,null,null,null,null,null,{"$f":"Cadastro!K13","v":"0531"},{"$f":"Cadastro!H13","v":"Aut"}]
[null,"01007","0111","201612",null,"01007","0111","201512",null,"Pat","1007/Pat/201612",{"$f":"IF(J16=0,0,+CONCATENATE(VLOOKUP(B16,Cadastro!$Q$3:$R$162,2,FALSE),\"/\",J16,\"/\",D16))","v":"64/Pat/201612"},"Pat/201612","1007/201612","1007/0111/201612","64/201612","64/0111/201612","0111/201612","Pat","1007/Pat/201512",{"$f":"+CONCATENATE(VLOOKUP(F16,Cadastro!$Q$3:$R$162,2,FALSE),\"/\",S16,\"/\",H16)","v":"64/Pat/201512"},"Pat/201512","1007/201512","1007/0111/201512","64/201512","64/0111/201512","0111/201512",0,0,0,0,0,0,0,0,0,0,null,null,null,null,null,{"$f":"Cadastro!K14","v":"0542"},{"$f":"Cadastro!H14","v":"Aut"}]
[null,"01007","0115","201601",null,"01007","0115","201501",null,"Pat","1007/Pat/201601",{"$f":"IF(J17=0,0,+CONCATENATE(VLOOKUP(B17,Cadastro!$Q$3:$R$162,2,FALSE),\"/\",J17,\"/\",D17))","v":"64/Pat/201601"},"Pat/201601","1007/201601","1007/0115/201601","64/201601","64/0115/201601","0115/201601","Pat","1007/Pat/201501",{"$f":"+CONCATENATE(VLOOKUP(F17,Cadastro!$Q$3:$R$162,2,FALSE),\"/\",S17,\"/\",H17)","v":"64/Pat/201501"},"Pat/201501","1007/201501","1007/0115/201501","64/201501","64/0115/201501","0115/201501",0,0,0,0,0,0,0,0,0,0,null,null,null,null,null,{"$f":"Cadastro!K15","v":"0544"},{"$f":"Cadastro!H15","v":"Aut"}]
[null,"01007","0115","201602",null,"01007","0115","201502",null,"Pat","1007/Pat/201602",{"$f":"IF(J18=0,0,+CONCATENATE(VLOOKUP(B18,Cadastro!$Q$3:$R$162,2,FALSE),\"/\",J18,\"/\",D18))","v":"64/Pat/201602"},"Pat/201602","1007/201602","1007/0115/201602","64/201602","64/0115/201602","0115/201602","Pat","1007/Pat/201502",{"$f":"+CONCATENATE(VLOOKUP(F18,Cadastro!$Q$3:$R$162,2,FALSE),\"/\",S18,\"/\",H18)","v":"64/Pat/201502"},"Pat/201502","1007/201502","1007/0115/201502","64/201502","64/0115/201502","0115/201502",0,0,0,0,0,0,-1.8,0,0,0,null,null,null,null,null,{"$f":"Cadastro!K16","v":"0553"},{"$f":"Cadastro!H16","v":"Aut"}]
[null,"01007","0115","201603",null,"01007","0115","201503",null,"Pat","1007/Pat/201603",{"$f":"IF(J19=0,0,+CONCATENATE(VLOOKUP(B19,Cadastro!$Q$3:$R$162,2,FALSE),\"/\",J19,\"/\",D19))","v":"64/Pat/201603"},"Pat/201603","1007/201603","1007/0115/201603","64/201603","64/0115/201603","0115/201603","Pat","1007/Pat/201503",{"$f":"+CONCATENATE(VLOOKUP(F19,Cadastro!$Q$3:$R$162,2,FALSE),\"/\",S19,\"/\",H19)","v":"64/Pat/201503"},"Pat/201503","1007/201503","1007/0115/201503","64/201503","64/0115/201503","0115/201503",0,0,0,0,0,0,0,0,0,0,null,null,null,null,null,{"$f":"Cadastro!K17","v":"0588"},{"$f":"Cadastro!H17","v":"Dpvat"}]
[null,"01007","0115","201604",null,"01007","0115","201504",null,"Pat","1007/Pat/201604",{"$f":"IF(J20=0,0,+CONCATENATE(VLOOKUP(B20,Cadastro!$Q$3:$R$162,2,FALSE),\"/\",J20,\"/\",D20))","v":"64/Pat/201604"},"Pat/201604","1007/201604","1007/0115/201604","64/201604","64/0115/201604","0115/201604","Pat","1007/Pat/201504",{"$f":"+CONCATENATE(VLOOKUP(F20,Cadastro!$Q$3:$R$162,2,FALSE),\"/\",S20,\"/\",H20)","v":"64/Pat/201504"},"Pat/201504","1007/201504","1007/0115/201504","64/201504","64/0115/201504","0115/201504",0,0,0,0,0,0,0,0,0,0,null,null,null,null,null,{"$f":"Cadastro!K18","v":"0589"},{"$f":"Cadastro!H18","v":"Dpvat"}]
[null,"01007","0115","201605",null,"01007","0115","201505",null,"Pat","1007/Pat/201605",{"$f":"IF(J21=0,0,+CONCATENATE(VLOOKUP(B21,Cadastro!$Q$3:$R$162,2,FALSE),\"/\",J21,\"/\",D21))","v":"64/Pat/201605"},"Pat/201605","1007/201605","1007/0115/201605","64/201605","64/0115/201605","0115/201605","Pat","1007/Pat/201505",{"$f":"+CONCATENATE(VLOOKUP(F21,Cadastro!$Q$3:$R$162,2,FALSE),\"/\",S21,\"/\",H21)","v":"64/Pat/201505"},"Pat/201505","1007/201505","1007/0115/201505","64/201505","64/0115/201505","0115/201505",0,0,0,0,0,0,0,0,0,0,null,null,null,null,null,{"$f":"Cadastro!K19","v":"1061"},{"$f":"Cadastro!H19","v":"Hab"}]
[null,"01007","0115","201606",null,"01007","0115","201506",null,"Pat","1007/Pat/201606",{"$f":"IF(J22=0,0,+CONCATENATE(VLOOKUP(B22,Cadastro!$Q$3:$R$162,2,FALSE),\"/\",J22,\"/\",D22))","v":"64/Pat/201606"},"Pat/201606","1007/201606","1007/0115/201606","64/201606","64/0115/201606","0115/201606","Pat","1007/Pat/201506",{"$f":"+CONCATENATE(VLOOKUP(F22,Cadastro!$Q$3:$R$162,2,FALSE),\"/\",S22,\"/\",H22)","v":"64/Pat/201506"},"Pat/201506","1007/201506","1007/0115/201506","64/201506","64/0115/201506","0115/201506",0,0,0,0,0,0,0,0,0,0,null,null,null,null,null,{"$f":"Cadastro!K20","v":"1065"},{"$f":"Cadastro!H20","v":"Hab"}]
[null,"01007","0115","201607",null,"01007","0115","201507",null,"Pat","1007/Pat/201607",{"$f":"IF(J23=0,0,+CONCATENATE(VLOOKUP(B23,Cadastro!$Q$3:$R$162,2,FALSE),\"/\",J23,\"/\",D23))","v":"64/Pat/201607"},"Pat/201607","1007/201607","1007/0115/201607","64/201607","64/0115/201607","0115/201607","Pat","1007/Pat/201507",{"$f":"+CONCATENATE(VLOOKUP(F23,Cadastro!$Q$3:$R$162,2,FALSE),\"/\",S23,\"/\",H23)","v":"64/Pat/201507"},"Pat/201507","1007/201507","1007/0115/201507","64/201507","64/0115/201507","0115/201507",0,0,0,0,0,0,0,0,0,0,null,null,null,null,null,{"$f":"Cadastro!K21","v":"1066"},{"$f":"Cadastro!H21","v":"Hab"}]
[null,"01007","0115","201608",null,"01007","0115","201508",null,"Pat","1007/Pat/201608",{"$f":"IF(J24=0,0,+CONCATENATE(VLOOKUP(B24,Cadastro!$Q$3:$R$162,2,FALSE),\"/\",J24,\"/\",D24))","v":"64/Pat/201608"},"Pat/201608","1007/201608","1007/0115/201608","64/201608","64/0115/201608","0115/201608","Pat","1007/Pat/201508",{"$f":"+CONCATENATE(VLOOKUP(F24,Cadastro!$Q$3:$R$162,2,FALSE),\"/\",S24,\"/\",H24)","v":"64/Pat/201508"},"Pat/201508","1007/201508","1007/0115/201508","64/201508","64/0115/201508","0115/201508",0,0,0,0,0,0,0,0,0,0,null,null,null,null,null,{"$f":"Cadastro!K22","v":"1068"},{"$f":"Cadastro!H22","v":"Hab"}]
[null,"01007","0115","201609",null,"01007","0115","201509",null,"Pat","1007/Pat/201609",{"$f":"IF(J25=0,0,+CONCATENATE(VLOOKUP(B25,Cadastro!$Q$3:$R$162,2,FALSE),\"/\",J25,\"/\",D25))","v":"64/Pat/201609"},"Pat/201609","1007/201609","1007/0115/201609","64/201609","64/0115/201609","0115/201609","Pat","1007/Pat/201509",{"$f":"+CONCATENATE(VLOOKUP(F25,Cadastro!$Q$3:$R$162,2,FALSE),\"/\",S25,\"/\",H25)","v":"64/Pat/201509"},"Pat/201509","1007/201509","1007/0115/201509","64/201509","64/0115/201509","0115/201509",0,0,0,0,0,0,0,0,0,0,null,null,null,null,null,{"$f":"Cadastro!K23","v":"0433"},{"$f":"Cadastro!H23","v":"Mar"}]
[null,"01007","0115","201610",null,"01007","0115","201510",null,"Pat","1007/Pat/201610",{"$f":"IF(J26=0,0,+CONCATENATE(VLOOKUP(B26,Cadastro!$Q$3:$R$162,2,FALSE),\"/\",J26,\"/\",D26))","v":"64/Pat/201610"},"Pat/201610","1007/201610","1007/0115/201610","64/201610","64/0115/201610","0115/201610","Pat","1007/Pat/201510",{"$f":"+CONCATENATE(VLOOKUP(F26,Cadastro!$Q$3:$R$162,2,FALSE),\"/\",S26,\"/\",H26)","v":"64/Pat/201510"},"Pat/201510","1007/201510","1007/0115/201510","64/201510","64/0115/201510","0115/201510",0,0,0,0,0,0,0,0,0,0,null,null,null,null,null,{"$f":"Cadastro!K24","v":"0457"},{"$f":"Cadastro!H24","v":"Mar"}]
[null,"01007","0115","201611",null,"01007","0115","201511",null,"Pat","1007/Pat/201611",{"$f":"IF(J27=0,0,+CONCATENATE(VLOOKUP(B27,Cadastro!$Q$3:$R$162,2,FALSE),\"/\",J27,\"/\",D27))","v":"64/Pat/201611"},"Pat/201611","1007/201611","1007/0115/201611","64/201611","64/0115/201611","0115/201611","Pat","1007/Pat/201511",{"$f":"+CONCATENATE(VLOOKUP(F27,Cadastro!$Q$3:$R$162,2,FALSE),\"/\",S27,\"/\",H27)","v":"64/Pat/201511"},"Pat/201511","1007/201511","1007/0115/201511","64/201511","64/0115/201511","0115/201511",0,0,0,0,0,0,0,0,0,0,null,null,null,null,null,{"$f":"Cadastro!K25","v":"1417"},{"$f":"Cadastro!H25","v":"Mar"}]
[null,"01007","0115","201612",null,"01007","0115","201512",null,"Pat","1007/Pat/201612",{"$f":"IF(J28=0,0,+CONCATENATE(VLOOKUP(B28,Cadastro!$Q$3:$R$162,2,FALSE),\"/\",J28,\"/\",D28))","v":"64/Pat/201612"},"Pat/201612","1007/201612","1007/0115/201612","64/201612","64/0115/201612","0115/201612","Pat","1007/Pat/201512",{"$f":"+CONCATENATE(VLOOKUP(F28,Cadastro!$Q$3:$R$162,2,FALSE),\"/\",S28,\"/\",H28)","v":"64/Pat/201512"},"Pat/201512","1007/201512","1007/0115/201512","64/201512","64/0115/201512","0115/201512",0,0,0,0,0,0,0,0,0,0,null,null,null,null,null,{"$f":"Cadastro!K26","v":"1428"},{"$f":"Cadastro!H26","v":"Mar"}]
[null,"01007","0141","201601",null,"01007","0141","201501",null,"Pat","1007/Pat/201601",{"$f":"IF(J29=0,0,+CONCATENATE(VLOOKUP(B29,Cadastro!$Q$3:$R$162,2,FALSE),\"/\",J29,\"/\",D29))","v":"64/Pat/201601"},"Pat/201601","1007/201601","1007/0141/201601","64/201601","64/0141/201601","0141/201601","Pat","1007/Pat/201501",{"$f":"+CONCATENATE(VLOOKUP(F29,Cadastro!$Q$3:$R$162,2,FALSE),\"/\",S29,\"/\",H29)","v":"64/Pat/201501"},"Pat/201501","1007/201501","1007/0141/201501","64/201501","64/0141/201501","0141/201501",0,0,0,0,0,0,0,0,0,0,null,null,null,null,null,{"$f":"Cadastro!K27","v":"1433"},{"$f":"Cadastro!H27","v":"Mar"}]
[null,"01007","0141","201602",null,"01007","0141","201502",null,"Pat","1007/Pat/201602",{"$f":"IF(J30=0,0,+CONCATENATE(VLOOKUP(B30,Cadastro!$Q$3:$R$162,2,FALSE),\"/\",J30,\"/\",D30))","v":"64/Pat/201602"},"Pat/201602","1007/201602","1007/0141/201602","64/201602","64/0141/201602","0141/201602","Pat","1007/Pat/201502",{"$f":"+CONCATENATE(VLOOKUP(F30,Cadastro!$Q$3:$R$162,2,FALSE),\"/\",S30,\"/\",H30)","v":"64/Pat/201502"},"Pat/201502","1007/201502","1007/0141/201502","64/201502","64/0141/201502","0141/201502",0,0,0,0,0,0,0,0,0,0,null,null,null,null,null,{"$f":"Cadastro!K28","v":"1457"},{"$f":"Cadastro!H28","v":"Mar"}]
[null,"01007","0141","201603",null,"01007","0141","201503",null,"Pat","1007/Pat/201603",{"$f":"IF(J31=0,0,+CONCATENATE(VLOOKUP(B31,Cadastro!$Q$3:$R$162,2,FALSE),\"/\",J31,\"/\",D31))","v":"64/Pat/201603"},"Pat/201603","1007/201603","1007/0141/201603","64/201603","64/0141/201603","0141/201603","Pat","1007/Pat/201503",{"$f":"+CONCATENATE(VLOOKUP(F31,Cadastro!$Q$3:$R$162,2,FALSE),\"/\",S31,\"/\",H31)","v":"64/Pat/201503"},"Pat/201503","1007/201503","1007/0141/201503","64/201503","64/0141/201503","0141/201503",0,0,0,0,0,0,0,0,0,0,null,null,null,null,null,{"$f":"Cadastro!K29","v":"1602"},{"$f":"Cadastro!H29","v":"Mger"}]
[null,"01007","0141","201604",null,"01007","0141","201504",null,"Pat","1007/Pat/201604",{"$f":"IF(J32=0,0,+CONCATENATE(VLOOKUP(B32,Cadastro!$Q$3:$R$162,2,FALSE),\"/\",J32,\"/\",D32))","v":"64/Pat/201604"},"Pat/201604","1007/201604","1007/0141/201604","64/201604","64/0141/201604","0141/201604","Pat","1007/Pat/201504",{"$f":"+CONCATENATE(VLOOKUP(F32,Cadastro!$Q$3:$R$162,2,FALSE),\"/\",S32,\"/\",H32)","v":"64/Pat/201504"},"Pat/201504","1007/201504","1007/0141/201504","64/201504","64/0141/201504","0141/201504",0,0,0,0,0,0,0,0,0,0,null,null,null,null,null,{"$f":"Cadastro!K30","v":"1601"},{"$f":"Cadastro!H30","v":"Mpes"}]
[null,"01007","0141","201605",null,"01007","0141","201505",null,"Pat","1007/Pat/201605",{"$f":"IF(J33=0,0,+CONCATENATE(VLOOKUP(B33,Cadastro!$Q$3:$R$162,2,FALSE),\"/\",J33,\"/\",D33))","v":"64/Pat/201605"},"Pat/201605","1007/201605","1007/0141/201605","64/201605","64/0141/201605","0141/201605","Pat","1007/Pat/201505",{"$f":"+CONCATENATE(VLOOKUP(F33,Cadastro!$Q$3:$R$162,2,FALSE),\"/\",S33,\"/\",H33)","v":"64/Pat/201505"},"Pat/201505","1007/201505","1007/0141/201505","64/201505","64/0141/201505","0141/201505",0,0,0,0,0,0,0,0,0,0,null,null,null,null,null,{"$f":"Cadastro!K31","v":"1279"},{"$f":"Cadastro!H31","v":"Out"}]
[null,"01007","0141","201606",null,"01007","0141","201506",null,"Pat","1007/Pat/201606",{"$f":"IF(J34=0,0,+CONCATENATE(VLOOKUP(B34,Cadastro!$Q$3:$R$162,2,FALSE),\"/\",J34,\"/\",D34))","v":"64/Pat/201606"},"Pat/201606","1007/201606","1007/0141/201606","64/201606","64/0141/201606","0141/201606","Pat","1007/Pat/201506",{"$f":"+CONCATENATE(VLOOKUP(F34,Cadastro!$Q$3:$R$162,2,FALSE),\"/\",S34,\"/\",H34)","v":"64/Pat/201506"},"Pat/201506","1007/201506","1007/0141/201506","64/201506","64/0141/201506","0141/201506",0,0,0,0,0,0,0,0,0,0,null,null,null,null,null,{"$f":"Cadastro!K32","v":"1299"},{"$f":"Cadastro!H32","v":"Out"}]
[null,"01007","0141","201607",null,"01007","0141","201507",null,"Pat","1007/Pat/201607",{"$f":"IF(J35=0,0,+CONCATENATE(VLOOKUP(B35,Cadastro!$Q$3:$R$162,2,FALSE),\"/\",J35,\"/\",D35))","v":"64/Pat/201607"},"Pat/201607","1007/201607","1007/0141/201607","64/201607","64/0141/201607","0141/201607","Pat","1007/Pat/201507",{"$f":"+CONCATENATE(VLOOKUP(F35,Cadastro!$Q$3:$R$162,2,FALSE),\"/\",S35,\"/\",H35)","v":"64/Pat/201507"},"Pat/201507","1007/201507","1007/0141/201507","64/201507","64/0141/201507","0141/201507",0,0,0,0,0,0,0,0,0,0,null,null,null,null,null,{"$f":"Cadastro!K33","v":"2079"},{"$f":"Cadastro!H33","v":"Out"}]
[null,"01007","0141","201608",null,"01007","0141","201508",null,"Pat","1007/Pat/201608",{"$f":"IF(J36=0,0,+CONCATENATE(VLOOKUP(B36,Cadastro!$Q$3:$R$162,2,FALSE),\"/\",J36,\"/\",D36))","v":"64/Pat/201608"},"Pat/201608","1007/201608","1007/0141/201608","64/201608","64/0141/201608","0141/201608","Pat","1007/Pat/201508",{"$f":"+CONCATENATE(VLOOKUP(F36,Cadastro!$Q$3:$R$162,2,FALSE),\"/\",S36,\"/\",H36)","v":"64/Pat/201508"},"Pat/201508","1007/201508","1007/0141/201508","64/201508","64/0141/201508","0141/201508",0,0,0,0,0,0,0,0,0,0,null,null,null,null,null,{"$f":"Cadastro!K34","v":"2199"},{"$f":"Cadastro!H34","v":"Out"}]
[null,"01007","0141","201609",null,"01007","0141","201509",null,"Pat","1007/Pat/201609",{"$f":"IF(J37=0,0,+CONCATENATE(VLOOKUP(B37,Cadastro!$Q$3:$R$162,2,FALSE),\"/\",J37,\"/\",D37))","v":"64/Pat/201609"},"Pat/201609","1007/201609","1007/0141/201609","64/201609","64/0141/201609","0141/201609","Pat","1007/Pat/201509",{"$f":"+CONCATENATE(VLOOKUP(F37,Cadastro!$Q$3:$R$162,2,FALSE),\"/\",S37,\"/\",H37)","v":"64/Pat/201509"},"Pat/201509","1007/201509","1007/0141/201509","64/201509","64/0141/201509","0141/201509",0,0,0,0,0,0,0,0,0,0,null,null,null,null,null,{"$f":"Cadastro!K35","v":"0111"},{"$f":"Cadastro!H35","v":"Pat"}]
[null,"01007","0141","201610",null,"01007","0141","201510",null,"Pat","1007/Pat/201610",{"$f":"IF(J38=0,0,+CONCATENATE(VLOOKUP(B38,Cadastro!$Q$3:$R$162,2,FALSE),\"/\",J38,\"/\",D38))","v":"64/Pat/201610"},"Pat/201610","1007/201610","1007/0141/201610","64/201610","64/0141/201610","0141/201610","Pat","1007/Pat/201510",{"$f":"+CONCATENATE(VLOOKUP(F38,Cadastro!$Q$3:$R$162,2,FALSE),\"/\",S38,\"/\",H38)","v":"64/Pat/201510"},"Pat/201510","1007/201510","1007/0141/201510","64/201510","64/0141/201510","0141/201510",0,0,0,0,0,0,0,0,0,0,null,null,null,null,null,{"$f":"Cadastro!K36","v":"0112"},{"$f":"Cadastro!H36","v":"Pat"}]
[null,"01007","0141","201611",null,"01007","0141","201511",null,"Pat","1007/Pat/201611",{"$f":"IF(J39=0,0,+CONCATENATE(VLOOKUP(B39,Cadastro!$Q$3:$R$162,2,FALSE),\"/\",J39,\"/\",D39))","v":"64/Pat/201611"},"Pat/201611","1007/201611","1007/0141/201611","64/201611","64/0141/201611","0141/201611","Pat","1007/Pat/201511",{"$f":"+CONCATENATE(VLOOKUP(F39,Cadastro!$Q$3:$R$162,2,FALSE),\"/\",S39,\"/\",H39)","v":"64/Pat/201511"},"Pat/201511","1007/201511","1007/0141/201511","64/201511","64/0141/201511","0141/201511",0,0,0,0,0,0,0,0,0,0,null,null,null,null,null,{"$f":"Cadastro!K37","v":"0114"},{"$f":"Cadastro!H37","v":"Pat"}]
[null,"01007","0141","201612",null,"01007","0141","201512",null,"Pat","1007/Pat/201612",{"$f":"IF(J40=0,0,+CONCATENATE(VLOOKUP(B40,Cadastro!$Q$3:$R$162,2,FALSE),\"/\",J40,\"/\",D40))","v":"64/Pat/201612"},"Pat/201612","1007/201612","1007/0141/201612","64/201612","64/0141/201612","0141/201612","Pat","1007/Pat/201512",{"$f":"+CONCATENATE(VLOOKUP(F40,Cadastro!$Q$3:$R$162,2,FALSE),\"/\",S40,\"/\",H40)","v":"64/Pat/201512"},"Pat/201512","1007/201512","1007/0141/201512","64/201512","64/0141/201512","0141/201512",0,0,0,0,0,0,0,0,0,0,null,null,null,null,null,{"$f":"Cadastro!K38","v":"0115"},{"$f":"Cadastro!H38","v":"Pat"}]
[null,"01007","0167","201601",null,"01007","0167","201501",null,"Pat","1007/Pat/201601",{"$f":"IF(J41=0,0,+CONCATENATE(VLOOKUP(B41,Cadastro!$Q$3:$R$162,2,FALSE),\"/\",J41,\"/\",D41))","v":"64/Pat/201601"},"Pat/201601","1007/201601","1007/0167/201601","64/201601","64/0167/201601","0167/201601","Pat","1007/Pat/201501",{"$f":"+CONCATENATE(VLOOKUP(F41,Cadastro!$Q$3:$R$162,2,FALSE),\"/\",S41,\"/\",H41)","v":"64/Pat/201501"},"Pat/201501","1007/201501","1007/0167/201501","64/201501","64/0167/201501","0167/201501",0,0,0,0,0,0,0,0,0,0,null,null,null,null,null,{"$f":"Cadastro!K39","v":"0116"},{"$f":"Cadastro!H39","v":"Pat"}]
[null,"01007","0167","201602",null,"01007","0167","201502",null,"Pat","1007/Pat/201602",{"$f":"IF(J42=0,0,+CONCATENATE(VLOOKUP(B42,Cadastro!$Q$3:$R$162,2,FALSE),\"/\",J42,\"/\",D42))","v":"64/Pat/201602"},"Pat/201602","1007/201602","1007/0167/201602","64/201602","64/0167/201602","0167/201602","Pat","1007/Pat/201502",{"$f":"+CONCATENATE(VLOOKUP(F42,Cadastro!$Q$3:$R$162,2,FALSE),\"/\",S42,\"/\",H42)","v":"64/Pat/201502"},"Pat/201502","1007/201502","1007/0167/201502","64/201502","64/0167/201502","0167/201502",0,0,0,0,0,0,-47.27,0,0,0,null,null,null,null,null,{"$f":"Cadastro!K40","v":"0118"},{"$f":"Cadastro!H40","v":"Pat"}]
[null,"01007","0167","201603",null,"01007","0167","201503",null,"Pat","1007/Pat/201603",{"$f":"IF(J43=0,0,+CONCATENATE(VLOOKUP(B43,Cadastro!$Q$3:$R$162,2,FALSE),\"/\",J43,\"/\",D43))","v":"64/Pat/201603"},"Pat/201603","1007/201603","1007/0167/201603","64/201603","64/0167/201603","0167/201603","Pat","1007/Pat/201503",{"$f":"+CONCATENATE(VLOOKUP(F43,Cadastro!$Q$3:$R$162,2,FALSE),\"/\",S43,\"/\",H43)","v":"64/Pat/201503"},"Pat/201503","1007/201503","1007/0167/201503","64/201503","64/0167/201503","0167/201503",0,0,0,0,0,0,0,0,0,0,null,null,null,null,null,{"$f":"Cadastro!K41","v":"0141"},{"$f":"Cadastro!H41","v":"Pat"}]
[null,"01007","0167","201604",null,"01007","0167","201504",null,"Pat","1007/Pat/201604",{"$f":"IF(J44=0,0,+CONCATENATE(VLOOKUP(B44,Cadastro!$Q$3:$R$162,2,FALSE),\"/\",J44,\"/\",D44))","v":"64/Pat/201604"},"Pat/201604","1007/201604","1007/0167/201604","64/201604","64/0167/201604","0167/201604","Pat","1007/Pat/201504",{"$f":"+CONCATENATE(VLOOKUP(F44,Cadastro!$Q$3:$R$162,2,FALSE),\"/\",S44,\"/\",H44)","v":"64/Pat/201504"},"Pat/201504","1007/201504","1007/0167/201504","64/201504","64/0167/201504","0167/201504",0,0,0,0,0,0,0,0,0,0,null,null,null,null,null,{"$f":"Cadastro!K42","v":"0167"},{"$f":"Cadastro!H42","v":"Pat"}]
[null,"01007","0167","201605",null,"01007","0167","201505",null,"Pat","1007/Pat/201605",{"$f":"IF(J45=0,0,+CONCATENATE(VLOOKUP(B45,Cadastro!$Q$3:$R$162,2,FALSE),\"/\",J45,\"/\",D45))","v":"64/Pat/201605"},"Pat/201605","1007/201605","1007/0167/201605","64/201605","64/0167/201605","0167/201605","Pat","1007/Pat/201505",{"$f":"+CONCATENATE(VLOOKUP(F45,Cadastro!$Q$3:$R$162,2,FALSE),\"/\",S45,\"/\",H45)","v":"64/Pat/201505"},"Pat/201505","1007/201505","1007/0167/201505","64/201505","64/0167/201505","0167/201505",0,0,0,0,0,0,0,0,0,0,null,null,null,null,null,{"$f":"Cadastro!K43","v":"0171"},{"$f":"Cadastro!H43","v":"Pat"}]
[null,"01007","0167","201606",null,"01007","0167","201506",null,"Pat","1007/Pat/201606",{"$f":"IF(J46=0,0,+CONCATENATE(VLOOKUP(B46,Cadastro!$Q$3:$R$162,2,FALSE),\"/\",J46,\"/\",D46))","v":"64/Pat/201606"},"Pat/201606","1007/201606","1007/0167/201606","64/201606","64/0167/201606","0167/201606","Pat","1007/Pat/201506",{"$f":"+CONCATENATE(VLOOKUP(F46,Cadastro!$Q$3:$R$162,2,FALSE),\"/\",S46,\"/\",H46)","v":"64/Pat/201506"},"Pat/201506","1007/201506","1007/0167/201506","64/201506","64/0167/201506","0167/201506",0,0,0,0,0,0,0,0,0,0,null,null,null,null,null,{"$f":"Cadastro!K44","v":"0173"},{"$f":"Cadastro!H44","v":"Pat"}]
[null,"01007","0167","201607",null,"01007","0167","201507",null,"Pat","1007/Pat/201607",{"$f":"IF(J47=0,0,+CONCATENATE(VLOOKUP(B47,Cadastro!$Q$3:$R$162,2,FALSE),\"/\",J47,\"/\",D47))","v":"64/Pat/201607"},"Pat/201607","1007/201607","1007/0167/201607","64/201607","64/0167/201607","0167/201607","Pat","1007/Pat/201507",{"$f":"+CONCATENATE(VLOOKUP(F47,Cadastro!$Q$3:$R$162,2,FALSE),\"/\",S47,\"/\",H47)","v":"64/Pat/201507"},"Pat/201507","1007/201507","1007/0167/201507","64/201507","64/0167/201507","0167/201507",0,0,0,0,0,0,0,0,0,0,null,null,null,null,null,{"$f":"Cadastro!K45","v":"0195"},{"$f":"Cadastro!H45","v":"Pat"}]
[null,"01007","0167","201608",null,"01007","0167","201508",null,"Pat","1007/Pat/201608",{"$f":"IF(J48=0,0,+CONCATENATE(VLOOKUP(B48,Cadastro!$Q$3:$R$162,2,FALSE),\"/\",J48,\"/\",D48))","v":"64/Pat/201608"},"Pat/201608","1007/201608","1007/0167/201608","64/201608","64/0167/201608","0167/201608","Pat","1007/Pat/201508",{"$f":"+CONCATENATE(VLOOKUP(F48,Cadastro!$Q$3:$R$162,2,FALSE),\"/\",S48,\"/\",H48)","v":"64/Pat/201508"},"Pat/201508","1007/201508","1007/0167/201508","64/201508","64/0167/201508","0167/201508",0,0,0,0,0,0,0,0,0,0,null,null,null,null,null,{"$f":"Cadastro!K46","v":"0196"},{"$f":"Cadastro!H46","v":"Pat"}]
[null,"01007","0167","201609",null,"01007","0167","201509",null,"Pat","1007/Pat/201609",{"$f":"IF(J49=0,0,+CONCATENATE(VLOOKUP(B49,Cadastro!$Q$3:$R$162,2,FALSE),\"/\",J49,\"/\",D49))","v":"64/Pat/201609"},"Pat/201609","1007/201609","1007/0167/201609","64/201609","64/0167/201609","0167/201609","Pat","1007/Pat/201509",{"$f":"+CONCATENATE(VLOOKUP(F49,Cadastro!$Q$3:$R$162,2,FALSE),\"/\",S49,\"/\",H49)","v":"64/Pat/201509"},"Pat/201509","1007/201509","1007/0167/201509","64/201509","64/0167/201509","0167/201509",0,0,0,0,0,0,0,0,0,0,null,null,null,null,null,{"$f":"Cadastro!K47","v":"0929"},{"$f":"Cadastro!H47","v":"Pes"}]
[null,"01007","0167","201610",null,"01007","0167","201510",null,"Pat","1007/Pat/201610",{"$f":"IF(J50=0,0,+CONCATENATE(VLOOKUP(B50,Cadastro!$Q$3:$R$162,2,FALSE),\"/\",J50,\"/\",D50))","v":"64/Pat/201610"},"Pat/201610","1007/201610","1007/0167/201610","64/201610","64/0167/201610","0167/201610","Pat","1007/Pat/201510",{"$f":"+CONCATENATE(VLOOKUP(F50,Cadastro!$Q$3:$R$162,2,FALSE),\"/\",S50,\"/\",H50)","v":"64/Pat/201510"},"Pat/201510","1007/201510","1007/0167/201510","64/201510","64/0167/201510","0167/201510",0,0,0,0,0,0,0,0,0,0,null,null,null,null,null,{"$f":"Cadastro!K48","v":"0936"},{"$f":"Cadastro!H48","v":"Pes"}]
[null,"01007","0167","201611",null,"01007","0167","201511",null,"Pat","1007/Pat/201611",{"$f":"IF(J51=0,0,+CONCATENATE(VLOOKUP(B51,Cadastro!$Q$3:$R$162,2,FALSE),\"/\",J51,\"/\",D51))","v":"64/Pat/201611"},"Pat/201611","1007/201611","1007/0167/201611","64/201611","64/0167/201611","0167/201611","Pat","1007/Pat/201511",{"$f":"+CONCATENATE(VLOOKUP(F51,Cadastro!$Q$3:$R$162,2,FALSE),\"/\",S51,\"/\",H51)","v":"64/Pat/201511"},"Pat/201511","1007/201511","1007/0167/201511","64/201511","64/0167/201511","0167/201511",0,0,0,0,0,0,0,0,0,0,null,null,null,null,null,{"$f":"Cadastro!K49","v":"0969"},{"$f":"Cadastro!H49","v":"Pes"}]
[null,"01007","0167","201612",null,"01007","0167","201512",null,"Pat","1007/Pat/201612",{"$f":"IF(J52=0,0,+CONCATENATE(VLOOKUP(B52,Cadastro!$Q$3:$R$162,2,FALSE),\"/\",J52,\"/\",D52))","v":"64/Pat/201612"},"Pat/201612","1007/201612","1007/0167/201612","64/201612","64/0167/201612","0167/201612","Pat","1007/Pat/201512",{"$f":"+CONCATENATE(VLOOKUP(F52,Cadastro!$Q$3:$R$162,2,FALSE),\"/\",S52,\"/\",H52)","v":"64/Pat/201512"},"Pat/201512","1007/201512","1007/0167/201512","64/201512","64/0167/201512","0167/201512",0,0,0,0,0,0,0,0,0,0,null,null,null,null,null,{"$f":"Cadastro!K50","v":"0977"},{"$f":"Cadastro!H50","v":"Pes"}]
[null,"01007","0171","201601",null,"01007","0171","201501",null,"Pat","1007/Pat/201601",{"$f":"IF(J53=0,0,+CONCATENATE(VLOOKUP(B53,Cadastro!$Q$3:$R$162,2,FALSE),\"/\",J53,\"/\",D53))","v":"64/Pat/201601"},"Pat/201601","1007/201601","1007/0171/201601","64/201601","64/0171/201601","0171/201601","Pat","1007/Pat/201501",{"$f":"+CONCATENATE(VLOOKUP(F53,Cadastro!$Q$3:$R$162,2,FALSE),\"/\",S53,\"/\",H53)","v":"64/Pat/201501"},"Pat/201501","1007/201501","1007/0171/201501","64/201501","64/0171/201501","0171/201501",0,0,0,0,0,0,0,0,0,0,null,null,null,null,null,{"$f":"Cadastro!K51","v":"0980"},{"$f":"Cadastro!H51","v":"Pes"}]
[null,"01007","0171","201602",null,"01007","0171","201502",null,"Pat","1007/Pat/201602",{"$f":"IF(J54=0,0,+CONCATENATE(VLOOKUP(B54,Cadastro!$Q$3:$R$162,2,FALSE),\"/\",J54,\"/\",D54))","v":"64/Pat/201602"},"Pat/201602","1007/201602","1007/0171/201602","64/201602","64/0171/201602","0171/201602","Pat","1007/Pat/201502",{"$f":"+CONCATENATE(VLOOKUP(F54,Cadastro!$Q$3:$R$162,2,FALSE),\"/\",S54,\"/\",H54)","v":"64/Pat/201502"},"Pat/201502","1007/201502","1007/0171/201502","64/201502","64/0171/201502","0171/201502",0,0,0,0,0,0,-220.2,0,0,0,null,null,null,null,null,{"$f":"Cadastro!K52","v":"0981"},{"$f":"Cadastro!H52","v":"Pes"}]
[null,"01007","0171","201603",null,"01007","0171","201503",null,"Pat","1007/Pat/201603",{"$f":"IF(J55=0,0,+CONCATENATE(VLOOKUP(B55,Cadastro!$Q$3:$R$162,2,FALSE),\"/\",J55,\"/\",D55))","v":"64/Pat/201603"},"Pat/201603","1007/201603","1007/0171/201603","64/201603","64/0171/201603","0171/201603","Pat","1007/Pat/201503",{"$f":"+CONCATENATE(VLOOKUP(F55,Cadastro!$Q$3:$R$162,2,FALSE),\"/\",S55,\"/\",H55)","v":"64/Pat/201503"},"Pat/201503","1007/201503","1007/0171/201503","64/201503","64/0171/201503","0171/201503",0,0,0,0,0,0,0,0,0,0,null,null,null,null,null,{"$f":"Cadastro!K53","v":"0982"},{"$f":"Cadastro!H53","v":"Pes"}]
[null,"01007","0171","201604",null,"01007","0171","201504",null,"Pat","1007/Pat/201604",{"$f":"IF(J56=0,0,+CONCATENATE(VLOOKUP(B56,Cadastro!$Q$3:$R$162,2,FALSE),\"/\",J56,\"/\",D56))","v":"64/Pat/201604"},"Pat/201604","1007/201604","1007/0171/201604","64/201604","64/0171/201604","0171/201604","Pat","1007/Pat/201504",{"$f":"+CONCATENATE(VLOOKUP(F56,Cadastro!$Q$3:$R$162,2,FALSE),\"/\",S56,\"/\",H56)","v":"64/Pat/201504"},"Pat/201504","1007/201504","1007/0171/201504","64/201504","64/0171/201504","0171/201504",0,0,0,0,0,0,0,0,0,0,null,null,null,null,null,{"$f":"Cadastro!K54","v":"0983"},{"$f":"Cadastro!H54","v":"Pes"}]
[null,"01007","0171","201605",null,"01007","0171","201505",null,"Pat","1007/Pat/201605",{"$f":"IF(J57=0,0,+CONCATENATE(VLOOKUP(B57,Cadastro!$Q$3:$R$162,2,FALSE),\"/\",J57,\"/\",D57))","v":"64/Pat/201605"},"Pat/201605","1007/201605","1007/0171/201605","64/201605","64/0171/201605","0171/201605","Pat","1007/Pat/201505",{"$f":"+CONCATENATE(VLOOKUP(F57,Cadastro!$Q$3:$R$162,2,FALSE),\"/\",S57,\"/\",H57)","v":"64/Pat/201505"},"Pat/201505","1007/201505","1007/0171/201505","64/201505","64/0171/201505","0171/201505",0,0,0,0,0,0,0,0,0,0,null,null,null,null,null,{"$f":"Cadastro!K55","v":"0984"},{"$f":"Cadastro!H55","v":"Pes"}]
[null,"01007","0171","201606",null,"01007","0171","201506",null,"Pat","1007/Pat/201606",{"$f":"IF(J58=0,0,+CONCATENATE(VLOOKUP(B58,Cadastro!$Q$3:$R$162,2,FALSE),\"/\",J58,\"/\",D58))","v":"64/Pat/201606"},"Pat/201606","1007/201606","1007/0171/201606","64/201606","64/0171/201606","0171/201606","Pat","1007/Pat/201506",{"$f":"+CONCATENATE(VLOOKUP(F58,Cadastro!$Q$3:$R$162,2,FALSE),\"/\",S58,\"/\",H58)","v":"64/Pat/201506"},"Pat/201506","1007/201506","1007/0171/201506","64/201506","64/0171/201506","0171/201506",0,0,0,0,0,0,0,0,0,0,null,null,null,null,null,{"$f":"Cadastro!K56","v":"0986"},{"$f":"Cadastro!H56","v":"Pes"}]
[null,"01007","0171","201607",null,"01007","0171","201507",null,"Pat","1007/Pat/201607",{"$f":"IF(J59=0,0,+CONCATENATE(VLOOKUP(B59,Cadastro!$Q$3:$R$162,2,FALSE),\"/\",J59,\"/\",D59))","v":"64/Pat/201607"},"Pat/201607","1007/201607","1007/0171/201607","64/201607","64/0171/201607","0171/201607","Pat","1007/Pat/201507",{"$f":"+CONCATENATE(VLOOKUP(F59,Cadastro!$Q$3:$R$162,2,FALSE),\"/\",S59,\"/\",H59)","v":"64/Pat/201507"},"Pat/201507","1007/201507","1007/0171/201507","64/201507","64/0171/201507","0171/201507",0,0,0,0,0,0,0,0,0,0,null,null,null,null,null,{"$f":"Cadastro!K57","v":"0987"},{"$f":"Cadastro!H57","v":"Pes"}]
[null,"01007","0171","201608",null,"01007","0171","201508",null,"Pat","1007/Pat/201608",{"$f":"IF(J60=0,0,+CONCATENATE(VLOOKUP(B60,Cadastro!$Q$3:$R$162,2,FALSE),\"/\",J60,\"/\",D60))","v":"64/Pat/201608"},"Pat/201608","1007/201608","1007/0171/201608","64/201608","64/0171/201608","0171/201608","Pat","1007/Pat/201508",{"$f":"+CONCATENATE(VLOOKUP(F60,Cadastro!$Q$3:$R$162,2,FALSE),\"/\",S60,\"/\",H60)","v":"64/Pat/201508"},"Pat/201508","1007/201508","1007/0171/201508","64/201508","64/0171/201508","0171/201508",0,0,0,0,0,0,0,0,0,0,null,null,null,null,null,{"$f":"Cadastro!K58","v":"0990"},{"$f":"Cadastro!H58","v":"Pes"}]
[null,"01007","0171","201609",null,"01007","0171","201509",null,"Pat","1007/Pat/201609",{"$f":"IF(J61=0,0,+CONCATENATE(VLOOKUP(B61,Cadastro!$Q$3:$R$162,2,FALSE),\"/\",J61,\"/\",D61))","v":"64/Pat/201609"},"Pat/201609","1007/201609","1007/0171/201609","64/201609","64/0171/201609","0171/201609","Pat","1007/Pat/201509",{"$f":"+CONCATENATE(VLOOKUP(F61,Cadastro!$Q$3:$R$162,2,FALSE),\"/\",S61,\"/\",H61)","v":"64/Pat/201509"},"Pat/201509","1007/201509","1007/0171/201509","64/201509","64/0171/201509","0171/201509",0,0,0,0,0,0,0,0,0,0,null,null,null,null,null,{"$f":"Cadastro!K59","v":"0991"},{"$f":"Cadastro!H59","v":"Pes"}]
[null,"01007","0171","201610",null,"01007","0171","201510",null,"Pat","1007/Pat/201610",{"$f":"IF(J62=0,0,+CONCATENATE(VLOOKUP(B62,Cadastro!$Q$3:$R$162,2,FALSE),\"/\",J62,\"/\",D62))","v":"64/Pat/201610"},"Pat/201610","1007/201610","1007/0171/201610","64/201610","64/0171/201610","0171/201610","Pat","1007/Pat/201510",{"$f":"+CONCATENATE(VLOOKUP(F62,Cadastro!$Q$3:$R$162,2,FALSE),\"/\",S62,\"/\",H62)","v":"64/Pat/201510"},"Pat/201510","1007/201510","1007/0171/201510","64/201510","64/0171/201510","0171/201510",0,0,0,0,0,0,0,0,0,0,null,null,null,null,null,{"$f":"Cadastro!K60","v":"0993"},{"$f":"Cadastro!H60","v":"Pes"}]
[null,"01007","0171","201611",null,"01007","0171","201511",null,"Pat","1007/Pat/201611",{"$f":"IF(J63=0,0,+CONCATENATE(VLOOKUP(B63,Cadastro!$Q$3:$R$162,2,FALSE),\"/\",J63,\"/\",D63))","v":"64/Pat/201611"},"Pat/201611","1007/201611","1007/0171/201611","64/201611","64/0171/201611","0171/201611","Pat","1007/Pat/201511",{"$f":"+CONCATENATE(VLOOKUP(F63,Cadastro!$Q$3:$R$162,2,FALSE),\"/\",S63,\"/\",H63)","v":"64/Pat/201511"},"Pat/201511","1007/201511","1007/0171/201511","64/201511","64/0171/201511","0171/201511",0,0,0,0,0,0,0,0,0,0,null,null,null,null,null,{"$f":"Cadastro!K61","v":"1329"},{"$f":"Cadastro!H61","v":"Pes"}]
[null,"01007","0171","201612",null,"01007","0171","201512",null,"Pat","1007/Pat/201612",{"$f":"IF(J64=0,0,+CONCATENATE(VLOOKUP(B64,Cadastro!$Q$3:$R$162,2,FALSE),\"/\",J64,\"/\",D64))","v":"64/Pat/201612"},"Pat/201612","1007/201612","1007/0171/201612","64/201612","64/0171/201612","0171/201612","Pat","1007/Pat/201512",{"$f":"+CONCATENATE(VLOOKUP(F64,Cadastro!$Q$3:$R$162,2,FALSE),\"/\",S64,\"/\",H64)","v":"64/Pat/201512"},"Pat/201512","1007/201512","1007/0171/201512","64/201512","64/0171/201512","0171/201512",0,0,0,0,0,0,0,0,0,0,null,null,null,null,null,{"$f":"Cadastro!K62","v":"1336"},{"$f":"Cadastro!H62","v":"Pes"}]
[null,"01007","0173","201601",null,"01007","0173","201501",null,"Pat","1007/Pat/201601",{"$f":"IF(J65=0,0,+CONCATENATE(VLOOKUP(B65,Cadastro!$Q$3:$R$162,2,FALSE),\"/\",J65,\"/\",D65))","v":"64/Pat/201601"},"Pat/201601","1007/201601","1007/0173/201601","64/201601","64/0173/201601","0173/201601","Pat","1007/Pat/201501",{"$f":"+CONCATENATE(VLOOKUP(F65,Cadastro!$Q$3:$R$162,2,FALSE),\"/\",S65,\"/\",H65)","v":"64/Pat/201501"},"Pat/201501","1007/201501","1007/0173/201501","64/201501","64/0173/201501","0173/201501",0,0,0,0,0,0,0,0,0,0,null,null,null,null,null,{"$f":"Cadastro!K63","v":"1369"},{"$f":"Cadastro!H63","v":"Pes"}]
[null,"01007","0173","201602",null,"01007","0173","201502",null,"Pat","1007/Pat/201602",{"$f":"IF(J66=0,0,+CONCATENATE(VLOOKUP(B66,Cadastro!$Q$3:$R$162,2,FALSE),\"/\",J66,\"/\",D66))","v":"64/Pat/201602"},"Pat/201602","1007/201602","1007/0173/201602","64/201602","64/0173/201602","0173/201602","Pat","1007/Pat/201502",{"$f":"+CONCATENATE(VLOOKUP(F66,Cadastro!$Q$3:$R$162,2,FALSE),\"/\",S66,\"/\",H66)","v":"64/Pat/201502"},"Pat/201502","1007/201502","1007/0173/201502","64/201502","64/0173/201502","0173/201502",0,0,0,0,0,0,-1,0,0,0,null,null,null,null,null,{"$f":"Cadastro!K64","v":"1377"},{"$f":"Cadastro!H64","v":"Pes"}]
[null,"01007","0173","201603",null,"01007","0173","201503",null,"Pat","1007/Pat/201603",{"$f":"IF(J67=0,0,+CONCATENATE(VLOOKUP(B67,Cadastro!$Q$3:$R$162,2,FALSE),\"/\",J67,\"/\",D67))","v":"64/Pat/201603"},"Pat/201603","1007/201603","1007/0173/201603","64/201603","64/0173/201603","0173/201603","Pat","1007/Pat/201503",{"$f":"+CONCATENATE(VLOOKUP(F67,Cadastro!$Q$3:$R$162,2,FALSE),\"/\",S67,\"/\",H67)","v":"64/Pat/201503"},"Pat/201503","1007/201503","1007/0173/201503","64/201503","64/0173/201503","0173/201503",0,0,0,0,0,0,0,0,0,0,null,null,null,null,null,{"$f":"Cadastro!K65","v":"1380"},{"$f":"Cadastro!H65","v":"Pes"}]
[null,"01007","0173","201604",null,"01007","0173","201504",null,"Pat","1007/Pat/201604",{"$f":"IF(J68=0,0,+CONCATENATE(VLOOKUP(B68,Cadastro!$Q$3:$R$162,2,FALSE),\"/\",J68,\"/\",D68))","v":"64/Pat/201604"},"Pat/201604","1007/201604","1007/0173/201604","64/201604","64/0173/201604","0173/201604","Pat","1007/Pat/201504",{"$f":"+CONCATENATE(VLOOKUP(F68,Cadastro!$Q$3:$R$162,2,FALSE),\"/\",S68,\"/\",H68)","v":"64/Pat/201504"},"Pat/201504","1007/201504","1007/0173/201504","64/201504","64/0173/201504","0173/201504",0,0,0,0,0,0,0,0,0,0,null,null,null,null,null,{"$f":"Cadastro!K66","v":"1381"},{"$f":"Cadastro!H66","v":"Pes"}]
[null,"01007","0173","201605",null,"01007","0173","201505",null,{"$f":"IF(C69=0,0,+VLOOKUP(C69,$AQ$4:$AR$130,2,FALSE))","v":"Pat"},{"$f":"IF(J69=0,0,+CONCATENATE(VALUE(B69),\"/\",J69,\"/\",D69))","v":"1007/Pat/201605"},{"$f":"IF(J69=0,0,+CONCATENATE(VLOOKUP(B69,Cadastro!$Q$3:$R$162,2,FALSE),\"/\",J69,\"/\",D69))","v":"64/Pat/201605"},{"$f":"IF(J69=0,0,+CONCATENATE(J69,\"/\",D69))","v":"Pat/201605"},"1007/201605","1007/0173/201605","64/201605","64/0173/201605","0173/201605",{"$f":"+VLOOKUP(G69,$AQ$4:$AR$130,2,FALSE)","v":"Pat"},{"$f":"+CONCATENATE(VALUE(F69),\"/\",S69,\"/\",H69)","v":"1007/Pat/201505"},{"$f":"+CONCATENATE(VLOOKUP(F69,Cadastro!$Q$3:$R$162,2,FALSE),\"/\",S69,\"/\",H69)","v":"64/Pat/201505"},"Pat/201505","1007/201505","1007/0173/201505","64/201505","64/0173/201505","0173/201505",0,0,0,0,0,0,0,0,0,0,null,null,null,null,null,{"$f":"Cadastro!K67","v":"1383"},{"$f":"Cadastro!H67","v":"Pes"}]
[null,"01007","0173","201606",null,"01007","0173","201506",null,"Pat","1007/Pat/201606",{"$f":"IF(J70=0,0,+CONCATENATE(VLOOKUP(B70,Cadastro!$Q$3:$R$162,2,FALSE),\"/\",J70,\"/\",D70))","v":"64/Pat/201606"},"Pat/201606","1007/201606","1007/0173/201606","64/201606","64/0173/201606","0173/201606","Pat","1007/Pat/201506",{"$f":"+CONCATENATE(VLOOKUP(F70,Cadastro!$Q$3:$R$162,2,FALSE),\"/\",S70,\"/\",H70)","v":"64/Pat/201506"},{"$f":"+CONCATENATE(S70,\"/\",H70)","v":"Pat/201506"},"1007/201506","1007/0173/201506","64/201506","64/0173/201506","0173/201506",0,0,0,0,0,0,0,0,0,0,null,null,null,null,null,{"$f":"Cadastro!K68","v":"1384"},{"$f":"Cadastro!H68","v":"Pes"}]
[null,"01007","0173","201607",null,"01007","0173","201507",null,"Pat","1007/Pat/201607",{"$f":"IF(J71=0,0,+CONCATENATE(VLOOKUP(B71,Cadastro!$Q$3:$R$162,2,FALSE),\"/\",J71,\"/\",D71))","v":"64/Pat/201607"},"Pat/201607","1007/201607","1007/0173/201607","64/201607","64/0173/201607","0173/201607","Pat","1007/Pat/201507",{"$f":"+CONCATENATE(VLOOKUP(F71,Cadastro!$Q$3:$R$162,2,FALSE),\"/\",S71,\"/\",H71)","v":"64/Pat/201507"},"Pat/201507","1007/201507","1007/0173/201507","64/201507","64/0173/201507","0173/201507",0,0,0,0,0,0,0,0,0,0,null,null,null,null,null,{"$f":"Cadastro!K69","v":"1386"},{"$f":"Cadastro!H69","v":"Pes"}]
[null,"01007","0173","201608",null,"01007","0173","201508",null,"Pat","1007/Pat/201608",{"$f":"IF(J72=0,0,+CONCATENATE(VLOOKUP(B72,Cadastro!$Q$3:$R$162,2,FALSE),\"/\",J72,\"/\",D72))","v":"64/Pat/201608"},"Pat/201608","1007/201608","1007/0173/201608","64/201608","64/0173/201608","0173/201608","Pat","1007/Pat/201508",{"$f":"+CONCATENATE(VLOOKUP(F72,Cadastro!$Q$3:$R$162,2,FALSE),\"/\",S72,\"/\",H72)","v":"64/Pat/201508"},"Pat/201508","1007/201508","1007/0173/201508","64/201508","64/0173/201508","0173/201508",0,0,0,0,0,0,0,0,0,0,null,null,null,null,null,{"$f":"Cadastro!K70","v":"1387"},{"$f":"Cadastro!H70","v":"Pes"}]
[null,"01007","0173","201609",null,"01007","0173","201509",null,"Pat","1007/Pat/201609",{"$f":"IF(J73=0,0,+CONCATENATE(VLOOKUP(B73,Cadastro!$Q$3:$R$162,2,FALSE),\"/\",J73,\"/\",D73))","v":"64/Pat/201609"},"Pat/201609","1007/201609","1007/0173/201609","64/201609","64/0173/201609","0173/201609","Pat","1007/Pat/201509",{"$f":"+CONCATENATE(VLOOKUP(F73,Cadastro!$Q$3:$R$162,2,FALSE),\"/\",S73,\"/\",H73)","v":"64/Pat/201509"},"Pat/201509","1007/201509","1007/0173/201509","64/201509","64/0173/201509","0173/201509",0,0,0,0,0,0,0,0,0,0,null,null,null,null,null,{"$f":"Cadastro!K71","v":"1390"},{"$f":"Cadastro!H71","v":"Pes"}]
[null,"01007","0173","201610",null,"01007","0173","201510",null,"Pat","1007/Pat/201610",{"$f":"IF(J74=0,0,+CONCATENATE(VLOOKUP(B74,Cadastro!$Q$3:$R$162,2,FALSE),\"/\",J74,\"/\",D74))","v":"64/Pat/201610"},"Pat/201610","1007/201610","1007/0173/201610","64/201610","64/0173/201610","0173/201610","Pat","1007/Pat/201510",{"$f":"+CONCATENATE(VLOOKUP(F74,Cadastro!$Q$3:$R$162,2,FALSE),\"/\",S74,\"/\",H74)","v":"64/Pat/201510"},"Pat/201510","1007/201510","1007/0173/201510","64/201510","64/0173/201510","0173/201510",0,0,0,0,0,0,0,0,0,0,null,null,null,null,null,{"$f":"Cadastro!K72","v":"1391"},{"$f":"Cadastro!H72","v":"Pes"}]
[null,"01007","0173","201611",null,"01007","0173","201511",null,"Pat","1007/Pat/201611",{"$f":"IF(J75=0,0,+CONCATENATE(VLOOKUP(B75,Cadastro!$Q$3:$R$162,2,FALSE),\"/\",J75,\"/\",D75))","v":"64/Pat/201611"},"Pat/201611","1007/201611","1007/0173/201611","64/201611","64/0173/201611","0173/201611","Pat","1007/Pat/201511",{"$f":"+CONCATENATE(VLOOKUP(F75,Cadastro!$Q$3:$R$162,2,FALSE),\"/\",S75,\"/\",H75)","v":"64/Pat/201511"},"Pat/201511","1007/201511","1007/0173/201511","64/201511","64/0173/201511","0173/201511",0,0,0,0,0,0,0,0,0,0,null,null,null,null,null,{"$f":"Cadastro!K73","v":"0234"},{"$f":"Cadastro!H73","v":"RE"}]
[null,"01007","0173","201612",null,"01007","0173","201512",null,"Pat","1007/Pat/201612",{"$f":"IF(J76=0,0,+CONCATENATE(VLOOKUP(B76,Cadastro!$Q$3:$R$162,2,FALSE),\"/\",J76,\"/\",D76))","v":"64/Pat/201612"},"Pat/201612","1007/201612","1007/0173/201612","64/201612","64/0173/201612","0173/201612","Pat","1007/Pat/201512",{"$f":"+CONCATENATE(VLOOKUP(F76,Cadastro!$Q$3:$R$162,2,FALSE),\"/\",S76,\"/\",H76)","v":"64/Pat/201512"},"Pat/201512","1007/201512","1007/0173/201512","64/201512","64/0173/201512","0173/201512",0,0,0,0,0,0,0,0,0,0,null,null,null,null,null,{"$f":"Cadastro!K74","v":"0272"},{"$f":"Cadastro!H74","v":"RE"}]
[null,"01007","0234","201601",null,"01007","0234","201501",null,"RE","1007/RE/201601",{"$f":"IF(J77=0,0,+CONCATENATE(VLOOKUP(B77,Cadastro!$Q$3:$R$162,2,FALSE),\"/\",J77,\"/\",D77))","v":"64/RE/201601"},"RE/201601","1007/201601","1007/0234/201601","64/201601","64/0234/201601","0234/201601","RE","1007/RE/201501",{"$f":"+CONCATENATE(VLOOKUP(F77,Cadastro!$Q$3:$R$162,2,FALSE),\"/\",S77,\"/\",H77)","v":"64/RE/201501"},"RE/201501","1007/201501","1007/0234/201501","64/201501","64/0234/201501","0234/201501",0,0,0,0,0,0,0,0,0,0,null,null,null,null,null,{"$f":"Cadastro!K75","v":"0274"},{"$f":"Cadastro!H75","v":"RE"}]
[null,"01007","0234","201602",null,"01007","0234","201502",null,"RE","1007/RE/201602",{"$f":"IF(J78=0,0,+CONCATENATE(VLOOKUP(B78,Cadastro!$Q$3:$R$162,2,FALSE),\"/\",J78,\"/\",D78))","v":"64/RE/201602"},"RE/201602","1007/201602","1007/0234/201602","64/201602","64/0234/201602","0234/201602","RE","1007/RE/201502",{"$f":"+CONCATENATE(VLOOKUP(F78,Cadastro!$Q$3:$R$162,2,FALSE),\"/\",S78,\"/\",H78)","v":"64/RE/201502"},"RE/201502","1007/201502","1007/0234/201502","64/201502","64/0234/201502","0234/201502",0,0,0,0,0,0,-25.18,0,0,0,null,null,null,null,null,{"$f":"Cadastro!K76","v":"1734"},{"$f":"Cadastro!H76","v":"RE"}]
[null,"01007","0234","201603",null,"01007","0234","201503",null,"RE","1007/RE/201603",{"$f":"IF(J79=0,0,+CONCATENATE(VLOOKUP(B79,Cadastro!$Q$3:$R$162,2,FALSE),\"/\",J79,\"/\",D79))","v":"64/RE/201603"},"RE/201603","1007/201603","1007/0234/201603","64/201603","64/0234/201603","0234/201603","RE","1007/RE/201503",{"$f":"+CONCATENATE(VLOOKUP(F79,Cadastro!$Q$3:$R$162,2,FALSE),\"/\",S79,\"/\",H79)","v":"64/RE/201503"},"RE/201503","1007/201503","1007/0234/201503","64/201503","64/0234/201503","0234/201503",0,0,0,0,0,0,0,0,0,0,null,null,null,null,null,{"$f":"Cadastro!K77","v":"1872"},{"$f":"Cadastro!H77","v":"RE"}]
[null,"01007","0234","201604",null,"01007","0234","201504",null,"RE","1007/RE/201604",{"$f":"IF(J80=0,0,+CONCATENATE(VLOOKUP(B80,Cadastro!$Q$3:$R$162,2,FALSE),\"/\",J80,\"/\",D80))","v":"64/RE/201604"},"RE/201604","1007/201604","1007/0234/201604","64/201604","64/0234/201604","0234/201604","RE","1007/RE/201504",{"$f":"+CONCATENATE(VLOOKUP(F80,Cadastro!$Q$3:$R$162,2,FALSE),\"/\",S80,\"/\",H80)","v":"64/RE/201504"},"RE/201504","1007/201504","1007/0234/201504","64/201504","64/0234/201504","0234/201504",0,0,0,0,0,0,0,0,0,0,null,null,null,null,null,{"$f":"Cadastro!K78","v":"0310"},{"$f":"Cadastro!H78","v":"Res"}]
[null,"01007","0234","201605",null,"01007","0234","201505",null,"RE","1007/RE/201605",{"$f":"IF(J81=0,0,+CONCATENATE(VLOOKUP(B81,Cadastro!$Q$3:$R$162,2,FALSE),\"/\",J81,\"/\",D81))","v":"64/RE/201605"},"RE/201605","1007/201605","1007/0234/201605","64/201605","64/0234/201605","0234/201605","RE","1007/RE/201505",{"$f":"+CONCATENATE(VLOOKUP(F81,Cadastro!$Q$3:$R$162,2,FALSE),\"/\",S81,\"/\",H81)","v":"64/RE/201505"},"RE/201505","1007/201505","1007/0234/201505","64/201505","64/0234/201505","0234/201505",0,0,0,0,0,0,0,0,0,0,null,null,null,null,null,{"$f":"Cadastro!K79","v":"0313"},{"$f":"Cadastro!H79","v":"Res"}]
[null,"01007","0234","201606",null,"01007","0234","201506",null,"RE","1007/RE/201606",{"$f":"IF(J82=0,0,+CONCATENATE(VLOOKUP(B82,Cadastro!$Q$3:$R$162,2,FALSE),\"/\",J82,\"/\",D82))","v":"64/RE/201606"},"RE/201606","1007/201606","1007/0234/201606","64/201606","64/0234/201606","0234/201606","RE","1007/RE/201506",{"$f":"+CONCATENATE(VLOOKUP(F82,Cadastro!$Q$3:$R$162,2,FALSE),\"/\",S82,\"/\",H82)","v":"64/RE/201506"},"RE/201506","1007/201506","1007/0234/201506","64/201506","64/0234/201506","0234/201506",0,0,0,0,0,0,0,0,0,0,null,null,null,null,null,{"$f":"Cadastro!K80","v":"0351"},{"$f":"Cadastro!H80","v":"Res"}]
[null,"01007","0234","201607",null,"01007","0234","201507",null,"RE","1007/RE/201607",{"$f":"IF(J83=0,0,+CONCATENATE(VLOOKUP(B83,Cadastro!$Q$3:$R$162,2,FALSE),\"/\",J83,\"/\",D83))","v":"64/RE/201607"},"RE/201607","1007/201607","1007/0234/201607","64/201607","64/0234/201607","0234/201607","RE","1007/RE/201507",{"$f":"+CONCATENATE(VLOOKUP(F83,Cadastro!$Q$3:$R$162,2,FALSE),\"/\",S83,\"/\",H83)","v":"64/RE/201507"},"RE/201507","1007/201507","1007/0234/201507","64/201507","64/0234/201507","0234/201507",0,0,0,0,0,0,0,0,0,0,null,null,null,null,null,{"$f":"Cadastro!K81","v":"0378"},{"$f":"Cadastro!H81","v":"Res"}]
[null,"01007","0234","201608",null,"01007","0234","201508",null,"RE","1007/RE/201608",{"$f":"IF(J84=0,0,+CONCATENATE(VLOOKUP(B84,Cadastro!$Q$3:$R$162,2,FALSE),\"/\",J84,\"/\",D84))","v":"64/RE/201608"},"RE/201608","1007/201608","1007/0234/201608","64/201608","64/0234/201608","0234/201608","RE","1007/RE/201508",{"$f":"+CONCATENATE(VLOOKUP(F84,Cadastro!$Q$3:$R$162,2,FALSE),\"/\",S84,\"/\",H84)","v":"64/RE/201508"},"RE/201508","1007/201508","1007/0234/201508","64/201508","64/0234/201508","0234/201508",0,0,0,0,0,0,0,0,0,0,null,null,null,null,null,{"$f":"Cadastro!K82","v":"0711"},{"$f":"Cadastro!H82","v":"RF"}]
[null,"01007","0234","201609",null,"01007","0234","201509",null,"RE","1007/RE/201609",{"$f":"IF(J85=0,0,+CONCATENATE(VLOOKUP(B85,Cadastro!$Q$3:$R$162,2,FALSE),\"/\",J85,\"/\",D85))","v":"64/RE/201609"},"RE/201609","1007/201609","1007/0234/201609","64/201609","64/0234/201609","0234/201609","RE","1007/RE/201509",{"$f":"+CONCATENATE(VLOOKUP(F85,Cadastro!$Q$3:$R$162,2,FALSE),\"/\",S85,\"/\",H85)","v":"64/RE/201509"},"RE/201509","1007/201509","1007/0234/201509","64/201509","64/0234/201509","0234/201509",0,0,0,0,0,0,0,0,0,0,null,null,null,null,null,{"$f":"Cadastro!K83","v":"0739"},{"$f":"Cadastro!H83","v":"RF"}]
[null,"01007","0234","201610",null,"01007","0234","201510",null,"RE","1007/RE/201610",{"$f":"IF(J86=0,0,+CONCATENATE(VLOOKUP(B86,Cadastro!$Q$3:$R$162,2,FALSE),\"/\",J86,\"/\",D86))","v":"64/RE/201610"},"RE/201610","1007/201610","1007/0234/201610","64/201610","64/0234/201610","0234/201610","RE","1007/RE/201510",{"$f":"+CONCATENATE(VLOOKUP(F86,Cadastro!$Q$3:$R$162,2,FALSE),\"/\",S86,\"/\",H86)","v":"64/RE/201510"},"RE/201510","1007/201510","1007/0234/201510","64/201510","64/0234/201510","0234/201510",0,0,0,0,0,0,0,0,0,0,null,null,null,null,null,{"$f":"Cadastro!K84","v":"0740"},{"$f":"Cadastro!H84","v":"RF"}]
[null,"01007","0234","201611",null,"01007","0234","201511",null,"RE","1007/RE/201611",{"$f":"IF(J87=0,0,+CONCATENATE(VLOOKUP(B87,Cadastro!$Q$3:$R$162,2,FALSE),\"/\",J87,\"/\",D87))","v":"64/RE/201611"},"RE/201611","1007/201611","1007/0234/201611","64/201611","64/0234/201611","0234/201611","RE","1007/RE/201511",{"$f":"+CONCATENATE(VLOOKUP(F87,Cadastro!$Q$3:$R$162,2,FALSE),\"/\",S87,\"/\",H87)","v":"64/RE/201511"},"RE/201511","1007/201511","1007/0234/201511","64/201511","64/0234/201511","0234/201511",0,0,0,0,0,0,0,0,0,0,null,null,null,null,null,{"$f":"Cadastro!K85","v":"0743"},{"$f":"Cadastro!H85","v":"RF"}]
[null,"01007","0234","201612",null,"01007","0234","201512",null,"RE","1007/RE/201612",{"$f":"IF(J88=0,0,+CONCATENATE(VLOOKUP(B88,Cadastro!$Q$3:$R$162,2,FALSE),\"/\",J88,\"/\",D88))","v":"64/RE/201612"},"RE/201612","1007/201612","1007/0234/201612","64/201612","64/0234/201612","0234/201612","RE","1007/RE/201512",{"$f":"+CONCATENATE(VLOOKUP(F88,Cadastro!$Q$3:$R$162,2,FALSE),\"/\",S88,\"/\",H88)","v":"64/RE/201512"},"RE/201512","1007/201512","1007/0234/201512","64/201512","64/0234/201512","0234/201512",0,0,0,0,0,0,0,0,0,0,null,null,null,null,null,{"$f":"Cadastro!K86","v":"0745"},{"$f":"Cadastro!H86","v":"RF"}]
[null,"01007","0351","201601",null,"01007","0351","201501",null,"Res","1007/Res/201601",{"$f":"IF(J89=0,0,+CONCATENATE(VLOOKUP(B89,Cadastro!$Q$3:$R$162,2,FALSE),\"/\",J89,\"/\",D89))","v":"64/Res/201601"},"Res/201601","1007/201601","1007/0351/201601","64/201601","64/0351/201601","0351/201601","Res","1007/Res/201501",{"$f":"+CONCATENATE(VLOOKUP(F89,Cadastro!$Q$3:$R$162,2,FALSE),\"/\",S89,\"/\",H89)","v":"64/Res/201501"},"Res/201501","1007/201501","1007/0351/201501","64/201501","64/0351/201501","0351/201501",0,0,0,0,0,0,0,0,0,0,null,null,null,null,null,{"$f":"Cadastro!K87","v":"0746"},{"$f":"Cadastro!H87","v":"RF"}]
[null,"01007","0351","201602",null,"01007","0351","201502",null,"Res","1007/Res/201602",{"$f":"IF(J90=0,0,+CONCATENATE(VLOOKUP(B90,Cadastro!$Q$3:$R$162,2,FALSE),\"/\",J90,\"/\",D90))","v":"64/Res/201602"},"Res/201602","1007/201602","1007/0351/201602","64/201602","64/0351/201602","0351/201602","Res","1007/Res/201502",{"$f":"+CONCATENATE(VLOOKUP(F90,Cadastro!$Q$3:$R$162,2,FALSE),\"/\",S90,\"/\",H90)","v":"64/Res/201502"},"Res/201502","1007/201502","1007/0351/201502","64/201502","64/0351/201502","0351/201502",0,0,0,0,0,0,0,0,0,0,null,null,null,null,null,{"$f":"Cadastro!K88","v":"0747"},{"$f":"Cadastro!H88","v":"RF"}]
[null,"01007","0351","201603",null,"01007","0351","201503",null,"Res","1007/Res/201603",{"$f":"IF(J91=0,0,+CONCATENATE(VLOOKUP(B91,Cadastro!$Q$3:$R$162,2,FALSE),\"/\",J91,\"/\",D91))","v":"64/Res/201603"},"Res/201603","1007/201603","1007/0351/201603","64/201603","64/0351/201603","0351/201603","Res","1007/Res/201503",{"$f":"+CONCATENATE(VLOOKUP(F91,Cadastro!$Q$3:$R$162,2,FALSE),\"/\",S91,\"/\",H91)","v":"64/Res/201503"},"Res/201503","1007/201503","1007/0351/201503","64/201503","64/0351/201503","0351/201503",0,0,0,0,0,0,0,0,0,0,null,null,null,null,null,{"$f":"Cadastro!K89","v":"0748"},{"$f":"Cadastro!H89","v":"RF"}]
[null,"01007","0351","201604",null,"01007","0351","201504",null,"Res","1007/Res/201604",{"$f":"IF(J92=0,0,+CONCATENATE(VLOOKUP(B92,Cadastro!$Q$3:$R$162,2,FALSE),\"/\",J92,\"/\",D92))","v":"64/Res/201604"},"Res/201604","1007/201604","1007/0351/201604","64/201604","64/0351/201604","0351/201604","Res","1007/Res/201504",{"$f":"+CONCATENATE(VLOOKUP(F92,Cadastro!$Q$3:$R$162,2,FALSE),\"/\",S92,\"/\",H92)","v":"64/Res/201504"},"Res/201504","1007/201504","1007/0351/201504","64/201504","64/0351/201504","0351/201504",0,0,0,0,0,0,0,0,0,0,null,null,null,null,null,{"$f":"Cadastro!K90","v":"0749"},{"$f":"Cadastro!H90","v":"RF"}]
[null,"01007","0351","201605",null,"01007","0351","201505",null,"Res","1007/Res/201605",{"$f":"IF(J93=0,0,+CONCATENATE(VLOOKUP(B93,Cadastro!$Q$3:$R$162,2,FALSE),\"/\",J93,\"/\",D93))","v":"64/Res/201605"},"Res/201605","1007/201605","1007/0351/201605","64/201605","64/0351/201605","0351/201605","Res","1007/Res/201505",{"$f":"+CONCATENATE(VLOOKUP(F93,Cadastro!$Q$3:$R$162,2,FALSE),\"/\",S93,\"/\",H93)","v":"64/Res/201505"},"Res/201505","1007/201505","1007/0351/201505","64/201505","64/0351/201505","0351/201505",0,0,0,0,0,0,0,0,0,0,null,null,null,null,null,{"$f":"Cadastro!K91","v":"0750"},{"$f":"Cadastro!H91","v":"RF"}]
[null,"01007","0351","201606",null,"01007","0351","201506",null,"Res","1007/Res/201606",{"$f":"IF(J94=0,0,+CONCATENATE(VLOOKUP(B94,Cadastro!$Q$3:$R$162,2,FALSE),\"/\",J94,\"/\",D94))","v":"64/Res/201606"},"Res/201606","1007/201606","1007/0351/201606","64/201606","64/0351/201606","0351/201606","Res","1007/Res/201506",{"$f":"+CONCATENATE(VLOOKUP(F94,Cadastro!$Q$3:$R$162,2,FALSE),\"/\",S94,\"/\",H94)","v":"64/Res/201506"},"Res/201506","1007/201506","1007/0351/201506","64/201506","64/0351/201506","0351/201506",0,0,0,0,0,0,0,0,0,0,null,null,null,null,null,{"$f":"Cadastro!K92","v":"0775"},{"$f":"Cadastro!H92","v":"RF"}]
[null,"01007","0351","201607",null,"01007","0351","201507",null,"Res","1007/Res/201607",{"$f":"IF(J95=0,0,+CONCATENATE(VLOOKUP(B95,Cadastro!$Q$3:$R$162,2,FALSE),\"/\",J95,\"/\",D95))","v":"64/Res/201607"},"Res/201607","1007/201607","1007/0351/201607","64/201607","64/0351/201607","0351/201607","Res","1007/Res/201507",{"$f":"+CONCATENATE(VLOOKUP(F95,Cadastro!$Q$3:$R$162,2,FALSE),\"/\",S95,\"/\",H95)","v":"64/Res/201507"},"Res/201507","1007/201507","1007/0351/201507","64/201507","64/0351/201507","0351/201507",0,0,0,0,0,0,0,0,0,0,null,null,null,null,null,{"$f":"Cadastro!K93","v":"0776"},{"$f":"Cadastro!H93","v":"RF"}]
[null,"01007","0351","201608",null,"01007","0351","201508",null,"Res","1007/Res/201608",{"$f":"IF(J96=0,0,+CONCATENATE(VLOOKUP(B96,Cadastro!$Q$3:$R$162,2,FALSE),\"/\",J96,\"/\",D96))","v":"64/Res/201608"},"Res/201608","1007/201608","1007/0351/201608","64/201608","64/0351/201608","0351/201608","Res","1007/Res/201508",{"$f":"+CONCATENATE(VLOOKUP(F96,Cadastro!$Q$3:$R$162,2,FALSE),\"/\",S96,\"/\",H96)","v":"64/Res/201508"},"Res/201508","1007/201508","1007/0351/201508","64/201508","64/0351/201508","0351/201508",0,0,0,0,0,0,0,0,0,0,null,null,null,null,null,{"$f":"Cadastro!K94","v":"0819"},{"$f":"Cadastro!H94","v":"RF"}]
[null,"01007","0351","201609",null,"01007","0351","201509",null,"Res","1007/Res/201609",{"$f":"IF(J97=0,0,+CONCATENATE(VLOOKUP(B97,Cadastro!$Q$3:$R$162,2,FALSE),\"/\",J97,\"/\",D97))","v":"64/Res/201609"},"Res/201609","1007/201609","1007/0351/201609","64/201609","64/0351/201609","0351/201609","Res","1007/Res/201509",{"$f":"+CONCATENATE(VLOOKUP(F97,Cadastro!$Q$3:$R$162,2,FALSE),\"/\",S97,\"/\",H97)","v":"64/Res/201509"},"Res/201509","1007/201509","1007/0351/201509","64/201509","64/0351/201509","0351/201509",0,0,0,0,0,0,0,0,0,0,null,null,null,null,null,{"$f":"Cadastro!K95","v":"0859"},{"$f":"Cadastro!H95","v":"RF"}]
[null,"01007","0351","201610",null,"01007","0351","201510",null,"Res","1007/Res/201610",{"$f":"IF(J98=0,0,+CONCATENATE(VLOOKUP(B98,Cadastro!$Q$3:$R$162,2,FALSE),\"/\",J98,\"/\",D98))","v":"64/Res/201610"},"Res/201610","1007/201610","1007/0351/201610","64/201610","64/0351/201610","0351/201610","Res","1007/Res/201510",{"$f":"+CONCATENATE(VLOOKUP(F98,Cadastro!$Q$3:$R$162,2,FALSE),\"/\",S98,\"/\",H98)","v":"64/Res/201510"},"Res/201510","1007/201510","1007/0351/201510","64/201510","64/0351/201510","0351/201510",0,0,0,0,0,0,0,0,0,0,null,null,null,null,null,{"$f":"Cadastro!K96","v":"0860"},{"$f":"Cadastro!H96","v":"RF"}]
[null,"01007","0351","201611",null,"01007","0351","201511",null,"Res","1007/Res/201611",{"$f":"IF(J99=0,0,+CONCATENATE(VLOOKUP(B99,Cadastro!$Q$3:$R$162,2,FALSE),\"/\",J99,\"/\",D99))","v":"64/Res/201611"},"Res/201611","1007/201611","1007/0351/201611","64/201611","64/0351/201611","0351/201611","Res","1007/Res/201511",{"$f":"+CONCATENATE(VLOOKUP(F99,Cadastro!$Q$3:$R$162,2,FALSE),\"/\",S99,\"/\",H99)","v":"64/Res/201511"},"Res/201511","1007/201511","1007/0351/201511","64/201511","64/0351/201511","0351/201511",0,0,0,0,0,0,0,0,0,0,null,null,null,null,null,{"$f":"Cadastro!K97","v":"0870"},{"$f":"Cadastro!H97","v":"RF"}]
[null,"01007","0351","201612",null,"01007","0351","201512",null,"Res","1007/Res/201612",{"$f":"IF(J100=0,0,+CONCATENATE(VLOOKUP(B100,Cadastro!$Q$3:$R$162,2,FALSE),\"/\",J100,\"/\",D100))","v":"64/Res/201612"},"Res/201612","1007/201612","1007/0351/201612","64/201612","64/0351/201612","0351/201612","Res","1007/Res/201512",{"$f":"+CONCATENATE(VLOOKUP(F100,Cadastro!$Q$3:$R$162,2,FALSE),\"/\",S100,\"/\",H100)","v":"64/Res/201512"},"Res/201512","1007/201512","1007/0351/201512","64/201512","64/0351/201512","0351/201512",0,0,0,0,0,0,0,0,0,0,null,null,null,null,null,{"$f":"Cadastro!K98","v":"1101"},{"$f":"Cadastro!H98","v":"Rur"}]
[null,"01007","0433","201601",null,"01007","0433","201501",null,"Mar","1007/Mar/201601",{"$f":"IF(J101=0,0,+CONCATENATE(VLOOKUP(B101,Cadastro!$Q$3:$R$162,2,FALSE),\"/\",J101,\"/\",D101))","v":"64/Mar/201601"},"Mar/201601","1007/201601","1007/0433/201601","64/201601","64/0433/201601","0433/201601","Mar","1007/Mar/201501",{"$f":"+CONCATENATE(VLOOKUP(F101,Cadastro!$Q$3:$R$162,2,FALSE),\"/\",S101,\"/\",H101)","v":"64/Mar/201501"},"Mar/201501","1007/201501","1007/0433/201501","64/201501","64/0433/201501","0433/201501",0,0,0,0,0,0,0,0,0,0,null,null,null,null,null,{"$f":"Cadastro!K99","v":"1102"},{"$f":"Cadastro!H99","v":"Rur"}]
[null,"01007","0433","201602",null,"01007","0433","201502",null,"Mar","1007/Mar/201602",{"$f":"IF(J102=0,0,+CONCATENATE(VLOOKUP(B102,Cadastro!$Q$3:$R$162,2,FALSE),\"/\",J102,\"/\",D102))","v":"64/Mar/201602"},"Mar/201602","1007/201602","1007/0433/201602","64/201602","64/0433/201602","0433/201602","Mar","1007/Mar/201502",{"$f":"+CONCATENATE(VLOOKUP(F102,Cadastro!$Q$3:$R$162,2,FALSE),\"/\",S102,\"/\",H102)","v":"64/Mar/201502"},"Mar/201502","1007/201502","1007/0433/201502","64/201502","64/0433/201502","0433/201502",0,0,0,0,0,0,-0.56000000000000005,0,0,0,null,null,null,null,null,{"$f":"Cadastro!K100","v":"1103"},{"$f":"Cadastro!H100","v":"Rur"}]
[null,"01007","0433","201603",null,"01007","0433","201503",null,"Mar","1007/Mar/201603",{"$f":"IF(J103=0,0,+CONCATENATE(VLOOKUP(B103,Cadastro!$Q$3:$R$162,2,FALSE),\"/\",J103,\"/\",D103))","v":"64/Mar/201603"},"Mar/201603","1007/201603","1007/0433/201603","64/201603","64/0433/201603","0433/201603","Mar","1007/Mar/201503",{"$f":"+CONCATENATE(VLOOKUP(F103,Cadastro!$Q$3:$R$162,2,FALSE),\"/\",S103,\"/\",H103)","v":"64/Mar/201503"},"Mar/201503","1007/201503","1007/0433/201503","64/201503","64/0433/201503","0433/201503",0,0,0,0,0,0,0,0,0,0,null,null,null,null,null,{"$f":"Cadastro!K101","v":"1104"},{"$f":"Cadastro!H101","v":"Rur"}]
[null,"01007","0433","201604",null,"01007","0433","201504",null,"Mar","1007/Mar/201604",{"$f":"IF(J104=0,0,+CONCATENATE(VLOOKUP(B104,Cadastro!$Q$3:$R$162,2,FALSE),\"/\",J104,\"/\",D104))","v":"64/Mar/201604"},"Mar/201604","1007/201604","1007/0433/201604","64/201604","64/0433/201604","0433/201604","Mar","1007/Mar/201504",{"$f":"+CONCATENATE(VLOOKUP(F104,Cadastro!$Q$3:$R$162,2,FALSE),\"/\",S104,\"/\",H104)","v":"64/Mar/201504"},"Mar/201504","1007/201504","1007/0433/201504","64/201504","64/0433/201504","0433/201504",0,0,0,0,0,0,0,0,0,0,null,null,null,null,null,{"$f":"Cadastro!K102","v":"1105"},{"$f":"Cadastro!H102","v":"Rur"}]
[null,"01007","0433","201605",null,"01007","0433","201505",null,"Mar","1007/Mar/201605",{"$f":"IF(J105=0,0,+CONCATENATE(VLOOKUP(B105,Cadastro!$Q$3:$R$162,2,FALSE),\"/\",J105,\"/\",D105))","v":"64/Mar/201605"},"Mar/201605","1007/201605","1007/0433/201605","64/201605","64/0433/201605","0433/201605","Mar","1007/Mar/201505",{"$f":"+CONCATENATE(VLOOKUP(F105,Cadastro!$Q$3:$R$162,2,FALSE),\"/\",S105,\"/\",H105)","v":"64/Mar/201505"},"Mar/201505","1007/201505","1007/0433/201505","64/201505","64/0433/201505","0433/201505",0,0,0,0,0,0,0,0,0,0,null,null,null,null,null,{"$f":"Cadastro!K103","v":"1106"},{"$f":"Cadastro!H103","v":"Rur"}]
[null,"01007","0433","201606",null,"01007","0433","201506",null,"Mar","1007/Mar/201606",{"$f":"IF(J106=0,0,+CONCATENATE(VLOOKUP(B106,Cadastro!$Q$3:$R$162,2,FALSE),\"/\",J106,\"/\",D106))","v":"64/Mar/201606"},"Mar/201606","1007/201606","1007/0433/201606","64/201606","64/0433/201606","0433/201606","Mar","1007/Mar/201506",{"$f":"+CONCATENATE(VLOOKUP(F106,Cadastro!$Q$3:$R$162,2,FALSE),\"/\",S106,\"/\",H106)","v":"64/Mar/201506"},"Mar/201506","1007/201506","1007/0433/201506","64/201506","64/0433/201506","0433/201506",0,0,0,0,0,0,0,0,0,0,null,null,null,null,null,{"$f":"Cadastro!K104","v":"1107"},{"$f":"Cadastro!H104","v":"Rur"}]
[null,"01007","0433","201607",null,"01007","0433","201507",null,"Mar","1007/Mar/201607",{"$f":"IF(J107=0,0,+CONCATENATE(VLOOKUP(B107,Cadastro!$Q$3:$R$162,2,FALSE),\"/\",J107,\"/\",D107))","v":"64/Mar/201607"},"Mar/201607","1007/201607","1007/0433/201607","64/201607","64/0433/201607","0433/201607","Mar","1007/Mar/201507",{"$f":"+CONCATENATE(VLOOKUP(F107,Cadastro!$Q$3:$R$162,2,FALSE),\"/\",S107,\"/\",H107)","v":"64/Mar/201507"},"Mar/201507","1007/201507","1007/0433/201507","64/201507","64/0433/201507","0433/201507",0,0,0,0,0,0,0,0,0,0,null,null,null,null,null,{"$f":"Cadastro!K105","v":"1108"},{"$f":"Cadastro!H105","v":"Rur"}]
[null,"01007","0433","201608",null,"01007","0433","201508",null,"Mar","1007/Mar/201608",{"$f":"IF(J108=0,0,+CONCATENATE(VLOOKUP(B108,Cadastro!$Q$3:$R$162,2,FALSE),\"/\",J108,\"/\",D108))","v":"64/Mar/201608"},"Mar/201608","1007/201608","1007/0433/201608","64/201608","64/0433/201608","0433/201608","Mar","1007/Mar/201508",{"$f":"+CONCATENATE(VLOOKUP(F108,Cadastro!$Q$3:$R$162,2,FALSE),\"/\",S108,\"/\",H108)","v":"64/Mar/201508"},"Mar/201508","1007/201508","1007/0433/201508","64/201508","64/0433/201508","0433/201508",0,0,0,0,0,0,0,0,0,0,null,null,null,null,null,{"$f":"Cadastro!K106","v":"1109"},{"$f":"Cadastro!H106","v":"Rur"}]
[null,"01007","0433","201609",null,"01007","0433","201509",null,"Mar","1007/Mar/201609",{"$f":"IF(J109=0,0,+CONCATENATE(VLOOKUP(B109,Cadastro!$Q$3:$R$162,2,FALSE),\"/\",J109,\"/\",D109))","v":"64/Mar/201609"},"Mar/201609","1007/201609","1007/0433/201609","64/201609","64/0433/201609","0433/201609","Mar","1007/Mar/201509",{"$f":"+CONCATENATE(VLOOKUP(F109,Cadastro!$Q$3:$R$162,2,FALSE),\"/\",S109,\"/\",H109)","v":"64/Mar/201509"},"Mar/201509","1007/201509","1007/0433/201509","64/201509","64/0433/201509","0433/201509",0,0,0,0,0,0,0,0,0,0,null,null,null,null,null,{"$f":"Cadastro!K107","v":"1130"},{"$f":"Cadastro!H107","v":"Rur"}]
[null,"01007","0433","201610",null,"01007","0433","201510",null,"Mar","1007/Mar/201610",{"$f":"IF(J110=0,0,+CONCATENATE(VLOOKUP(B110,Cadastro!$Q$3:$R$162,2,FALSE),\"/\",J110,\"/\",D110))","v":"64/Mar/201610"},"Mar/201610","1007/201610","1007/0433/201610","64/201610","64/0433/201610","0433/201610","Mar","1007/Mar/201510",{"$f":"+CONCATENATE(VLOOKUP(F110,Cadastro!$Q$3:$R$162,2,FALSE),\"/\",S110,\"/\",H110)","v":"64/Mar/201510"},"Mar/201510","1007/201510","1007/0433/201510","64/201510","64/0433/201510","0433/201510",0,0,0,0,0,0,0,0,0,0,null,null,null,null,null,{"$f":"Cadastro!K108","v":"1162"},{"$f":"Cadastro!H108","v":"Rur"}]
[null,"01007","0433","201611",null,"01007","0433","201511",null,"Mar","1007/Mar/201611",{"$f":"IF(J111=0,0,+CONCATENATE(VLOOKUP(B111,Cadastro!$Q$3:$R$162,2,FALSE),\"/\",J111,\"/\",D111))","v":"64/Mar/201611"},"Mar/201611","1007/201611","1007/0433/201611","64/201611","64/0433/201611","0433/201611","Mar","1007/Mar/201511",{"$f":"+CONCATENATE(VLOOKUP(F111,Cadastro!$Q$3:$R$162,2,FALSE),\"/\",S111,\"/\",H111)","v":"64/Mar/201511"},"Mar/201511","1007/201511","1007/0433/201511","64/201511","64/0433/201511","0433/201511",0,0,0,0,0,0,0,0,0,0,null,null,null,null,null,{"$f":"Cadastro!K109","v":"1163"},{"$f":"Cadastro!H109","v":"Rur"}]
[null,"01007","0433","201612",null,"01007","0433","201512",null,"Mar","1007/Mar/201612",{"$f":"IF(J112=0,0,+CONCATENATE(VLOOKUP(B112,Cadastro!$Q$3:$R$162,2,FALSE),\"/\",J112,\"/\",D112))","v":"64/Mar/201612"},"Mar/201612","1007/201612","1007/0433/201612","64/201612","64/0433/201612","0433/201612","Mar","1007/Mar/201512",{"$f":"+CONCATENATE(VLOOKUP(F112,Cadastro!$Q$3:$R$162,2,FALSE),\"/\",S112,\"/\",H112)","v":"64/Mar/201512"},"Mar/201512","1007/201512","1007/0433/201512","64/201512","64/0433/201512","0433/201512",0,0,0,0,0,0,0,0,0,0,null,null,null,null,null,{"$f":"Cadastro!K110","v":"1164"},{"$f":"Cadastro!H110","v":"Rur"}]
[null,"01007","0435","201601",null,"01007","0435","201501",null,"Aero","1007/Aero/201601",{"$f":"IF(J113=0,0,+CONCATENATE(VLOOKUP(B113,Cadastro!$Q$3:$R$162,2,FALSE),\"/\",J113,\"/\",D113))","v":"64/Aero/201601"},"Aero/201601","1007/201601","1007/0435/201601","64/201601","64/0435/201601","0435/201601","Aero","1007/Aero/201501",{"$f":"+CONCATENATE(VLOOKUP(F113,Cadastro!$Q$3:$R$162,2,FALSE),\"/\",S113,\"/\",H113)","v":"64/Aero/201501"},"Aero/201501","1007/201501","1007/0435/201501","64/201501","64/0435/201501","0435/201501",0,0,0,0,0,0,0,0,0,0,null,null,null,null,null,{"$f":"Cadastro!K111","v":"1198"},{"$f":"Cadastro!H111","v":"Rur"}]
[null,"01007","0435","201602",null,"01007","0435","201502",null,"Aero","1007/Aero/201602",{"$f":"IF(J114=0,0,+CONCATENATE(VLOOKUP(B114,Cadastro!$Q$3:$R$162,2,FALSE),\"/\",J114,\"/\",D114))","v":"64/Aero/201602"},"Aero/201602","1007/201602","1007/0435/201602","64/201602","64/0435/201602","0435/201602","Aero","1007/Aero/201502",{"$f":"+CONCATENATE(VLOOKUP(F114,Cadastro!$Q$3:$R$162,2,FALSE),\"/\",S114,\"/\",H114)","v":"64/Aero/201502"},"Aero/201502","1007/201502","1007/0435/201502","64/201502","64/0435/201502","0435/201502",0,0,0,0,0,0,0,0,0,0,null,null,null,null,null,{"$f":"Cadastro!K112","v":"0523"},{"$f":"Cadastro!H112","v":"Transp"}]
[null,"01007","0435","201603",null,"01007","0435","201503",null,"Aero","1007/Aero/201603",{"$f":"IF(J115=0,0,+CONCATENATE(VLOOKUP(B115,Cadastro!$Q$3:$R$162,2,FALSE),\"/\",J115,\"/\",D115))","v":"64/Aero/201603"},"Aero/201603","1007/201603","1007/0435/201603","64/201603","64/0435/201603","0435/201603","Aero","1007/Aero/201503",{"$f":"+CONCATENATE(VLOOKUP(F115,Cadastro!$Q$3:$R$162,2,FALSE),\"/\",S115,\"/\",H115)","v":"64/Aero/201503"},"Aero/201503","1007/201503","1007/0435/201503","64/201503","64/0435/201503","0435/201503",0,0,0,0,0,0,0,0,0,0,null,null,null,null,null,{"$f":"Cadastro!K113","v":"0621"},{"$f":"Cadastro!H113","v":"Transp"}]
[null,"01007","0435","201604",null,"01007","0435","201504",null,"Aero","1007/Aero/201604",{"$f":"IF(J116=0,0,+CONCATENATE(VLOOKUP(B116,Cadastro!$Q$3:$R$162,2,FALSE),\"/\",J116,\"/\",D116))","v":"64/Aero/201604"},"Aero/201604","1007/201604","1007/0435/201604","64/201604","64/0435/201604","0435/201604","Aero","1007/Aero/201504",{"$f":"+CONCATENATE(VLOOKUP(F116,Cadastro!$Q$3:$R$162,2,FALSE),\"/\",S116,\"/\",H116)","v":"64/Aero/201504"},"Aero/201504","1007/201504","1007/0435/201504","64/201504","64/0435/201504","0435/201504",0,0,0,0,0,0,0,0,0,0,null,null,null,null,null,{"$f":"Cadastro!K114","v":"0622"},{"$f":"Cadastro!H114","v":"Transp"}]
[null,"01007","0435","201605",null,"01007","0435","201505",null,"Aero","1007/Aero/201605",{"$f":"IF(J117=0,0,+CONCATENATE(VLOOKUP(B117,Cadastro!$Q$3:$R$162,2,FALSE),\"/\",J117,\"/\",D117))","v":"64/Aero/201605"},"Aero/201605","1007/201605","1007/0435/201605","64/201605","64/0435/201605","0435/201605","Aero","1007/Aero/201505",{"$f":"+CONCATENATE(VLOOKUP(F117,Cadastro!$Q$3:$R$162,2,FALSE),\"/\",S117,\"/\",H117)","v":"64/Aero/201505"},"Aero/201505","1007/201505","1007/0435/201505","64/201505","64/0435/201505","0435/201505",0,0,0,0,0,0,0,0,0,0,null,null,null,null,null,{"$f":"Cadastro!K115","v":"0623"},{"$f":"Cadastro!H115","v":"Transp"}]
[null,"01007","0435","201606",null,"01007","0435","201506",null,"Aero","1007/Aero/201606",{"$f":"IF(J118=0,0,+CONCATENATE(VLOOKUP(B118,Cadastro!$Q$3:$R$162,2,FALSE),\"/\",J118,\"/\",D118))","v":"64/Aero/201606"},"Aero/201606","1007/201606","1007/0435/201606","64/201606","64/0435/201606","0435/201606","Aero","1007/Aero/201506",{"$f":"+CONCATENATE(VLOOKUP(F118,Cadastro!$Q$3:$R$162,2,FALSE),\"/\",S118,\"/\",H118)","v":"64/Aero/201506"},"Aero/201506","1007/201506","1007/0435/201506","64/201506","64/0435/201506","0435/201506",0,0,0,0,0,0,0,0,0,0,null,null,null,null,null,{"$f":"Cadastro!K116","v":"0627"},{"$f":"Cadastro!H116","v":"Transp"}]
[null,"01007","0435","201607",null,"01007","0435","201507",null,"Aero","1007/Aero/201607",{"$f":"IF(J119=0,0,+CONCATENATE(VLOOKUP(B119,Cadastro!$Q$3:$R$162,2,FALSE),\"/\",J119,\"/\",D119))","v":"64/Aero/201607"},"Aero/201607","1007/201607","1007/0435/201607","64/201607","64/0435/201607","0435/201607","Aero","1007/Aero/201507",{"$f":"+CONCATENATE(VLOOKUP(F119,Cadastro!$Q$3:$R$162,2,FALSE),\"/\",S119,\"/\",H119)","v":"64/Aero/201507"},"Aero/201507","1007/201507","1007/0435/201507","64/201507","64/0435/201507","0435/201507",0,0,0,0,0,0,0,0,0,0,null,null,null,null,null,{"$f":"Cadastro!K117","v":"0628"},{"$f":"Cadastro!H117","v":"Transp"}]
[null,"01007","0435","201608",null,"01007","0435","201508",null,"Aero","1007/Aero/201608",{"$f":"IF(J120=0,0,+CONCATENATE(VLOOKUP(B120,Cadastro!$Q$3:$R$162,2,FALSE),\"/\",J120,\"/\",D120))","v":"64/Aero/201608"},"Aero/201608","1007/201608","1007/0435/201608","64/201608","64/0435/201608","0435/201608","Aero","1007/Aero/201508",{"$f":"+CONCATENATE(VLOOKUP(F120,Cadastro!$Q$3:$R$162,2,FALSE),\"/\",S120,\"/\",H120)","v":"64/Aero/201508"},"Aero/201508","1007/201508","1007/0435/201508","64/201508","64/0435/201508","0435/201508",0,0,0,0,0,0,0,0,0,0,null,null,null,null,null,{"$f":"Cadastro!K118","v":"0632"},{"$f":"Cadastro!H118","v":"Transp"}]
[null,"01007","0435","201609",null,"01007","0435","201509",null,"Aero","1007/Aero/201609",{"$f":"IF(J121=0,0,+CONCATENATE(VLOOKUP(B121,Cadastro!$Q$3:$R$162,2,FALSE),\"/\",J121,\"/\",D121))","v":"64/Aero/201609"},"Aero/201609","1007/201609","1007/0435/201609","64/201609","64/0435/201609","0435/201609","Aero","1007/Aero/201509",{"$f":"+CONCATENATE(VLOOKUP(F121,Cadastro!$Q$3:$R$162,2,FALSE),\"/\",S121,\"/\",H121)","v":"64/Aero/201509"},"Aero/201509","1007/201509","1007/0435/201509","64/201509","64/0435/201509","0435/201509",0,0,0,0,0,0,0,0,0,0,null,null,null,null,null,{"$f":"Cadastro!K119","v":"0638"},{"$f":"Cadastro!H119","v":"Transp"}]
[null,"01007","0435","201610",null,"01007","0435","201510",null,"Aero","1007/Aero/201610",{"$f":"IF(J122=0,0,+CONCATENATE(VLOOKUP(B122,Cadastro!$Q$3:$R$162,2,FALSE),\"/\",J122,\"/\",D122))","v":"64/Aero/201610"},"Aero/201610","1007/201610","1007/0435/201610","64/201610","64/0435/201610","0435/201610","Aero","1007/Aero/201510",{"$f":"+CONCATENATE(VLOOKUP(F122,Cadastro!$Q$3:$R$162,2,FALSE),\"/\",S122,\"/\",H122)","v":"64/Aero/201510"},"Aero/201510","1007/201510","1007/0435/201510","64/201510","64/0435/201510","0435/201510",0,0,0,0,0,0,0,0,0,0,null,null,null,null,null,{"$f":"Cadastro!K120","v":"0644"},{"$f":"Cadastro!H120","v":"Transp"}]
[null,"01007","0435","201611",null,"01007","0435","201511",null,"Aero","1007/Aero/201611",{"$f":"IF(J123=0,0,+CONCATENATE(VLOOKUP(B123,Cadastro!$Q$3:$R$162,2,FALSE),\"/\",J123,\"/\",D123))","v":"64/Aero/201611"},"Aero/201611","1007/201611","1007/0435/201611","64/201611","64/0435/201611","0435/201611","Aero","1007/Aero/201511",{"$f":"+CONCATENATE(VLOOKUP(F123,Cadastro!$Q$3:$R$162,2,FALSE),\"/\",S123,\"/\",H123)","v":"64/Aero/201511"},"Aero/201511","1007/201511","1007/0435/201511","64/201511","64/0435/201511","0435/201511",0,0,0,0,0,0,0,0,0,0,null,null,null,null,null,{"$f":"Cadastro!K121","v":"0652"},{"$f":"Cadastro!H121","v":"Transp"}]
[null,"01007","0435","201612",null,"01007","0435","201512",null,"Aero","1007/Aero/201612",{"$f":"IF(J124=0,0,+CONCATENATE(VLOOKUP(B124,Cadastro!$Q$3:$R$162,2,FALSE),\"/\",J124,\"/\",D124))","v":"64/Aero/201612"},"Aero/201612","1007/201612","1007/0435/201612","64/201612","64/0435/201612","0435/201612","Aero","1007/Aero/201512",{"$f":"+CONCATENATE(VLOOKUP(F124,Cadastro!$Q$3:$R$162,2,FALSE),\"/\",S124,\"/\",H124)","v":"64/Aero/201512"},"Aero/201512","1007/201512","1007/0435/201512","64/201512","64/0435/201512","0435/201512",0,0,0,0,0,0,0,0,0,0,null,null,null,null,null,{"$f":"Cadastro!K122","v":"0654"},{"$f":"Cadastro!H122","v":"Transp"}]
[null,"01007","0531","201601",null,"01007","0531","201501",null,"Aut","1007/Aut/201601",{"$f":"IF(J125=0,0,+CONCATENATE(VLOOKUP(B125,Cadastro!$Q$3:$R$162,2,FALSE),\"/\",J125,\"/\",D125))","v":"64/Aut/201601"},"Aut/201601","1007/201601","1007/0531/201601","64/201601","64/0531/201601","0531/201601","Aut","1007/Aut/201501",{"$f":"+CONCATENATE(VLOOKUP(F125,Cadastro!$Q$3:$R$162,2,FALSE),\"/\",S125,\"/\",H125)","v":"64/Aut/201501"},"Aut/201501","1007/201501","1007/0531/201501","64/201501","64/0531/201501","0531/201501",0,0,0,0,0,0,0,0,0,0,null,null,null,null,null,{"$f":"Cadastro!K123","v":"0655"},{"$f":"Cadastro!H123","v":"Transp"}]
[null,"01007","0531","201602",null,"01007","0531","201502",null,"Aut","1007/Aut/201602",{"$f":"IF(J126=0,0,+CONCATENATE(VLOOKUP(B126,Cadastro!$Q$3:$R$162,2,FALSE),\"/\",J126,\"/\",D126))","v":"64/Aut/201602"},"Aut/201602","1007/201602","1007/0531/201602","64/201602","64/0531/201602","0531/201602","Aut","1007/Aut/201502",{"$f":"+CONCATENATE(VLOOKUP(F126,Cadastro!$Q$3:$R$162,2,FALSE),\"/\",S126,\"/\",H126)","v":"64/Aut/201502"},"Aut/201502","1007/201502","1007/0531/201502","64/201502","64/0531/201502","0531/201502",0,0,0,0,0,0,0,0,0,0,null,null,null,null,null,{"$f":"Cadastro!K124","v":"0656"},{"$f":"Cadastro!H124","v":"Transp"}]
[null,"01007","0531","201603",null,"01007","0531","201503",null,"Aut","1007/Aut/201603",{"$f":"IF(J127=0,0,+CONCATENATE(VLOOKUP(B127,Cadastro!$Q$3:$R$162,2,FALSE),\"/\",J127,\"/\",D127))","v":"64/Aut/201603"},"Aut/201603","1007/201603","1007/0531/201603","64/201603","64/0531/201603","0531/201603","Aut","1007/Aut/201503",{"$f":"+CONCATENATE(VLOOKUP(F127,Cadastro!$Q$3:$R$162,2,FALSE),\"/\",S127,\"/\",H127)","v":"64/Aut/201503"},"Aut/201503","1007/201503","1007/0531/201503","64/201503","64/0531/201503","0531/201503",0,0,0,0,0,0,0,0,0,0,null,null,null,null,null,{"$f":"Cadastro!K125","v":"0658"},{"$f":"Cadastro!H125","v":"Transp"}]
[null,"01007","0531","201604",null,"01007","0531","201504",null,"Aut","1007/Aut/201604",{"$f":"IF(J128=0,0,+CONCATENATE(VLOOKUP(B128,Cadastro!$Q$3:$R$162,2,FALSE),\"/\",J128,\"/\",D128))","v":"64/Aut/201604"},"Aut/201604","1007/201604","1007/0531/201604","64/201604","64/0531/201604","0531/201604","Aut","1007/Aut/201504",{"$f":"+CONCATENATE(VLOOKUP(F128,Cadastro!$Q$3:$R$162,2,FALSE),\"/\",S128,\"/\",H128)","v":"64/Aut/201504"},"Aut/201504","1007/201504","1007/0531/201504","64/201504","64/0531/201504","0531/201504",0,0,0,0,0,0,0,0,0,0,null,null,null,null,null,{"$f":"Cadastro!K126","v":"0992"},{"$f":"Cadastro!H126","v":"VGBL"}]
[null,"01007","0531","201605",null,"01007","0531","201505",null,"Aut","1007/Aut/201605",{"$f":"IF(J129=0,0,+CONCATENATE(VLOOKUP(B129,Cadastro!$Q$3:$R$162,2,FALSE),\"/\",J129,\"/\",D129))","v":"64/Aut/201605"},"Aut/201605","1007/201605","1007/0531/201605","64/201605","64/0531/201605","0531/201605","Aut","1007/Aut/201505",{"$f":"+CONCATENATE(VLOOKUP(F129,Cadastro!$Q$3:$R$162,2,FALSE),\"/\",S129,\"/\",H129)","v":"64/Aut/201505"},"Aut/201505","1007/201505","1007/0531/201505","64/201505","64/0531/201505","0531/201505",0,0,0,0,0,0,0,0,0,0,null,null,null,null,null,{"$f":"Cadastro!K127","v":"0994"},{"$f":"Cadastro!H127","v":"VGBL"}]
[null,"01007","0531","201606",null,"01007","0531","201506",null,"Aut","1007/Aut/201606",{"$f":"IF(J130=0,0,+CONCATENATE(VLOOKUP(B130,Cadastro!$Q$3:$R$162,2,FALSE),\"/\",J130,\"/\",D130))","v":"64/Aut/201606"},"Aut/201606","1007/201606","1007/0531/201606","64/201606","64/0531/201606","0531/201606","Aut","1007/Aut/201506",{"$f":"+CONCATENATE(VLOOKUP(F130,Cadastro!$Q$3:$R$162,2,FALSE),\"/\",S130,\"/\",H130)","v":"64/Aut/201506"},"Aut/201506","1007/201506","1007/0531/201506","64/201506","64/0531/201506","0531/201506",0,0,0,0,0,0,0,0,0,0,null,null,null,null,null,{"$f":"Cadastro!K128","v":"1392"},{"$f":"Cadastro!H128","v":"VGBL"}]
[null,"01007","0531","201607",null,"01007","0531","201507",null,"Aut","1007/Aut/201607",{"$f":"IF(J131=0,0,+CONCATENATE(VLOOKUP(B131,Cadastro!$Q$3:$R$162,2,FALSE),\"/\",J131,\"/\",D131))","v":"64/Aut/201607"},"Aut/201607","1007/201607","1007/0531/201607","64/201607","64/0531/201607","0531/201607","Aut","1007/Aut/201507",{"$f":"+CONCATENATE(VLOOKUP(F131,Cadastro!$Q$3:$R$162,2,FALSE),\"/\",S131,\"/\",H131)","v":"64/Aut/201507"},"Aut/201507","1007/201507","1007/0531/201507","64/201507","64/0531/201507","0531/201507",0,0,0,0,0,0,0,0,0,0]
[null,"01007","0531","201608",null,"01007","0531","201508",null,"Aut","1007/Aut/201608",{"$f":"IF(J132=0,0,+CONCATENATE(VLOOKUP(B132,Cadastro!$Q$3:$R$162,2,FALSE),\"/\",J132,\"/\",D132))","v":"64/Aut/201608"},"Aut/201608","1007/201608","1007/0531/201608","64/201608","64/0531/201608","0531/201608","Aut","1007/Aut/201508",{"$f":"+CONCATENATE(VLOOKUP(F132,Cadastro!$Q$3:$R$162,2,FALSE),\"/\",S132,\"/\",H132)","v":"64/Aut/201508"},"Aut/201508","1007/201508","1007/0531/201508","64/201508","64/0531/201508","0531/201508",0,0,0,0,0,0,0,0,0,0]
[null,"01007","0531","201609",null,"01007","0531","201509",null,{"$f":"IF(C133=0,0,+VLOOKUP(C133,$AQ$4:$AR$130,2,FALSE))","v":"Aut"},{"$f":"IF(J133=0,0,+CONCATENATE(VALUE(B133),\"/\",J133,\"/\",D133))","v":"1007/Aut/201609"},{"$f":"IF(J133=0,0,+CONCATENATE(VLOOKUP(B133,Cadastro!$Q$3:$R$162,2,FALSE),\"/\",J133,\"/\",D133))","v":"64/Aut/201609"},{"$f":"IF(J133=0,0,+CONCATENATE(J133,\"/\",D133))","v":"Aut/201609"},"1007/201609","1007/0531/201609","64/201609","64/0531/201609","0531/201609",{"$f":"+VLOOKUP(G133,$AQ$4:$AR$130,2,FALSE)","v":"Aut"},{"$f":"+CONCATENATE(VALUE(F133),\"/\",S133,\"/\",H133)","v":"1007/Aut/201509"},{"$f":"+CONCATENATE(VLOOKUP(F133,Cadastro!$Q$3:$R$162,2,FALSE),\"/\",S133,\"/\",H133)","v":"64/Aut/201509"},"Aut/201509","1007/201509","1007/0531/201509","64/201509","64/0531/201509","0531/201509",0,0,0,0,0,0,0,0,0,0]
[null,"01007","0531","201610",null,"01007","0531","201510",null,"Aut","1007/Aut/201610",{"$f":"IF(J134=0,0,+CONCATENATE(VLOOKUP(B134,Cadastro!$Q$3:$R$162,2,FALSE),\"/\",J134,\"/\",D134))","v":"64/Aut/201610"},"Aut/201610","1007/201610","1007/0531/201610","64/201610","64/0531/201610","0531/201610","Aut","1007/Aut/201510",{"$f":"+CONCATENATE(VLOOKUP(F134,Cadastro!$Q$3:$R$162,2,FALSE),\"/\",S134,\"/\",H134)","v":"64/Aut/201510"},{"$f":"+CONCATENATE(S134,\"/\",H134)","v":"Aut/201510"},"1007/201510","1007/0531/201510","64/201510","64/0531/201510","0531/201510",0,0,0,0,0,0,0,0,0,0]
[null,"01007","0531","201611",null,"01007","0531","201511",null,"Aut","1007/Aut/201611",{"$f":"IF(J135=0,0,+CONCATENATE(VLOOKUP(B135,Cadastro!$Q$3:$R$162,2,FALSE),\"/\",J135,\"/\",D135))","v":"64/Aut/201611"},"Aut/201611","1007/201611","1007/0531/201611","64/201611","64/0531/201611","0531/201611","Aut","1007/Aut/201511",{"$f":"+CONCATENATE(VLOOKUP(F135,Cadastro!$Q$3:$R$162,2,FALSE),\"/\",S135,\"/\",H135)","v":"64/Aut/201511"},"Aut/201511","1007/201511","1007/0531/201511","64/201511","64/0531/201511","0531/201511",0,0,0,0,0,0,0,0,0,0]
[null,"01007","0531","201612",null,"01007","0531","201512",null,"Aut","1007/Aut/201612",{"$f":"IF(J136=0,0,+CONCATENATE(VLOOKUP(B136,Cadastro!$Q$3:$R$162,2,FALSE),\"/\",J136,\"/\",D136))","v":"64/Aut/201612"},"Aut/201612","1007/201612","1007/0531/201612","64/201612","64/0531/201612","0531/201612","Aut","1007/Aut/201512",{"$f":"+CONCATENATE(VLOOKUP(F136,Cadastro!$Q$3:$R$162,2,FALSE),\"/\",S136,\"/\",H136)","v":"64/Aut/201512"},"Aut/201512","1007/201512","1007/0531/201512","64/201512","64/0531/201512","0531/201512",0,0,0,0,0,0,0,0,0,0]
[null,"01007","0553","201601",null,"01007","0553","201501",null,"Aut","1007/Aut/201601",{"$f":"IF(J137=0,0,+CONCATENATE(VLOOKUP(B137,Cadastro!$Q$3:$R$162,2,FALSE),\"/\",J137,\"/\",D137))","v":"64/Aut/201601"},"Aut/201601","1007/201601","1007/0553/201601","64/201601","64/0553/201601","0553/201601","Aut","1007/Aut/201501",{"$f":"+CONCATENATE(VLOOKUP(F137,Cadastro!$Q$3:$R$162,2,FALSE),\"/\",S137,\"/\",H137)","v":"64/Aut/201501"},"Aut/201501","1007/201501","1007/0553/201501","64/201501","64/0553/201501","0553/201501",0,0,0,0,0,0,0,0,0,0]
[null,"01007","0553","201602",null,"01007","0553","201502",null,"Aut","1007/Aut/201602",{"$f":"IF(J138=0,0,+CONCATENATE(VLOOKUP(B138,Cadastro!$Q$3:$R$162,2,FALSE),\"/\",J138,\"/\",D138))","v":"64/Aut/201602"},"Aut/201602","1007/201602","1007/0553/201602","64/201602","64/0553/201602","0553/201602","Aut","1007/Aut/201502",{"$f":"+CONCATENATE(VLOOKUP(F138,Cadastro!$Q$3:$R$162,2,FALSE),\"/\",S138,\"/\",H138)","v":"64/Aut/201502"},"Aut/201502","1007/201502","1007/0553/201502","64/201502","64/0553/201502","0553/201502",0,0,0,0,0,0,-1.02,0,0,0]
[null,"01007","0553","201603",null,"01007","0553","201503",null,"Aut","1007/Aut/201603",{"$f":"IF(J139=0,0,+CONCATENATE(VLOOKUP(B139,Cadastro!$Q$3:$R$162,2,FALSE),\"/\",J139,\"/\",D139))","v":"64/Aut/201603"},"Aut/201603","1007/201603","1007/0553/201603","64/201603","64/0553/201603","0553/201603","Aut","1007/Aut/201503",{"$f":"+CONCATENATE(VLOOKUP(F139,Cadastro!$Q$3:$R$162,2,FALSE),\"/\",S139,\"/\",H139)","v":"64/Aut/201503"},"Aut/201503","1007/201503","1007/0553/201503","64/201503","64/0553/201503","0553/201503",0,0,0,0,0,0,0,0,0,0]
[null,"01007","0553","201604",null,"01007","0553","201504",null,"Aut","1007/Aut/201604",{"$f":"IF(J140=0,0,+CONCATENATE(VLOOKUP(B140,Cadastro!$Q$3:$R$162,2,FALSE),\"/\",J140,\"/\",D140))","v":"64/Aut/201604"},"Aut/201604","1007/201604","1007/0553/201604","64/201604","64/0553/201604","0553/201604","Aut","1007/Aut/201504",{"$f":"+CONCATENATE(VLOOKUP(F140,Cadastro!$Q$3:$R$162,2,FALSE),\"/\",S140,\"/\",H140)","v":"64/Aut/201504"},"Aut/201504","1007/201504","1007/0553/201504","64/201504","64/0553/201504","0553/201504",0,0,0,0,0,0,0,0,0,0]
[null,"01007","0553","201605",null,"01007","0553","201505",null,"Aut","1007/Aut/201605",{"$f":"IF(J141=0,0,+CONCATENATE(VLOOKUP(B141,Cadastro!$Q$3:$R$162,2,FALSE),\"/\",J141,\"/\",D141))","v":"64/Aut/201605"},"Aut/201605","1007/201605","1007/0553/201605","64/201605","64/0553/201605","0553/201605","Aut","1007/Aut/201505",{"$f":"+CONCATENATE(VLOOKUP(F141,Cadastro!$Q$3:$R$162,2,FALSE),\"/\",S141,\"/\",H141)","v":"64/Aut/201505"},"Aut/201505","1007/201505","1007/0553/201505","64/201505","64/0553/201505","0553/201505",0,0,0,0,0,0,0,0,0,0]
[null,"01007","0553","201606",null,"01007","0553","201506",null,"Aut","1007/Aut/201606",{"$f":"IF(J142=0,0,+CONCATENATE(VLOOKUP(B142,Cadastro!$Q$3:$R$162,2,FALSE),\"/\",J142,\"/\",D142))","v":"64/Aut/201606"},"Aut/201606","1007/201606","1007/0553/201606","64/201606","64/0553/201606","0553/201606","Aut","1007/Aut/201506",{"$f":"+CONCATENATE(VLOOKUP(F142,Cadastro!$Q$3:$R$162,2,FALSE),\"/\",S142,\"/\",H142)","v":"64/Aut/201506"},"Aut/201506","1007/201506","1007/0553/201506","64/201506","64/0553/201506","0553/201506",0,0,0,0,0,0,0,0,0,0]
[null,"01007","0553","201607",null,"01007","0553","201507",null,"Aut","1007/Aut/201607",{"$f":"IF(J143=0,0,+CONCATENATE(VLOOKUP(B143,Cadastro!$Q$3:$R$162,2,FALSE),\"/\",J143,\"/\",D143))","v":"64/Aut/201607"},"Aut/201607","1007/201607","1007/0553/201607","64/201607","64/0553/201607","0553/201607","Aut","1007/Aut/201507",{"$f":"+CONCATENATE(VLOOKUP(F143,Cadastro!$Q$3:$R$162,2,FALSE),\"/\",S143,\"/\",H143)","v":"64/Aut/201507"},"Aut/201507","1007/201507","1007/0553/201507","64/201507","64/0553/201507","0553/201507",0,0,0,0,0,0,0,0,0,0]
[null,"01007","0553","201608",null,"01007","0553","201508",null,"Aut","1007/Aut/201608",{"$f":"IF(J144=0,0,+CONCATENATE(VLOOKUP(B144,Cadastro!$Q$3:$R$162,2,FALSE),\"/\",J144,\"/\",D144))","v":"64/Aut/201608"},"Aut/201608","1007/201608","1007/0553/201608","64/201608","64/0553/201608","0553/201608","Aut","1007/Aut/201508",{"$f":"+CONCATENATE(VLOOKUP(F144,Cadastro!$Q$3:$R$162,2,FALSE),\"/\",S144,\"/\",H144)","v":"64/Aut/201508"},"Aut/201508","1007/201508","1007/0553/201508","64/201508","64/0553/201508","0553/201508",0,0,0,0,0,0,0,0,0,0]
[null,"01007","0553","201609",null,"01007","0553","201509",null,"Aut","1007/Aut/201609",{"$f":"IF(J145=0,0,+CONCATENATE(VLOOKUP(B145,Cadastro!$Q$3:$R$162,2,FALSE),\"/\",J145,\"/\",D145))","v":"64/Aut/201609"},"Aut/201609","1007/201609","1007/0553/201609","64/201609","64/0553/201609","0553/201609","Aut","1007/Aut/201509",{"$f":"+CONCATENATE(VLOOKUP(F145,Cadastro!$Q$3:$R$162,2,FALSE),\"/\",S145,\"/\",H145)","v":"64/Aut/201509"},"Aut/201509","1007/201509","1007/0553/201509","64/201509","64/0553/201509","0553/201509",0,0,0,0,0,0,0,0,0,0]
[null,"01007","0553","201610",null,"01007","0553","201510",null,"Aut","1007/Aut/201610",{"$f":"IF(J146=0,0,+CONCATENATE(VLOOKUP(B146,Cadastro!$Q$3:$R$162,2,FALSE),\"/\",J146,\"/\",D146))","v":"64/Aut/201610"},"Aut/201610","1007/201610","1007/0553/201610","64/201610","64/0553/201610","0553/201610","Aut","1007/Aut/201510",{"$f":"+CONCATENATE(VLOOKUP(F146,Cadastro!$Q$3:$R$162,2,FALSE),\"/\",S146,\"/\",H146)","v":"64/Aut/201510"},"Aut/201510","1007/201510","1007/0553/201510","64/201510","64/0553/201510","0553/201510",0,0,0,0,0,0,0,0,0,0]
[null,"01007","0553","201611",null,"01007","0553","201511",null,"Aut","1007/Aut/201611",{"$f":"IF(J147=0,0,+CONCATENATE(VLOOKUP(B147,Cadastro!$Q$3:$R$162,2,FALSE),\"/\",J147,\"/\",D147))","v":"64/Aut/201611"},"Aut/201611","1007/201611","1007/0553/201611","64/201611","64/0553/201611","0553/201611","Aut","1007/Aut/201511",{"$f":"+CONCATENATE(VLOOKUP(F147,Cadastro!$Q$3:$R$162,2,FALSE),\"/\",S147,\"/\",H147)","v":"64/Aut/201511"},"Aut/201511","1007/201511","1007/0553/201511","64/201511","64/0553/201511","0553/201511",0,0,0,0,0,0,0,0,0,0]
[null,"01007","0553","201612",null,"01007","0553","201512",null,"Aut","1007/Aut/201612",{"$f":"IF(J148=0,0,+CONCATENATE(VLOOKUP(B148,Cadastro!$Q$3:$R$162,2,FALSE),\"/\",J148,\"/\",D148))","v":"64/Aut/201612"},"Aut/201612","1007/201612","1007/0553/201612","64/201612","64/0553/201612","0553/201612","Aut","1007/Aut/201512",{"$f":"+CONCATENATE(VLOOKUP(F148,Cadastro!$Q$3:$R$162,2,FALSE),\"/\",S148,\"/\",H148)","v":"64/Aut/201512"},"Aut/201512","1007/201512","1007/0553/201512","64/201512","64/0553/201512","0553/201512",0,0,0,0,0,0,0,0,0,0]
[null,"01007","0588","201601",null,"01007","0588","201501",null,"Dpvat","1007/Dpvat/201601",{"$f":"IF(J149=0,0,+CONCATENATE(VLOOKUP(B149,Cadastro!$Q$3:$R$162,2,FALSE),\"/\",J149,\"/\",D149))","v":"64/Dpvat/201601"},"Dpvat/201601","1007/201601","1007/0588/201601","64/201601","64/0588/201601","0588/201601","Dpvat","1007/Dpvat/201501",{"$f":"+CONCATENATE(VLOOKUP(F149,Cadastro!$Q$3:$R$162,2,FALSE),\"/\",S149,\"/\",H149)","v":"64/Dpvat/201501"},"Dpvat/201501","1007/201501","1007/0588/201501","64/201501","64/0588/201501","0588/201501",6345702.29,5711686.4299999997,6345702.29,5711686.4299999997,6169474.8600000003,5663578.5499999998,5400130.9900000002,4956180.1100000003,88838.82,72588.47]
[null,"01007","0588","201602",null,"01007","0588","201502",null,"Dpvat","1007/Dpvat/201602",{"$f":"IF(J150=0,0,+CONCATENATE(VLOOKUP(B150,Cadastro!$Q$3:$R$162,2,FALSE),\"/\",J150,\"/\",D150))","v":"64/Dpvat/201602"},"Dpvat/201602","1007/201602","1007/0588/201602","64/201602","64/0588/201602","0588/201602","Dpvat","1007/Dpvat/201502",{"$f":"+CONCATENATE(VLOOKUP(F150,Cadastro!$Q$3:$R$162,2,FALSE),\"/\",S150,\"/\",H150)","v":"64/Dpvat/201502"},"Dpvat/201502","1007/201502","1007/0588/201502","64/201502","64/0588/201502","0588/201502",3798632.1,3557168.95,3798632.1,3557168.95,3755147.17,3503077.03,3233164.85,3075283.78,53189.57,53358.1]
[null,"01007","0588","201603",null,"01007","0588","201503",null,"Dpvat","1007/Dpvat/201603",{"$f":"IF(J151=0,0,+CONCATENATE(VLOOKUP(B151,Cadastro!$Q$3:$R$162,2,FALSE),\"/\",J151,\"/\",D151))","v":"64/Dpvat/201603"},"Dpvat/201603","1007/201603","1007/0588/201603","64/201603","64/0588/201603","0588/201603","Dpvat","1007/Dpvat/201503",{"$f":"+CONCATENATE(VLOOKUP(F151,Cadastro!$Q$3:$R$162,2,FALSE),\"/\",S151,\"/\",H151)","v":"64/Dpvat/201503"},"Dpvat/201503","1007/201503","1007/0588/201503","64/201503","64/0588/201503","0588/201503",3826707.76,4012204.45,3826707.76,4012204.45,3749445.37,3879843.14,3257335.39,3470508.55,53587.18,58649.14]
[null,"01007","0588","201604",null,"01007","0588","201504",null,"Dpvat","1007/Dpvat/201604",{"$f":"IF(J152=0,0,+CONCATENATE(VLOOKUP(B152,Cadastro!$Q$3:$R$162,2,FALSE),\"/\",J152,\"/\",D152))","v":"64/Dpvat/201604"},"Dpvat/201604","1007/201604","1007/0588/201604","64/201604","64/0588/201604","0588/201604","Dpvat","1007/Dpvat/201504",{"$f":"+CONCATENATE(VLOOKUP(F152,Cadastro!$Q$3:$R$162,2,FALSE),\"/\",S152,\"/\",H152)","v":"64/Dpvat/201504"},"Dpvat/201504","1007/201504","1007/0588/201504","64/201504","64/0588/201504","0588/201504",3480849.23,3471380.23,3480849.23,3471380.23,3422617.42,3410011.95,2962993.99,3003637.84,48744.89,50447.39]
[null,"01007","0588","201605",null,"01007","0588","201505",null,"Dpvat","1007/Dpvat/201605",{"$f":"IF(J153=0,0,+CONCATENATE(VLOOKUP(B153,Cadastro!$Q$3:$R$162,2,FALSE),\"/\",J153,\"/\",D153))","v":"64/Dpvat/201605"},"Dpvat/201605","1007/201605","1007/0588/201605","64/201605","64/0588/201605","0588/201605","Dpvat","1007/Dpvat/201505",{"$f":"+CONCATENATE(VLOOKUP(F153,Cadastro!$Q$3:$R$162,2,FALSE),\"/\",S153,\"/\",H153)","v":"64/Dpvat/201505"},"Dpvat/201505","1007/201505","1007/0588/201505","64/201505","64/0588/201505","0588/201505",2888816.34,3250038.06,2888816.34,3250038.06,2878696.44,3203399.35,2459324.11,2812138.18,40458.910000000003,47317.21]
[null,"01007","0588","201606",null,"01007","0588","201506",null,"Dpvat","1007/Dpvat/201606",{"$f":"IF(J154=0,0,+CONCATENATE(VLOOKUP(B154,Cadastro!$Q$3:$R$162,2,FALSE),\"/\",J154,\"/\",D154))","v":"64/Dpvat/201606"},"Dpvat/201606","1007/201606","1007/0588/201606","64/201606","64/0588/201606","0588/201606","Dpvat","1007/Dpvat/201506",{"$f":"+CONCATENATE(VLOOKUP(F154,Cadastro!$Q$3:$R$162,2,FALSE),\"/\",S154,\"/\",H154)","v":"64/Dpvat/201506"},"Dpvat/201506","1007/201506","1007/0588/201506","64/201506","64/0588/201506","0588/201506",2927183.2,2880035.4,2927183.2,2880035.4,2917063.3,2883794.6,2491800.6,2491721.31,40993.199999999997,42027.32]
[null,"01007","0588","201607",null,"01007","0588","201507",null,"Dpvat","1007/Dpvat/201607",{"$f":"IF(J155=0,0,+CONCATENATE(VLOOKUP(B155,Cadastro!$Q$3:$R$162,2,FALSE),\"/\",J155,\"/\",D155))","v":"64/Dpvat/201607"},"Dpvat/201607","1007/201607","1007/0588/201607","64/201607","64/0588/201607","0588/201607","Dpvat","1007/Dpvat/201507",{"$f":"+CONCATENATE(VLOOKUP(F155,Cadastro!$Q$3:$R$162,2,FALSE),\"/\",S155,\"/\",H155)","v":"64/Dpvat/201507"},"Dpvat/201507","1007/201507","1007/0588/201507","64/201507","64/0588/201507","0588/201507",2610548.7400000002,2752059.23,2610548.7400000002,2752059.23,2628092.0299999998,2755747.46,2221861,2381442.6800000002,36552.35,39945.82]
[null,"01007","0588","201608",null,"01007","0588","201508",null,"Dpvat","1007/Dpvat/201608",{"$f":"IF(J156=0,0,+CONCATENATE(VLOOKUP(B156,Cadastro!$Q$3:$R$162,2,FALSE),\"/\",J156,\"/\",D156))","v":"64/Dpvat/201608"},"Dpvat/201608","1007/201608","1007/0588/201608","64/201608","64/0588/201608","0588/201608","Dpvat","1007/Dpvat/201508",{"$f":"+CONCATENATE(VLOOKUP(F156,Cadastro!$Q$3:$R$162,2,FALSE),\"/\",S156,\"/\",H156)","v":"64/Dpvat/201508"},"Dpvat/201508","1007/201508","1007/0588/201508","64/201508","64/0588/201508","0588/201508",2605469.44,2645369.0299999998,2605469.44,2645369.0299999998,2577802.81,2679081.56,2217660.1,2289728.88,36483.25,37211.01]
[null,"01007","0588","201609",null,"01007","0588","201509",null,"Dpvat","1007/Dpvat/201609",{"$f":"IF(J157=0,0,+CONCATENATE(VLOOKUP(B157,Cadastro!$Q$3:$R$162,2,FALSE),\"/\",J157,\"/\",D157))","v":"64/Dpvat/201609"},"Dpvat/201609","1007/201609","1007/0588/201609","64/201609","64/0588/201609","0588/201609","Dpvat","1007/Dpvat/201509",{"$f":"+CONCATENATE(VLOOKUP(F157,Cadastro!$Q$3:$R$162,2,FALSE),\"/\",S157,\"/\",H157)","v":"64/Dpvat/201509"},"Dpvat/201509","1007/201509","1007/0588/201509","64/201509","64/0588/201509","0588/201509",2182846.58,2433936.4300000002,2182846.58,2433936.4300000002,2178097.02,2434305.63,1858075.28,2107101.4900000002,30567.65,34588.870000000003]
[null,"01007","0588","201610",null,"01007","0588","201510",null,"Dpvat","1007/Dpvat/201610",{"$f":"IF(J158=0,0,+CONCATENATE(VLOOKUP(B158,Cadastro!$Q$3:$R$162,2,FALSE),\"/\",J158,\"/\",D158))","v":"64/Dpvat/201610"},"Dpvat/201610","1007/201610","1007/0588/201610","64/201610","64/0588/201610","0588/201610","Dpvat","1007/Dpvat/201510",{"$f":"+CONCATENATE(VLOOKUP(F158,Cadastro!$Q$3:$R$162,2,FALSE),\"/\",S158,\"/\",H158)","v":"64/Dpvat/201510"},"Dpvat/201510","1007/201510","1007/0588/201510","64/201510","64/0588/201510","0588/201510",1834199.92,1976844.84,1834199.92,1976844.84,1866075.09,2004531.87,1561175.52,1711448.6,25683.27,27573.4]
[null,"01007","0588","201611",null,"01007","0588","201511",null,"Dpvat","1007/Dpvat/201611",{"$f":"IF(J159=0,0,+CONCATENATE(VLOOKUP(B159,Cadastro!$Q$3:$R$162,2,FALSE),\"/\",J159,\"/\",D159))","v":"64/Dpvat/201611"},"Dpvat/201611","1007/201611","1007/0588/201611","64/201611","64/0588/201611","0588/201611","Dpvat","1007/Dpvat/201511",{"$f":"+CONCATENATE(VLOOKUP(F159,Cadastro!$Q$3:$R$162,2,FALSE),\"/\",S159,\"/\",H159)","v":"64/Dpvat/201511"},"Dpvat/201511","1007/201511","1007/0588/201511","64/201511","64/0588/201511","0588/201511",1763767.64,1669541.55,1763767.64,1669541.55,1790773.76,1730804.9,1501231.11,1445798.56,24697.11,23425.439999999999]
[null,"01007","0588","201612",null,"01007","0588","201512",null,"Dpvat","1007/Dpvat/201612",{"$f":"IF(J160=0,0,+CONCATENATE(VLOOKUP(B160,Cadastro!$Q$3:$R$162,2,FALSE),\"/\",J160,\"/\",D160))","v":"64/Dpvat/201612"},"Dpvat/201612","1007/201612","1007/0588/201612","64/201612","64/0588/201612","0588/201612","Dpvat","1007/Dpvat/201512",{"$f":"+CONCATENATE(VLOOKUP(F160,Cadastro!$Q$3:$R$162,2,FALSE),\"/\",S160,\"/\",H160)","v":"64/Dpvat/201512"},"Dpvat/201512","1007/201512","1007/0588/201512","64/201512","64/0588/201512","0588/201512",1673461.32,1735631.19,1673461.32,1735631.19,1713556.8,1900999.17,1424412.88,1504704.81,23433.360000000001,23087.82]
[null,"01007","0621","201601",null,"01007","0621","201501",null,"Transp","1007/Transp/201601",{"$f":"IF(J161=0,0,+CONCATENATE(VLOOKUP(B161,Cadastro!$Q$3:$R$162,2,FALSE),\"/\",J161,\"/\",D161))","v":"64/Transp/201601"},"Transp/201601","1007/201601","1007/0621/201601","64/201601","64/0621/201601","0621/201601","Transp","1007/Transp/201501",{"$f":"+CONCATENATE(VLOOKUP(F161,Cadastro!$Q$3:$R$162,2,FALSE),\"/\",S161,\"/\",H161)","v":"64/Transp/201501"},"Transp/201501","1007/201501","1007/0621/201501","64/201501","64/0621/201501","0621/201501",0,0,0,0,0,0,0,0,0,0]
[null,"01007","0621","201602",null,"01007","0621","201502",null,"Transp","1007/Transp/201602",{"$f":"IF(J162=0,0,+CONCATENATE(VLOOKUP(B162,Cadastro!$Q$3:$R$162,2,FALSE),\"/\",J162,\"/\",D162))","v":"64/Transp/201602"},"Transp/201602","1007/201602","1007/0621/201602","64/201602","64/0621/201602","0621/201602","Transp","1007/Transp/201502",{"$f":"+CONCATENATE(VLOOKUP(F162,Cadastro!$Q$3:$R$162,2,FALSE),\"/\",S162,\"/\",H162)","v":"64/Transp/201502"},"Transp/201502","1007/201502","1007/0621/201502","64/201502","64/0621/201502","0621/201502",0,0,0,0,0,0,-22.4,0,0,0]
[null,"01007","0621","201603",null,"01007","0621","201503",null,"Transp","1007/Transp/201603",{"$f":"IF(J163=0,0,+CONCATENATE(VLOOKUP(B163,Cadastro!$Q$3:$R$162,2,FALSE),\"/\",J163,\"/\",D163))","v":"64/Transp/201603"},"Transp/201603","1007/201603","1007/0621/201603","64/201603","64/0621/201603","0621/201603","Transp","1007/Transp/201503",{"$f":"+CONCATENATE(VLOOKUP(F163,Cadastro!$Q$3:$R$162,2,FALSE),\"/\",S163,\"/\",H163)","v":"64/Transp/201503"},"Transp/201503","1007/201503","1007/0621/201503","64/201503","64/0621/201503","0621/201503",0,0,0,0,0,0,0,0,0,0]
[null,"01007","0621","201604",null,"01007","0621","201504",null,"Transp","1007/Transp/201604",{"$f":"IF(J164=0,0,+CONCATENATE(VLOOKUP(B164,Cadastro!$Q$3:$R$162,2,FALSE),\"/\",J164,\"/\",D164))","v":"64/Transp/201604"},"Transp/201604","1007/201604","1007/0621/201604","64/201604","64/0621/201604","0621/201604","Transp","1007/Transp/201504",{"$f":"+CONCATENATE(VLOOKUP(F164,Cadastro!$Q$3:$R$162,2,FALSE),\"/\",S164,\"/\",H164)","v":"64/Transp/201504"},"Transp/201504","1007/201504","1007/0621/201504","64/201504","64/0621/201504","0621/201504",0,0,0,0,0,0,0,0,0,0]
[null,"01007","0621","201605",null,"01007","0621","201505",null,"Transp","1007/Transp/201605",{"$f":"IF(J165=0,0,+CONCATENATE(VLOOKUP(B165,Cadastro!$Q$3:$R$162,2,FALSE),\"/\",J165,\"/\",D165))","v":"64/Transp/201605"},"Transp/201605","1007/201605","1007/0621/201605","64/201605","64/0621/201605","0621/201605","Transp","1007/Transp/201505",{"$f":"+CONCATENATE(VLOOKUP(F165,Cadastro!$Q$3:$R$162,2,FALSE),\"/\",S165,\"/\",H165)","v":"64/Transp/201505"},"Transp/201505","1007/201505","1007/0621/201505","64/201505","64/0621/201505","0621/201505",0,0,0,0,0,0,0,0,0,0]
[null,"01007","0621","201606",null,"01007","0621","201506",null,"Transp","1007/Transp/201606",{"$f":"IF(J166=0,0,+CONCATENATE(VLOOKUP(B166,Cadastro!$Q$3:$R$162,2,FALSE),\"/\",J166,\"/\",D166))","v":"64/Transp/201606"},"Transp/201606","1007/201606","1007/0621/201606","64/201606","64/0621/201606","0621/201606","Transp","1007/Transp/201506",{"$f":"+CONCATENATE(VLOOKUP(F166,Cadastro!$Q$3:$R$162,2,FALSE),\"/\",S166,\"/\",H166)","v":"64/Transp/201506"},"Transp/201506","1007/201506","1007/0621/201506","64/201506","64/0621/201506","0621/201506",0,0,0,0,0,0,0,0,0,0]
[null,"01007","0621","201607",null,"01007","0621","201507",null,"Transp","1007/Transp/201607",{"$f":"IF(J167=0,0,+CONCATENATE(VLOOKUP(B167,Cadastro!$Q$3:$R$162,2,FALSE),\"/\",J167,\"/\",D167))","v":"64/Transp/201607"},"Transp/201607","1007/201607","1007/0621/201607","64/201607","64/0621/201607","0621/201607","Transp","1007/Transp/201507",{"$f":"+CONCATENATE(VLOOKUP(F167,Cadastro!$Q$3:$R$162,2,FALSE),\"/\",S167,\"/\",H167)","v":"64/Transp/201507"},"Transp/201507","1007/201507","1007/0621/201507","64/201507","64/0621/201507","0621/201507",0,0,0,0,0,0,0,0,0,0]
[null,"01007","0621","201608",null,"01007","0621","201508",null,"Transp","1007/Transp/201608",{"$f":"IF(J168=0,0,+CONCATENATE(VLOOKUP(B168,Cadastro!$Q$3:$R$162,2,FALSE),\"/\",J168,\"/\",D168))","v":"64/Transp/201608"},"Transp/201608","1007/201608","1007/0621/201608","64/201608","64/0621/201608","0621/201608","Transp","1007/Transp/201508",{"$f":"+CONCATENATE(VLOOKUP(F168,Cadastro!$Q$3:$R$162,2,FALSE),\"/\",S168,\"/\",H168)","v":"64/Transp/201508"},"Transp/201508","1007/201508","1007/0621/201508","64/201508","64/0621/201508","0621/201508",0,0,0,0,0,0,0,0,0,0]
[null,"01007","0621","201609",null,"01007","0621","201509",null,"Transp","1007/Transp/201609",{"$f":"IF(J169=0,0,+CONCATENATE(VLOOKUP(B169,Cadastro!$Q$3:$R$162,2,FALSE),\"/\",J169,\"/\",D169))","v":"64/Transp/201609"},"Transp/201609","1007/201609","1007/0621/201609","64/201609","64/0621/201609","0621/201609","Transp","1007/Transp/201509",{"$f":"+CONCATENATE(VLOOKUP(F169,Cadastro!$Q$3:$R$162,2,FALSE),\"/\",S169,\"/\",H169)","v":"64/Transp/201509"},"Transp/201509","1007/201509","1007/0621/201509","64/201509","64/0621/201509","0621/201509",0,0,0,0,0,0,0,0,0,0]
[null,"01007","0621","201610",null,"01007","0621","201510",null,"Transp","1007/Transp/201610",{"$f":"IF(J170=0,0,+CONCATENATE(VLOOKUP(B170,Cadastro!$Q$3:$R$162,2,FALSE),\"/\",J170,\"/\",D170))","v":"64/Transp/201610"},"Transp/201610","1007/201610","1007/0621/201610","64/201610","64/0621/201610","0621/201610","Transp","1007/Transp/201510",{"$f":"+CONCATENATE(VLOOKUP(F170,Cadastro!$Q$3:$R$162,2,FALSE),\"/\",S170,\"/\",H170)","v":"64/Transp/201510"},"Transp/201510","1007/201510","1007/0621/201510","64/201510","64/0621/201510","0621/201510",0,0,0,0,0,0,0,0,0,0]
[null,"01007","0621","201611",null,"01007","0621","201511",null,"Transp","1007/Transp/201611",{"$f":"IF(J171=0,0,+CONCATENATE(VLOOKUP(B171,Cadastro!$Q$3:$R$162,2,FALSE),\"/\",J171,\"/\",D171))","v":"64/Transp/201611"},"Transp/201611","1007/201611","1007/0621/201611","64/201611","64/0621/201611","0621/201611","Transp","1007/Transp/201511",{"$f":"+CONCATENATE(VLOOKUP(F171,Cadastro!$Q$3:$R$162,2,FALSE),\"/\",S171,\"/\",H171)","v":"64/Transp/201511"},"Transp/201511","1007/201511","1007/0621/201511","64/201511","64/0621/201511","0621/201511",0,0,0,0,0,0,0,0,0,0]
[null,"01007","0621","201612",null,"01007","0621","201512",null,"Transp","1007/Transp/201612",{"$f":"IF(J172=0,0,+CONCATENATE(VLOOKUP(B172,Cadastro!$Q$3:$R$162,2,FALSE),\"/\",J172,\"/\",D172))","v":"64/Transp/201612"},"Transp/201612","1007/201612","1007/0621/201612","64/201612","64/0621/201612","0621/201612","Transp","1007/Transp/201512",{"$f":"+CONCATENATE(VLOOKUP(F172,Cadastro!$Q$3:$R$162,2,FALSE),\"/\",S172,\"/\",H172)","v":"64/Transp/201512"},"Transp/201512","1007/201512","1007/0621/201512","64/201512","64/0621/201512","0621/201512",0,0,0,0,0,0,0,0,0,0]
[null,"01007","0622","201601",null,"01007","0622","201501",null,"Transp","1007/Transp/201601",{"$f":"IF(J173=0,0,+CONCATENATE(VLOOKUP(B173,Cadastro!$Q$3:$R$162,2,FALSE),\"/\",J173,\"/\",D173))","v":"64/Transp/201601"},"Transp/201601","1007/201601","1007/0622/201601","64/201601","64/0622/201601","0622/201601","Transp","1007/Transp/201501",{"$f":"+CONCATENATE(VLOOKUP(F173,Cadastro!$Q$3:$R$162,2,FALSE),\"/\",S173,\"/\",H173)","v":"64/Transp/201501"},"Transp/201501","1007/201501","1007/0622/201501","64/201501","64/0622/201501","0622/201501",0,0,0,0,0,0,0,0,0,0]
[null,"01007","0622","201602",null,"01007","0622","201502",null,"Transp","1007/Transp/201602",{"$f":"IF(J174=0,0,+CONCATENATE(VLOOKUP(B174,Cadastro!$Q$3:$R$162,2,FALSE),\"/\",J174,\"/\",D174))","v":"64/Transp/201602"},"Transp/201602","1007/201602","1007/0622/201602","64/201602","64/0622/201602","0622/201602","Transp","1007/Transp/201502",{"$f":"+CONCATENATE(VLOOKUP(F174,Cadastro!$Q$3:$R$162,2,FALSE),\"/\",S174,\"/\",H174)","v":"64/Transp/201502"},"Transp/201502","1007/201502","1007/0622/201502","64/201502","64/0622/201502","0622/201502",0,0,0,0,0,0,-20.29,0,0,0]
[null,"01007","0622","201603",null,"01007","0622","201503",null,"Transp","1007/Transp/201603",{"$f":"IF(J175=0,0,+CONCATENATE(VLOOKUP(B175,Cadastro!$Q$3:$R$162,2,FALSE),\"/\",J175,\"/\",D175))","v":"64/Transp/201603"},"Transp/201603","1007/201603","1007/0622/201603","64/201603","64/0622/201603","0622/201603","Transp","1007/Transp/201503",{"$f":"+CONCATENATE(VLOOKUP(F175,Cadastro!$Q$3:$R$162,2,FALSE),\"/\",S175,\"/\",H175)","v":"64/Transp/201503"},"Transp/201503","1007/201503","1007/0622/201503","64/201503","64/0622/201503","0622/201503",0,0,0,0,0,0,0,0,0,0]
[null,"01007","0622","201604",null,"01007","0622","201504",null,"Transp","1007/Transp/201604",{"$f":"IF(J176=0,0,+CONCATENATE(VLOOKUP(B176,Cadastro!$Q$3:$R$162,2,FALSE),\"/\",J176,\"/\",D176))","v":"64/Transp/201604"},"Transp/201604","1007/201604","1007/0622/201604","64/201604","64/0622/201604","0622/201604","Transp","1007/Transp/201504",{"$f":"+CONCATENATE(VLOOKUP(F176,Cadastro!$Q$3:$R$162,2,FALSE),\"/\",S176,\"/\",H176)","v":"64/Transp/201504"},"Transp/201504","1007/201504","1007/0622/201504","64/201504","64/0622/201504","0622/201504",0,0,0,0,0,0,0,0,0,0]
[null,"01007","0622","201605",null,"01007","0622","201505",null,"Transp","1007/Transp/201605",{"$f":"IF(J177=0,0,+CONCATENATE(VLOOKUP(B177,Cadastro!$Q$3:$R$162,2,FALSE),\"/\",J177,\"/\",D177))","v":"64/Transp/201605"},"Transp/201605","1007/201605","1007/0622/201605","64/201605","64/0622/201605","0622/201605","Transp","1007/Transp/201505",{"$f":"+CONCATENATE(VLOOKUP(F177,Cadastro!$Q$3:$R$162,2,FALSE),\"/\",S177,\"/\",H177)","v":"64/Transp/201505"},"Transp/201505","1007/201505","1007/0622/201505","64/201505","64/0622/201505","0622/201505",0,0,0,0,0,0,0,0,0,0]
[null,"01007","0622","201606",null,"01007","0622","201506",null,"Transp","1007/Transp/201606",{"$f":"IF(J178=0,0,+CONCATENATE(VLOOKUP(B178,Cadastro!$Q$3:$R$162,2,FALSE),\"/\",J178,\"/\",D178))","v":"64/Transp/201606"},"Transp/201606","1007/201606","1007/0622/201606","64/201606","64/0622/201606","0622/201606","Transp","1007/Transp/201506",{"$f":"+CONCATENATE(VLOOKUP(F178,Cadastro!$Q$3:$R$162,2,FALSE),\"/\",S178,\"/\",H178)","v":"64/Transp/201506"},"Transp/201506","1007/201506","1007/0622/201506","64/201506","64/0622/201506","0622/201506",0,0,0,0,0,0,0,0,0,0]
[null,"01007","0622","201607",null,"01007","0622","201507",null,"Transp","1007/Transp/201607",{"$f":"IF(J179=0,0,+CONCATENATE(VLOOKUP(B179,Cadastro!$Q$3:$R$162,2,FALSE),\"/\",J179,\"/\",D179))","v":"64/Transp/201607"},"Transp/201607","1007/201607","1007/0622/201607","64/201607","64/0622/201607","0622/201607","Transp","1007/Transp/201507",{"$f":"+CONCATENATE(VLOOKUP(F179,Cadastro!$Q$3:$R$162,2,FALSE),\"/\",S179,\"/\",H179)","v":"64/Transp/201507"},"Transp/201507","1007/201507","1007/0622/201507","64/201507","64/0622/201507","0622/201507",0,0,0,0,0,0,0,0,0,0]
[null,"01007","0622","201608",null,"01007","0622","201508",null,"Transp","1007/Transp/201608",{"$f":"IF(J180=0,0,+CONCATENATE(VLOOKUP(B180,Cadastro!$Q$3:$R$162,2,FALSE),\"/\",J180,\"/\",D180))","v":"64/Transp/201608"},"Transp/201608","1007/201608","1007/0622/201608","64/201608","64/0622/201608","0622/201608","Transp","1007/Transp/201508",{"$f":"+CONCATENATE(VLOOKUP(F180,Cadastro!$Q$3:$R$162,2,FALSE),\"/\",S180,\"/\",H180)","v":"64/Transp/201508"},"Transp/201508","1007/201508","1007/0622/201508","64/201508","64/0622/201508","0622/201508",0,0,0,0,0,0,0,0,0,0]
[null,"01007","0622","201609",null,"01007","0622","201509",null,"Transp","1007/Transp/201609",{"$f":"IF(J181=0,0,+CONCATENATE(VLOOKUP(B181,Cadastro!$Q$3:$R$162,2,FALSE),\"/\",J181,\"/\",D181))","v":"64/Transp/201609"},"Transp/201609","1007/201609","1007/0622/201609","64/201609","64/0622/201609","0622/201609","Transp","1007/Transp/201509",{"$f":"+CONCATENATE(VLOOKUP(F181,Cadastro!$Q$3:$R$162,2,FALSE),\"/\",S181,\"/\",H181)","v":"64/Transp/201509"},"Transp/201509","1007/201509","1007/0622/201509","64/201509","64/0622/201509","0622/201509",0,0,0,0,0,0,0,0,0,0]
[null,"01007","0622","201610",null,"01007","0622","201510",null,"Transp","1007/Transp/201610",{"$f":"IF(J182=0,0,+CONCATENATE(VLOOKUP(B182,Cadastro!$Q$3:$R$162,2,FALSE),\"/\",J182,\"/\",D182))","v":"64/Transp/201610"},"Transp/201610","1007/201610","1007/0622/201610","64/201610","64/0622/201610","0622/201610","Transp","1007/Transp/201510",{"$f":"+CONCATENATE(VLOOKUP(F182,Cadastro!$Q$3:$R$162,2,FALSE),\"/\",S182,\"/\",H182)","v":"64/Transp/201510"},"Transp/201510","1007/201510","1007/0622/201510","64/201510","64/0622/201510","0622/201510",0,0,0,0,0,0,0,0,0,0]
[null,"01007","0622","201611",null,"01007","0622","201511",null,"Transp","1007/Transp/201611",{"$f":"IF(J183=0,0,+CONCATENATE(VLOOKUP(B183,Cadastro!$Q$3:$R$162,2,FALSE),\"/\",J183,\"/\",D183))","v":"64/Transp/201611"},"Transp/201611","1007/201611","1007/0622/201611","64/201611","64/0622/201611","0622/201611","Transp","1007/Transp/201511",{"$f":"+CONCATENATE(VLOOKUP(F183,Cadastro!$Q$3:$R$162,2,FALSE),\"/\",S183,\"/\",H183)","v":"64/Transp/201511"},"Transp/201511","1007/201511","1007/0622/201511","64/201511","64/0622/201511","0622/201511",0,0,0,0,0,0,0,0,0,0]
[null,"01007","0622","201612",null,"01007","0622","201512",null,"Transp","1007/Transp/201612",{"$f":"IF(J184=0,0,+CONCATENATE(VLOOKUP(B184,Cadastro!$Q$3:$R$162,2,FALSE),\"/\",J184,\"/\",D184))","v":"64/Transp/201612"},"Transp/201612","1007/201612","1007/0622/201612","64/201612","64/0622/201612","0622/201612","Transp","1007/Transp/201512",{"$f":"+CONCATENATE(VLOOKUP(F184,Cadastro!$Q$3:$R$162,2,FALSE),\"/\",S184,\"/\",H184)","v":"64/Transp/201512"},"Transp/201512","1007/201512","1007/0622/201512","64/201512","64/0622/201512","0622/201512",0,0,0,0,0,0,0,0,0,0]
[null,"01007","0740","201601",null,"01007","0740","201501",null,"RF","1007/RF/201601",{"$f":"IF(J185=0,0,+CONCATENATE(VLOOKUP(B185,Cadastro!$Q$3:$R$162,2,FALSE),\"/\",J185,\"/\",D185))","v":"64/RF/201601"},"RF/201601","1007/201601","1007/0740/201601","64/201601","64/0740/201601","0740/201601","RF","1007/RF/201501",{"$f":"+CONCATENATE(VLOOKUP(F185,Cadastro!$Q$3:$R$162,2,FALSE),\"/\",S185,\"/\",H185)","v":"64/RF/201501"},"RF/201501","1007/201501","1007/0740/201501","64/201501","64/0740/201501","0740/201501",0,0,0,0,0,0,0,0,0,0]
[null,"01007","0740","201602",null,"01007","0740","201502",null,"RF","1007/RF/201602",{"$f":"IF(J186=0,0,+CONCATENATE(VLOOKUP(B186,Cadastro!$Q$3:$R$162,2,FALSE),\"/\",J186,\"/\",D186))","v":"64/RF/201602"},"RF/201602","1007/201602","1007/0740/201602","64/201602","64/0740/201602","0740/201602","RF","1007/RF/201502",{"$f":"+CONCATENATE(VLOOKUP(F186,Cadastro!$Q$3:$R$162,2,FALSE),\"/\",S186,\"/\",H186)","v":"64/RF/201502"},"RF/201502","1007/201502","1007/0740/201502","64/201502","64/0740/201502","0740/201502",0,0,0,0,0,0,0,0,0,0]
[null,"01007","0740","201603",null,"01007","0740","201503",null,"RF","1007/RF/201603",{"$f":"IF(J187=0,0,+CONCATENATE(VLOOKUP(B187,Cadastro!$Q$3:$R$162,2,FALSE),\"/\",J187,\"/\",D187))","v":"64/RF/201603"},"RF/201603","1007/201603","1007/0740/201603","64/201603","64/0740/201603","0740/201603","RF","1007/RF/201503",{"$f":"+CONCATENATE(VLOOKUP(F187,Cadastro!$Q$3:$R$162,2,FALSE),\"/\",S187,\"/\",H187)","v":"64/RF/201503"},"RF/201503","1007/201503","1007/0740/201503","64/201503","64/0740/201503","0740/201503",0,0,0,0,0,0,0,0,0,0]
[null,"01007","0740","201604",null,"01007","0740","201504",null,"RF","1007/RF/201604",{"$f":"IF(J188=0,0,+CONCATENATE(VLOOKUP(B188,Cadastro!$Q$3:$R$162,2,FALSE),\"/\",J188,\"/\",D188))","v":"64/RF/201604"},"RF/201604","1007/201604","1007/0740/201604","64/201604","64/0740/201604","0740/201604","RF","1007/RF/201504",{"$f":"+CONCATENATE(VLOOKUP(F188,Cadastro!$Q$3:$R$162,2,FALSE),\"/\",S188,\"/\",H188)","v":"64/RF/201504"},"RF/201504","1007/201504","1007/0740/201504","64/201504","64/0740/201504","0740/201504",0,0,0,0,0,0,0,0,0,0]
[null,"01007","0740","201605",null,"01007","0740","201505",null,"RF","1007/RF/201605",{"$f":"IF(J189=0,0,+CONCATENATE(VLOOKUP(B189,Cadastro!$Q$3:$R$162,2,FALSE),\"/\",J189,\"/\",D189))","v":"64/RF/201605"},"RF/201605","1007/201605","1007/0740/201605","64/201605","64/0740/201605","0740/201605","RF","1007/RF/201505",{"$f":"+CONCATENATE(VLOOKUP(F189,Cadastro!$Q$3:$R$162,2,FALSE),\"/\",S189,\"/\",H189)","v":"64/RF/201505"},"RF/201505","1007/201505","1007/0740/201505","64/201505","64/0740/201505","0740/201505",0,0,0,0,0,0,0,0,0,0]
[null,"01007","0740","201606",null,"01007","0740","201506",null,"RF","1007/RF/201606",{"$f":"IF(J190=0,0,+CONCATENATE(VLOOKUP(B190,Cadastro!$Q$3:$R$162,2,FALSE),\"/\",J190,\"/\",D190))","v":"64/RF/201606"},"RF/201606","1007/201606","1007/0740/201606","64/201606","64/0740/201606","0740/201606","RF","1007/RF/201506",{"$f":"+CONCATENATE(VLOOKUP(F190,Cadastro!$Q$3:$R$162,2,FALSE),\"/\",S190,\"/\",H190)","v":"64/RF/201506"},"RF/201506","1007/201506","1007/0740/201506","64/201506","64/0740/201506","0740/201506",0,0,0,0,0,0,0,0,0,0]
[null,"01007","0740","201607",null,"01007","0740","201507",null,"RF","1007/RF/201607",{"$f":"IF(J191=0,0,+CONCATENATE(VLOOKUP(B191,Cadastro!$Q$3:$R$162,2,FALSE),\"/\",J191,\"/\",D191))","v":"64/RF/201607"},"RF/201607","1007/201607","1007/0740/201607","64/201607","64/0740/201607","0740/201607","RF","1007/RF/201507",{"$f":"+CONCATENATE(VLOOKUP(F191,Cadastro!$Q$3:$R$162,2,FALSE),\"/\",S191,\"/\",H191)","v":"64/RF/201507"},"RF/201507","1007/201507","1007/0740/201507","64/201507","64/0740/201507","0740/201507",0,0,0,0,0,0,0,0,0,0]
[null,"01007","0740","201608",null,"01007","0740","201508",null,"RF","1007/RF/201608",{"$f":"IF(J192=0,0,+CONCATENATE(VLOOKUP(B192,Cadastro!$Q$3:$R$162,2,FALSE),\"/\",J192,\"/\",D192))","v":"64/RF/201608"},"RF/201608","1007/201608","1007/0740/201608","64/201608","64/0740/201608","0740/201608","RF","1007/RF/201508",{"$f":"+CONCATENATE(VLOOKUP(F192,Cadastro!$Q$3:$R$162,2,FALSE),\"/\",S192,\"/\",H192)","v":"64/RF/201508"},"RF/201508","1007/201508","1007/0740/201508","64/201508","64/0740/201508","0740/201508",0,0,0,0,0,0,0,0,0,0]
[null,"01007","0740","201609",null,"01007","0740","201509",null,"RF","1007/RF/201609",{"$f":"IF(J193=0,0,+CONCATENATE(VLOOKUP(B193,Cadastro!$Q$3:$R$162,2,FALSE),\"/\",J193,\"/\",D193))","v":"64/RF/201609"},"RF/201609","1007/201609","1007/0740/201609","64/201609","64/0740/201609","0740/201609","RF","1007/RF/201509",{"$f":"+CONCATENATE(VLOOKUP(F193,Cadastro!$Q$3:$R$162,2,FALSE),\"/\",S193,\"/\",H193)","v":"64/RF/201509"},"RF/201509","1007/201509","1007/0740/201509","64/201509","64/0740/201509","0740/201509",0,0,0,0,0,0,0,0,0,0]
[null,"01007","0740","201610",null,"01007","0740","201510",null,"RF","1007/RF/201610",{"$f":"IF(J194=0,0,+CONCATENATE(VLOOKUP(B194,Cadastro!$Q$3:$R$162,2,FALSE),\"/\",J194,\"/\",D194))","v":"64/RF/201610"},"RF/201610","1007/201610","1007/0740/201610","64/201610","64/0740/201610","0740/201610","RF","1007/RF/201510",{"$f":"+CONCATENATE(VLOOKUP(F194,Cadastro!$Q$3:$R$162,2,FALSE),\"/\",S194,\"/\",H194)","v":"64/RF/201510"},"RF/201510","1007/201510","1007/0740/201510","64/201510","64/0740/201510","0740/201510",0,0,0,0,0,0,0,0,0,0]
[null,"01007","0740","201611",null,"01007","0740","201511",null,"RF","1007/RF/201611",{"$f":"IF(J195=0,0,+CONCATENATE(VLOOKUP(B195,Cadastro!$Q$3:$R$162,2,FALSE),\"/\",J195,\"/\",D195))","v":"64/RF/201611"},"RF/201611","1007/201611","1007/0740/201611","64/201611","64/0740/201611","0740/201611","RF","1007/RF/201511",{"$f":"+CONCATENATE(VLOOKUP(F195,Cadastro!$Q$3:$R$162,2,FALSE),\"/\",S195,\"/\",H195)","v":"64/RF/201511"},"RF/201511","1007/201511","1007/0740/201511","64/201511","64/0740/201511","0740/201511",0,0,0,0,0,0,0,0,0,0]
[null,"01007","0740","201612",null,"01007","0740","201512",null,"RF","1007/RF/201612",{"$f":"IF(J196=0,0,+CONCATENATE(VLOOKUP(B196,Cadastro!$Q$3:$R$162,2,FALSE),\"/\",J196,\"/\",D196))","v":"64/RF/201612"},"RF/201612","1007/201612","1007/0740/201612","64/201612","64/0740/201612","0740/201612","RF","1007/RF/201512",{"$f":"+CONCATENATE(VLOOKUP(F196,Cadastro!$Q$3:$R$162,2,FALSE),\"/\",S196,\"/\",H196)","v":"64/RF/201512"},"RF/201512","1007/201512","1007/0740/201512","64/201512","64/0740/201512","0740/201512",0,0,0,0,0,0,0,0,0,0]
[null,"01007","0745","201601",null,"01007","0745","201501",null,{"$f":"IF(C197=0,0,+VLOOKUP(C197,$AQ$4:$AR$130,2,FALSE))","v":"RF"},{"$f":"IF(J197=0,0,+CONCATENATE(VALUE(B197),\"/\",J197,\"/\",D197))","v":"1007/RF/201601"},{"$f":"IF(J197=0,0,+CONCATENATE(VLOOKUP(B197,Cadastro!$Q$3:$R$162,2,FALSE),\"/\",J197,\"/\",D197))","v":"64/RF/201601"},{"$f":"IF(J197=0,0,+CONCATENATE(J197,\"/\",D197))","v":"RF/201601"},"1007/201601","1007/0745/201601","64/201601","64/0745/201601","0745/201601",{"$f":"+VLOOKUP(G197,$AQ$4:$AR$130,2,FALSE)","v":"RF"},{"$f":"+CONCATENATE(VALUE(F197),\"/\",S197,\"/\",H197)","v":"1007/RF/201501"},{"$f":"+CONCATENATE(VLOOKUP(F197,Cadastro!$Q$3:$R$162,2,FALSE),\"/\",S197,\"/\",H197)","v":"64/RF/201501"},"RF/201501","1007/201501","1007/0745/201501","64/201501","64/0745/201501","0745/201501",0,0,0,0,0,0,0,0,0,0]
[null,"01007","0745","201602",null,"01007","0745","201502",null,"RF","1007/RF/201602",{"$f":"IF(J198=0,0,+CONCATENATE(VLOOKUP(B198,Cadastro!$Q$3:$R$162,2,FALSE),\"/\",J198,\"/\",D198))","v":"64/RF/201602"},"RF/201602","1007/201602","1007/0745/201602","64/201602","64/0745/201602","0745/201602","RF","1007/RF/201502",{"$f":"+CONCATENATE(VLOOKUP(F198,Cadastro!$Q$3:$R$162,2,FALSE),\"/\",S198,\"/\",H198)","v":"64/RF/201502"},{"$f":"+CONCATENATE(S198,\"/\",H198)","v":"RF/201502"},"1007/201502","1007/0745/201502","64/201502","64/0745/201502","0745/201502",0,0,0,0,0,0,0,0,0,0]
[null,"01007","0745","201603",null,"01007","0745","201503",null,"RF","1007/RF/201603",{"$f":"IF(J199=0,0,+CONCATENATE(VLOOKUP(B199,Cadastro!$Q$3:$R$162,2,FALSE),\"/\",J199,\"/\",D199))","v":"64/RF/201603"},"RF/201603","1007/201603","1007/0745/201603","64/201603","64/0745/201603","0745/201603","RF","1007/RF/201503",{"$f":"+CONCATENATE(VLOOKUP(F199,Cadastro!$Q$3:$R$162,2,FALSE),\"/\",S199,\"/\",H199)","v":"64/RF/201503"},"RF/201503","1007/201503","1007/0745/201503","64/201503","64/0745/201503","0745/201503",0,0,0,0,0,0,0,0,0,0]
[null,"01007","0745","201604",null,"01007","0745","201504",null,"RF","1007/RF/201604",{"$f":"IF(J200=0,0,+CONCATENATE(VLOOKUP(B200,Cadastro!$Q$3:$R$162,2,FALSE),\"/\",J200,\"/\",D200))","v":"64/RF/201604"},"RF/201604","1007/201604","1007/0745/201604","64/201604","64/0745/201604","0745/201604","RF","1007/RF/201504",{"$f":"+CONCATENATE(VLOOKUP(F200,Cadastro!$Q$3:$R$162,2,FALSE),\"/\",S200,\"/\",H200)","v":"64/RF/201504"},"RF/201504","1007/201504","1007/0745/201504","64/201504","64/0745/201504","0745/201504",0,0,0,0,0,0,0,0,0,0]
[null,"01007","0745","201605",null,"01007","0745","201505",null,"RF","1007/RF/201605",{"$f":"IF(J201=0,0,+CONCATENATE(VLOOKUP(B201,Cadastro!$Q$3:$R$162,2,FALSE),\"/\",J201,\"/\",D201))","v":"64/RF/201605"},"RF/201605","1007/201605","1007/0745/201605","64/201605","64/0745/201605","0745/201605","RF","1007/RF/201505",{"$f":"+CONCATENATE(VLOOKUP(F201,Cadastro!$Q$3:$R$162,2,FALSE),\"/\",S201,\"/\",H201)","v":"64/RF/201505"},"RF/201505","1007/201505","1007/0745/201505","64/201505","64/0745/201505","0745/201505",0,0,0,0,0,0,0,0,0,0]
[null,"01007","0745","201606",null,"01007","0745","201506",null,"RF","1007/RF/201606",{"$f":"IF(J202=0,0,+CONCATENATE(VLOOKUP(B202,Cadastro!$Q$3:$R$162,2,FALSE),\"/\",J202,\"/\",D202))","v":"64/RF/201606"},"RF/201606","1007/201606","1007/0745/201606","64/201606","64/0745/201606","0745/201606","RF","1007/RF/201506",{"$f":"+CONCATENATE(VLOOKUP(F202,Cadastro!$Q$3:$R$162,2,FALSE),\"/\",S202,\"/\",H202)","v":"64/RF/201506"},"RF/201506","1007/201506","1007/0745/201506","64/201506","64/0745/201506","0745/201506",0,0,0,0,0,0,0,0,0,0]
[null,"01007","0745","201607",null,"01007","0745","201507",null,"RF","1007/RF/201607",{"$f":"IF(J203=0,0,+CONCATENATE(VLOOKUP(B203,Cadastro!$Q$3:$R$162,2,FALSE),\"/\",J203,\"/\",D203))","v":"64/RF/201607"},"RF/201607","1007/201607","1007/0745/201607","64/201607","64/0745/201607","0745/201607","RF","1007/RF/201507",{"$f":"+CONCATENATE(VLOOKUP(F203,Cadastro!$Q$3:$R$162,2,FALSE),\"/\",S203,\"/\",H203)","v":"64/RF/201507"},"RF/201507","1007/201507","1007/0745/201507","64/201507","64/0745/201507","0745/201507",0,0,0,0,0,0,0,0,0,0]
[null,"01007","0745","201608",null,"01007","0745","201508",null,"RF","1007/RF/201608",{"$f":"IF(J204=0,0,+CONCATENATE(VLOOKUP(B204,Cadastro!$Q$3:$R$162,2,FALSE),\"/\",J204,\"/\",D204))","v":"64/RF/201608"},"RF/201608","1007/201608","1007/0745/201608","64/201608","64/0745/201608","0745/201608","RF","1007/RF/201508",{"$f":"+CONCATENATE(VLOOKUP(F204,Cadastro!$Q$3:$R$162,2,FALSE),\"/\",S204,\"/\",H204)","v":"64/RF/201508"},"RF/201508","1007/201508","1007/0745/201508","64/201508","64/0745/201508","0745/201508",0,0,0,0,0,0,0,0,0,0]
[null,"01007","0745","201609",null,"01007","0745","201509",null,"RF","1007/RF/201609",{"$f":"IF(J205=0,0,+CONCATENATE(VLOOKUP(B205,Cadastro!$Q$3:$R$162,2,FALSE),\"/\",J205,\"/\",D205))","v":"64/RF/201609"},"RF/201609","1007/201609","1007/0745/201609","64/201609","64/0745/201609","0745/201609","RF","1007/RF/201509",{"$f":"+CONCATENATE(VLOOKUP(F205,Cadastro!$Q$3:$R$162,2,FALSE),\"/\",S205,\"/\",H205)","v":"64/RF/201509"},"RF/201509","1007/201509","1007/0745/201509","64/201509","64/0745/201509","0745/201509",0,0,0,0,0,0,0,0,0,0]
[null,"01007","0745","201610",null,"01007","0745","201510",null,"RF","1007/RF/201610",{"$f":"IF(J206=0,0,+CONCATENATE(VLOOKUP(B206,Cadastro!$Q$3:$R$162,2,FALSE),\"/\",J206,\"/\",D206))","v":"64/RF/201610"},"RF/201610","1007/201610","1007/0745/201610","64/201610","64/0745/201610","0745/201610","RF","1007/RF/201510",{"$f":"+CONCATENATE(VLOOKUP(F206,Cadastro!$Q$3:$R$162,2,FALSE),\"/\",S206,\"/\",H206)","v":"64/RF/201510"},"RF/201510","1007/201510","1007/0745/201510","64/201510","64/0745/201510","0745/201510",0,0,0,0,0,0,0,0,0,0]
[null,"01007","0745","201611",null,"01007","0745","201511",null,"RF","1007/RF/201611",{"$f":"IF(J207=0,0,+CONCATENATE(VLOOKUP(B207,Cadastro!$Q$3:$R$162,2,FALSE),\"/\",J207,\"/\",D207))","v":"64/RF/201611"},"RF/201611","1007/201611","1007/0745/201611","64/201611","64/0745/201611","0745/201611","RF","1007/RF/201511",{"$f":"+CONCATENATE(VLOOKUP(F207,Cadastro!$Q$3:$R$162,2,FALSE),\"/\",S207,\"/\",H207)","v":"64/RF/201511"},"RF/201511","1007/201511","1007/0745/201511","64/201511","64/0745/201511","0745/201511",0,0,0,0,0,0,0,0,0,0]
[null,"01007","0745","201612",null,"01007","0745","201512",null,"RF","1007/RF/201612",{"$f":"IF(J208=0,0,+CONCATENATE(VLOOKUP(B208,Cadastro!$Q$3:$R$162,2,FALSE),\"/\",J208,\"/\",D208))","v":"64/RF/201612"},"RF/201612","1007/201612","1007/0745/201612","64/201612","64/0745/201612","0745/201612","RF","1007/RF/201512",{"$f":"+CONCATENATE(VLOOKUP(F208,Cadastro!$Q$3:$R$162,2,FALSE),\"/\",S208,\"/\",H208)","v":"64/RF/201512"},"RF/201512","1007/201512","1007/0745/201512","64/201512","64/0745/201512","0745/201512",0,0,0,0,0,0,0,0,0,0]
[null,"01007","0746","201601",null,"01007","0746","201501",null,"RF","1007/RF/201601",{"$f":"IF(J209=0,0,+CONCATENATE(VLOOKUP(B209,Cadastro!$Q$3:$R$162,2,FALSE),\"/\",J209,\"/\",D209))","v":"64/RF/201601"},"RF/201601","1007/201601","1007/0746/201601","64/201601","64/0746/201601","0746/201601","RF","1007/RF/201501",{"$f":"+CONCATENATE(VLOOKUP(F209,Cadastro!$Q$3:$R$162,2,FALSE),\"/\",S209,\"/\",H209)","v":"64/RF/201501"},"RF/201501","1007/201501","1007/0746/201501","64/201501","64/0746/201501","0746/201501",0,0,0,0,0,0,0,0,0,0]
[null,"01007","0746","201602",null,"01007","0746","201502",null,"RF","1007/RF/201602",{"$f":"IF(J210=0,0,+CONCATENATE(VLOOKUP(B210,Cadastro!$Q$3:$R$162,2,FALSE),\"/\",J210,\"/\",D210))","v":"64/RF/201602"},"RF/201602","1007/201602","1007/0746/201602","64/201602","64/0746/201602","0746/201602","RF","1007/RF/201502",{"$f":"+CONCATENATE(VLOOKUP(F210,Cadastro!$Q$3:$R$162,2,FALSE),\"/\",S210,\"/\",H210)","v":"64/RF/201502"},"RF/201502","1007/201502","1007/0746/201502","64/201502","64/0746/201502","0746/201502",0,0,0,0,0,0,-1.28,0,0,0]
[null,"01007","0746","201603",null,"01007","0746","201503",null,"RF","1007/RF/201603",{"$f":"IF(J211=0,0,+CONCATENATE(VLOOKUP(B211,Cadastro!$Q$3:$R$162,2,FALSE),\"/\",J211,\"/\",D211))","v":"64/RF/201603"},"RF/201603","1007/201603","1007/0746/201603","64/201603","64/0746/201603","0746/201603","RF","1007/RF/201503",{"$f":"+CONCATENATE(VLOOKUP(F211,Cadastro!$Q$3:$R$162,2,FALSE),\"/\",S211,\"/\",H211)","v":"64/RF/201503"},"RF/201503","1007/201503","1007/0746/201503","64/201503","64/0746/201503","0746/201503",0,0,0,0,0,0,0,0,0,0]
[null,"01007","0746","201604",null,"01007","0746","201504",null,"RF","1007/RF/201604",{"$f":"IF(J212=0,0,+CONCATENATE(VLOOKUP(B212,Cadastro!$Q$3:$R$162,2,FALSE),\"/\",J212,\"/\",D212))","v":"64/RF/201604"},"RF/201604","1007/201604","1007/0746/201604","64/201604","64/0746/201604","0746/201604","RF","1007/RF/201504",{"$f":"+CONCATENATE(VLOOKUP(F212,Cadastro!$Q$3:$R$162,2,FALSE),\"/\",S212,\"/\",H212)","v":"64/RF/201504"},"RF/201504","1007/201504","1007/0746/201504","64/201504","64/0746/201504","0746/201504",0,0,0,0,0,0,0,0,0,0]
[null,"01007","0746","201605",null,"01007","0746","201505",null,"RF","1007/RF/201605",{"$f":"IF(J213=0,0,+CONCATENATE(VLOOKUP(B213,Cadastro!$Q$3:$R$162,2,FALSE),\"/\",J213,\"/\",D213))","v":"64/RF/201605"},"RF/201605","1007/201605","1007/0746/201605","64/201605","64/0746/201605","0746/201605","RF","1007/RF/201505",{"$f":"+CONCATENATE(VLOOKUP(F213,Cadastro!$Q$3:$R$162,2,FALSE),\"/\",S213,\"/\",H213)","v":"64/RF/201505"},"RF/201505","1007/201505","1007/0746/201505","64/201505","64/0746/201505","0746/201505",0,0,0,0,0,0,0,0,0,0]
[null,"01007","0746","201606",null,"01007","0746","201506",null,"RF","1007/RF/201606",{"$f":"IF(J214=0,0,+CONCATENATE(VLOOKUP(B214,Cadastro!$Q$3:$R$162,2,FALSE),\"/\",J214,\"/\",D214))","v":"64/RF/201606"},"RF/201606","1007/201606","1007/0746/201606","64/201606","64/0746/201606","0746/201606","RF","1007/RF/201506",{"$f":"+CONCATENATE(VLOOKUP(F214,Cadastro!$Q$3:$R$162,2,FALSE),\"/\",S214,\"/\",H214)","v":"64/RF/201506"},"RF/201506","1007/201506","1007/0746/201506","64/201506","64/0746/201506","0746/201506",0,0,0,0,0,0,0,0,0,0]
[null,"01007","0746","201607",null,"01007","0746","201507",null,"RF","1007/RF/201607",{"$f":"IF(J215=0,0,+CONCATENATE(VLOOKUP(B215,Cadastro!$Q$3:$R$162,2,FALSE),\"/\",J215,\"/\",D215))","v":"64/RF/201607"},"RF/201607","1007/201607","1007/0746/201607","64/201607","64/0746/201607","0746/201607","RF","1007/RF/201507",{"$f":"+CONCATENATE(VLOOKUP(F215,Cadastro!$Q$3:$R$162,2,FALSE),\"/\",S215,\"/\",H215)","v":"64/RF/201507"},"RF/201507","1007/201507","1007/0746/201507","64/201507","64/0746/201507","0746/201507",0,0,0,0,0,0,0,0,0,0]
[null,"01007","0746","201608",null,"01007","0746","201508",null,"RF","1007/RF/201608",{"$f":"IF(J216=0,0,+CONCATENATE(VLOOKUP(B216,Cadastro!$Q$3:$R$162,2,FALSE),\"/\",J216,\"/\",D216))","v":"64/RF/201608"},"RF/201608","1007/201608","1007/0746/201608","64/201608","64/0746/201608","0746/201608","RF","1007/RF/201508",{"$f":"+CONCATENATE(VLOOKUP(F216,Cadastro!$Q$3:$R$162,2,FALSE),\"/\",S216,\"/\",H216)","v":"64/RF/201508"},"RF/201508","1007/201508","1007/0746/201508","64/201508","64/0746/201508","0746/201508",0,0,0,0,0,0,0,0,0,0]
[null,"01007","0746","201609",null,"01007","0746","201509",null,"RF","1007/RF/201609",{"$f":"IF(J217=0,0,+CONCATENATE(VLOOKUP(B217,Cadastro!$Q$3:$R$162,2,FALSE),\"/\",J217,\"/\",D217))","v":"64/RF/201609"},"RF/201609","1007/201609","1007/0746/201609","64/201609","64/0746/201609","0746/201609","RF","1007/RF/201509",{"$f":"+CONCATENATE(VLOOKUP(F217,Cadastro!$Q$3:$R$162,2,FALSE),\"/\",S217,\"/\",H217)","v":"64/RF/201509"},"RF/201509","1007/201509","1007/0746/201509","64/201509","64/0746/201509","0746/201509",0,0,0,0,0,0,0,0,0,0]
[null,"01007","0746","201610",null,"01007","0746","201510",null,"RF","1007/RF/201610",{"$f":"IF(J218=0,0,+CONCATENATE(VLOOKUP(B218,Cadastro!$Q$3:$R$162,2,FALSE),\"/\",J218,\"/\",D218))","v":"64/RF/201610"},"RF/201610","1007/201610","1007/0746/201610","64/201610","64/0746/201610","0746/201610","RF","1007/RF/201510",{"$f":"+CONCATENATE(VLOOKUP(F218,Cadastro!$Q$3:$R$162,2,FALSE),\"/\",S218,\"/\",H218)","v":"64/RF/201510"},"RF/201510","1007/201510","1007/0746/201510","64/201510","64/0746/201510","0746/201510",0,0,0,0,0,0,0,0,0,0]
[null,"01007","0746","201611",null,"01007","0746","201511",null,"RF","1007/RF/201611",{"$f":"IF(J219=0,0,+CONCATENATE(VLOOKUP(B219,Cadastro!$Q$3:$R$162,2,FALSE),\"/\",J219,\"/\",D219))","v":"64/RF/201611"},"RF/201611","1007/201611","1007/0746/201611","64/201611","64/0746/201611","0746/201611","RF","1007/RF/201511",{"$f":"+CONCATENATE(VLOOKUP(F219,Cadastro!$Q$3:$R$162,2,FALSE),\"/\",S219,\"/\",H219)","v":"64/RF/201511"},"RF/201511","1007/201511","1007/0746/201511","64/201511","64/0746/201511","0746/201511",0,0,0,0,0,0,0,0,0,0]
[null,"01007","0746","201612",null,"01007","0746","201512",null,"RF","1007/RF/201612",{"$f":"IF(J220=0,0,+CONCATENATE(VLOOKUP(B220,Cadastro!$Q$3:$R$162,2,FALSE),\"/\",J220,\"/\",D220))","v":"64/RF/201612"},"RF/201612","1007/201612","1007/0746/201612","64/201612","64/0746/201612","0746/201612","RF","1007/RF/201512",{"$f":"+CONCATENATE(VLOOKUP(F220,Cadastro!$Q$3:$R$162,2,FALSE),\"/\",S220,\"/\",H220)","v":"64/RF/201512"},"RF/201512","1007/201512","1007/0746/201512","64/201512","64/0746/201512","0746/201512",0,0,0,0,0,0,0,0,0,0]
[null,"01007","0860","201601",null,"01007","0860","201501",null,"RF","1007/RF/201601",{"$f":"IF(J221=0,0,+CONCATENATE(VLOOKUP(B221,Cadastro!$Q$3:$R$162,2,FALSE),\"/\",J221,\"/\",D221))","v":"64/RF/201601"},"RF/201601","1007/201601","1007/0860/201601","64/201601","64/0860/201601","0860/201601","RF","1007/RF/201501",{"$f":"+CONCATENATE(VLOOKUP(F221,Cadastro!$Q$3:$R$162,2,FALSE),\"/\",S221,\"/\",H221)","v":"64/RF/201501"},"RF/201501","1007/201501","1007/0860/201501","64/201501","64/0860/201501","0860/201501",0,0,0,0,0,0,0,0,0,0]
[null,"01007","0860","201602",null,"01007","0860","201502",null,"RF","1007/RF/201602",{"$f":"IF(J222=0,0,+CONCATENATE(VLOOKUP(B222,Cadastro!$Q$3:$R$162,2,FALSE),\"/\",J222,\"/\",D222))","v":"64/RF/201602"},"RF/201602","1007/201602","1007/0860/201602","64/201602","64/0860/201602","0860/201602","RF","1007/RF/201502",{"$f":"+CONCATENATE(VLOOKUP(F222,Cadastro!$Q$3:$R$162,2,FALSE),\"/\",S222,\"/\",H222)","v":"64/RF/201502"},"RF/201502","1007/201502","1007/0860/201502","64/201502","64/0860/201502","0860/201502",0,0,0,0,0,0,0,0,0,0]
[null,"01007","0860","201603",null,"01007","0860","201503",null,"RF","1007/RF/201603",{"$f":"IF(J223=0,0,+CONCATENATE(VLOOKUP(B223,Cadastro!$Q$3:$R$162,2,FALSE),\"/\",J223,\"/\",D223))","v":"64/RF/201603"},"RF/201603","1007/201603","1007/0860/201603","64/201603","64/0860/201603","0860/201603","RF","1007/RF/201503",{"$f":"+CONCATENATE(VLOOKUP(F223,Cadastro!$Q$3:$R$162,2,FALSE),\"/\",S223,\"/\",H223)","v":"64/RF/201503"},"RF/201503","1007/201503","1007/0860/201503","64/201503","64/0860/201503","0860/201503",0,0,0,0,0,0,0,0,0,0]
[null,"01007","0860","201604",null,"01007","0860","201504",null,"RF","1007/RF/201604",{"$f":"IF(J224=0,0,+CONCATENATE(VLOOKUP(B224,Cadastro!$Q$3:$R$162,2,FALSE),\"/\",J224,\"/\",D224))","v":"64/RF/201604"},"RF/201604","1007/201604","1007/0860/201604","64/201604","64/0860/201604","0860/201604","RF","1007/RF/201504",{"$f":"+CONCATENATE(VLOOKUP(F224,Cadastro!$Q$3:$R$162,2,FALSE),\"/\",S224,\"/\",H224)","v":"64/RF/201504"},"RF/201504","1007/201504","1007/0860/201504","64/201504","64/0860/201504","0860/201504",0,0,0,0,0,0,0,0,0,0]
[null,"01007","0860","201605",null,"01007","0860","201505",null,"RF","1007/RF/201605",{"$f":"IF(J225=0,0,+CONCATENATE(VLOOKUP(B225,Cadastro!$Q$3:$R$162,2,FALSE),\"/\",J225,\"/\",D225))","v":"64/RF/201605"},"RF/201605","1007/201605","1007/0860/201605","64/201605","64/0860/201605","0860/201605","RF","1007/RF/201505",{"$f":"+CONCATENATE(VLOOKUP(F225,Cadastro!$Q$3:$R$162,2,FALSE),\"/\",S225,\"/\",H225)","v":"64/RF/201505"},"RF/201505","1007/201505","1007/0860/201505","64/201505","64/0860/201505","0860/201505",0,0,0,0,0,0,0,0,0,0]
[null,"01007","0860","201606",null,"01007","0860","201506",null,"RF","1007/RF/201606",{"$f":"IF(J226=0,0,+CONCATENATE(VLOOKUP(B226,Cadastro!$Q$3:$R$162,2,FALSE),\"/\",J226,\"/\",D226))","v":"64/RF/201606"},"RF/201606","1007/201606","1007/0860/201606","64/201606","64/0860/201606","0860/201606","RF","1007/RF/201506",{"$f":"+CONCATENATE(VLOOKUP(F226,Cadastro!$Q$3:$R$162,2,FALSE),\"/\",S226,\"/\",H226)","v":"64/RF/201506"},"RF/201506","1007/201506","1007/0860/201506","64/201506","64/0860/201506","0860/201506",0,0,0,0,0,0,0,0,0,0]
[null,"01007","0860","201607",null,"01007","0860","201507",null,"RF","1007/RF/201607",{"$f":"IF(J227=0,0,+CONCATENATE(VLOOKUP(B227,Cadastro!$Q$3:$R$162,2,FALSE),\"/\",J227,\"/\",D227))","v":"64/RF/201607"},"RF/201607","1007/201607","1007/0860/201607","64/201607","64/0860/201607","0860/201607","RF","1007/RF/201507",{"$f":"+CONCATENATE(VLOOKUP(F227,Cadastro!$Q$3:$R$162,2,FALSE),\"/\",S227,\"/\",H227)","v":"64/RF/201507"},"RF/201507","1007/201507","1007/0860/201507","64/201507","64/0860/201507","0860/201507",0,0,0,0,0,0,0,0,0,0]
[null,"01007","0860","201608",null,"01007","0860","201508",null,"RF","1007/RF/201608",{"$f":"IF(J228=0,0,+CONCATENATE(VLOOKUP(B228,Cadastro!$Q$3:$R$162,2,FALSE),\"/\",J228,\"/\",D228))","v":"64/RF/201608"},"RF/201608","1007/201608","1007/0860/201608","64/201608","64/0860/201608","0860/201608","RF","1007/RF/201508",{"$f":"+CONCATENATE(VLOOKUP(F228,Cadastro!$Q$3:$R$162,2,FALSE),\"/\",S228,\"/\",H228)","v":"64/RF/201508"},"RF/201508","1007/201508","1007/0860/201508","64/201508","64/0860/201508","0860/201508",0,0,0,0,0,0,0,0,0,0]
[null,"01007","0860","201609",null,"01007","0860","201509",null,"RF","1007/RF/201609",{"$f":"IF(J229=0,0,+CONCATENATE(VLOOKUP(B229,Cadastro!$Q$3:$R$162,2,FALSE),\"/\",J229,\"/\",D229))","v":"64/RF/201609"},"RF/201609","1007/201609","1007/0860/201609","64/201609","64/0860/201609","0860/201609","RF","1007/RF/201509",{"$f":"+CONCATENATE(VLOOKUP(F229,Cadastro!$Q$3:$R$162,2,FALSE),\"/\",S229,\"/\",H229)","v":"64/RF/201509"},"RF/201509","1007/201509","1007/0860/201509","64/201509","64/0860/201509","0860/201509",0,0,0,0,0,0,0,0,0,0]
[null,"01007","0860","201610",null,"01007","0860","201510",null,"RF","1007/RF/201610",{"$f":"IF(J230=0,0,+CONCATENATE(VLOOKUP(B230,Cadastro!$Q$3:$R$162,2,FALSE),\"/\",J230,\"/\",D230))","v":"64/RF/201610"},"RF/201610","1007/201610","1007/0860/201610","64/201610","64/0860/201610","0860/201610","RF","1007/RF/201510",{"$f":"+CONCATENATE(VLOOKUP(F230,Cadastro!$Q$3:$R$162,2,FALSE),\"/\",S230,\"/\",H230)","v":"64/RF/201510"},"RF/201510","1007/201510","1007/0860/201510","64/201510","64/0860/201510","0860/201510",0,0,0,0,0,0,0,0,0,0]
[null,"01007","0860","201611",null,"01007","0860","201511",null,"RF","1007/RF/201611",{"$f":"IF(J231=0,0,+CONCATENATE(VLOOKUP(B231,Cadastro!$Q$3:$R$162,2,FALSE),\"/\",J231,\"/\",D231))","v":"64/RF/201611"},"RF/201611","1007/201611","1007/0860/201611","64/201611","64/0860/201611","0860/201611","RF","1007/RF/201511",{"$f":"+CONCATENATE(VLOOKUP(F231,Cadastro!$Q$3:$R$162,2,FALSE),\"/\",S231,\"/\",H231)","v":"64/RF/201511"},"RF/201511","1007/201511","1007/0860/201511","64/201511","64/0860/201511","0860/201511",0,0,0,0,0,0,0,0,0,0]
[null,"01007","0860","201612",null,"01007","0860","201512",null,"RF","1007/RF/201612",{"$f":"IF(J232=0,0,+CONCATENATE(VLOOKUP(B232,Cadastro!$Q$3:$R$162,2,FALSE),\"/\",J232,\"/\",D232))","v":"64/RF/201612"},"RF/201612","1007/201612","1007/0860/201612","64/201612","64/0860/201612","0860/201612","RF","1007/RF/201512",{"$f":"+CONCATENATE(VLOOKUP(F232,Cadastro!$Q$3:$R$162,2,FALSE),\"/\",S232,\"/\",H232)","v":"64/RF/201512"},"RF/201512","1007/201512","1007/0860/201512","64/201512","64/0860/201512","0860/201512",0,0,0,0,0,0,0,0,0,0]
[null,"01007","0870","201601",null,"01007","0870","201501",null,"RF","1007/RF/201601",{"$f":"IF(J233=0,0,+CONCATENATE(VLOOKUP(B233,Cadastro!$Q$3:$R$162,2,FALSE),\"/\",J233,\"/\",D233))","v":"64/RF/201601"},"RF/201601","1007/201601","1007/0870/201601","64/201601","64/0870/201601","0870/201601","RF","1007/RF/201501",{"$f":"+CONCATENATE(VLOOKUP(F233,Cadastro!$Q$3:$R$162,2,FALSE),\"/\",S233,\"/\",H233)","v":"64/RF/201501"},"RF/201501","1007/201501","1007/0870/201501","64/201501","64/0870/201501","0870/201501",0,0,0,0,0,0,0,0,0,0]
[null,"01007","0870","201602",null,"01007","0870","201502",null,"RF","1007/RF/201602",{"$f":"IF(J234=0,0,+CONCATENATE(VLOOKUP(B234,Cadastro!$Q$3:$R$162,2,FALSE),\"/\",J234,\"/\",D234))","v":"64/RF/201602"},"RF/201602","1007/201602","1007/0870/201602","64/201602","64/0870/201602","0870/201602","RF","1007/RF/201502",{"$f":"+CONCATENATE(VLOOKUP(F234,Cadastro!$Q$3:$R$162,2,FALSE),\"/\",S234,\"/\",H234)","v":"64/RF/201502"},"RF/201502","1007/201502","1007/0870/201502","64/201502","64/0870/201502","0870/201502",0,0,0,0,0,0,0,0,0,0]
[null,"01007","0870","201603",null,"01007","0870","201503",null,"RF","1007/RF/201603",{"$f":"IF(J235=0,0,+CONCATENATE(VLOOKUP(B235,Cadastro!$Q$3:$R$162,2,FALSE),\"/\",J235,\"/\",D235))","v":"64/RF/201603"},"RF/201603","1007/201603","1007/0870/201603","64/201603","64/0870/201603","0870/201603","RF","1007/RF/201503",{"$f":"+CONCATENATE(VLOOKUP(F235,Cadastro!$Q$3:$R$162,2,FALSE),\"/\",S235,\"/\",H235)","v":"64/RF/201503"},"RF/201503","1007/201503","1007/0870/201503","64/201503","64/0870/201503","0870/201503",0,0,0,0,0,0,0,0,0,0]
[null,"01007","0870","201604",null,"01007","0870","201504",null,"RF","1007/RF/201604",{"$f":"IF(J236=0,0,+CONCATENATE(VLOOKUP(B236,Cadastro!$Q$3:$R$162,2,FALSE),\"/\",J236,\"/\",D236))","v":"64/RF/201604"},"RF/201604","1007/201604","1007/0870/201604","64/201604","64/0870/201604","0870/201604","RF","1007/RF/201504",{"$f":"+CONCATENATE(VLOOKUP(F236,Cadastro!$Q$3:$R$162,2,FALSE),\"/\",S236,\"/\",H236)","v":"64/RF/201504"},"RF/201504","1007/201504","1007/0870/201504","64/201504","64/0870/201504","0870/201504",0,0,0,0,0,0,0,0,0,0]
[null,"01007","0870","201605",null,"01007","0870","201505",null,"RF","1007/RF/201605",{"$f":"IF(J237=0,0,+CONCATENATE(VLOOKUP(B237,Cadastro!$Q$3:$R$162,2,FALSE),\"/\",J237,\"/\",D237))","v":"64/RF/201605"},"RF/201605","1007/201605","1007/0870/201605","64/201605","64/0870/201605","0870/201605","RF","1007/RF/201505",{"$f":"+CONCATENATE(VLOOKUP(F237,Cadastro!$Q$3:$R$162,2,FALSE),\"/\",S237,\"/\",H237)","v":"64/RF/201505"},"RF/201505","1007/201505","1007/0870/201505","64/201505","64/0870/201505","0870/201505",0,0,0,0,0,0,0,0,0,0]
[null,"01007","0870","201606",null,"01007","0870","201506",null,"RF","1007/RF/201606",{"$f":"IF(J238=0,0,+CONCATENATE(VLOOKUP(B238,Cadastro!$Q$3:$R$162,2,FALSE),\"/\",J238,\"/\",D238))","v":"64/RF/201606"},"RF/201606","1007/201606","1007/0870/201606","64/201606","64/0870/201606","0870/201606","RF","1007/RF/201506",{"$f":"+CONCATENATE(VLOOKUP(F238,Cadastro!$Q$3:$R$162,2,FALSE),\"/\",S238,\"/\",H238)","v":"64/RF/201506"},"RF/201506","1007/201506","1007/0870/201506","64/201506","64/0870/201506","0870/201506",0,0,0,0,0,0,0,0,0,0]
[null,"01007","0870","201607",null,"01007","0870","201507",null,"RF","1007/RF/201607",{"$f":"IF(J239=0,0,+CONCATENATE(VLOOKUP(B239,Cadastro!$Q$3:$R$162,2,FALSE),\"/\",J239,\"/\",D239))","v":"64/RF/201607"},"RF/201607","1007/201607","1007/0870/201607","64/201607","64/0870/201607","0870/201607","RF","1007/RF/201507",{"$f":"+CONCATENATE(VLOOKUP(F239,Cadastro!$Q$3:$R$162,2,FALSE),\"/\",S239,\"/\",H239)","v":"64/RF/201507"},"RF/201507","1007/201507","1007/0870/201507","64/201507","64/0870/201507","0870/201507",0,0,0,0,0,0,0,0,0,0]
[null,"01007","0870","201608",null,"01007","0870","201508",null,"RF","1007/RF/201608",{"$f":"IF(J240=0,0,+CONCATENATE(VLOOKUP(B240,Cadastro!$Q$3:$R$162,2,FALSE),\"/\",J240,\"/\",D240))","v":"64/RF/201608"},"RF/201608","1007/201608","1007/0870/201608","64/201608","64/0870/201608","0870/201608","RF","1007/RF/201508",{"$f":"+CONCATENATE(VLOOKUP(F240,Cadastro!$Q$3:$R$162,2,FALSE),\"/\",S240,\"/\",H240)","v":"64/RF/201508"},"RF/201508","1007/201508","1007/0870/201508","64/201508","64/0870/201508","0870/201508",0,0,0,0,0,0,0,0,0,0]
[null,"01007","0870","201609",null,"01007","0870","201509",null,"RF","1007/RF/201609",{"$f":"IF(J241=0,0,+CONCATENATE(VLOOKUP(B241,Cadastro!$Q$3:$R$162,2,FALSE),\"/\",J241,\"/\",D241))","v":"64/RF/201609"},"RF/201609","1007/201609","1007/0870/201609","64/201609","64/0870/201609","0870/201609","RF","1007/RF/201509",{"$f":"+CONCATENATE(VLOOKUP(F241,Cadastro!$Q$3:$R$162,2,FALSE),\"/\",S241,\"/\",H241)","v":"64/RF/201509"},"RF/201509","1007/201509","1007/0870/201509","64/201509","64/0870/201509","0870/201509",0,0,0,0,0,0,0,0,0,0]
[null,"01007","0870","201610",null,"01007","0870","201510",null,"RF","1007/RF/201610",{"$f":"IF(J242=0,0,+CONCATENATE(VLOOKUP(B242,Cadastro!$Q$3:$R$162,2,FALSE),\"/\",J242,\"/\",D242))","v":"64/RF/201610"},"RF/201610","1007/201610","1007/0870/201610","64/201610","64/0870/201610","0870/201610","RF","1007/RF/201510",{"$f":"+CONCATENATE(VLOOKUP(F242,Cadastro!$Q$3:$R$162,2,FALSE),\"/\",S242,\"/\",H242)","v":"64/RF/201510"},"RF/201510","1007/201510","1007/0870/201510","64/201510","64/0870/201510","0870/201510",0,0,0,0,0,0,0,0,0,0]
[null,"01007","0870","201611",null,"01007","0870","201511",null,"RF","1007/RF/201611",{"$f":"IF(J243=0,0,+CONCATENATE(VLOOKUP(B243,Cadastro!$Q$3:$R$162,2,FALSE),\"/\",J243,\"/\",D243))","v":"64/RF/201611"},"RF/201611","1007/201611","1007/0870/201611","64/201611","64/0870/201611","0870/201611","RF","1007/RF/201511",{"$f":"+CONCATENATE(VLOOKUP(F243,Cadastro!$Q$3:$R$162,2,FALSE),\"/\",S243,\"/\",H243)","v":"64/RF/201511"},"RF/201511","1007/201511","1007/0870/201511","64/201511","64/0870/201511","0870/201511",0,0,0,0,0,0,0,0,0,0]
[null,"01007","0870","201612",null,"01007","0870","201512",null,"RF","1007/RF/201612",{"$f":"IF(J244=0,0,+CONCATENATE(VLOOKUP(B244,Cadastro!$Q$3:$R$162,2,FALSE),\"/\",J244,\"/\",D244))","v":"64/RF/201612"},"RF/201612","1007/201612","1007/0870/201612","64/201612","64/0870/201612","0870/201612","RF","1007/RF/201512",{"$f":"+CONCATENATE(VLOOKUP(F244,Cadastro!$Q$3:$R$162,2,FALSE),\"/\",S244,\"/\",H244)","v":"64/RF/201512"},"RF/201512","1007/201512","1007/0870/201512","64/201512","64/0870/201512","0870/201512",0,0,0,0,0,0,0,0,0,0]
[null,"01007","0929","201601",null,"01007","0929","201511",null,"Pes","1007/Pes/201601",{"$f":"IF(J245=0,0,+CONCATENATE(VLOOKUP(B245,Cadastro!$Q$3:$R$162,2,FALSE),\"/\",J245,\"/\",D245))","v":"64/Pes/201601"},"Pes/201601","1007/201601","1007/0929/201601","64/201601","64/0929/201601","0929/201601","Pes","1007/Pes/201511",{"$f":"+CONCATENATE(VLOOKUP(F245,Cadastro!$Q$3:$R$162,2,FALSE),\"/\",S245,\"/\",H245)","v":"64/Pes/201511"},"Pes/201511","1007/201511","1007/0929/201511","64/201511","64/0929/201511","0929/201511",1179,94.32,427.40999999999997,44.819999999999993,427.40999999999997,44.819999999999993,23.08,2.42,3.54,0.28000000000000003]
[null,"01007","0929","201602",null,"01007","0929","201512",null,"Pes","1007/Pes/201602",{"$f":"IF(J246=0,0,+CONCATENATE(VLOOKUP(B246,Cadastro!$Q$3:$R$162,2,FALSE),\"/\",J246,\"/\",D246))","v":"64/Pes/201602"},"Pes/201602","1007/201602","1007/0929/201602","64/201602","64/0929/201602","0929/201602","Pes","1007/Pes/201512",{"$f":"+CONCATENATE(VLOOKUP(F246,Cadastro!$Q$3:$R$162,2,FALSE),\"/\",S246,\"/\",H246)","v":"64/Pes/201512"},"Pes/201512","1007/201512","1007/0929/201512","64/201512","64/0929/201512","0929/201512",1524.84,220.08,488.87999999999988,104.58000000000001,488.87999999999988,104.58000000000001,26.400000000000006,5.65,4.57,0.66]
[null,"01007","0929","201603",null,"01007","0977","201501",null,"Pes","1007/Pes/201603",{"$f":"IF(J247=0,0,+CONCATENATE(VLOOKUP(B247,Cadastro!$Q$3:$R$162,2,FALSE),\"/\",J247,\"/\",D247))","v":"64/Pes/201603"},"Pes/201603","1007/201603","1007/0929/201603","64/201603","64/0929/201603","0929/201603","Pes","1007/Pes/201501",{"$f":"+CONCATENATE(VLOOKUP(F247,Cadastro!$Q$3:$R$162,2,FALSE),\"/\",S247,\"/\",H247)","v":"64/Pes/201501"},"Pes/201501","1007/201501","1007/0977/201501","64/201501","64/0977/201501","0977/201501",1519.6,504789.46,487.19999999999982,504789.46,487.19999999999982,577174.64,26.310000000000002,192082.85,4.5599999999999996,13302.7]
[null,"01007","0929","201604",null,"01007","0977","201502",null,"Pes","1007/Pes/201604",{"$f":"IF(J248=0,0,+CONCATENATE(VLOOKUP(B248,Cadastro!$Q$3:$R$162,2,FALSE),\"/\",J248,\"/\",D248))","v":"64/Pes/201604"},"Pes/201604","1007/201604","1007/0929/201604","64/201604","64/0929/201604","0929/201604","Pes","1007/Pes/201502",{"$f":"+CONCATENATE(VLOOKUP(F248,Cadastro!$Q$3:$R$162,2,FALSE),\"/\",S248,\"/\",H248)","v":"64/Pes/201502"},"Pes/201502","1007/201502","1007/0977/201502","64/201502","64/0977/201502","0977/201502",1503.88,528279.30000000005,482.16000000000008,528279.30000000005,482.16000000000008,590703.85,26.029999999999994,449116.55,4.51,13033.35]
[null,"01007","0929","201605",null,"01007","0977","201503",null,"Pes","1007/Pes/201605",{"$f":"IF(J249=0,0,+CONCATENATE(VLOOKUP(B249,Cadastro!$Q$3:$R$162,2,FALSE),\"/\",J249,\"/\",D249))","v":"64/Pes/201605"},"Pes/201605","1007/201605","1007/0929/201605","64/201605","64/0929/201605","0929/201605","Pes","1007/Pes/201503",{"$f":"+CONCATENATE(VLOOKUP(F249,Cadastro!$Q$3:$R$162,2,FALSE),\"/\",S249,\"/\",H249)","v":"64/Pes/201503"},"Pes/201503","1007/201503","1007/0977/201503","64/201503","64/0977/201503","0977/201503",1493.4,561761.12,478.80000000000007,561761.12,478.80000000000007,630820.92000000004,25.860000000000007,169054.68,4.4800000000000004,12738.64]
[null,"01007","0929","201606",null,"01007","0977","201504",null,"Pes","1007/Pes/201606",{"$f":"IF(J250=0,0,+CONCATENATE(VLOOKUP(B250,Cadastro!$Q$3:$R$162,2,FALSE),\"/\",J250,\"/\",D250))","v":"64/Pes/201606"},"Pes/201606","1007/201606","1007/0929/201606","64/201606","64/0929/201606","0929/201606","Pes","1007/Pes/201504",{"$f":"+CONCATENATE(VLOOKUP(F250,Cadastro!$Q$3:$R$162,2,FALSE),\"/\",S250,\"/\",H250)","v":"64/Pes/201504"},"Pes/201504","1007/201504","1007/0977/201504","64/201504","64/0977/201504","0977/201504",1472.44,598903.78,472.08000000000004,598903.78,472.08000000000004,665676.18000000005,25.490000000000002,224118.78,4.42,12596]
[null,"01007","0929","201607",null,"01007","0977","201505",null,"Pes","1007/Pes/201607",{"$f":"IF(J251=0,0,+CONCATENATE(VLOOKUP(B251,Cadastro!$Q$3:$R$162,2,FALSE),\"/\",J251,\"/\",D251))","v":"64/Pes/201607"},"Pes/201607","1007/201607","1007/0929/201607","64/201607","64/0929/201607","0929/201607","Pes","1007/Pes/201505",{"$f":"+CONCATENATE(VLOOKUP(F251,Cadastro!$Q$3:$R$162,2,FALSE),\"/\",S251,\"/\",H251)","v":"64/Pes/201505"},"Pes/201505","1007/201505","1007/0977/201505","64/201505","64/0977/201505","0977/201505",1456.72,643892.03,467.04000000000008,643892.03,467.04000000000008,713309.51,25.22,-14460.69,4.37,12541.43]
[null,"01007","0929","201608",null,"01007","0977","201506",null,"Pes","1007/Pes/201608",{"$f":"IF(J252=0,0,+CONCATENATE(VLOOKUP(B252,Cadastro!$Q$3:$R$162,2,FALSE),\"/\",J252,\"/\",D252))","v":"64/Pes/201608"},"Pes/201608","1007/201608","1007/0929/201608","64/201608","64/0929/201608","0929/201608","Pes","1007/Pes/201506",{"$f":"+CONCATENATE(VLOOKUP(F252,Cadastro!$Q$3:$R$162,2,FALSE),\"/\",S252,\"/\",H252)","v":"64/Pes/201506"},"Pes/201506","1007/201506","1007/0977/201506","64/201506","64/0977/201506","0977/201506",1383.36,680572.92,506.87999999999988,680572.92,506.87999999999988,747501.19,27.370000000000005,201910.79,4.1500000000000004,12386.78]
[null,"01007","0929","201609",null,"01007","0977","201507",null,"Pes","1007/Pes/201609",{"$f":"IF(J253=0,0,+CONCATENATE(VLOOKUP(B253,Cadastro!$Q$3:$R$162,2,FALSE),\"/\",J253,\"/\",D253))","v":"64/Pes/201609"},"Pes/201609","1007/201609","1007/0929/201609","64/201609","64/0929/201609","0929/201609","Pes","1007/Pes/201507",{"$f":"+CONCATENATE(VLOOKUP(F253,Cadastro!$Q$3:$R$162,2,FALSE),\"/\",S253,\"/\",H253)","v":"64/Pes/201507"},"Pes/201507","1007/201507","1007/0977/201507","64/201507","64/0977/201507","0977/201507",1425.28,417341.13,522.24,417341.13,522.24,789108.73,16797.25,112120.14,4.28,12199.25]
[null,"01007","0929","201610",null,"01007","0977","201508",null,"Pes","1007/Pes/201610",{"$f":"IF(J254=0,0,+CONCATENATE(VLOOKUP(B254,Cadastro!$Q$3:$R$162,2,FALSE),\"/\",J254,\"/\",D254))","v":"64/Pes/201610"},"Pes/201610","1007/201610","1007/0929/201610","64/201610","64/0929/201610","0929/201610","Pes","1007/Pes/201508",{"$f":"+CONCATENATE(VLOOKUP(F254,Cadastro!$Q$3:$R$162,2,FALSE),\"/\",S254,\"/\",H254)","v":"64/Pes/201508"},"Pes/201508","1007/201508","1007/0977/201508","64/201508","64/0977/201508","0977/201508",1420.04,756744.08,520.31999999999994,756744.08,520.31999999999994,810887.49,2995.8,99629.32,4.26,12079.9]
[null,"01007","0929","201611",null,"01007","0977","201509",null,"Pes","1007/Pes/201611",{"$f":"IF(J255=0,0,+CONCATENATE(VLOOKUP(B255,Cadastro!$Q$3:$R$162,2,FALSE),\"/\",J255,\"/\",D255))","v":"64/Pes/201611"},"Pes/201611","1007/201611","1007/0929/201611","64/201611","64/0929/201611","0929/201611","Pes","1007/Pes/201509",{"$f":"+CONCATENATE(VLOOKUP(F255,Cadastro!$Q$3:$R$162,2,FALSE),\"/\",S255,\"/\",H255)","v":"64/Pes/201509"},"Pes/201509","1007/201509","1007/0977/201509","64/201509","64/0977/201509","0977/201509",0,803641.15,0,803641.15,0,857712.27,177.73,191680.6,0,11973.18]
[null,"01007","0929","201612",null,"01007","0977","201510",null,"Pes","1007/Pes/201612",{"$f":"IF(J256=0,0,+CONCATENATE(VLOOKUP(B256,Cadastro!$Q$3:$R$162,2,FALSE),\"/\",J256,\"/\",D256))","v":"64/Pes/201612"},"Pes/201612","1007/201612","1007/0929/201612","64/201612","64/0929/201612","0929/201612","Pes","1007/Pes/201510",{"$f":"+CONCATENATE(VLOOKUP(F256,Cadastro!$Q$3:$R$162,2,FALSE),\"/\",S256,\"/\",H256)","v":"64/Pes/201510"},"Pes/201510","1007/201510","1007/0977/201510","64/201510","64/0977/201510","0977/201510",0,867307.65,0,867307.65,0,921555.31,36.549999999999997,161429.07999999999,0,12053.45]
[null,"01007","0977","201601",null,"01007","0977","201511",null,"Pes","1007/Pes/201601",{"$f":"IF(J257=0,0,+CONCATENATE(VLOOKUP(B257,Cadastro!$Q$3:$R$162,2,FALSE),\"/\",J257,\"/\",D257))","v":"64/Pes/201601"},"Pes/201601","1007/201601","1007/0977/201601","64/201601","64/0977/201601","0977/201601","Pes","1007/Pes/201511",{"$f":"+CONCATENATE(VLOOKUP(F257,Cadastro!$Q$3:$R$162,2,FALSE),\"/\",S257,\"/\",H257)","v":"64/Pes/201511"},"Pes/201511","1007/201511","1007/0977/201511","64/201511","64/0977/201511","0977/201511",1040524.69,940981.82,1040524.69,940981.82,1093726.71,992970.37,35402.800000000003,172767.15,12351.74,12223.05]
[null,"01007","0977","201602",null,"01007","0977","201512",null,"Pes","1007/Pes/201602",{"$f":"IF(J258=0,0,+CONCATENATE(VLOOKUP(B258,Cadastro!$Q$3:$R$162,2,FALSE),\"/\",J258,\"/\",D258))","v":"64/Pes/201602"},"Pes/201602","1007/201602","1007/0977/201602","64/201602","64/0977/201602","0977/201602","Pes","1007/Pes/201512",{"$f":"+CONCATENATE(VLOOKUP(F258,Cadastro!$Q$3:$R$162,2,FALSE),\"/\",S258,\"/\",H258)","v":"64/Pes/201512"},"Pes/201512","1007/201512","1007/0977/201512","64/201512","64/0977/201512","0977/201512",1053355.74,1012751.23,1053355.74,1012751.23,1101698.5900000001,1066131.8400000001,455406.73,386081.01,12337.67,12302.04]
[null,"01007","0977","201603",null,"01007","0980","201501",null,"Pes","1007/Pes/201603",{"$f":"IF(J259=0,0,+CONCATENATE(VLOOKUP(B259,Cadastro!$Q$3:$R$162,2,FALSE),\"/\",J259,\"/\",D259))","v":"64/Pes/201603"},"Pes/201603","1007/201603","1007/0977/201603","64/201603","64/0977/201603","0977/201603","Pes","1007/Pes/201501",{"$f":"+CONCATENATE(VLOOKUP(F259,Cadastro!$Q$3:$R$162,2,FALSE),\"/\",S259,\"/\",H259)","v":"64/Pes/201501"},"Pes/201501","1007/201501","1007/0980/201501","64/201501","64/0980/201501","0980/201501",1104065.75,0,1104065.75,0,1155492.33,0,597718.81000000006,-11109.5,12556.4,0]
[null,"01007","0977","201604",null,"01007","0980","201502",null,"Pes","1007/Pes/201604",{"$f":"IF(J260=0,0,+CONCATENATE(VLOOKUP(B260,Cadastro!$Q$3:$R$162,2,FALSE),\"/\",J260,\"/\",D260))","v":"64/Pes/201604"},"Pes/201604","1007/201604","1007/0977/201604","64/201604","64/0977/201604","0977/201604","Pes","1007/Pes/201502",{"$f":"+CONCATENATE(VLOOKUP(F260,Cadastro!$Q$3:$R$162,2,FALSE),\"/\",S260,\"/\",H260)","v":"64/Pes/201502"},"Pes/201502","1007/201502","1007/0980/201502","64/201502","64/0980/201502","0980/201502",524988.32999999996,0,524988.32999999996,0,574448.28,0,691023.03,-7007.68,13539.45,0]
[null,"01007","0977","201605",null,"01007","0980","201503",null,{"$f":"IF(C261=0,0,+VLOOKUP(C261,$AQ$4:$AR$130,2,FALSE))","v":"Pes"},{"$f":"IF(J261=0,0,+CONCATENATE(VALUE(B261),\"/\",J261,\"/\",D261))","v":"1007/Pes/201605"},{"$f":"IF(J261=0,0,+CONCATENATE(VLOOKUP(B261,Cadastro!$Q$3:$R$162,2,FALSE),\"/\",J261,\"/\",D261))","v":"64/Pes/201605"},{"$f":"IF(J261=0,0,+CONCATENATE(J261,\"/\",D261))","v":"Pes/201605"},"1007/201605","1007/0977/201605","64/201605","64/0977/201605","0977/201605",{"$f":"+VLOOKUP(G261,$AQ$4:$AR$130,2,FALSE)","v":"Pes"},{"$f":"+CONCATENATE(VALUE(F261),\"/\",S261,\"/\",H261)","v":"1007/Pes/201503"},{"$f":"+CONCATENATE(VLOOKUP(F261,Cadastro!$Q$3:$R$162,2,FALSE),\"/\",S261,\"/\",H261)","v":"64/Pes/201503"},"Pes/201503","1007/201503","1007/0980/201503","64/201503","64/0980/201503","0980/201503",557399.07999999996,0,557399.07999999996,0,608073.28,0,552884,-6224.77,8217.16,0]
[null,"01007","0977","201606",null,"01007","0980","201504",null,"Pes","1007/Pes/201606",{"$f":"IF(J262=0,0,+CONCATENATE(VLOOKUP(B262,Cadastro!$Q$3:$R$162,2,FALSE),\"/\",J262,\"/\",D262))","v":"64/Pes/201606"},"Pes/201606","1007/201606","1007/0977/201606","64/201606","64/0977/201606","0977/201606","Pes","1007/Pes/201504",{"$f":"+CONCATENATE(VLOOKUP(F262,Cadastro!$Q$3:$R$162,2,FALSE),\"/\",S262,\"/\",H262)","v":"64/Pes/201504"},{"$f":"+CONCATENATE(S262,\"/\",H262)","v":"Pes/201504"},"1007/201504","1007/0980/201504","64/201504","64/0980/201504","0980/201504",661035.92000000004,0,661035.92000000004,0,709096.53,0,877617.17,-3705.13,11259.06,0]
[null,"01007","0977","201607",null,"01007","0980","201505",null,"Pes","1007/Pes/201607",{"$f":"IF(J263=0,0,+CONCATENATE(VLOOKUP(B263,Cadastro!$Q$3:$R$162,2,FALSE),\"/\",J263,\"/\",D263))","v":"64/Pes/201607"},"Pes/201607","1007/201607","1007/0977/201607","64/201607","64/0977/201607","0977/201607","Pes","1007/Pes/201505",{"$f":"+CONCATENATE(VLOOKUP(F263,Cadastro!$Q$3:$R$162,2,FALSE),\"/\",S263,\"/\",H263)","v":"64/Pes/201505"},"Pes/201505","1007/201505","1007/0980/201505","64/201505","64/0980/201505","0980/201505",62572.18,0,62572.18,0,109777.26,0,834596.35,-3289.2,9385.83,0]
[null,"01007","0977","201608",null,"01007","0980","201506",null,"Pes","1007/Pes/201608",{"$f":"IF(J264=0,0,+CONCATENATE(VLOOKUP(B264,Cadastro!$Q$3:$R$162,2,FALSE),\"/\",J264,\"/\",D264))","v":"64/Pes/201608"},"Pes/201608","1007/201608","1007/0977/201608","64/201608","64/0977/201608","0977/201608","Pes","1007/Pes/201506",{"$f":"+CONCATENATE(VLOOKUP(F264,Cadastro!$Q$3:$R$162,2,FALSE),\"/\",S264,\"/\",H264)","v":"64/Pes/201506"},"Pes/201506","1007/201506","1007/0980/201506","64/201506","64/0980/201506","0980/201506",61939.57,0,61939.57,0,106626.91,0,730855.14,-3602.12,9290.94,0]
[null,"01007","0977","201609",null,"01007","0980","201507",null,"Pes","1007/Pes/201609",{"$f":"IF(J265=0,0,+CONCATENATE(VLOOKUP(B265,Cadastro!$Q$3:$R$162,2,FALSE),\"/\",J265,\"/\",D265))","v":"64/Pes/201609"},"Pes/201609","1007/201609","1007/0977/201609","64/201609","64/0977/201609","0977/201609","Pes","1007/Pes/201507",{"$f":"+CONCATENATE(VLOOKUP(F265,Cadastro!$Q$3:$R$162,2,FALSE),\"/\",S265,\"/\",H265)","v":"64/Pes/201507"},"Pes/201507","1007/201507","1007/0980/201507","64/201507","64/0980/201507","0980/201507",62679.14,0,62679.14,0,102837.99,0,468138.72,-313.77,9401.8700000000008,0]
[null,"01007","0977","201610",null,"01007","0980","201508",null,"Pes","1007/Pes/201610",{"$f":"IF(J266=0,0,+CONCATENATE(VLOOKUP(B266,Cadastro!$Q$3:$R$162,2,FALSE),\"/\",J266,\"/\",D266))","v":"64/Pes/201610"},"Pes/201610","1007/201610","1007/0977/201610","64/201610","64/0977/201610","0977/201610","Pes","1007/Pes/201508",{"$f":"+CONCATENATE(VLOOKUP(F266,Cadastro!$Q$3:$R$162,2,FALSE),\"/\",S266,\"/\",H266)","v":"64/Pes/201508"},"Pes/201508","1007/201508","1007/0980/201508","64/201508","64/0980/201508","0980/201508",62398,0,62398,0,101414.71,0,358249.21,190424.33,9359.7000000000007,0]
[null,"01007","0977","201611",null,"01007","0980","201509",null,"Pes","1007/Pes/201611",{"$f":"IF(J267=0,0,+CONCATENATE(VLOOKUP(B267,Cadastro!$Q$3:$R$162,2,FALSE),\"/\",J267,\"/\",D267))","v":"64/Pes/201611"},"Pes/201611","1007/201611","1007/0977/201611","64/201611","64/0977/201611","0977/201611","Pes","1007/Pes/201509",{"$f":"+CONCATENATE(VLOOKUP(F267,Cadastro!$Q$3:$R$162,2,FALSE),\"/\",S267,\"/\",H267)","v":"64/Pes/201509"},"Pes/201509","1007/201509","1007/0980/201509","64/201509","64/0980/201509","0980/201509",61881.62,0,61881.62,0,94132.04,0,1721176.18,-28190.99,9282.24,0]
[null,"01007","0977","201612",null,"01007","0980","201510",null,"Pes","1007/Pes/201612",{"$f":"IF(J268=0,0,+CONCATENATE(VLOOKUP(B268,Cadastro!$Q$3:$R$162,2,FALSE),\"/\",J268,\"/\",D268))","v":"64/Pes/201612"},"Pes/201612","1007/201612","1007/0977/201612","64/201612","64/0977/201612","0977/201612","Pes","1007/Pes/201510",{"$f":"+CONCATENATE(VLOOKUP(F268,Cadastro!$Q$3:$R$162,2,FALSE),\"/\",S268,\"/\",H268)","v":"64/Pes/201510"},"Pes/201510","1007/201510","1007/0980/201510","64/201510","64/0980/201510","0980/201510",61390.92,0,61390.92,0,93803.73,0,90123.53,-14650.37,9208.64,0]
[null,"01007","0980","201601",null,"01007","0980","201511",null,"Pes","1007/Pes/201601",{"$f":"IF(J269=0,0,+CONCATENATE(VLOOKUP(B269,Cadastro!$Q$3:$R$162,2,FALSE),\"/\",J269,\"/\",D269))","v":"64/Pes/201601"},"Pes/201601","1007/201601","1007/0980/201601","64/201601","64/0980/201601","0980/201601","Pes","1007/Pes/201511",{"$f":"+CONCATENATE(VLOOKUP(F269,Cadastro!$Q$3:$R$162,2,FALSE),\"/\",S269,\"/\",H269)","v":"64/Pes/201511"},"Pes/201511","1007/201511","1007/0980/201511","64/201511","64/0980/201511","0980/201511",0,0,0,0,0,0,69.209999999999994,-14644.68,0,0]
[null,"01007","0980","201602",null,"01007","0980","201512",null,"Pes","1007/Pes/201602",{"$f":"IF(J270=0,0,+CONCATENATE(VLOOKUP(B270,Cadastro!$Q$3:$R$162,2,FALSE),\"/\",J270,\"/\",D270))","v":"64/Pes/201602"},"Pes/201602","1007/201602","1007/0980/201602","64/201602","64/0980/201602","0980/201602","Pes","1007/Pes/201512",{"$f":"+CONCATENATE(VLOOKUP(F270,Cadastro!$Q$3:$R$162,2,FALSE),\"/\",S270,\"/\",H270)","v":"64/Pes/201512"},"Pes/201512","1007/201512","1007/0980/201512","64/201512","64/0980/201512","0980/201512",0,0,0,0,0,0,-1583.14,6543.34,0,0]
[null,"01007","0980","201603",null,"01007","0981","201501",null,"Pes","1007/Pes/201603",{"$f":"IF(J271=0,0,+CONCATENATE(VLOOKUP(B271,Cadastro!$Q$3:$R$162,2,FALSE),\"/\",J271,\"/\",D271))","v":"64/Pes/201603"},"Pes/201603","1007/201603","1007/0980/201603","64/201603","64/0980/201603","0980/201603","Pes","1007/Pes/201501",{"$f":"+CONCATENATE(VLOOKUP(F271,Cadastro!$Q$3:$R$162,2,FALSE),\"/\",S271,\"/\",H271)","v":"64/Pes/201501"},"Pes/201501","1007/201501","1007/0981/201501","64/201501","64/0981/201501","0981/201501",0,0,0,0,0,0,-6413.1,0,0,0]
[null,"01007","0980","201604",null,"01007","0981","201502",null,"Pes","1007/Pes/201604",{"$f":"IF(J272=0,0,+CONCATENATE(VLOOKUP(B272,Cadastro!$Q$3:$R$162,2,FALSE),\"/\",J272,\"/\",D272))","v":"64/Pes/201604"},"Pes/201604","1007/201604","1007/0980/201604","64/201604","64/0980/201604","0980/201604","Pes","1007/Pes/201502",{"$f":"+CONCATENATE(VLOOKUP(F272,Cadastro!$Q$3:$R$162,2,FALSE),\"/\",S272,\"/\",H272)","v":"64/Pes/201502"},"Pes/201502","1007/201502","1007/0981/201502","64/201502","64/0981/201502","0981/201502",0,0,0,0,0,0,-9168.86,0,0,0]
[null,"01007","0980","201605",null,"01007","0981","201503",null,"Pes","1007/Pes/201605",{"$f":"IF(J273=0,0,+CONCATENATE(VLOOKUP(B273,Cadastro!$Q$3:$R$162,2,FALSE),\"/\",J273,\"/\",D273))","v":"64/Pes/201605"},"Pes/201605","1007/201605","1007/0980/201605","64/201605","64/0980/201605","0980/201605","Pes","1007/Pes/201503",{"$f":"+CONCATENATE(VLOOKUP(F273,Cadastro!$Q$3:$R$162,2,FALSE),\"/\",S273,\"/\",H273)","v":"64/Pes/201503"},"Pes/201503","1007/201503","1007/0981/201503","64/201503","64/0981/201503","0981/201503",0,0,0,0,0,0,-9175.51,0,0,0]
[null,"01007","0980","201606",null,"01007","0981","201504",null,"Pes","1007/Pes/201606",{"$f":"IF(J274=0,0,+CONCATENATE(VLOOKUP(B274,Cadastro!$Q$3:$R$162,2,FALSE),\"/\",J274,\"/\",D274))","v":"64/Pes/201606"},"Pes/201606","1007/201606","1007/0980/201606","64/201606","64/0980/201606","0980/201606","Pes","1007/Pes/201504",{"$f":"+CONCATENATE(VLOOKUP(F274,Cadastro!$Q$3:$R$162,2,FALSE),\"/\",S274,\"/\",H274)","v":"64/Pes/201504"},"Pes/201504","1007/201504","1007/0981/201504","64/201504","64/0981/201504","0981/201504",0,0,0,0,0,0,-9156.64,0,0,0]
[null,"01007","0980","201607",null,"01007","0981","201505",null,"Pes","1007/Pes/201607",{"$f":"IF(J275=0,0,+CONCATENATE(VLOOKUP(B275,Cadastro!$Q$3:$R$162,2,FALSE),\"/\",J275,\"/\",D275))","v":"64/Pes/201607"},"Pes/201607","1007/201607","1007/0980/201607","64/201607","64/0980/201607","0980/201607","Pes","1007/Pes/201505",{"$f":"+CONCATENATE(VLOOKUP(F275,Cadastro!$Q$3:$R$162,2,FALSE),\"/\",S275,\"/\",H275)","v":"64/Pes/201505"},"Pes/201505","1007/201505","1007/0981/201505","64/201505","64/0981/201505","0981/201505",0,0,0,0,0,0,-14882.97,0,0,0]
[null,"01007","0980","201608",null,"01007","0981","201506",null,"Pes","1007/Pes/201608",{"$f":"IF(J276=0,0,+CONCATENATE(VLOOKUP(B276,Cadastro!$Q$3:$R$162,2,FALSE),\"/\",J276,\"/\",D276))","v":"64/Pes/201608"},"Pes/201608","1007/201608","1007/0980/201608","64/201608","64/0980/201608","0980/201608","Pes","1007/Pes/201506",{"$f":"+CONCATENATE(VLOOKUP(F276,Cadastro!$Q$3:$R$162,2,FALSE),\"/\",S276,\"/\",H276)","v":"64/Pes/201506"},"Pes/201506","1007/201506","1007/0981/201506","64/201506","64/0981/201506","0981/201506",0,0,0,0,0,0,-9807.2800000000007,0,0,0]
[null,"01007","0980","201609",null,"01007","0981","201507",null,"Pes","1007/Pes/201609",{"$f":"IF(J277=0,0,+CONCATENATE(VLOOKUP(B277,Cadastro!$Q$3:$R$162,2,FALSE),\"/\",J277,\"/\",D277))","v":"64/Pes/201609"},"Pes/201609","1007/201609","1007/0980/201609","64/201609","64/0980/201609","0980/201609","Pes","1007/Pes/201507",{"$f":"+CONCATENATE(VLOOKUP(F277,Cadastro!$Q$3:$R$162,2,FALSE),\"/\",S277,\"/\",H277)","v":"64/Pes/201507"},"Pes/201507","1007/201507","1007/0981/201507","64/201507","64/0981/201507","0981/201507",0,0,0,0,0,0,-21683.46,0,0,0]
[null,"01007","0980","201610",null,"01007","0981","201508",null,"Pes","1007/Pes/201610",{"$f":"IF(J278=0,0,+CONCATENATE(VLOOKUP(B278,Cadastro!$Q$3:$R$162,2,FALSE),\"/\",J278,\"/\",D278))","v":"64/Pes/201610"},"Pes/201610","1007/201610","1007/0980/201610","64/201610","64/0980/201610","0980/201610","Pes","1007/Pes/201508",{"$f":"+CONCATENATE(VLOOKUP(F278,Cadastro!$Q$3:$R$162,2,FALSE),\"/\",S278,\"/\",H278)","v":"64/Pes/201508"},"Pes/201508","1007/201508","1007/0981/201508","64/201508","64/0981/201508","0981/201508",0,0,0,0,0,0,-2648.83,0,0,0]
[null,"01007","0980","201611",null,"01007","0981","201509",null,"Pes","1007/Pes/201611",{"$f":"IF(J279=0,0,+CONCATENATE(VLOOKUP(B279,Cadastro!$Q$3:$R$162,2,FALSE),\"/\",J279,\"/\",D279))","v":"64/Pes/201611"},"Pes/201611","1007/201611","1007/0980/201611","64/201611","64/0980/201611","0980/201611","Pes","1007/Pes/201509",{"$f":"+CONCATENATE(VLOOKUP(F279,Cadastro!$Q$3:$R$162,2,FALSE),\"/\",S279,\"/\",H279)","v":"64/Pes/201509"},"Pes/201509","1007/201509","1007/0981/201509","64/201509","64/0981/201509","0981/201509",0,0,0,0,0,0,-2649.17,0,0,0]
[null,"01007","0980","201612",null,"01007","0981","201510",null,"Pes","1007/Pes/201612",{"$f":"IF(J280=0,0,+CONCATENATE(VLOOKUP(B280,Cadastro!$Q$3:$R$162,2,FALSE),\"/\",J280,\"/\",D280))","v":"64/Pes/201612"},"Pes/201612","1007/201612","1007/0980/201612","64/201612","64/0980/201612","0980/201612","Pes","1007/Pes/201510",{"$f":"+CONCATENATE(VLOOKUP(F280,Cadastro!$Q$3:$R$162,2,FALSE),\"/\",S280,\"/\",H280)","v":"64/Pes/201510"},"Pes/201510","1007/201510","1007/0981/201510","64/201510","64/0981/201510","0981/201510",0,0,0,0,0,0,-122010,0,0,0]
[null,"01007","0981","201601",null,"01007","0981","201511",null,"Pes","1007/Pes/201601",{"$f":"IF(J281=0,0,+CONCATENATE(VLOOKUP(B281,Cadastro!$Q$3:$R$162,2,FALSE),\"/\",J281,\"/\",D281))","v":"64/Pes/201601"},"Pes/201601","1007/201601","1007/0981/201601","64/201601","64/0981/201601","0981/201601","Pes","1007/Pes/201511",{"$f":"+CONCATENATE(VLOOKUP(F281,Cadastro!$Q$3:$R$162,2,FALSE),\"/\",S281,\"/\",H281)","v":"64/Pes/201511"},"Pes/201511","1007/201511","1007/0981/201511","64/201511","64/0981/201511","0981/201511",0,0,0,0,0,0,0,0,0,0]
[null,"01007","0981","201602",null,"01007","0981","201512",null,"Pes","1007/Pes/201602",{"$f":"IF(J282=0,0,+CONCATENATE(VLOOKUP(B282,Cadastro!$Q$3:$R$162,2,FALSE),\"/\",J282,\"/\",D282))","v":"64/Pes/201602"},"Pes/201602","1007/201602","1007/0981/201602","64/201602","64/0981/201602","0981/201602","Pes","1007/Pes/201512",{"$f":"+CONCATENATE(VLOOKUP(F282,Cadastro!$Q$3:$R$162,2,FALSE),\"/\",S282,\"/\",H282)","v":"64/Pes/201512"},"Pes/201512","1007/201512","1007/0981/201512","64/201512","64/0981/201512","0981/201512",0,0,0,0,0,0,-0.06,0,0,0]
[null,"01007","0981","201603",null,"01007","0982","201501",null,"Pes","1007/Pes/201603",{"$f":"IF(J283=0,0,+CONCATENATE(VLOOKUP(B283,Cadastro!$Q$3:$R$162,2,FALSE),\"/\",J283,\"/\",D283))","v":"64/Pes/201603"},"Pes/201603","1007/201603","1007/0981/201603","64/201603","64/0981/201603","0981/201603","Pes","1007/Pes/201501",{"$f":"+CONCATENATE(VLOOKUP(F283,Cadastro!$Q$3:$R$162,2,FALSE),\"/\",S283,\"/\",H283)","v":"64/Pes/201501"},"Pes/201501","1007/201501","1007/0982/201501","64/201501","64/0982/201501","0982/201501",0,5589791.9800000004,0,5589791.9800000004,0,5608518.4800000004,0,234475.55,0,846878.16]
[null,"01007","0981","201604",null,"01007","0982","201502",null,"Pes","1007/Pes/201604",{"$f":"IF(J284=0,0,+CONCATENATE(VLOOKUP(B284,Cadastro!$Q$3:$R$162,2,FALSE),\"/\",J284,\"/\",D284))","v":"64/Pes/201604"},"Pes/201604","1007/201604","1007/0981/201604","64/201604","64/0981/201604","0981/201604","Pes","1007/Pes/201502",{"$f":"+CONCATENATE(VLOOKUP(F284,Cadastro!$Q$3:$R$162,2,FALSE),\"/\",S284,\"/\",H284)","v":"64/Pes/201502"},"Pes/201502","1007/201502","1007/0982/201502","64/201502","64/0982/201502","0982/201502",0,5397190.0499999998,0,5397190.0499999998,0,5413892.0599999996,0,225270.59,0,874486.49]
[null,"01007","0981","201605",null,"01007","0982","201503",null,"Pes","1007/Pes/201605",{"$f":"IF(J285=0,0,+CONCATENATE(VLOOKUP(B285,Cadastro!$Q$3:$R$162,2,FALSE),\"/\",J285,\"/\",D285))","v":"64/Pes/201605"},"Pes/201605","1007/201605","1007/0981/201605","64/201605","64/0981/201605","0981/201605","Pes","1007/Pes/201503",{"$f":"+CONCATENATE(VLOOKUP(F285,Cadastro!$Q$3:$R$162,2,FALSE),\"/\",S285,\"/\",H285)","v":"64/Pes/201503"},"Pes/201503","1007/201503","1007/0982/201503","64/201503","64/0982/201503","0982/201503",0,5257551.8,0,5257551.8,0,5275533.59,0,131073.1,0,915686.91]
[null,"01007","0981","201606",null,"01007","0982","201504",null,"Pes","1007/Pes/201606",{"$f":"IF(J286=0,0,+CONCATENATE(VLOOKUP(B286,Cadastro!$Q$3:$R$162,2,FALSE),\"/\",J286,\"/\",D286))","v":"64/Pes/201606"},"Pes/201606","1007/201606","1007/0981/201606","64/201606","64/0981/201606","0981/201606","Pes","1007/Pes/201504",{"$f":"+CONCATENATE(VLOOKUP(F286,Cadastro!$Q$3:$R$162,2,FALSE),\"/\",S286,\"/\",H286)","v":"64/Pes/201504"},"Pes/201504","1007/201504","1007/0982/201504","64/201504","64/0982/201504","0982/201504",0,5756308.04,0,5756308.04,0,5772735.8200000003,0,250806.63,0,949735.26]
[null,"01007","0981","201607",null,"01007","0982","201505",null,"Pes","1007/Pes/201607",{"$f":"IF(J287=0,0,+CONCATENATE(VLOOKUP(B287,Cadastro!$Q$3:$R$162,2,FALSE),\"/\",J287,\"/\",D287))","v":"64/Pes/201607"},"Pes/201607","1007/201607","1007/0981/201607","64/201607","64/0981/201607","0981/201607","Pes","1007/Pes/201505",{"$f":"+CONCATENATE(VLOOKUP(F287,Cadastro!$Q$3:$R$162,2,FALSE),\"/\",S287,\"/\",H287)","v":"64/Pes/201505"},"Pes/201505","1007/201505","1007/0982/201505","64/201505","64/0982/201505","0982/201505",0,5478579.4400000004,0,5478579.4400000004,0,5495260.7999999998,0,461136.4,0,961760.35]
[null,"01007","0981","201608",null,"01007","0982","201506",null,"Pes","1007/Pes/201608",{"$f":"IF(J288=0,0,+CONCATENATE(VLOOKUP(B288,Cadastro!$Q$3:$R$162,2,FALSE),\"/\",J288,\"/\",D288))","v":"64/Pes/201608"},"Pes/201608","1007/201608","1007/0981/201608","64/201608","64/0981/201608","0981/201608","Pes","1007/Pes/201506",{"$f":"+CONCATENATE(VLOOKUP(F288,Cadastro!$Q$3:$R$162,2,FALSE),\"/\",S288,\"/\",H288)","v":"64/Pes/201506"},"Pes/201506","1007/201506","1007/0982/201506","64/201506","64/0982/201506","0982/201506",0,5496473.0700000003,0,5496473.0700000003,0,5512232.71,0,73647.81,0,1060980.51]
[null,"01007","0981","201609",null,"01007","0982","201507",null,"Pes","1007/Pes/201609",{"$f":"IF(J289=0,0,+CONCATENATE(VLOOKUP(B289,Cadastro!$Q$3:$R$162,2,FALSE),\"/\",J289,\"/\",D289))","v":"64/Pes/201609"},"Pes/201609","1007/201609","1007/0981/201609","64/201609","64/0981/201609","0981/201609","Pes","1007/Pes/201507",{"$f":"+CONCATENATE(VLOOKUP(F289,Cadastro!$Q$3:$R$162,2,FALSE),\"/\",S289,\"/\",H289)","v":"64/Pes/201507"},"Pes/201507","1007/201507","1007/0982/201507","64/201507","64/0982/201507","0982/201507",0,5657457.9900000002,0,5657457.9900000002,0,5673642.6299999999,0,243902.04,0,871529.01]
[null,"01007","0981","201610",null,"01007","0982","201508",null,"Pes","1007/Pes/201610",{"$f":"IF(J290=0,0,+CONCATENATE(VLOOKUP(B290,Cadastro!$Q$3:$R$162,2,FALSE),\"/\",J290,\"/\",D290))","v":"64/Pes/201610"},"Pes/201610","1007/201610","1007/0981/201610","64/201610","64/0981/201610","0981/201610","Pes","1007/Pes/201508",{"$f":"+CONCATENATE(VLOOKUP(F290,Cadastro!$Q$3:$R$162,2,FALSE),\"/\",S290,\"/\",H290)","v":"64/Pes/201508"},"Pes/201508","1007/201508","1007/0982/201508","64/201508","64/0982/201508","0982/201508",0,5802887.8899999997,0,5802887.8899999997,0,5818695.7999999998,0,-587240.59,0,1112712.01]
[null,"01007","0981","201611",null,"01007","0982","201509",null,"Pes","1007/Pes/201611",{"$f":"IF(J291=0,0,+CONCATENATE(VLOOKUP(B291,Cadastro!$Q$3:$R$162,2,FALSE),\"/\",J291,\"/\",D291))","v":"64/Pes/201611"},"Pes/201611","1007/201611","1007/0981/201611","64/201611","64/0981/201611","0981/201611","Pes","1007/Pes/201509",{"$f":"+CONCATENATE(VLOOKUP(F291,Cadastro!$Q$3:$R$162,2,FALSE),\"/\",S291,\"/\",H291)","v":"64/Pes/201509"},"Pes/201509","1007/201509","1007/0982/201509","64/201509","64/0982/201509","0982/201509",0,5974917.8499999996,0,5974917.8499999996,0,5989944.0800000001,0,342887.86,0,1058374.06]
[null,"01007","0981","201612",null,"01007","0982","201510",null,"Pes","1007/Pes/201612",{"$f":"IF(J292=0,0,+CONCATENATE(VLOOKUP(B292,Cadastro!$Q$3:$R$162,2,FALSE),\"/\",J292,\"/\",D292))","v":"64/Pes/201612"},"Pes/201612","1007/201612","1007/0981/201612","64/201612","64/0981/201612","0981/201612","Pes","1007/Pes/201510",{"$f":"+CONCATENATE(VLOOKUP(F292,Cadastro!$Q$3:$R$162,2,FALSE),\"/\",S292,\"/\",H292)","v":"64/Pes/201510"},"Pes/201510","1007/201510","1007/0982/201510","64/201510","64/0982/201510","0982/201510",0,5902239.0899999999,0,5902239.0899999999,0,5915816.1699999999,0,180189.89,0,1050523.94]
[null,"01007","0982","201601",null,"01007","0982","201511",null,"Pes","1007/Pes/201601",{"$f":"IF(J293=0,0,+CONCATENATE(VLOOKUP(B293,Cadastro!$Q$3:$R$162,2,FALSE),\"/\",J293,\"/\",D293))","v":"64/Pes/201601"},"Pes/201601","1007/201601","1007/0982/201601","64/201601","64/0982/201601","0982/201601","Pes","1007/Pes/201511",{"$f":"+CONCATENATE(VLOOKUP(F293,Cadastro!$Q$3:$R$162,2,FALSE),\"/\",S293,\"/\",H293)","v":"64/Pes/201511"},"Pes/201511","1007/201511","1007/0982/201511","64/201511","64/0982/201511","0982/201511",6266040.1100000003,6221019.9000000004,6257781.6200000001,6220491.0600000005,6268721.75,6232540.4900000002,31057.279999999999,-38436.85,1076992.7,1136608.8700000001]
[null,"01007","0982","201602",null,"01007","0982","201512",null,"Pes","1007/Pes/201602",{"$f":"IF(J294=0,0,+CONCATENATE(VLOOKUP(B294,Cadastro!$Q$3:$R$162,2,FALSE),\"/\",J294,\"/\",D294))","v":"64/Pes/201602"},"Pes/201602","1007/201602","1007/0982/201602","64/201602","64/0982/201602","0982/201602","Pes","1007/Pes/201512",{"$f":"+CONCATENATE(VLOOKUP(F294,Cadastro!$Q$3:$R$162,2,FALSE),\"/\",S294,\"/\",H294)","v":"64/Pes/201512"},"Pes/201512","1007/201512","1007/0982/201512","64/201512","64/0982/201512","0982/201512",6382621.9699999997,6350823.25,6371188.4199999999,6349525.4500000002,6381451.1299999999,6361069.7199999997,-1739.24,127473.23,1205685.26,1125643.23]
[null,"01007","0982","201603",null,"01007","0990","201501",null,"Pes","1007/Pes/201603",{"$f":"IF(J295=0,0,+CONCATENATE(VLOOKUP(B295,Cadastro!$Q$3:$R$162,2,FALSE),\"/\",J295,\"/\",D295))","v":"64/Pes/201603"},"Pes/201603","1007/201603","1007/0982/201603","64/201603","64/0982/201603","0982/201603","Pes","1007/Pes/201501",{"$f":"+CONCATENATE(VLOOKUP(F295,Cadastro!$Q$3:$R$162,2,FALSE),\"/\",S295,\"/\",H295)","v":"64/Pes/201501"},"Pes/201501","1007/201501","1007/0990/201501","64/201501","64/0990/201501","0990/201501",6586753.8399999999,0,6572613.8700000001,0,6583703.1100000003,0,183241.01,0,1273496.03,0]
[null,"01007","0982","201604",null,"01007","0990","201502",null,"Pes","1007/Pes/201604",{"$f":"IF(J296=0,0,+CONCATENATE(VLOOKUP(B296,Cadastro!$Q$3:$R$162,2,FALSE),\"/\",J296,\"/\",D296))","v":"64/Pes/201604"},"Pes/201604","1007/201604","1007/0982/201604","64/201604","64/0982/201604","0982/201604","Pes","1007/Pes/201502",{"$f":"+CONCATENATE(VLOOKUP(F296,Cadastro!$Q$3:$R$162,2,FALSE),\"/\",S296,\"/\",H296)","v":"64/Pes/201502"},"Pes/201502","1007/201502","1007/0990/201502","64/201502","64/0990/201502","0990/201502",6774303.0300000003,0,6758498.75,0,6769043.5800000001,0,231108.08,0,1293218.54,0]
[null,"01007","0982","201605",null,"01007","0990","201503",null,"Pes","1007/Pes/201605",{"$f":"IF(J297=0,0,+CONCATENATE(VLOOKUP(B297,Cadastro!$Q$3:$R$162,2,FALSE),\"/\",J297,\"/\",D297))","v":"64/Pes/201605"},"Pes/201605","1007/201605","1007/0982/201605","64/201605","64/0982/201605","0982/201605","Pes","1007/Pes/201503",{"$f":"+CONCATENATE(VLOOKUP(F297,Cadastro!$Q$3:$R$162,2,FALSE),\"/\",S297,\"/\",H297)","v":"64/Pes/201503"},"Pes/201503","1007/201503","1007/0990/201503","64/201503","64/0990/201503","0990/201503",6954178.8799999999,0,6931871.6600000001,0,6942778.29,0,575623.93000000005,0,933038.72,0]
[null,"01007","0982","201606",null,"01007","0990","201504",null,"Pes","1007/Pes/201606",{"$f":"IF(J298=0,0,+CONCATENATE(VLOOKUP(B298,Cadastro!$Q$3:$R$162,2,FALSE),\"/\",J298,\"/\",D298))","v":"64/Pes/201606"},"Pes/201606","1007/201606","1007/0982/201606","64/201606","64/0982/201606","0982/201606","Pes","1007/Pes/201504",{"$f":"+CONCATENATE(VLOOKUP(F298,Cadastro!$Q$3:$R$162,2,FALSE),\"/\",S298,\"/\",H298)","v":"64/Pes/201504"},"Pes/201504","1007/201504","1007/0990/201504","64/201504","64/0990/201504","0990/201504",7172099.1799999997,0,7142042.6200000001,0,7152505.4900000002,0,233575.46,0,1046837.28,0]
[null,"01007","0982","201607",null,"01007","0990","201505",null,"Pes","1007/Pes/201607",{"$f":"IF(J299=0,0,+CONCATENATE(VLOOKUP(B299,Cadastro!$Q$3:$R$162,2,FALSE),\"/\",J299,\"/\",D299))","v":"64/Pes/201607"},"Pes/201607","1007/201607","1007/0982/201607","64/201607","64/0982/201607","0982/201607","Pes","1007/Pes/201505",{"$f":"+CONCATENATE(VLOOKUP(F299,Cadastro!$Q$3:$R$162,2,FALSE),\"/\",S299,\"/\",H299)","v":"64/Pes/201505"},"Pes/201505","1007/201505","1007/0990/201505","64/201505","64/0990/201505","0990/201505",7288342.8200000003,0,7255178.4300000006,0,7265997.1000000006,0,404716.89,0,1006316.14,0]
[null,"01007","0982","201608",null,"01007","0990","201506",null,"Pes","1007/Pes/201608",{"$f":"IF(J300=0,0,+CONCATENATE(VLOOKUP(B300,Cadastro!$Q$3:$R$162,2,FALSE),\"/\",J300,\"/\",D300))","v":"64/Pes/201608"},"Pes/201608","1007/201608","1007/0982/201608","64/201608","64/0982/201608","0982/201608","Pes","1007/Pes/201506",{"$f":"+CONCATENATE(VLOOKUP(F300,Cadastro!$Q$3:$R$162,2,FALSE),\"/\",S300,\"/\",H300)","v":"64/Pes/201506"},"Pes/201506","1007/201506","1007/0990/201506","64/201506","64/0990/201506","0990/201506",7053129.3499999996,0,7023020.04,0,7028346.1900000004,0,279401.49,0,1078210.29,0]
[null,"01007","0982","201609",null,"01007","0990","201507",null,"Pes","1007/Pes/201609",{"$f":"IF(J301=0,0,+CONCATENATE(VLOOKUP(B301,Cadastro!$Q$3:$R$162,2,FALSE),\"/\",J301,\"/\",D301))","v":"64/Pes/201609"},"Pes/201609","1007/201609","1007/0982/201609","64/201609","64/0982/201609","0982/201609","Pes","1007/Pes/201507",{"$f":"+CONCATENATE(VLOOKUP(F301,Cadastro!$Q$3:$R$162,2,FALSE),\"/\",S301,\"/\",H301)","v":"64/Pes/201507"},"Pes/201507","1007/201507","1007/0990/201507","64/201507","64/0990/201507","0990/201507",7659137.5999999996,0,7629224.0899999999,0,7630438.9900000002,0,-140527.42000000001,0,1219083.0900000001,0]
[null,"01007","0982","201610",null,"01007","0990","201508",null,"Pes","1007/Pes/201610",{"$f":"IF(J302=0,0,+CONCATENATE(VLOOKUP(B302,Cadastro!$Q$3:$R$162,2,FALSE),\"/\",J302,\"/\",D302))","v":"64/Pes/201610"},"Pes/201610","1007/201610","1007/0982/201610","64/201610","64/0982/201610","0982/201610","Pes","1007/Pes/201508",{"$f":"+CONCATENATE(VLOOKUP(F302,Cadastro!$Q$3:$R$162,2,FALSE),\"/\",S302,\"/\",H302)","v":"64/Pes/201508"},"Pes/201508","1007/201508","1007/0990/201508","64/201508","64/0990/201508","0990/201508",7876015.54,0,7846085.7700000005,0,7847294.3800000008,0,356750.19,0,1217327.44,0]
[null,"01007","0982","201611",null,"01007","0990","201509",null,"Pes","1007/Pes/201611",{"$f":"IF(J303=0,0,+CONCATENATE(VLOOKUP(B303,Cadastro!$Q$3:$R$162,2,FALSE),\"/\",J303,\"/\",D303))","v":"64/Pes/201611"},"Pes/201611","1007/201611","1007/0982/201611","64/201611","64/0982/201611","0982/201611","Pes","1007/Pes/201509",{"$f":"+CONCATENATE(VLOOKUP(F303,Cadastro!$Q$3:$R$162,2,FALSE),\"/\",S303,\"/\",H303)","v":"64/Pes/201509"},"Pes/201509","1007/201509","1007/0990/201509","64/201509","64/0990/201509","0990/201509",8139476.0800000001,0,8139476.0800000001,0,8139626.8099999996,0,46821.17,0,1436922.61,0]
[null,"01007","0982","201612",null,"01007","0990","201510",null,"Pes","1007/Pes/201612",{"$f":"IF(J304=0,0,+CONCATENATE(VLOOKUP(B304,Cadastro!$Q$3:$R$162,2,FALSE),\"/\",J304,\"/\",D304))","v":"64/Pes/201612"},"Pes/201612","1007/201612","1007/0982/201612","64/201612","64/0982/201612","0982/201612","Pes","1007/Pes/201510",{"$f":"+CONCATENATE(VLOOKUP(F304,Cadastro!$Q$3:$R$162,2,FALSE),\"/\",S304,\"/\",H304)","v":"64/Pes/201510"},"Pes/201510","1007/201510","1007/0990/201510","64/201510","64/0990/201510","0990/201510",8807311.1899999995,0,8807311.1899999995,0,8807322.8599999994,0,-65463.27,0,1286273.72,0]
[null,"01007","0990","201601",null,"01007","0990","201511",null,"Pes","1007/Pes/201601",{"$f":"IF(J305=0,0,+CONCATENATE(VLOOKUP(B305,Cadastro!$Q$3:$R$162,2,FALSE),\"/\",J305,\"/\",D305))","v":"64/Pes/201601"},"Pes/201601","1007/201601","1007/0990/201601","64/201601","64/0990/201601","0990/201601","Pes","1007/Pes/201511",{"$f":"+CONCATENATE(VLOOKUP(F305,Cadastro!$Q$3:$R$162,2,FALSE),\"/\",S305,\"/\",H305)","v":"64/Pes/201511"},"Pes/201511","1007/201511","1007/0990/201511","64/201511","64/0990/201511","0990/201511",0,0,0,0,0,0,0,0,0,0]
[null,"01007","0990","201602",null,"01007","0990","201512",null,"Pes","1007/Pes/201602",{"$f":"IF(J306=0,0,+CONCATENATE(VLOOKUP(B306,Cadastro!$Q$3:$R$162,2,FALSE),\"/\",J306,\"/\",D306))","v":"64/Pes/201602"},"Pes/201602","1007/201602","1007/0990/201602","64/201602","64/0990/201602","0990/201602","Pes","1007/Pes/201512",{"$f":"+CONCATENATE(VLOOKUP(F306,Cadastro!$Q$3:$R$162,2,FALSE),\"/\",S306,\"/\",H306)","v":"64/Pes/201512"},"Pes/201512","1007/201512","1007/0990/201512","64/201512","64/0990/201512","0990/201512",0,0,0,0,0,0,0,0,0,0]
[null,"01007","0990","201603",null,"01007","0991","201501",null,"Pes","1007/Pes/201603",{"$f":"IF(J307=0,0,+CONCATENATE(VLOOKUP(B307,Cadastro!$Q$3:$R$162,2,FALSE),\"/\",J307,\"/\",D307))","v":"64/Pes/201603"},"Pes/201603","1007/201603","1007/0990/201603","64/201603","64/0990/201603","0990/201603","Pes","1007/Pes/201501",{"$f":"+CONCATENATE(VLOOKUP(F307,Cadastro!$Q$3:$R$162,2,FALSE),\"/\",S307,\"/\",H307)","v":"64/Pes/201501"},"Pes/201501","1007/201501","1007/0991/201501","64/201501","64/0991/201501","0991/201501",0,0,0,0,0,0,0,0,0,0]
[null,"01007","0990","201604",null,"01007","0991","201502",null,"Pes","1007/Pes/201604",{"$f":"IF(J308=0,0,+CONCATENATE(VLOOKUP(B308,Cadastro!$Q$3:$R$162,2,FALSE),\"/\",J308,\"/\",D308))","v":"64/Pes/201604"},"Pes/201604","1007/201604","1007/0990/201604","64/201604","64/0990/201604","0990/201604","Pes","1007/Pes/201502",{"$f":"+CONCATENATE(VLOOKUP(F308,Cadastro!$Q$3:$R$162,2,FALSE),\"/\",S308,\"/\",H308)","v":"64/Pes/201502"},"Pes/201502","1007/201502","1007/0991/201502","64/201502","64/0991/201502","0991/201502",0,0,0,0,0,0,0,0,0,0]
[null,"01007","0990","201605",null,"01007","0991","201503",null,"Pes","1007/Pes/201605",{"$f":"IF(J309=0,0,+CONCATENATE(VLOOKUP(B309,Cadastro!$Q$3:$R$162,2,FALSE),\"/\",J309,\"/\",D309))","v":"64/Pes/201605"},"Pes/201605","1007/201605","1007/0990/201605","64/201605","64/0990/201605","0990/201605","Pes","1007/Pes/201503",{"$f":"+CONCATENATE(VLOOKUP(F309,Cadastro!$Q$3:$R$162,2,FALSE),\"/\",S309,\"/\",H309)","v":"64/Pes/201503"},"Pes/201503","1007/201503","1007/0991/201503","64/201503","64/0991/201503","0991/201503",0,0,0,0,0,0,0,0,0,0]
[null,"01007","0990","201606",null,"01007","0991","201504",null,"Pes","1007/Pes/201606",{"$f":"IF(J310=0,0,+CONCATENATE(VLOOKUP(B310,Cadastro!$Q$3:$R$162,2,FALSE),\"/\",J310,\"/\",D310))","v":"64/Pes/201606"},"Pes/201606","1007/201606","1007/0990/201606","64/201606","64/0990/201606","0990/201606","Pes","1007/Pes/201504",{"$f":"+CONCATENATE(VLOOKUP(F310,Cadastro!$Q$3:$R$162,2,FALSE),\"/\",S310,\"/\",H310)","v":"64/Pes/201504"},"Pes/201504","1007/201504","1007/0991/201504","64/201504","64/0991/201504","0991/201504",0,0,0,0,0,0,0,0,0,0]
[null,"01007","0990","201607",null,"01007","0991","201505",null,"Pes","1007/Pes/201607",{"$f":"IF(J311=0,0,+CONCATENATE(VLOOKUP(B311,Cadastro!$Q$3:$R$162,2,FALSE),\"/\",J311,\"/\",D311))","v":"64/Pes/201607"},"Pes/201607","1007/201607","1007/0990/201607","64/201607","64/0990/201607","0990/201607","Pes","1007/Pes/201505",{"$f":"+CONCATENATE(VLOOKUP(F311,Cadastro!$Q$3:$R$162,2,FALSE),\"/\",S311,\"/\",H311)","v":"64/Pes/201505"},"Pes/201505","1007/201505","1007/0991/201505","64/201505","64/0991/201505","0991/201505",0,0,0,0,0,0,0,0,0,0]
[null,"01007","0990","201608",null,"01007","0991","201506",null,"Pes","1007/Pes/201608",{"$f":"IF(J312=0,0,+CONCATENATE(VLOOKUP(B312,Cadastro!$Q$3:$R$162,2,FALSE),\"/\",J312,\"/\",D312))","v":"64/Pes/201608"},"Pes/201608","1007/201608","1007/0990/201608","64/201608","64/0990/201608","0990/201608","Pes","1007/Pes/201506",{"$f":"+CONCATENATE(VLOOKUP(F312,Cadastro!$Q$3:$R$162,2,FALSE),\"/\",S312,\"/\",H312)","v":"64/Pes/201506"},"Pes/201506","1007/201506","1007/0991/201506","64/201506","64/0991/201506","0991/201506",0,0,0,0,0,0,0,0,0,0]
[null,"01007","0990","201609",null,"01007","0991","201507",null,"Pes","1007/Pes/201609",{"$f":"IF(J313=0,0,+CONCATENATE(VLOOKUP(B313,Cadastro!$Q$3:$R$162,2,FALSE),\"/\",J313,\"/\",D313))","v":"64/Pes/201609"},"Pes/201609","1007/201609","1007/0990/201609","64/201609","64/0990/201609","0990/201609","Pes","1007/Pes/201507",{"$f":"+CONCATENATE(VLOOKUP(F313,Cadastro!$Q$3:$R$162,2,FALSE),\"/\",S313,\"/\",H313)","v":"64/Pes/201507"},"Pes/201507","1007/201507","1007/0991/201507","64/201507","64/0991/201507","0991/201507",0,0,0,0,0,0,0,0,0,0]
[null,"01007","0990","201610",null,"01007","0991","201508",null,"Pes","1007/Pes/201610",{"$f":"IF(J314=0,0,+CONCATENATE(VLOOKUP(B314,Cadastro!$Q$3:$R$162,2,FALSE),\"/\",J314,\"/\",D314))","v":"64/Pes/201610"},"Pes/201610","1007/201610","1007/0990/201610","64/201610","64/0990/201610","0990/201610","Pes","1007/Pes/201508",{"$f":"+CONCATENATE(VLOOKUP(F314,Cadastro!$Q$3:$R$162,2,FALSE),\"/\",S314,\"/\",H314)","v":"64/Pes/201508"},"Pes/201508","1007/201508","1007/0991/201508","64/201508","64/0991/201508","0991/201508",0,0,0,0,0,0,0,0,0,0]
[null,"01007","0990","201611",null,"01007","0991","201509",null,"Pes","1007/Pes/201611",{"$f":"IF(J315=0,0,+CONCATENATE(VLOOKUP(B315,Cadastro!$Q$3:$R$162,2,FALSE),\"/\",J315,\"/\",D315))","v":"64/Pes/201611"},"Pes/201611","1007/201611","1007/0990/201611","64/201611","64/0990/201611","0990/201611","Pes","1007/Pes/201509",{"$f":"+CONCATENATE(VLOOKUP(F315,Cadastro!$Q$3:$R$162,2,FALSE),\"/\",S315,\"/\",H315)","v":"64/Pes/201509"},"Pes/201509","1007/201509","1007/0991/201509","64/201509","64/0991/201509","0991/201509",0,0,0,0,0,0,0,0,0,0]
[null,"01007","0990","201612",null,"01007","0991","201510",null,"Pes","1007/Pes/201612",{"$f":"IF(J316=0,0,+CONCATENATE(VLOOKUP(B316,Cadastro!$Q$3:$R$162,2,FALSE),\"/\",J316,\"/\",D316))","v":"64/Pes/201612"},"Pes/201612","1007/201612","1007/0990/201612","64/201612","64/0990/201612","0990/201612","Pes","1007/Pes/201510",{"$f":"+CONCATENATE(VLOOKUP(F316,Cadastro!$Q$3:$R$162,2,FALSE),\"/\",S316,\"/\",H316)","v":"64/Pes/201510"},"Pes/201510","1007/201510","1007/0991/201510","64/201510","64/0991/201510","0991/201510",0,0,0,0,0,0,0,0,0,0]
[null,"01007","0991","201601",null,"01007","0991","201511",null,"Pes","1007/Pes/201601",{"$f":"IF(J317=0,0,+CONCATENATE(VLOOKUP(B317,Cadastro!$Q$3:$R$162,2,FALSE),\"/\",J317,\"/\",D317))","v":"64/Pes/201601"},"Pes/201601","1007/201601","1007/0991/201601","64/201601","64/0991/201601","0991/201601","Pes","1007/Pes/201511",{"$f":"+CONCATENATE(VLOOKUP(F317,Cadastro!$Q$3:$R$162,2,FALSE),\"/\",S317,\"/\",H317)","v":"64/Pes/201511"},"Pes/201511","1007/201511","1007/0991/201511","64/201511","64/0991/201511","0991/201511",0,0,0,0,0,0,0,0,0,0]
[null,"01007","0991","201602",null,"01007","0991","201512",null,"Pes","1007/Pes/201602",{"$f":"IF(J318=0,0,+CONCATENATE(VLOOKUP(B318,Cadastro!$Q$3:$R$162,2,FALSE),\"/\",J318,\"/\",D318))","v":"64/Pes/201602"},"Pes/201602","1007/201602","1007/0991/201602","64/201602","64/0991/201602","0991/201602","Pes","1007/Pes/201512",{"$f":"+CONCATENATE(VLOOKUP(F318,Cadastro!$Q$3:$R$162,2,FALSE),\"/\",S318,\"/\",H318)","v":"64/Pes/201512"},"Pes/201512","1007/201512","1007/0991/201512","64/201512","64/0991/201512","0991/201512",0,0,0,0,0,0,0,0,0,0]
[null,"01007","0991","201603",null,"01007","0992","201501",null,"Pes","1007/Pes/201603",{"$f":"IF(J319=0,0,+CONCATENATE(VLOOKUP(B319,Cadastro!$Q$3:$R$162,2,FALSE),\"/\",J319,\"/\",D319))","v":"64/Pes/201603"},"Pes/201603","1007/201603","1007/0991/201603","64/201603","64/0991/201603","0991/201603","VGBL","1007/VGBL/201501",{"$f":"+CONCATENATE(VLOOKUP(F319,Cadastro!$Q$3:$R$162,2,FALSE),\"/\",S319,\"/\",H319)","v":"64/VGBL/201501"},"VGBL/201501","1007/201501","1007/0992/201501","64/201501","64/0992/201501","0992/201501",0,0,0,0,0,0,0,0,0,0]
[null,"01007","0991","201604",null,"01007","0992","201502",null,"Pes","1007/Pes/201604",{"$f":"IF(J320=0,0,+CONCATENATE(VLOOKUP(B320,Cadastro!$Q$3:$R$162,2,FALSE),\"/\",J320,\"/\",D320))","v":"64/Pes/201604"},"Pes/201604","1007/201604","1007/0991/201604","64/201604","64/0991/201604","0991/201604","VGBL","1007/VGBL/201502",{"$f":"+CONCATENATE(VLOOKUP(F320,Cadastro!$Q$3:$R$162,2,FALSE),\"/\",S320,\"/\",H320)","v":"64/VGBL/201502"},"VGBL/201502","1007/201502","1007/0992/201502","64/201502","64/0992/201502","0992/201502",0,0,0,0,0,0,0,0,0,0]
[null,"01007","0991","201605",null,"01007","0992","201503",null,"Pes","1007/Pes/201605",{"$f":"IF(J321=0,0,+CONCATENATE(VLOOKUP(B321,Cadastro!$Q$3:$R$162,2,FALSE),\"/\",J321,\"/\",D321))","v":"64/Pes/201605"},"Pes/201605","1007/201605","1007/0991/201605","64/201605","64/0991/201605","0991/201605","VGBL","1007/VGBL/201503",{"$f":"+CONCATENATE(VLOOKUP(F321,Cadastro!$Q$3:$R$162,2,FALSE),\"/\",S321,\"/\",H321)","v":"64/VGBL/201503"},"VGBL/201503","1007/201503","1007/0992/201503","64/201503","64/0992/201503","0992/201503",0,0,0,0,0,0,0,0,0,0]
[null,"01007","0991","201606",null,"01007","0992","201504",null,"Pes","1007/Pes/201606",{"$f":"IF(J322=0,0,+CONCATENATE(VLOOKUP(B322,Cadastro!$Q$3:$R$162,2,FALSE),\"/\",J322,\"/\",D322))","v":"64/Pes/201606"},"Pes/201606","1007/201606","1007/0991/201606","64/201606","64/0991/201606","0991/201606","VGBL","1007/VGBL/201504",{"$f":"+CONCATENATE(VLOOKUP(F322,Cadastro!$Q$3:$R$162,2,FALSE),\"/\",S322,\"/\",H322)","v":"64/VGBL/201504"},"VGBL/201504","1007/201504","1007/0992/201504","64/201504","64/0992/201504","0992/201504",0,0,0,0,0,0,0,0,0,0]
[null,"01007","0991","201607",null,"01007","0992","201505",null,"Pes","1007/Pes/201607",{"$f":"IF(J323=0,0,+CONCATENATE(VLOOKUP(B323,Cadastro!$Q$3:$R$162,2,FALSE),\"/\",J323,\"/\",D323))","v":"64/Pes/201607"},"Pes/201607","1007/201607","1007/0991/201607","64/201607","64/0991/201607","0991/201607","VGBL","1007/VGBL/201505",{"$f":"+CONCATENATE(VLOOKUP(F323,Cadastro!$Q$3:$R$162,2,FALSE),\"/\",S323,\"/\",H323)","v":"64/VGBL/201505"},"VGBL/201505","1007/201505","1007/0992/201505","64/201505","64/0992/201505","0992/201505",0,0,0,0,0,0,0,0,0,0]
[null,"01007","0991","201608",null,"01007","0992","201506",null,"Pes","1007/Pes/201608",{"$f":"IF(J324=0,0,+CONCATENATE(VLOOKUP(B324,Cadastro!$Q$3:$R$162,2,FALSE),\"/\",J324,\"/\",D324))","v":"64/Pes/201608"},"Pes/201608","1007/201608","1007/0991/201608","64/201608","64/0991/201608","0991/201608","VGBL","1007/VGBL/201506",{"$f":"+CONCATENATE(VLOOKUP(F324,Cadastro!$Q$3:$R$162,2,FALSE),\"/\",S324,\"/\",H324)","v":"64/VGBL/201506"},"VGBL/201506","1007/201506","1007/0992/201506","64/201506","64/0992/201506","0992/201506",0,0,0,0,0,0,0,0,0,0]
[null,"01007","0991","201609",null,"01007","0992","201507",null,{"$f":"IF(C325=0,0,+VLOOKUP(C325,$AQ$4:$AR$130,2,FALSE))","v":"Pes"},{"$f":"IF(J325=0,0,+CONCATENATE(VALUE(B325),\"/\",J325,\"/\",D325))","v":"1007/Pes/201609"},{"$f":"IF(J325=0,0,+CONCATENATE(VLOOKUP(B325,Cadastro!$Q$3:$R$162,2,FALSE),\"/\",J325,\"/\",D325))","v":"64/Pes/201609"},{"$f":"IF(J325=0,0,+CONCATENATE(J325,\"/\",D325))","v":"Pes/201609"},"1007/201609","1007/0991/201609","64/201609","64/0991/201609","0991/201609",{"$f":"+VLOOKUP(G325,$AQ$4:$AR$130,2,FALSE)","v":"VGBL"},{"$f":"+CONCATENATE(VALUE(F325),\"/\",S325,\"/\",H325)","v":"1007/VGBL/201507"},{"$f":"+CONCATENATE(VLOOKUP(F325,Cadastro!$Q$3:$R$162,2,FALSE),\"/\",S325,\"/\",H325)","v":"64/VGBL/201507"},"VGBL/201507","1007/201507","1007/0992/201507","64/201507","64/0992/201507","0992/201507",0,0,0,0,0,0,0,0,0,0]
[null,"01007","0991","201610",null,"01007","0992","201508",null,"Pes","1007/Pes/201610",{"$f":"IF(J326=0,0,+CONCATENATE(VLOOKUP(B326,Cadastro!$Q$3:$R$162,2,FALSE),\"/\",J326,\"/\",D326))","v":"64/Pes/201610"},"Pes/201610","1007/201610","1007/0991/201610","64/201610","64/0991/201610","0991/201610","VGBL","1007/VGBL/201508",{"$f":"+CONCATENATE(VLOOKUP(F326,Cadastro!$Q$3:$R$162,2,FALSE),\"/\",S326,\"/\",H326)","v":"64/VGBL/201508"},{"$f":"+CONCATENATE(S326,\"/\",H326)","v":"VGBL/201508"},"1007/201508","1007/0992/201508","64/201508","64/0992/201508","0992/201508",0,0,0,0,0,0,0,0,0,0]
[null,"01007","0991","201611",null,"01007","0992","201509",null,"Pes","1007/Pes/201611",{"$f":"IF(J327=0,0,+CONCATENATE(VLOOKUP(B327,Cadastro!$Q$3:$R$162,2,FALSE),\"/\",J327,\"/\",D327))","v":"64/Pes/201611"},"Pes/201611","1007/201611","1007/0991/201611","64/201611","64/0991/201611","0991/201611","VGBL","1007/VGBL/201509",{"$f":"+CONCATENATE(VLOOKUP(F327,Cadastro!$Q$3:$R$162,2,FALSE),\"/\",S327,\"/\",H327)","v":"64/VGBL/201509"},"VGBL/201509","1007/201509","1007/0992/201509","64/201509","64/0992/201509","0992/201509",0,0,0,0,0,0,0,0,0,0]
[null,"01007","0991","201612",null,"01007","0992","201510",null,"Pes","1007/Pes/201612",{"$f":"IF(J328=0,0,+CONCATENATE(VLOOKUP(B328,Cadastro!$Q$3:$R$162,2,FALSE),\"/\",J328,\"/\",D328))","v":"64/Pes/201612"},"Pes/201612","1007/201612","1007/0991/201612","64/201612","64/0991/201612","0991/201612","VGBL","1007/VGBL/201510",{"$f":"+CONCATENATE(VLOOKUP(F328,Cadastro!$Q$3:$R$162,2,FALSE),\"/\",S328,\"/\",H328)","v":"64/VGBL/201510"},"VGBL/201510","1007/201510","1007/0992/201510","64/201510","64/0992/201510","0992/201510",0,0,0,0,0,0,0,0,0,0]
[null,"01007","0992","201601",null,"01007","0992","201511",null,"VGBL","1007/VGBL/201601",{"$f":"IF(J329=0,0,+CONCATENATE(VLOOKUP(B329,Cadastro!$Q$3:$R$162,2,FALSE),\"/\",J329,\"/\",D329))","v":"64/VGBL/201601"},"VGBL/201601","1007/201601","1007/0992/201601","64/201601","64/0992/201601","0992/201601","VGBL","1007/VGBL/201511",{"$f":"+CONCATENATE(VLOOKUP(F329,Cadastro!$Q$3:$R$162,2,FALSE),\"/\",S329,\"/\",H329)","v":"64/VGBL/201511"},"VGBL/201511","1007/201511","1007/0992/201511","64/201511","64/0992/201511","0992/201511",0,0,0,0,0,0,0,0,0,0]
[null,"01007","0992","201602",null,"01007","0992","201512",null,"VGBL","1007/VGBL/201602",{"$f":"IF(J330=0,0,+CONCATENATE(VLOOKUP(B330,Cadastro!$Q$3:$R$162,2,FALSE),\"/\",J330,\"/\",D330))","v":"64/VGBL/201602"},"VGBL/201602","1007/201602","1007/0992/201602","64/201602","64/0992/201602","0992/201602","VGBL","1007/VGBL/201512",{"$f":"+CONCATENATE(VLOOKUP(F330,Cadastro!$Q$3:$R$162,2,FALSE),\"/\",S330,\"/\",H330)","v":"64/VGBL/201512"},"VGBL/201512","1007/201512","1007/0992/201512","64/201512","64/0992/201512","0992/201512",0,0,0,0,0,0,0,0,0,0]
[null,"01007","0992","201603",null,"01007","0993","201501",null,"VGBL","1007/VGBL/201603",{"$f":"IF(J331=0,0,+CONCATENATE(VLOOKUP(B331,Cadastro!$Q$3:$R$162,2,FALSE),\"/\",J331,\"/\",D331))","v":"64/VGBL/201603"},"VGBL/201603","1007/201603","1007/0992/201603","64/201603","64/0992/201603","0992/201603","Pes","1007/Pes/201501",{"$f":"+CONCATENATE(VLOOKUP(F331,Cadastro!$Q$3:$R$162,2,FALSE),\"/\",S331,\"/\",H331)","v":"64/Pes/201501"},"Pes/201501","1007/201501","1007/0993/201501","64/201501","64/0993/201501","0993/201501",0,15930.81,0,15930.81,0,15930.81,0,48248.73,0,1984.54]
[null,"01007","0992","201604",null,"01007","0993","201502",null,"VGBL","1007/VGBL/201604",{"$f":"IF(J332=0,0,+CONCATENATE(VLOOKUP(B332,Cadastro!$Q$3:$R$162,2,FALSE),\"/\",J332,\"/\",D332))","v":"64/VGBL/201604"},"VGBL/201604","1007/201604","1007/0992/201604","64/201604","64/0992/201604","0992/201604","Pes","1007/Pes/201502",{"$f":"+CONCATENATE(VLOOKUP(F332,Cadastro!$Q$3:$R$162,2,FALSE),\"/\",S332,\"/\",H332)","v":"64/Pes/201502"},"Pes/201502","1007/201502","1007/0993/201502","64/201502","64/0993/201502","0993/201502",0,17470.689999999999,0,17470.689999999999,0,17470.689999999999,0,-209611.91,0,2347.37]
[null,"01007","0992","201605",null,"01007","0993","201503",null,"VGBL","1007/VGBL/201605",{"$f":"IF(J333=0,0,+CONCATENATE(VLOOKUP(B333,Cadastro!$Q$3:$R$162,2,FALSE),\"/\",J333,\"/\",D333))","v":"64/VGBL/201605"},"VGBL/201605","1007/201605","1007/0992/201605","64/201605","64/0992/201605","0992/201605","Pes","1007/Pes/201503",{"$f":"+CONCATENATE(VLOOKUP(F333,Cadastro!$Q$3:$R$162,2,FALSE),\"/\",S333,\"/\",H333)","v":"64/Pes/201503"},"Pes/201503","1007/201503","1007/0993/201503","64/201503","64/0993/201503","0993/201503",0,17332.05,0,17332.05,0,17332.05,0,44563.16,0,2296.17]
[null,"01007","0992","201606",null,"01007","0993","201504",null,"VGBL","1007/VGBL/201606",{"$f":"IF(J334=0,0,+CONCATENATE(VLOOKUP(B334,Cadastro!$Q$3:$R$162,2,FALSE),\"/\",J334,\"/\",D334))","v":"64/VGBL/201606"},"VGBL/201606","1007/201606","1007/0992/201606","64/201606","64/0992/201606","0992/201606","Pes","1007/Pes/201504",{"$f":"+CONCATENATE(VLOOKUP(F334,Cadastro!$Q$3:$R$162,2,FALSE),\"/\",S334,\"/\",H334)","v":"64/Pes/201504"},"Pes/201504","1007/201504","1007/0993/201504","64/201504","64/0993/201504","0993/201504",0,17247.73,0,17247.73,0,17247.73,0,45505.38,0,2288.1799999999998]
[null,"01007","0992","201607",null,"01007","0993","201505",null,"VGBL","1007/VGBL/201607",{"$f":"IF(J335=0,0,+CONCATENATE(VLOOKUP(B335,Cadastro!$Q$3:$R$162,2,FALSE),\"/\",J335,\"/\",D335))","v":"64/VGBL/201607"},"VGBL/201607","1007/201607","1007/0992/201607","64/201607","64/0992/201607","0992/201607","Pes","1007/Pes/201505",{"$f":"+CONCATENATE(VLOOKUP(F335,Cadastro!$Q$3:$R$162,2,FALSE),\"/\",S335,\"/\",H335)","v":"64/Pes/201505"},"Pes/201505","1007/201505","1007/0993/201505","64/201505","64/0993/201505","0993/201505",0,17500.580000000002,0,17500.580000000002,0,17500.580000000002,0,1821.9,0,2227.4499999999998]
[null,"01007","0992","201608",null,"01007","0993","201506",null,"VGBL","1007/VGBL/201608",{"$f":"IF(J336=0,0,+CONCATENATE(VLOOKUP(B336,Cadastro!$Q$3:$R$162,2,FALSE),\"/\",J336,\"/\",D336))","v":"64/VGBL/201608"},"VGBL/201608","1007/201608","1007/0992/201608","64/201608","64/0992/201608","0992/201608","Pes","1007/Pes/201506",{"$f":"+CONCATENATE(VLOOKUP(F336,Cadastro!$Q$3:$R$162,2,FALSE),\"/\",S336,\"/\",H336)","v":"64/Pes/201506"},"Pes/201506","1007/201506","1007/0993/201506","64/201506","64/0993/201506","0993/201506",0,17771.349999999999,0,17771.349999999999,0,17771.349999999999,0,32435.14,0,2353.3000000000002]
[null,"01007","0992","201609",null,"01007","0993","201507",null,"VGBL","1007/VGBL/201609",{"$f":"IF(J337=0,0,+CONCATENATE(VLOOKUP(B337,Cadastro!$Q$3:$R$162,2,FALSE),\"/\",J337,\"/\",D337))","v":"64/VGBL/201609"},"VGBL/201609","1007/201609","1007/0992/201609","64/201609","64/0992/201609","0992/201609","Pes","1007/Pes/201507",{"$f":"+CONCATENATE(VLOOKUP(F337,Cadastro!$Q$3:$R$162,2,FALSE),\"/\",S337,\"/\",H337)","v":"64/Pes/201507"},"Pes/201507","1007/201507","1007/0993/201507","64/201507","64/0993/201507","0993/201507",0,18462.599999999999,0,18462.599999999999,0,18462.599999999999,0,16671.79,0,2380.17]
[null,"01007","0992","201610",null,"01007","0993","201508",null,"VGBL","1007/VGBL/201610",{"$f":"IF(J338=0,0,+CONCATENATE(VLOOKUP(B338,Cadastro!$Q$3:$R$162,2,FALSE),\"/\",J338,\"/\",D338))","v":"64/VGBL/201610"},"VGBL/201610","1007/201610","1007/0992/201610","64/201610","64/0992/201610","0992/201610","Pes","1007/Pes/201508",{"$f":"+CONCATENATE(VLOOKUP(F338,Cadastro!$Q$3:$R$162,2,FALSE),\"/\",S338,\"/\",H338)","v":"64/Pes/201508"},"Pes/201508","1007/201508","1007/0993/201508","64/201508","64/0993/201508","0993/201508",0,17492.759999999998,0,17492.759999999998,0,17492.759999999998,0,164990.22,0,2308.21]
[null,"01007","0992","201611",null,"01007","0993","201509",null,"VGBL","1007/VGBL/201611",{"$f":"IF(J339=0,0,+CONCATENATE(VLOOKUP(B339,Cadastro!$Q$3:$R$162,2,FALSE),\"/\",J339,\"/\",D339))","v":"64/VGBL/201611"},"VGBL/201611","1007/201611","1007/0992/201611","64/201611","64/0992/201611","0992/201611","Pes","1007/Pes/201509",{"$f":"+CONCATENATE(VLOOKUP(F339,Cadastro!$Q$3:$R$162,2,FALSE),\"/\",S339,\"/\",H339)","v":"64/Pes/201509"},"Pes/201509","1007/201509","1007/0993/201509","64/201509","64/0993/201509","0993/201509",0,17997.060000000001,0,17997.060000000001,0,17997.060000000001,0,130534.77,0,2418.08]
[null,"01007","0992","201612",null,"01007","0993","201510",null,"VGBL","1007/VGBL/201612",{"$f":"IF(J340=0,0,+CONCATENATE(VLOOKUP(B340,Cadastro!$Q$3:$R$162,2,FALSE),\"/\",J340,\"/\",D340))","v":"64/VGBL/201612"},"VGBL/201612","1007/201612","1007/0992/201612","64/201612","64/0992/201612","0992/201612","Pes","1007/Pes/201510",{"$f":"+CONCATENATE(VLOOKUP(F340,Cadastro!$Q$3:$R$162,2,FALSE),\"/\",S340,\"/\",H340)","v":"64/Pes/201510"},"Pes/201510","1007/201510","1007/0993/201510","64/201510","64/0993/201510","0993/201510",0,17888.62,0,17888.62,0,17888.62,0,73195.38,0,2519.92]
[null,"01007","0993","201601",null,"01007","0993","201511",null,"Pes","1007/Pes/201601",{"$f":"IF(J341=0,0,+CONCATENATE(VLOOKUP(B341,Cadastro!$Q$3:$R$162,2,FALSE),\"/\",J341,\"/\",D341))","v":"64/Pes/201601"},"Pes/201601","1007/201601","1007/0993/201601","64/201601","64/0993/201601","0993/201601","Pes","1007/Pes/201511",{"$f":"+CONCATENATE(VLOOKUP(F341,Cadastro!$Q$3:$R$162,2,FALSE),\"/\",S341,\"/\",H341)","v":"64/Pes/201511"},"Pes/201511","1007/201511","1007/0993/201511","64/201511","64/0993/201511","0993/201511",20669.87,18372.939999999999,20669.87,18372.939999999999,20669.87,18372.939999999999,13591.13,379397.1,2665.77,2608.0500000000002]
[null,"01007","0993","201602",null,"01007","0993","201512",null,"Pes","1007/Pes/201602",{"$f":"IF(J342=0,0,+CONCATENATE(VLOOKUP(B342,Cadastro!$Q$3:$R$162,2,FALSE),\"/\",J342,\"/\",D342))","v":"64/Pes/201602"},"Pes/201602","1007/201602","1007/0993/201602","64/201602","64/0993/201602","0993/201602","Pes","1007/Pes/201512",{"$f":"+CONCATENATE(VLOOKUP(F342,Cadastro!$Q$3:$R$162,2,FALSE),\"/\",S342,\"/\",H342)","v":"64/Pes/201512"},"Pes/201512","1007/201512","1007/0993/201512","64/201512","64/0993/201512","0993/201512",21298.37,18734.810000000001,21298.37,18734.810000000001,21298.37,18734.810000000001,191843.65,40164.379999999997,2697.83,2687.25]
[null,"01007","0993","201603",null,"01007","1162","201501",null,"Pes","1007/Pes/201603",{"$f":"IF(J343=0,0,+CONCATENATE(VLOOKUP(B343,Cadastro!$Q$3:$R$162,2,FALSE),\"/\",J343,\"/\",D343))","v":"64/Pes/201603"},"Pes/201603","1007/201603","1007/0993/201603","64/201603","64/0993/201603","0993/201603","Rur","1007/Rur/201501",{"$f":"+CONCATENATE(VLOOKUP(F343,Cadastro!$Q$3:$R$162,2,FALSE),\"/\",S343,\"/\",H343)","v":"64/Rur/201501"},"Rur/201501","1007/201501","1007/1162/201501","64/201501","64/1162/201501","1162/201501",21595.47,0,21595.47,0,21595.47,0,44476.19,0,2723.05,0]
[null,"01007","0993","201604",null,"01007","1162","201502",null,"Pes","1007/Pes/201604",{"$f":"IF(J344=0,0,+CONCATENATE(VLOOKUP(B344,Cadastro!$Q$3:$R$162,2,FALSE),\"/\",J344,\"/\",D344))","v":"64/Pes/201604"},"Pes/201604","1007/201604","1007/0993/201604","64/201604","64/0993/201604","0993/201604","Rur","1007/Rur/201502",{"$f":"+CONCATENATE(VLOOKUP(F344,Cadastro!$Q$3:$R$162,2,FALSE),\"/\",S344,\"/\",H344)","v":"64/Rur/201502"},"Rur/201502","1007/201502","1007/1162/201502","64/201502","64/1162/201502","1162/201502",21837.599999999999,0,21837.599999999999,0,21837.599999999999,0,12825.83,0,2755.37,0]
[null,"01007","0993","201605",null,"01007","1162","201503",null,"Pes","1007/Pes/201605",{"$f":"IF(J345=0,0,+CONCATENATE(VLOOKUP(B345,Cadastro!$Q$3:$R$162,2,FALSE),\"/\",J345,\"/\",D345))","v":"64/Pes/201605"},"Pes/201605","1007/201605","1007/0993/201605","64/201605","64/0993/201605","0993/201605","Rur","1007/Rur/201503",{"$f":"+CONCATENATE(VLOOKUP(F345,Cadastro!$Q$3:$R$162,2,FALSE),\"/\",S345,\"/\",H345)","v":"64/Rur/201503"},"Rur/201503","1007/201503","1007/1162/201503","64/201503","64/1162/201503","1162/201503",21541.55,0,21541.55,0,21541.55,0,-20247.330000000002,0,64.62,0]
[null,"01007","0993","201606",null,"01007","1162","201504",null,"Pes","1007/Pes/201606",{"$f":"IF(J346=0,0,+CONCATENATE(VLOOKUP(B346,Cadastro!$Q$3:$R$162,2,FALSE),\"/\",J346,\"/\",D346))","v":"64/Pes/201606"},"Pes/201606","1007/201606","1007/0993/201606","64/201606","64/0993/201606","0993/201606","Rur","1007/Rur/201504",{"$f":"+CONCATENATE(VLOOKUP(F346,Cadastro!$Q$3:$R$162,2,FALSE),\"/\",S346,\"/\",H346)","v":"64/Rur/201504"},"Rur/201504","1007/201504","1007/1162/201504","64/201504","64/1162/201504","1162/201504",22523.72,0,22523.72,0,22523.72,0,17523.13,0,67.569999999999993,0]
[null,"01007","0993","201607",null,"01007","1162","201505",null,"Pes","1007/Pes/201607",{"$f":"IF(J347=0,0,+CONCATENATE(VLOOKUP(B347,Cadastro!$Q$3:$R$162,2,FALSE),\"/\",J347,\"/\",D347))","v":"64/Pes/201607"},"Pes/201607","1007/201607","1007/0993/201607","64/201607","64/0993/201607","0993/201607","Rur","1007/Rur/201505",{"$f":"+CONCATENATE(VLOOKUP(F347,Cadastro!$Q$3:$R$162,2,FALSE),\"/\",S347,\"/\",H347)","v":"64/Rur/201505"},"Rur/201505","1007/201505","1007/1162/201505","64/201505","64/1162/201505","1162/201505",21083.8,0,21083.8,0,21083.8,0,-27681.599999999999,0,63.25,0]
[null,"01007","0993","201608",null,"01007","1162","201506",null,"Pes","1007/Pes/201608",{"$f":"IF(J348=0,0,+CONCATENATE(VLOOKUP(B348,Cadastro!$Q$3:$R$162,2,FALSE),\"/\",J348,\"/\",D348))","v":"64/Pes/201608"},"Pes/201608","1007/201608","1007/0993/201608","64/201608","64/0993/201608","0993/201608","Rur","1007/Rur/201506",{"$f":"+CONCATENATE(VLOOKUP(F348,Cadastro!$Q$3:$R$162,2,FALSE),\"/\",S348,\"/\",H348)","v":"64/Rur/201506"},"Rur/201506","1007/201506","1007/1162/201506","64/201506","64/1162/201506","1162/201506",20099.13,0,20099.13,0,20099.13,0,-9072.41,0,60.3,0]
[null,"01007","0993","201609",null,"01007","1162","201507",null,"Pes","1007/Pes/201609",{"$f":"IF(J349=0,0,+CONCATENATE(VLOOKUP(B349,Cadastro!$Q$3:$R$162,2,FALSE),\"/\",J349,\"/\",D349))","v":"64/Pes/201609"},"Pes/201609","1007/201609","1007/0993/201609","64/201609","64/0993/201609","0993/201609","Rur","1007/Rur/201507",{"$f":"+CONCATENATE(VLOOKUP(F349,Cadastro!$Q$3:$R$162,2,FALSE),\"/\",S349,\"/\",H349)","v":"64/Rur/201507"},"Rur/201507","1007/201507","1007/1162/201507","64/201507","64/1162/201507","1162/201507",22779.29,0,22779.29,0,22779.29,0,65545.429999999993,0,68.34,0]
[null,"01007","0993","201610",null,"01007","1162","201508",null,"Pes","1007/Pes/201610",{"$f":"IF(J350=0,0,+CONCATENATE(VLOOKUP(B350,Cadastro!$Q$3:$R$162,2,FALSE),\"/\",J350,\"/\",D350))","v":"64/Pes/201610"},"Pes/201610","1007/201610","1007/0993/201610","64/201610","64/0993/201610","0993/201610","Rur","1007/Rur/201508",{"$f":"+CONCATENATE(VLOOKUP(F350,Cadastro!$Q$3:$R$162,2,FALSE),\"/\",S350,\"/\",H350)","v":"64/Rur/201508"},"Rur/201508","1007/201508","1007/1162/201508","64/201508","64/1162/201508","1162/201508",21540.09,0,21540.09,0,21540.09,0,49303.22,0,64.62,0]
[null,"01007","0993","201611",null,"01007","1162","201509",null,"Pes","1007/Pes/201611",{"$f":"IF(J351=0,0,+CONCATENATE(VLOOKUP(B351,Cadastro!$Q$3:$R$162,2,FALSE),\"/\",J351,\"/\",D351))","v":"64/Pes/201611"},"Pes/201611","1007/201611","1007/0993/201611","64/201611","64/0993/201611","0993/201611","Rur","1007/Rur/201509",{"$f":"+CONCATENATE(VLOOKUP(F351,Cadastro!$Q$3:$R$162,2,FALSE),\"/\",S351,\"/\",H351)","v":"64/Rur/201509"},"Rur/201509","1007/201509","1007/1162/201509","64/201509","64/1162/201509","1162/201509",23653.69,0,23653.69,0,23653.69,0,79995.37,0,70.959999999999994,0]
[null,"01007","0993","201612",null,"01007","1162","201510",null,"Pes","1007/Pes/201612",{"$f":"IF(J352=0,0,+CONCATENATE(VLOOKUP(B352,Cadastro!$Q$3:$R$162,2,FALSE),\"/\",J352,\"/\",D352))","v":"64/Pes/201612"},"Pes/201612","1007/201612","1007/0993/201612","64/201612","64/0993/201612","0993/201612","Rur","1007/Rur/201510",{"$f":"+CONCATENATE(VLOOKUP(F352,Cadastro!$Q$3:$R$162,2,FALSE),\"/\",S352,\"/\",H352)","v":"64/Rur/201510"},"Rur/201510","1007/201510","1007/1162/201510","64/201510","64/1162/201510","1162/201510",24638.560000000001,0,24638.560000000001,0,24638.560000000001,0,-607985.67000000004,0,73.91,0]
[null,"01007","1162","201601",null,"01007","1162","201511",null,"Rur","1007/Rur/201601",{"$f":"IF(J353=0,0,+CONCATENATE(VLOOKUP(B353,Cadastro!$Q$3:$R$162,2,FALSE),\"/\",J353,\"/\",D353))","v":"64/Rur/201601"},"Rur/201601","1007/201601","1007/1162/201601","64/201601","64/1162/201601","1162/201601","Rur","1007/Rur/201511",{"$f":"+CONCATENATE(VLOOKUP(F353,Cadastro!$Q$3:$R$162,2,FALSE),\"/\",S353,\"/\",H353)","v":"64/Rur/201511"},"Rur/201511","1007/201511","1007/1162/201511","64/201511","64/1162/201511","1162/201511",0,0,0,0,0,0,0,0,0,0]
[null,"01007","1162","201602",null,"01007","1162","201512",null,"Rur","1007/Rur/201602",{"$f":"IF(J354=0,0,+CONCATENATE(VLOOKUP(B354,Cadastro!$Q$3:$R$162,2,FALSE),\"/\",J354,\"/\",D354))","v":"64/Rur/201602"},"Rur/201602","1007/201602","1007/1162/201602","64/201602","64/1162/201602","1162/201602","Rur","1007/Rur/201512",{"$f":"+CONCATENATE(VLOOKUP(F354,Cadastro!$Q$3:$R$162,2,FALSE),\"/\",S354,\"/\",H354)","v":"64/Rur/201512"},"Rur/201512","1007/201512","1007/1162/201512","64/201512","64/1162/201512","1162/201512",0,0,0,0,0,0,0,0,0,0]
[null,"01007","1162","201603",null,"01007","1163","201501",null,"Rur","1007/Rur/201603",{"$f":"IF(J355=0,0,+CONCATENATE(VLOOKUP(B355,Cadastro!$Q$3:$R$162,2,FALSE),\"/\",J355,\"/\",D355))","v":"64/Rur/201603"},"Rur/201603","1007/201603","1007/1162/201603","64/201603","64/1162/201603","1162/201603","Rur","1007/Rur/201501",{"$f":"+CONCATENATE(VLOOKUP(F355,Cadastro!$Q$3:$R$162,2,FALSE),\"/\",S355,\"/\",H355)","v":"64/Rur/201501"},"Rur/201501","1007/201501","1007/1163/201501","64/201501","64/1163/201501","1163/201501",0,0,0,0,0,0,0,0,0,0]
[null,"01007","1162","201604",null,"01007","1163","201502",null,"Rur","1007/Rur/201604",{"$f":"IF(J356=0,0,+CONCATENATE(VLOOKUP(B356,Cadastro!$Q$3:$R$162,2,FALSE),\"/\",J356,\"/\",D356))","v":"64/Rur/201604"},"Rur/201604","1007/201604","1007/1162/201604","64/201604","64/1162/201604","1162/201604","Rur","1007/Rur/201502",{"$f":"+CONCATENATE(VLOOKUP(F356,Cadastro!$Q$3:$R$162,2,FALSE),\"/\",S356,\"/\",H356)","v":"64/Rur/201502"},"Rur/201502","1007/201502","1007/1163/201502","64/201502","64/1163/201502","1163/201502",0,0,0,0,0,0,0,0,0,0]
[null,"01007","1162","201605",null,"01007","1163","201503",null,"Rur","1007/Rur/201605",{"$f":"IF(J357=0,0,+CONCATENATE(VLOOKUP(B357,Cadastro!$Q$3:$R$162,2,FALSE),\"/\",J357,\"/\",D357))","v":"64/Rur/201605"},"Rur/201605","1007/201605","1007/1162/201605","64/201605","64/1162/201605","1162/201605","Rur","1007/Rur/201503",{"$f":"+CONCATENATE(VLOOKUP(F357,Cadastro!$Q$3:$R$162,2,FALSE),\"/\",S357,\"/\",H357)","v":"64/Rur/201503"},"Rur/201503","1007/201503","1007/1163/201503","64/201503","64/1163/201503","1163/201503",0,0,0,0,0,0,0,0,0,0]
[null,"01007","1162","201606",null,"01007","1163","201504",null,"Rur","1007/Rur/201606",{"$f":"IF(J358=0,0,+CONCATENATE(VLOOKUP(B358,Cadastro!$Q$3:$R$162,2,FALSE),\"/\",J358,\"/\",D358))","v":"64/Rur/201606"},"Rur/201606","1007/201606","1007/1162/201606","64/201606","64/1162/201606","1162/201606","Rur","1007/Rur/201504",{"$f":"+CONCATENATE(VLOOKUP(F358,Cadastro!$Q$3:$R$162,2,FALSE),\"/\",S358,\"/\",H358)","v":"64/Rur/201504"},"Rur/201504","1007/201504","1007/1163/201504","64/201504","64/1163/201504","1163/201504",0,0,0,0,0,0,0,0,0,0]
[null,"01007","1162","201607",null,"01007","1163","201505",null,"Rur","1007/Rur/201607",{"$f":"IF(J359=0,0,+CONCATENATE(VLOOKUP(B359,Cadastro!$Q$3:$R$162,2,FALSE),\"/\",J359,\"/\",D359))","v":"64/Rur/201607"},"Rur/201607","1007/201607","1007/1162/201607","64/201607","64/1162/201607","1162/201607","Rur","1007/Rur/201505",{"$f":"+CONCATENATE(VLOOKUP(F359,Cadastro!$Q$3:$R$162,2,FALSE),\"/\",S359,\"/\",H359)","v":"64/Rur/201505"},"Rur/201505","1007/201505","1007/1163/201505","64/201505","64/1163/201505","1163/201505",0,0,0,0,0,0,0,0,0,0]
[null,"01007","1162","201608",null,"01007","1163","201506",null,"Rur","1007/Rur/201608",{"$f":"IF(J360=0,0,+CONCATENATE(VLOOKUP(B360,Cadastro!$Q$3:$R$162,2,FALSE),\"/\",J360,\"/\",D360))","v":"64/Rur/201608"},"Rur/201608","1007/201608","1007/1162/201608","64/201608","64/1162/201608","1162/201608","Rur","1007/Rur/201506",{"$f":"+CONCATENATE(VLOOKUP(F360,Cadastro!$Q$3:$R$162,2,FALSE),\"/\",S360,\"/\",H360)","v":"64/Rur/201506"},"Rur/201506","1007/201506","1007/1163/201506","64/201506","64/1163/201506","1163/201506",0,0,0,0,0,0,0,0,0,0]
[null,"01007","1162","201609",null,"01007","1163","201507",null,"Rur","1007/Rur/201609",{"$f":"IF(J361=0,0,+CONCATENATE(VLOOKUP(B361,Cadastro!$Q$3:$R$162,2,FALSE),\"/\",J361,\"/\",D361))","v":"64/Rur/201609"},"Rur/201609","1007/201609","1007/1162/201609","64/201609","64/1162/201609","1162/201609","Rur","1007/Rur/201507",{"$f":"+CONCATENATE(VLOOKUP(F361,Cadastro!$Q$3:$R$162,2,FALSE),\"/\",S361,\"/\",H361)","v":"64/Rur/201507"},"Rur/201507","1007/201507","1007/1163/201507","64/201507","64/1163/201507","1163/201507",0,0,0,0,0,0,0,0,0,0]
[null,"01007","1162","201610",null,"01007","1163","201508",null,"Rur","1007/Rur/201610",{"$f":"IF(J362=0,0,+CONCATENATE(VLOOKUP(B362,Cadastro!$Q$3:$R$162,2,FALSE),\"/\",J362,\"/\",D362))","v":"64/Rur/201610"},"Rur/201610","1007/201610","1007/1162/201610","64/201610","64/1162/201610","1162/201610","Rur","1007/Rur/201508",{"$f":"+CONCATENATE(VLOOKUP(F362,Cadastro!$Q$3:$R$162,2,FALSE),\"/\",S362,\"/\",H362)","v":"64/Rur/201508"},"Rur/201508","1007/201508","1007/1163/201508","64/201508","64/1163/201508","1163/201508",0,0,0,0,0,0,0,0,0,0]
[null,"01007","1162","201611",null,"01007","1163","201509",null,"Rur","1007/Rur/201611",{"$f":"IF(J363=0,0,+CONCATENATE(VLOOKUP(B363,Cadastro!$Q$3:$R$162,2,FALSE),\"/\",J363,\"/\",D363))","v":"64/Rur/201611"},"Rur/201611","1007/201611","1007/1162/201611","64/201611","64/1162/201611","1162/201611","Rur","1007/Rur/201509",{"$f":"+CONCATENATE(VLOOKUP(F363,Cadastro!$Q$3:$R$162,2,FALSE),\"/\",S363,\"/\",H363)","v":"64/Rur/201509"},"Rur/201509","1007/201509","1007/1163/201509","64/201509","64/1163/201509","1163/201509",0,0,0,0,0,0,0,0,0,0]
[null,"01007","1162","201612",null,"01007","1163","201510",null,"Rur","1007/Rur/201612",{"$f":"IF(J364=0,0,+CONCATENATE(VLOOKUP(B364,Cadastro!$Q$3:$R$162,2,FALSE),\"/\",J364,\"/\",D364))","v":"64/Rur/201612"},"Rur/201612","1007/201612","1007/1162/201612","64/201612","64/1162/201612","1162/201612","Rur","1007/Rur/201510",{"$f":"+CONCATENATE(VLOOKUP(F364,Cadastro!$Q$3:$R$162,2,FALSE),\"/\",S364,\"/\",H364)","v":"64/Rur/201510"},"Rur/201510","1007/201510","1007/1163/201510","64/201510","64/1163/201510","1163/201510",0,0,0,0,0,0,0,0,0,0]
[null,"01007","1163","201601",null,"01007","1163","201511",null,"Rur","1007/Rur/201601",{"$f":"IF(J365=0,0,+CONCATENATE(VLOOKUP(B365,Cadastro!$Q$3:$R$162,2,FALSE),\"/\",J365,\"/\",D365))","v":"64/Rur/201601"},"Rur/201601","1007/201601","1007/1163/201601","64/201601","64/1163/201601","1163/201601","Rur","1007/Rur/201511",{"$f":"+CONCATENATE(VLOOKUP(F365,Cadastro!$Q$3:$R$162,2,FALSE),\"/\",S365,\"/\",H365)","v":"64/Rur/201511"},"Rur/201511","1007/201511","1007/1163/201511","64/201511","64/1163/201511","1163/201511",0,0,0,0,0,0,0,0,0,0]
[null,"01007","1163","201602",null,"01007","1163","201512",null,"Rur","1007/Rur/201602",{"$f":"IF(J366=0,0,+CONCATENATE(VLOOKUP(B366,Cadastro!$Q$3:$R$162,2,FALSE),\"/\",J366,\"/\",D366))","v":"64/Rur/201602"},"Rur/201602","1007/201602","1007/1163/201602","64/201602","64/1163/201602","1163/201602","Rur","1007/Rur/201512",{"$f":"+CONCATENATE(VLOOKUP(F366,Cadastro!$Q$3:$R$162,2,FALSE),\"/\",S366,\"/\",H366)","v":"64/Rur/201512"},"Rur/201512","1007/201512","1007/1163/201512","64/201512","64/1163/201512","1163/201512",0,0,0,0,0,0,0,0,0,0]
[null,"01007","1163","201603",null,"01007","1381","201501",null,"Rur","1007/Rur/201603",{"$f":"IF(J367=0,0,+CONCATENATE(VLOOKUP(B367,Cadastro!$Q$3:$R$162,2,FALSE),\"/\",J367,\"/\",D367))","v":"64/Rur/201603"},"Rur/201603","1007/201603","1007/1163/201603","64/201603","64/1163/201603","1163/201603","Pes","1007/Pes/201501",{"$f":"+CONCATENATE(VLOOKUP(F367,Cadastro!$Q$3:$R$162,2,FALSE),\"/\",S367,\"/\",H367)","v":"64/Pes/201501"},"Pes/201501","1007/201501","1007/1381/201501","64/201501","64/1381/201501","1381/201501",0,0,0,0,0,0,0,0,0,0]
[null,"01007","1163","201604",null,"01007","1381","201502",null,"Rur","1007/Rur/201604",{"$f":"IF(J368=0,0,+CONCATENATE(VLOOKUP(B368,Cadastro!$Q$3:$R$162,2,FALSE),\"/\",J368,\"/\",D368))","v":"64/Rur/201604"},"Rur/201604","1007/201604","1007/1163/201604","64/201604","64/1163/201604","1163/201604","Pes","1007/Pes/201502",{"$f":"+CONCATENATE(VLOOKUP(F368,Cadastro!$Q$3:$R$162,2,FALSE),\"/\",S368,\"/\",H368)","v":"64/Pes/201502"},"Pes/201502","1007/201502","1007/1381/201502","64/201502","64/1381/201502","1381/201502",0,0,0,0,0,0,0,0,0,0]
[null,"01007","1163","201605",null,"01007","1381","201503",null,"Rur","1007/Rur/201605",{"$f":"IF(J369=0,0,+CONCATENATE(VLOOKUP(B369,Cadastro!$Q$3:$R$162,2,FALSE),\"/\",J369,\"/\",D369))","v":"64/Rur/201605"},"Rur/201605","1007/201605","1007/1163/201605","64/201605","64/1163/201605","1163/201605","Pes","1007/Pes/201503",{"$f":"+CONCATENATE(VLOOKUP(F369,Cadastro!$Q$3:$R$162,2,FALSE),\"/\",S369,\"/\",H369)","v":"64/Pes/201503"},"Pes/201503","1007/201503","1007/1381/201503","64/201503","64/1381/201503","1381/201503",0,0,0,0,0,0,0,0,0,0]
[null,"01007","1163","201606",null,"01007","1381","201504",null,"Rur","1007/Rur/201606",{"$f":"IF(J370=0,0,+CONCATENATE(VLOOKUP(B370,Cadastro!$Q$3:$R$162,2,FALSE),\"/\",J370,\"/\",D370))","v":"64/Rur/201606"},"Rur/201606","1007/201606","1007/1163/201606","64/201606","64/1163/201606","1163/201606","Pes","1007/Pes/201504",{"$f":"+CONCATENATE(VLOOKUP(F370,Cadastro!$Q$3:$R$162,2,FALSE),\"/\",S370,\"/\",H370)","v":"64/Pes/201504"},"Pes/201504","1007/201504","1007/1381/201504","64/201504","64/1381/201504","1381/201504",0,0,0,0,0,0,0,0,0,0]
[null,"01007","1163","201607",null,"01007","1381","201505",null,"Rur","1007/Rur/201607",{"$f":"IF(J371=0,0,+CONCATENATE(VLOOKUP(B371,Cadastro!$Q$3:$R$162,2,FALSE),\"/\",J371,\"/\",D371))","v":"64/Rur/201607"},"Rur/201607","1007/201607","1007/1163/201607","64/201607","64/1163/201607","1163/201607","Pes","1007/Pes/201505",{"$f":"+CONCATENATE(VLOOKUP(F371,Cadastro!$Q$3:$R$162,2,FALSE),\"/\",S371,\"/\",H371)","v":"64/Pes/201505"},"Pes/201505","1007/201505","1007/1381/201505","64/201505","64/1381/201505","1381/201505",0,0,0,0,0,0,0,0,0,0]
[null,"01007","1163","201608",null,"01007","1381","201506",null,"Rur","1007/Rur/201608",{"$f":"IF(J372=0,0,+CONCATENATE(VLOOKUP(B372,Cadastro!$Q$3:$R$162,2,FALSE),\"/\",J372,\"/\",D372))","v":"64/Rur/201608"},"Rur/201608","1007/201608","1007/1163/201608","64/201608","64/1163/201608","1163/201608","Pes","1007/Pes/201506",{"$f":"+CONCATENATE(VLOOKUP(F372,Cadastro!$Q$3:$R$162,2,FALSE),\"/\",S372,\"/\",H372)","v":"64/Pes/201506"},"Pes/201506","1007/201506","1007/1381/201506","64/201506","64/1381/201506","1381/201506",0,0,0,0,0,0,0,0,0,0]
[null,"01007","1163","201609",null,"01007","1381","201507",null,"Rur","1007/Rur/201609",{"$f":"IF(J373=0,0,+CONCATENATE(VLOOKUP(B373,Cadastro!$Q$3:$R$162,2,FALSE),\"/\",J373,\"/\",D373))","v":"64/Rur/201609"},"Rur/201609","1007/201609","1007/1163/201609","64/201609","64/1163/201609","1163/201609","Pes","1007/Pes/201507",{"$f":"+CONCATENATE(VLOOKUP(F373,Cadastro!$Q$3:$R$162,2,FALSE),\"/\",S373,\"/\",H373)","v":"64/Pes/201507"},"Pes/201507","1007/201507","1007/1381/201507","64/201507","64/1381/201507","1381/201507",0,0,0,0,0,0,0,0,0,0]
[null,"01007","1163","201610",null,"01007","1381","201508",null,"Rur","1007/Rur/201610",{"$f":"IF(J374=0,0,+CONCATENATE(VLOOKUP(B374,Cadastro!$Q$3:$R$162,2,FALSE),\"/\",J374,\"/\",D374))","v":"64/Rur/201610"},"Rur/201610","1007/201610","1007/1163/201610","64/201610","64/1163/201610","1163/201610","Pes","1007/Pes/201508",{"$f":"+CONCATENATE(VLOOKUP(F374,Cadastro!$Q$3:$R$162,2,FALSE),\"/\",S374,\"/\",H374)","v":"64/Pes/201508"},"Pes/201508","1007/201508","1007/1381/201508","64/201508","64/1381/201508","1381/201508",0,0,0,0,0,0,0,0,0,0]
[null,"01007","1163","201611",null,"01007","1381","201509",null,"Rur","1007/Rur/201611",{"$f":"IF(J375=0,0,+CONCATENATE(VLOOKUP(B375,Cadastro!$Q$3:$R$162,2,FALSE),\"/\",J375,\"/\",D375))","v":"64/Rur/201611"},"Rur/201611","1007/201611","1007/1163/201611","64/201611","64/1163/201611","1163/201611","Pes","1007/Pes/201509",{"$f":"+CONCATENATE(VLOOKUP(F375,Cadastro!$Q$3:$R$162,2,FALSE),\"/\",S375,\"/\",H375)","v":"64/Pes/201509"},"Pes/201509","1007/201509","1007/1381/201509","64/201509","64/1381/201509","1381/201509",0,0,0,0,0,0,0,0,0,0]
[null,"01007","1163","201612",null,"01007","1381","201510",null,"Rur","1007/Rur/201612",{"$f":"IF(J376=0,0,+CONCATENATE(VLOOKUP(B376,Cadastro!$Q$3:$R$162,2,FALSE),\"/\",J376,\"/\",D376))","v":"64/Rur/201612"},"Rur/201612","1007/201612","1007/1163/201612","64/201612","64/1163/201612","1163/201612","Pes","1007/Pes/201510",{"$f":"+CONCATENATE(VLOOKUP(F376,Cadastro!$Q$3:$R$162,2,FALSE),\"/\",S376,\"/\",H376)","v":"64/Pes/201510"},"Pes/201510","1007/201510","1007/1381/201510","64/201510","64/1381/201510","1381/201510",0,0,0,0,0,0,0,0,0,0]
[null,"01007","1381","201601",null,"01007","1381","201511",null,"Pes","1007/Pes/201601",{"$f":"IF(J377=0,0,+CONCATENATE(VLOOKUP(B377,Cadastro!$Q$3:$R$162,2,FALSE),\"/\",J377,\"/\",D377))","v":"64/Pes/201601"},"Pes/201601","1007/201601","1007/1381/201601","64/201601","64/1381/201601","1381/201601","Pes","1007/Pes/201511",{"$f":"+CONCATENATE(VLOOKUP(F377,Cadastro!$Q$3:$R$162,2,FALSE),\"/\",S377,\"/\",H377)","v":"64/Pes/201511"},"Pes/201511","1007/201511","1007/1381/201511","64/201511","64/1381/201511","1381/201511",0,0,0,0,0,0,0,0,0,0]
[null,"01007","1381","201602",null,"01007","1381","201512",null,"Pes","1007/Pes/201602",{"$f":"IF(J378=0,0,+CONCATENATE(VLOOKUP(B378,Cadastro!$Q$3:$R$162,2,FALSE),\"/\",J378,\"/\",D378))","v":"64/Pes/201602"},"Pes/201602","1007/201602","1007/1381/201602","64/201602","64/1381/201602","1381/201602","Pes","1007/Pes/201512",{"$f":"+CONCATENATE(VLOOKUP(F378,Cadastro!$Q$3:$R$162,2,FALSE),\"/\",S378,\"/\",H378)","v":"64/Pes/201512"},"Pes/201512","1007/201512","1007/1381/201512","64/201512","64/1381/201512","1381/201512",0,0,0,0,0,0,0,0,0,0]
[null,"01007","1381","201603",null,"01007","1391","201501",null,"Pes","1007/Pes/201603",{"$f":"IF(J379=0,0,+CONCATENATE(VLOOKUP(B379,Cadastro!$Q$3:$R$162,2,FALSE),\"/\",J379,\"/\",D379))","v":"64/Pes/201603"},"Pes/201603","1007/201603","1007/1381/201603","64/201603","64/1381/201603","1381/201603","Pes","1007/Pes/201501",{"$f":"+CONCATENATE(VLOOKUP(F379,Cadastro!$Q$3:$R$162,2,FALSE),\"/\",S379,\"/\",H379)","v":"64/Pes/201501"},"Pes/201501","1007/201501","1007/1391/201501","64/201501","64/1391/201501","1391/201501",0,428.41,0,428.41,0,0,0,-23.39,0,0]
[null,"01007","1381","201604",null,"01007","1391","201502",null,"Pes","1007/Pes/201604",{"$f":"IF(J380=0,0,+CONCATENATE(VLOOKUP(B380,Cadastro!$Q$3:$R$162,2,FALSE),\"/\",J380,\"/\",D380))","v":"64/Pes/201604"},"Pes/201604","1007/201604","1007/1381/201604","64/201604","64/1381/201604","1381/201604","Pes","1007/Pes/201502",{"$f":"+CONCATENATE(VLOOKUP(F380,Cadastro!$Q$3:$R$162,2,FALSE),\"/\",S380,\"/\",H380)","v":"64/Pes/201502"},"Pes/201502","1007/201502","1007/1391/201502","64/201502","64/1391/201502","1391/201502",0,435.18,0,435.18,0,0,0,-22.04,0,0]
[null,"01007","1381","201605",null,"01007","1391","201503",null,"Pes","1007/Pes/201605",{"$f":"IF(J381=0,0,+CONCATENATE(VLOOKUP(B381,Cadastro!$Q$3:$R$162,2,FALSE),\"/\",J381,\"/\",D381))","v":"64/Pes/201605"},"Pes/201605","1007/201605","1007/1381/201605","64/201605","64/1381/201605","1381/201605","Pes","1007/Pes/201503",{"$f":"+CONCATENATE(VLOOKUP(F381,Cadastro!$Q$3:$R$162,2,FALSE),\"/\",S381,\"/\",H381)","v":"64/Pes/201503"},"Pes/201503","1007/201503","1007/1391/201503","64/201503","64/1391/201503","1391/201503",0,127.92,0,127.92,0,0,0,-105.56,0,0]
[null,"01007","1381","201606",null,"01007","1391","201504",null,"Pes","1007/Pes/201606",{"$f":"IF(J382=0,0,+CONCATENATE(VLOOKUP(B382,Cadastro!$Q$3:$R$162,2,FALSE),\"/\",J382,\"/\",D382))","v":"64/Pes/201606"},"Pes/201606","1007/201606","1007/1381/201606","64/201606","64/1381/201606","1381/201606","Pes","1007/Pes/201504",{"$f":"+CONCATENATE(VLOOKUP(F382,Cadastro!$Q$3:$R$162,2,FALSE),\"/\",S382,\"/\",H382)","v":"64/Pes/201504"},"Pes/201504","1007/201504","1007/1391/201504","64/201504","64/1391/201504","1391/201504",0,127.92,0,127.92,0,0,0,-35.659999999999997,0,0]
[null,"01007","1381","201607",null,"01007","1391","201505",null,"Pes","1007/Pes/201607",{"$f":"IF(J383=0,0,+CONCATENATE(VLOOKUP(B383,Cadastro!$Q$3:$R$162,2,FALSE),\"/\",J383,\"/\",D383))","v":"64/Pes/201607"},"Pes/201607","1007/201607","1007/1381/201607","64/201607","64/1381/201607","1381/201607","Pes","1007/Pes/201505",{"$f":"+CONCATENATE(VLOOKUP(F383,Cadastro!$Q$3:$R$162,2,FALSE),\"/\",S383,\"/\",H383)","v":"64/Pes/201505"},"Pes/201505","1007/201505","1007/1391/201505","64/201505","64/1391/201505","1391/201505",0,127.92,0,127.92,0,0,0,-2.69,0,0]
[null,"01007","1381","201608",null,"01007","1391","201506",null,"Pes","1007/Pes/201608",{"$f":"IF(J384=0,0,+CONCATENATE(VLOOKUP(B384,Cadastro!$Q$3:$R$162,2,FALSE),\"/\",J384,\"/\",D384))","v":"64/Pes/201608"},"Pes/201608","1007/201608","1007/1381/201608","64/201608","64/1381/201608","1381/201608","Pes","1007/Pes/201506",{"$f":"+CONCATENATE(VLOOKUP(F384,Cadastro!$Q$3:$R$162,2,FALSE),\"/\",S384,\"/\",H384)","v":"64/Pes/201506"},"Pes/201506","1007/201506","1007/1391/201506","64/201506","64/1391/201506","1391/201506",0,413.59,0,413.59,0,0,0,12.93,0,0]
[null,"01007","1381","201609",null,"01007","1391","201507",null,"Pes","1007/Pes/201609",{"$f":"IF(J385=0,0,+CONCATENATE(VLOOKUP(B385,Cadastro!$Q$3:$R$162,2,FALSE),\"/\",J385,\"/\",D385))","v":"64/Pes/201609"},"Pes/201609","1007/201609","1007/1381/201609","64/201609","64/1381/201609","1381/201609","Pes","1007/Pes/201507",{"$f":"+CONCATENATE(VLOOKUP(F385,Cadastro!$Q$3:$R$162,2,FALSE),\"/\",S385,\"/\",H385)","v":"64/Pes/201507"},"Pes/201507","1007/201507","1007/1391/201507","64/201507","64/1391/201507","1391/201507",0,1014.92,0,1014.92,0,0,0,143.59,0,0]
[null,"01007","1381","201610",null,"01007","1391","201508",null,"Pes","1007/Pes/201610",{"$f":"IF(J386=0,0,+CONCATENATE(VLOOKUP(B386,Cadastro!$Q$3:$R$162,2,FALSE),\"/\",J386,\"/\",D386))","v":"64/Pes/201610"},"Pes/201610","1007/201610","1007/1381/201610","64/201610","64/1381/201610","1381/201610","Pes","1007/Pes/201508",{"$f":"+CONCATENATE(VLOOKUP(F386,Cadastro!$Q$3:$R$162,2,FALSE),\"/\",S386,\"/\",H386)","v":"64/Pes/201508"},"Pes/201508","1007/201508","1007/1391/201508","64/201508","64/1391/201508","1391/201508",0,404.53,0,404.53,0,0,0,10.94,0,0]
[null,"01007","1381","201611",null,"01007","1391","201509",null,"Pes","1007/Pes/201611",{"$f":"IF(J387=0,0,+CONCATENATE(VLOOKUP(B387,Cadastro!$Q$3:$R$162,2,FALSE),\"/\",J387,\"/\",D387))","v":"64/Pes/201611"},"Pes/201611","1007/201611","1007/1381/201611","64/201611","64/1381/201611","1381/201611","Pes","1007/Pes/201509",{"$f":"+CONCATENATE(VLOOKUP(F387,Cadastro!$Q$3:$R$162,2,FALSE),\"/\",S387,\"/\",H387)","v":"64/Pes/201509"},"Pes/201509","1007/201509","1007/1391/201509","64/201509","64/1391/201509","1391/201509",0,413.6,0,413.6,0,0,0,12.74,0,0]
[null,"01007","1381","201612",null,"01007","1391","201510",null,"Pes","1007/Pes/201612",{"$f":"IF(J388=0,0,+CONCATENATE(VLOOKUP(B388,Cadastro!$Q$3:$R$162,2,FALSE),\"/\",J388,\"/\",D388))","v":"64/Pes/201612"},"Pes/201612","1007/201612","1007/1381/201612","64/201612","64/1381/201612","1381/201612","Pes","1007/Pes/201510",{"$f":"+CONCATENATE(VLOOKUP(F388,Cadastro!$Q$3:$R$162,2,FALSE),\"/\",S388,\"/\",H388)","v":"64/Pes/201510"},"Pes/201510","1007/201510","1007/1391/201510","64/201510","64/1391/201510","1391/201510",0,325.12,0,325.12,0,0,0,-4.87,0,0]
[null,"01007","1391","201601",null,"01007","1391","201511",null,{"$f":"IF(C389=0,0,+VLOOKUP(C389,$AQ$4:$AR$130,2,FALSE))","v":"Pes"},{"$f":"IF(J389=0,0,+CONCATENATE(VALUE(B389),\"/\",J389,\"/\",D389))","v":"1007/Pes/201601"},{"$f":"IF(J389=0,0,+CONCATENATE(VLOOKUP(B389,Cadastro!$Q$3:$R$162,2,FALSE),\"/\",J389,\"/\",D389))","v":"64/Pes/201601"},{"$f":"IF(J389=0,0,+CONCATENATE(J389,\"/\",D389))","v":"Pes/201601"},"1007/201601","1007/1391/201601","64/201601","64/1391/201601","1391/201601",{"$f":"+VLOOKUP(G389,$AQ$4:$AR$130,2,FALSE)","v":"Pes"},{"$f":"+CONCATENATE(VALUE(F389),\"/\",S389,\"/\",H389)","v":"1007/Pes/201511"},{"$f":"+CONCATENATE(VLOOKUP(F389,Cadastro!$Q$3:$R$162,2,FALSE),\"/\",S389,\"/\",H389)","v":"64/Pes/201511"},"Pes/201511","1007/201511","1007/1391/201511","64/201511","64/1391/201511","1391/201511",285.68,413.6,285.68,413.6,0,0,-28.4,-25.17,0,0]
[null,"01007","1391","201602",null,"01007","1391","201512",null,"Pes","1007/Pes/201602",{"$f":"IF(J390=0,0,+CONCATENATE(VLOOKUP(B390,Cadastro!$Q$3:$R$162,2,FALSE),\"/\",J390,\"/\",D390))","v":"64/Pes/201602"},"Pes/201602","1007/201602","1007/1391/201602","64/201602","64/1391/201602","1391/201602","Pes","1007/Pes/201512",{"$f":"+CONCATENATE(VLOOKUP(F390,Cadastro!$Q$3:$R$162,2,FALSE),\"/\",S390,\"/\",H390)","v":"64/Pes/201512"},{"$f":"+CONCATENATE(S390,\"/\",H390)","v":"Pes/201512"},"1007/201512","1007/1391/201512","64/201512","64/1391/201512","1391/201512",285.68,285.68,285.68,285.68,0,0,-29.75,-33.590000000000003,0,0]
[null,"01007","1391","201603",null,"01414","0167","201501",null,"Pes","1007/Pes/201603",{"$f":"IF(J391=0,0,+CONCATENATE(VLOOKUP(B391,Cadastro!$Q$3:$R$162,2,FALSE),\"/\",J391,\"/\",D391))","v":"64/Pes/201603"},"Pes/201603","1007/201603","1007/1391/201603","64/201603","64/1391/201603","1391/201603","Pat","1414/Pat/201501",{"$f":"+CONCATENATE(VLOOKUP(F391,Cadastro!$Q$3:$R$162,2,FALSE),\"/\",S391,\"/\",H391)","v":"19/Pat/201501"},"Pat/201501","1414/201501","1414/0167/201501","19/201501","19/0167/201501","0167/201501",285.68,1546370.95,285.68,1031192.2999999999,0,1250274.27,31.39,526933.35,0,340443.6]
[null,"01007","1391","201604",null,"01414","0167","201502",null,"Pes","1007/Pes/201604",{"$f":"IF(J392=0,0,+CONCATENATE(VLOOKUP(B392,Cadastro!$Q$3:$R$162,2,FALSE),\"/\",J392,\"/\",D392))","v":"64/Pes/201604"},"Pes/201604","1007/201604","1007/1391/201604","64/201604","64/1391/201604","1391/201604","Pat","1414/Pat/201502",{"$f":"+CONCATENATE(VLOOKUP(F392,Cadastro!$Q$3:$R$162,2,FALSE),\"/\",S392,\"/\",H392)","v":"19/Pat/201502"},"Pat/201502","1414/201502","1414/0167/201502","19/201502","19/0167/201502","0167/201502",46.48,1391979,46.48,836367.14,0,1134966.7999999998,-16.21,544539.79,0,627423.24]
[null,"01007","1391","201605",null,"01414","0167","201503",null,"Pes","1007/Pes/201605",{"$f":"IF(J393=0,0,+CONCATENATE(VLOOKUP(B393,Cadastro!$Q$3:$R$162,2,FALSE),\"/\",J393,\"/\",D393))","v":"64/Pes/201605"},"Pes/201605","1007/201605","1007/1391/201605","64/201605","64/1391/201605","1391/201605","Pat","1414/Pat/201503",{"$f":"+CONCATENATE(VLOOKUP(F393,Cadastro!$Q$3:$R$162,2,FALSE),\"/\",S393,\"/\",H393)","v":"19/Pat/201503"},"Pat/201503","1414/201503","1414/0167/201503","19/201503","19/0167/201503","0167/201503",131.72,1876679.69,131.72,1622591.66,0,1209991.23,0.76,490941.97,0,310798.52]
[null,"01007","1391","201606",null,"01414","0167","201504",null,"Pes","1007/Pes/201606",{"$f":"IF(J394=0,0,+CONCATENATE(VLOOKUP(B394,Cadastro!$Q$3:$R$162,2,FALSE),\"/\",J394,\"/\",D394))","v":"64/Pes/201606"},"Pes/201606","1007/201606","1007/1391/201606","64/201606","64/1391/201606","1391/201606","Pat","1414/Pat/201504",{"$f":"+CONCATENATE(VLOOKUP(F394,Cadastro!$Q$3:$R$162,2,FALSE),\"/\",S394,\"/\",H394)","v":"19/Pat/201504"},"Pat/201504","1414/201504","1414/0167/201504","19/201504","19/0167/201504","0167/201504",131.72,1729816.01,131.72,1294376.6600000001,0,1591492.96,-56.09,1053397.42,0,429698.02]
[null,"01007","1391","201607",null,"01414","0167","201505",null,"Pes","1007/Pes/201607",{"$f":"IF(J395=0,0,+CONCATENATE(VLOOKUP(B395,Cadastro!$Q$3:$R$162,2,FALSE),\"/\",J395,\"/\",D395))","v":"64/Pes/201607"},"Pes/201607","1007/201607","1007/1391/201607","64/201607","64/1391/201607","1391/201607","Pat","1414/Pat/201505",{"$f":"+CONCATENATE(VLOOKUP(F395,Cadastro!$Q$3:$R$162,2,FALSE),\"/\",S395,\"/\",H395)","v":"19/Pat/201505"},"Pat/201505","1414/201505","1414/0167/201505","19/201505","19/0167/201505","0167/201505",0,1298418.53,0,759790.38,0,1251823.9899999998,-201.97,547024.12,0,429869.22]
[null,"01007","1391","201608",null,"01414","0167","201506",null,"Pes","1007/Pes/201608",{"$f":"IF(J396=0,0,+CONCATENATE(VLOOKUP(B396,Cadastro!$Q$3:$R$162,2,FALSE),\"/\",J396,\"/\",D396))","v":"64/Pes/201608"},"Pes/201608","1007/201608","1007/1391/201608","64/201608","64/1391/201608","1391/201608","Pat","1414/Pat/201506",{"$f":"+CONCATENATE(VLOOKUP(F396,Cadastro!$Q$3:$R$162,2,FALSE),\"/\",S396,\"/\",H396)","v":"19/Pat/201506"},"Pat/201506","1414/201506","1414/0167/201506","19/201506","19/0167/201506","0167/201506",87.48,1497239.19,87.48,1116309.33,0,1254586.3199999998,-63.09,-491139.39,0,400133.69]
[null,"01007","1391","201609",null,"01414","0167","201507",null,"Pes","1007/Pes/201609",{"$f":"IF(J397=0,0,+CONCATENATE(VLOOKUP(B397,Cadastro!$Q$3:$R$162,2,FALSE),\"/\",J397,\"/\",D397))","v":"64/Pes/201609"},"Pes/201609","1007/201609","1007/1391/201609","64/201609","64/1391/201609","1391/201609","Pat","1414/Pat/201507",{"$f":"+CONCATENATE(VLOOKUP(F397,Cadastro!$Q$3:$R$162,2,FALSE),\"/\",S397,\"/\",H397)","v":"19/Pat/201507"},"Pat/201507","1414/201507","1414/0167/201507","19/201507","19/0167/201507","0167/201507",87.48,1726256.06,87.48,1251715.97,0,1289357.8099999998,-64.900000000000006,222063.11,0,462834.94]
[null,"01007","1391","201610",null,"01414","0167","201508",null,"Pes","1007/Pes/201610",{"$f":"IF(J398=0,0,+CONCATENATE(VLOOKUP(B398,Cadastro!$Q$3:$R$162,2,FALSE),\"/\",J398,\"/\",D398))","v":"64/Pes/201610"},"Pes/201610","1007/201610","1007/1391/201610","64/201610","64/1391/201610","1391/201610","Pat","1414/Pat/201508",{"$f":"+CONCATENATE(VLOOKUP(F398,Cadastro!$Q$3:$R$162,2,FALSE),\"/\",S398,\"/\",H398)","v":"19/Pat/201508"},"Pat/201508","1414/201508","1414/0167/201508","19/201508","19/0167/201508","0167/201508",0,1876029.78,0,1439981.9100000001,0,1266891.5699999998,-64.7,338865.08000000007,0,343026.22]
[null,"01007","1391","201611",null,"01414","0167","201509",null,"Pes","1007/Pes/201611",{"$f":"IF(J399=0,0,+CONCATENATE(VLOOKUP(B399,Cadastro!$Q$3:$R$162,2,FALSE),\"/\",J399,\"/\",D399))","v":"64/Pes/201611"},"Pes/201611","1007/201611","1007/1391/201611","64/201611","64/1391/201611","1391/201611","Pat","1414/Pat/201509",{"$f":"+CONCATENATE(VLOOKUP(F399,Cadastro!$Q$3:$R$162,2,FALSE),\"/\",S399,\"/\",H399)","v":"19/Pat/201509"},"Pat/201509","1414/201509","1414/0167/201509","19/201509","19/0167/201509","0167/201509",87.48,1480836.47,87.48,916749.25,0,1125719.9099999999,-64.900000000000006,166490.47000000003,0,545717.97]
[null,"01007","1391","201612",null,"01414","0167","201510",null,"Pes","1007/Pes/201612",{"$f":"IF(J400=0,0,+CONCATENATE(VLOOKUP(B400,Cadastro!$Q$3:$R$162,2,FALSE),\"/\",J400,\"/\",D400))","v":"64/Pes/201612"},"Pes/201612","1007/201612","1007/1391/201612","64/201612","64/1391/201612","1391/201612","Pat","1414/Pat/201510",{"$f":"+CONCATENATE(VLOOKUP(F400,Cadastro!$Q$3:$R$162,2,FALSE),\"/\",S400,\"/\",H400)","v":"19/Pat/201510"},"Pat/201510","1414/201510","1414/0167/201510","19/201510","19/0167/201510","0167/201510",0,2500608.89,0,1878324.4400000002,0,1514825.8299999998,-56.85,193443.68000000002,0,493316.31]
[null,"01414","0167","201601",null,"01414","0167","201511",null,"Pat","1414/Pat/201601",{"$f":"IF(J401=0,0,+CONCATENATE(VLOOKUP(B401,Cadastro!$Q$3:$R$162,2,FALSE),\"/\",J401,\"/\",D401))","v":"19/Pat/201601"},"Pat/201601","1414/201601","1414/0167/201601","19/201601","19/0167/201601","0167/201601","Pat","1414/Pat/201511",{"$f":"+CONCATENATE(VLOOKUP(F401,Cadastro!$Q$3:$R$162,2,FALSE),\"/\",S401,\"/\",H401)","v":"19/Pat/201511"},"Pat/201511","1414/201511","1414/0167/201511","19/201511","19/0167/201511","0167/201511",1662577.77,992760.76,1264233.6400000001,429718.62,1311712.8199999998,1118178.21,660862.63,615638.28,479716.37,387540.69]
[null,"01414","0167","201602",null,"01414","0167","201512",null,"Pat","1414/Pat/201602",{"$f":"IF(J402=0,0,+CONCATENATE(VLOOKUP(B402,Cadastro!$Q$3:$R$162,2,FALSE),\"/\",J402,\"/\",D402))","v":"19/Pat/201602"},"Pat/201602","1414/201602","1414/0167/201602","19/201602","19/0167/201602","0167/201602","Pat","1414/Pat/201512",{"$f":"+CONCATENATE(VLOOKUP(F402,Cadastro!$Q$3:$R$162,2,FALSE),\"/\",S402,\"/\",H402)","v":"19/Pat/201512"},"Pat/201512","1414/201512","1414/0167/201512","19/201512","19/0167/201512","0167/201512",1713606.87,2593952.7200000002,1347239.06,1888785.8800000004,1342976.89,1182419.75,71015.159999999989,-505519.1,426131.94,-65948.88]
[null,"01414","0167","201603",null,"01414","0171","201501",null,"Pat","1414/Pat/201603",{"$f":"IF(J403=0,0,+CONCATENATE(VLOOKUP(B403,Cadastro!$Q$3:$R$162,2,FALSE),\"/\",J403,\"/\",D403))","v":"19/Pat/201603"},"Pat/201603","1414/201603","1414/0167/201603","19/201603","19/0167/201603","0167/201603","Pat","1414/Pat/201501",{"$f":"+CONCATENATE(VLOOKUP(F403,Cadastro!$Q$3:$R$162,2,FALSE),\"/\",S403,\"/\",H403)","v":"19/Pat/201501"},"Pat/201501","1414/201501","1414/0171/201501","19/201501","19/0171/201501","0171/201501",1515831.71,1220480.67,1158829.68,953230.99,1211140.9099999999,1032415.6700000002,938022.72000000009,883475.05,454651.87,294130.17]
[null,"01414","0167","201604",null,"01414","0171","201502",null,"Pat","1414/Pat/201604",{"$f":"IF(J404=0,0,+CONCATENATE(VLOOKUP(B404,Cadastro!$Q$3:$R$162,2,FALSE),\"/\",J404,\"/\",D404))","v":"19/Pat/201604"},"Pat/201604","1414/201604","1414/0167/201604","19/201604","19/0167/201604","0167/201604","Pat","1414/Pat/201502",{"$f":"+CONCATENATE(VLOOKUP(F404,Cadastro!$Q$3:$R$162,2,FALSE),\"/\",S404,\"/\",H404)","v":"19/Pat/201502"},"Pat/201502","1414/201502","1414/0171/201502","19/201502","19/0171/201502","0171/201502",1668221.6,1423522.7,1286768.52,1263109.94,1265437.6499999999,913241.67999999993,-33588.29,186054.74,467308.97,233285.08]
[null,"01414","0167","201605",null,"01414","0171","201503",null,"Pat","1414/Pat/201605",{"$f":"IF(J405=0,0,+CONCATENATE(VLOOKUP(B405,Cadastro!$Q$3:$R$162,2,FALSE),\"/\",J405,\"/\",D405))","v":"19/Pat/201605"},"Pat/201605","1414/201605","1414/0167/201605","19/201605","19/0167/201605","0167/201605","Pat","1414/Pat/201503",{"$f":"+CONCATENATE(VLOOKUP(F405,Cadastro!$Q$3:$R$162,2,FALSE),\"/\",S405,\"/\",H405)","v":"19/Pat/201503"},"Pat/201503","1414/201503","1414/0171/201503","19/201503","19/0171/201503","0171/201503",2103543.62,1714233,-561087,1523758.1400000001,-551066.01000000024,1303729.6600000001,579979.25,723682.60000000009,470291.11,344393.5]
[null,"01414","0167","201606",null,"01414","0171","201504",null,"Pat","1414/Pat/201606",{"$f":"IF(J406=0,0,+CONCATENATE(VLOOKUP(B406,Cadastro!$Q$3:$R$162,2,FALSE),\"/\",J406,\"/\",D406))","v":"19/Pat/201606"},"Pat/201606","1414/201606","1414/0167/201606","19/201606","19/0167/201606","0167/201606","Pat","1414/Pat/201504",{"$f":"+CONCATENATE(VLOOKUP(F406,Cadastro!$Q$3:$R$162,2,FALSE),\"/\",S406,\"/\",H406)","v":"19/Pat/201504"},"Pat/201504","1414/201504","1414/0171/201504","19/201504","19/0171/201504","0171/201504",2617825.9700000002,1511029.3,1839333.7700000003,1390831.8,1654073.39,938369.32000000007,741349.29,110516.20000000001,61175.95,255895.23]
[null,"01414","0167","201607",null,"01414","0171","201505",null,"Pat","1414/Pat/201607",{"$f":"IF(J407=0,0,+CONCATENATE(VLOOKUP(B407,Cadastro!$Q$3:$R$162,2,FALSE),\"/\",J407,\"/\",D407))","v":"19/Pat/201607"},"Pat/201607","1414/201607","1414/0167/201607","19/201607","19/0167/201607","0167/201607","Pat","1414/Pat/201505",{"$f":"+CONCATENATE(VLOOKUP(F407,Cadastro!$Q$3:$R$162,2,FALSE),\"/\",S407,\"/\",H407)","v":"19/Pat/201505"},"Pat/201505","1414/201505","1414/0171/201505","19/201505","19/0171/201505","0171/201505",1463527.44,2027294.43,928096.48,1782789.22,1181370.1100000001,1246809.76,270259.82999999996,636657.25,371872.37,344764.35]
[null,"01414","0167","201608",null,"01414","0171","201506",null,"Pat","1414/Pat/201608",{"$f":"IF(J408=0,0,+CONCATENATE(VLOOKUP(B408,Cadastro!$Q$3:$R$162,2,FALSE),\"/\",J408,\"/\",D408))","v":"19/Pat/201608"},"Pat/201608","1414/201608","1414/0167/201608","19/201608","19/0167/201608","0167/201608","Pat","1414/Pat/201506",{"$f":"+CONCATENATE(VLOOKUP(F408,Cadastro!$Q$3:$R$162,2,FALSE),\"/\",S408,\"/\",H408)","v":"19/Pat/201506"},"Pat/201506","1414/201506","1414/0171/201506","19/201506","19/0171/201506","0171/201506",1489359.65,2021988.76,1272433.49,1816828.78,1401324.03,1362149.73,160696.24,-217147.82,421790.69,379377.45]
[null,"01414","0167","201609",null,"01414","0171","201507",null,"Pat","1414/Pat/201609",{"$f":"IF(J409=0,0,+CONCATENATE(VLOOKUP(B409,Cadastro!$Q$3:$R$162,2,FALSE),\"/\",J409,\"/\",D409))","v":"19/Pat/201609"},"Pat/201609","1414/201609","1414/0167/201609","19/201609","19/0167/201609","0167/201609","Pat","1414/Pat/201507",{"$f":"+CONCATENATE(VLOOKUP(F409,Cadastro!$Q$3:$R$162,2,FALSE),\"/\",S409,\"/\",H409)","v":"19/Pat/201507"},"Pat/201507","1414/201507","1414/0171/201507","19/201507","19/0171/201507","0171/201507",1369542.18,2110004.11,1401055.19,1897222.64,1590248.73,1243078.57,535686.78999999992,1256242.8099999998,693727.99,334869.65999999997]
[null,"01414","0167","201610",null,"01414","0171","201508",null,"Pat","1414/Pat/201610",{"$f":"IF(J410=0,0,+CONCATENATE(VLOOKUP(B410,Cadastro!$Q$3:$R$162,2,FALSE),\"/\",J410,\"/\",D410))","v":"19/Pat/201610"},"Pat/201610","1414/201610","1414/0167/201610","19/201610","19/0167/201610","0167/201610","Pat","1414/Pat/201508",{"$f":"+CONCATENATE(VLOOKUP(F410,Cadastro!$Q$3:$R$162,2,FALSE),\"/\",S410,\"/\",H410)","v":"19/Pat/201508"},"Pat/201508","1414/201508","1414/0171/201508","19/201508","19/0171/201508","0171/201508",274078.55,1710059.66,272202.20999999996,1432034.94,831392.8,1165634.3500000001,301430,783654.71,2214793.66,344790.74]
[null,"01414","0167","201611",null,"01414","0171","201509",null,"Pat","1414/Pat/201611",{"$f":"IF(J411=0,0,+CONCATENATE(VLOOKUP(B411,Cadastro!$Q$3:$R$162,2,FALSE),\"/\",J411,\"/\",D411))","v":"19/Pat/201611"},"Pat/201611","1414/201611","1414/0167/201611","19/201611","19/0167/201611","0167/201611","Pat","1414/Pat/201509",{"$f":"+CONCATENATE(VLOOKUP(F411,Cadastro!$Q$3:$R$162,2,FALSE),\"/\",S411,\"/\",H411)","v":"19/Pat/201509"},"Pat/201509","1414/201509","1414/0171/201509","19/201509","19/0171/201509","0171/201509",1671723.78,2378293.06,1475034.59,1866195.61,1436296.25,1259988.46,1083757.8799999999,614405.61,1386985.4,378221.63]
[null,"01414","0167","201612",null,"01414","0171","201510",null,"Pat","1414/Pat/201612",{"$f":"IF(J412=0,0,+CONCATENATE(VLOOKUP(B412,Cadastro!$Q$3:$R$162,2,FALSE),\"/\",J412,\"/\",D412))","v":"19/Pat/201612"},"Pat/201612","1414/201612","1414/0167/201612","19/201612","19/0167/201612","0167/201612","Pat","1414/Pat/201510",{"$f":"+CONCATENATE(VLOOKUP(F412,Cadastro!$Q$3:$R$162,2,FALSE),\"/\",S412,\"/\",H412)","v":"19/Pat/201510"},"Pat/201510","1414/201510","1414/0171/201510","19/201510","19/0171/201510","0171/201510",2400813.67,2944748.64,2222349.9699999997,2386551.63,1527312.72,1601352.4999999998,591707.82999999996,1199240.1200000001,392708.16,482507.81]
[null,"01414","0171","201601",null,"01414","0171","201511",null,"Pat","1414/Pat/201601",{"$f":"IF(J413=0,0,+CONCATENATE(VLOOKUP(B413,Cadastro!$Q$3:$R$162,2,FALSE),\"/\",J413,\"/\",D413))","v":"19/Pat/201601"},"Pat/201601","1414/201601","1414/0171/201601","19/201601","19/0171/201601","0171/201601","Pat","1414/Pat/201511",{"$f":"+CONCATENATE(VLOOKUP(F413,Cadastro!$Q$3:$R$162,2,FALSE),\"/\",S413,\"/\",H413)","v":"19/Pat/201511"},"Pat/201511","1414/201511","1414/0171/201511","19/201511","19/0171/201511","0171/201511",1267473.93,1292179.06,1090349.24,652280.51,1368493,1574549.2899999998,1874842.0999999999,1641403.8,368269.38,492476.21]
[null,"01414","0171","201602",null,"01414","0171","201512",null,"Pat","1414/Pat/201602",{"$f":"IF(J414=0,0,+CONCATENATE(VLOOKUP(B414,Cadastro!$Q$3:$R$162,2,FALSE),\"/\",J414,\"/\",D414))","v":"19/Pat/201602"},"Pat/201602","1414/201602","1414/0171/201602","19/201602","19/0171/201602","0171/201602","Pat","1414/Pat/201512",{"$f":"+CONCATENATE(VLOOKUP(F414,Cadastro!$Q$3:$R$162,2,FALSE),\"/\",S414,\"/\",H414)","v":"19/Pat/201512"},"Pat/201512","1414/201512","1414/0171/201512","19/201512","19/0171/201512","0171/201512",885904.64,1290585.9099999999,707840.04,713282.12999999989,1308969.8499999999,1265128.8699999999,700325.77,560618.19000000006,322230.49,274538.62]
[null,"01414","0171","201603",null,"01414","0310","201501",null,"Pat","1414/Pat/201603",{"$f":"IF(J415=0,0,+CONCATENATE(VLOOKUP(B415,Cadastro!$Q$3:$R$162,2,FALSE),\"/\",J415,\"/\",D415))","v":"19/Pat/201603"},"Pat/201603","1414/201603","1414/0171/201603","19/201603","19/0171/201603","0171/201603","Res","1414/Res/201501",{"$f":"+CONCATENATE(VLOOKUP(F415,Cadastro!$Q$3:$R$162,2,FALSE),\"/\",S415,\"/\",H415)","v":"19/Res/201501"},"Res/201501","1414/201501","1414/0310/201501","19/201501","19/0310/201501","0310/201501",1420072.93,102530.24000000001,1139711.0999999999,99612.99,1522732.0599999998,16494.16,991189.11,138.34999999999997,415062.91,5118.37]
[null,"01414","0171","201604",null,"01414","0310","201502",null,"Pat","1414/Pat/201604",{"$f":"IF(J416=0,0,+CONCATENATE(VLOOKUP(B416,Cadastro!$Q$3:$R$162,2,FALSE),\"/\",J416,\"/\",D416))","v":"19/Pat/201604"},"Pat/201604","1414/201604","1414/0171/201604","19/201604","19/0171/201604","0171/201604","Res","1414/Res/201502",{"$f":"+CONCATENATE(VLOOKUP(F416,Cadastro!$Q$3:$R$162,2,FALSE),\"/\",S416,\"/\",H416)","v":"19/Res/201502"},"Res/201502","1414/201502","1414/0310/201502","19/201502","19/0310/201502","0310/201502",1033495.42,6097.34,858971.52,3075.33,1324613.73,17035.379999999997,2210967.1999999997,138.32,355414.72,5186.22]
[null,"01414","0171","201605",null,"01414","0310","201503",null,"Pat","1414/Pat/201605",{"$f":"IF(J417=0,0,+CONCATENATE(VLOOKUP(B417,Cadastro!$Q$3:$R$162,2,FALSE),\"/\",J417,\"/\",D417))","v":"19/Pat/201605"},"Pat/201605","1414/201605","1414/0171/201605","19/201605","19/0171/201605","0171/201605","Res","1414/Res/201503",{"$f":"+CONCATENATE(VLOOKUP(F417,Cadastro!$Q$3:$R$162,2,FALSE),\"/\",S417,\"/\",H417)","v":"19/Res/201503"},"Res/201503","1414/201503","1414/0310/201503","19/201503","19/0310/201503","0310/201503",1078813.26,106380.46,-288129.69999999995,93761.290000000008,140286.5,89052.28,1926052.52,276.64,360306.95,24416.27]
[null,"01414","0171","201606",null,"01414","0310","201504",null,"Pat","1414/Pat/201606",{"$f":"IF(J418=0,0,+CONCATENATE(VLOOKUP(B418,Cadastro!$Q$3:$R$162,2,FALSE),\"/\",J418,\"/\",D418))","v":"19/Pat/201606"},"Pat/201606","1414/201606","1414/0171/201606","19/201606","19/0171/201606","0171/201606","Res","1414/Res/201504",{"$f":"+CONCATENATE(VLOOKUP(F418,Cadastro!$Q$3:$R$162,2,FALSE),\"/\",S418,\"/\",H418)","v":"19/Res/201504"},"Res/201504","1414/201504","1414/0310/201504","19/201504","19/0310/201504","0310/201504",1570824.87,23528.69,1369194.59,28489.87,1256961.03,-44294.86,2106392.2199999997,184.41999999999996,229978.89,-10766.9]
[null,"01414","0171","201607",null,"01414","0310","201505",null,"Pat","1414/Pat/201607",{"$f":"IF(J419=0,0,+CONCATENATE(VLOOKUP(B419,Cadastro!$Q$3:$R$162,2,FALSE),\"/\",J419,\"/\",D419))","v":"19/Pat/201607"},"Pat/201607","1414/201607","1414/0171/201607","19/201607","19/0171/201607","0171/201607","Res","1414/Res/201505",{"$f":"+CONCATENATE(VLOOKUP(F419,Cadastro!$Q$3:$R$162,2,FALSE),\"/\",S419,\"/\",H419)","v":"19/Res/201505"},"Res/201505","1414/201505","1414/0310/201505","19/201505","19/0310/201505","0310/201505",421036.43,48393.52,235301.59,43937.96,1223343.6599999999,28817.759999999998,725331.84,3559.82,329077.14,8851.4699999999993]
[null,"01414","0171","201608",null,"01414","0310","201506",null,"Pat","1414/Pat/201608",{"$f":"IF(J420=0,0,+CONCATENATE(VLOOKUP(B420,Cadastro!$Q$3:$R$162,2,FALSE),\"/\",J420,\"/\",D420))","v":"19/Pat/201608"},"Pat/201608","1414/201608","1414/0171/201608","19/201608","19/0171/201608","0171/201608","Res","1414/Res/201506",{"$f":"+CONCATENATE(VLOOKUP(F420,Cadastro!$Q$3:$R$162,2,FALSE),\"/\",S420,\"/\",H420)","v":"19/Res/201506"},"Res/201506","1414/201506","1414/0310/201506","19/201506","19/0310/201506","0310/201506",450090.8,111579.46,268450.37,106888.96000000001,1264673.51,30565.449999999997,1139078.1000000001,4217980.29,328184.48,9267.8700000000008]
[null,"01414","0171","201609",null,"01414","0310","201507",null,"Pat","1414/Pat/201609",{"$f":"IF(J421=0,0,+CONCATENATE(VLOOKUP(B421,Cadastro!$Q$3:$R$162,2,FALSE),\"/\",J421,\"/\",D421))","v":"19/Pat/201609"},"Pat/201609","1414/201609","1414/0171/201609","19/201609","19/0171/201609","0171/201609","Res","1414/Res/201507",{"$f":"+CONCATENATE(VLOOKUP(F421,Cadastro!$Q$3:$R$162,2,FALSE),\"/\",S421,\"/\",H421)","v":"19/Res/201507"},"Res/201507","1414/201507","1414/0310/201507","19/201507","19/0310/201507","0310/201507",346682.9,73196.67,184353.35000000003,67094.19,1088448.31,40773.869999999995,698460.07,278073.94,287934.90000000002,12984.98]
[null,"01414","0171","201610",null,"01414","0310","201508",null,"Pat","1414/Pat/201610",{"$f":"IF(J422=0,0,+CONCATENATE(VLOOKUP(B422,Cadastro!$Q$3:$R$162,2,FALSE),\"/\",J422,\"/\",D422))","v":"19/Pat/201610"},"Pat/201610","1414/201610","1414/0171/201610","19/201610","19/0171/201610","0171/201610","Res","1414/Res/201508",{"$f":"+CONCATENATE(VLOOKUP(F422,Cadastro!$Q$3:$R$162,2,FALSE),\"/\",S422,\"/\",H422)","v":"19/Res/201508"},"Res/201508","1414/201508","1414/0310/201508","19/201508","19/0310/201508","0310/201508",-222968.86,0,-271423.37,-5975.15,871322.69,40836.720000000001,1718484.77,473831.78,594898.53,13013.57]
[null,"01414","0171","201611",null,"01414","0310","201509",null,"Pat","1414/Pat/201611",{"$f":"IF(J423=0,0,+CONCATENATE(VLOOKUP(B423,Cadastro!$Q$3:$R$162,2,FALSE),\"/\",J423,\"/\",D423))","v":"19/Pat/201611"},"Pat/201611","1414/201611","1414/0171/201611","19/201611","19/0171/201611","0171/201611","Res","1414/Res/201509",{"$f":"+CONCATENATE(VLOOKUP(F423,Cadastro!$Q$3:$R$162,2,FALSE),\"/\",S423,\"/\",H423)","v":"19/Res/201509"},"Res/201509","1414/201509","1414/0310/201509","19/201509","19/0310/201509","0310/201509",324604.61,49299.32,221577.91999999998,39547.39,765938.79,36800.11,162790.54999999999,396053.69,205529.61,12696.72]
[null,"01414","0171","201612",null,"01414","0310","201510",null,"Pat","1414/Pat/201612",{"$f":"IF(J424=0,0,+CONCATENATE(VLOOKUP(B424,Cadastro!$Q$3:$R$162,2,FALSE),\"/\",J424,\"/\",D424))","v":"19/Pat/201612"},"Pat/201612","1414/201612","1414/0171/201612","19/201612","19/0171/201612","0171/201612","Res","1414/Res/201510",{"$f":"+CONCATENATE(VLOOKUP(F424,Cadastro!$Q$3:$R$162,2,FALSE),\"/\",S424,\"/\",H424)","v":"19/Res/201510"},"Res/201510","1414/201510","1414/0310/201510","19/201510","19/0310/201510","0310/201510",297215.08,-48044.43,205771.72000000003,-51765.95,725750.39,26248.639999999999,961676.83000000007,315135.89,175627.54,6127.86]
[null,"01414","0310","201601",null,"01414","0310","201511",null,"Res","1414/Res/201601",{"$f":"IF(J425=0,0,+CONCATENATE(VLOOKUP(B425,Cadastro!$Q$3:$R$162,2,FALSE),\"/\",J425,\"/\",D425))","v":"19/Res/201601"},"Res/201601","1414/201601","1414/0310/201601","19/201601","19/0310/201601","0310/201601","Res","1414/Res/201511",{"$f":"+CONCATENATE(VLOOKUP(F425,Cadastro!$Q$3:$R$162,2,FALSE),\"/\",S425,\"/\",H425)","v":"19/Res/201511"},"Res/201511","1414/201511","1414/0310/201511","19/201511","19/0310/201511","0310/201511",8177.32,35049.279999999999,2287.6399999999994,29728.48,39590.239999999998,37348.839999999997,0,432182.41999999993,8257.65,11156.73]
[null,"01414","0310","201602",null,"01414","0310","201512",null,"Res","1414/Res/201602",{"$f":"IF(J426=0,0,+CONCATENATE(VLOOKUP(B426,Cadastro!$Q$3:$R$162,2,FALSE),\"/\",J426,\"/\",D426))","v":"19/Res/201602"},"Res/201602","1414/201602","1414/0310/201602","19/201602","19/0310/201602","0310/201602","Res","1414/Res/201512",{"$f":"+CONCATENATE(VLOOKUP(F426,Cadastro!$Q$3:$R$162,2,FALSE),\"/\",S426,\"/\",H426)","v":"19/Res/201512"},"Res/201512","1414/201512","1414/0310/201512","19/201512","19/0310/201512","0310/201512",66182.81,80621.149999999994,62699.64,72083.599999999991,38256.07,36702.160000000003,0.8,-6122155.9700000007,14575.11,3619.3]
[null,"01414","0310","201603",null,"01414","0351","201501",null,"Res","1414/Res/201603",{"$f":"IF(J427=0,0,+CONCATENATE(VLOOKUP(B427,Cadastro!$Q$3:$R$162,2,FALSE),\"/\",J427,\"/\",D427))","v":"19/Res/201603"},"Res/201603","1414/201603","1414/0310/201603","19/201603","19/0310/201603","0310/201603","Res","1414/Res/201501",{"$f":"+CONCATENATE(VLOOKUP(F427,Cadastro!$Q$3:$R$162,2,FALSE),\"/\",S427,\"/\",H427)","v":"19/Res/201501"},"Res/201501","1414/201501","1414/0351/201501","19/201501","19/0351/201501","0351/201501",45946.94,1493586.91,40356.460000000006,1230634.3399999999,39402.930000000008,1219535.8899999999,55.559999999999995,109550.67000000001,8234.35,330083.62]
[null,"01414","0310","201604",null,"01414","0351","201502",null,"Res","1414/Res/201604",{"$f":"IF(J428=0,0,+CONCATENATE(VLOOKUP(B428,Cadastro!$Q$3:$R$162,2,FALSE),\"/\",J428,\"/\",D428))","v":"19/Res/201604"},"Res/201604","1414/201604","1414/0310/201604","19/201604","19/0310/201604","0310/201604","Res","1414/Res/201502",{"$f":"+CONCATENATE(VLOOKUP(F428,Cadastro!$Q$3:$R$162,2,FALSE),\"/\",S428,\"/\",H428)","v":"19/Res/201502"},"Res/201502","1414/201502","1414/0351/201502","19/201502","19/0351/201502","0351/201502",33464.01,1119604.6499999999,29250.090000000004,879910.60999999987,37431.53,1123721.93,9721.7599999999984,305679.73,11532.24,342095.14]
[null,"01414","0310","201605",null,"01414","0351","201503",null,"Res","1414/Res/201605",{"$f":"IF(J429=0,0,+CONCATENATE(VLOOKUP(B429,Cadastro!$Q$3:$R$162,2,FALSE),\"/\",J429,\"/\",D429))","v":"19/Res/201605"},"Res/201605","1414/201605","1414/0310/201605","19/201605","19/0310/201605","0310/201605","Res","1414/Res/201503",{"$f":"+CONCATENATE(VLOOKUP(F429,Cadastro!$Q$3:$R$162,2,FALSE),\"/\",S429,\"/\",H429)","v":"19/Res/201503"},"Res/201503","1414/201503","1414/0351/201503","19/201503","19/0351/201503","0351/201503",42798.49,1633642.9,39505.229999999996,1437163.64,39316.78,1207916.07,29538.400000000001,484382.35,10594.09,339938.67]
[null,"01414","0310","201606",null,"01414","0351","201504",null,"Res","1414/Res/201606",{"$f":"IF(J430=0,0,+CONCATENATE(VLOOKUP(B430,Cadastro!$Q$3:$R$162,2,FALSE),\"/\",J430,\"/\",D430))","v":"19/Res/201606"},"Res/201606","1414/201606","1414/0310/201606","19/201606","19/0310/201606","0310/201606","Res","1414/Res/201504",{"$f":"+CONCATENATE(VLOOKUP(F430,Cadastro!$Q$3:$R$162,2,FALSE),\"/\",S430,\"/\",H430)","v":"19/Res/201504"},"Res/201504","1414/201504","1414/0351/201504","19/201504","19/0351/201504","0351/201504",27168.73,1615510.71,24349.119999999999,1344066.8399999999,38368.18,1148120.4100000001,-2000.28,308469.28000000003,14868.49,312476.07]
[null,"01414","0310","201607",null,"01414","0351","201505",null,"Res","1414/Res/201607",{"$f":"IF(J431=0,0,+CONCATENATE(VLOOKUP(B431,Cadastro!$Q$3:$R$162,2,FALSE),\"/\",J431,\"/\",D431))","v":"19/Res/201607"},"Res/201607","1414/201607","1414/0310/201607","19/201607","19/0310/201607","0310/201607","Res","1414/Res/201505",{"$f":"+CONCATENATE(VLOOKUP(F431,Cadastro!$Q$3:$R$162,2,FALSE),\"/\",S431,\"/\",H431)","v":"19/Res/201505"},"Res/201505","1414/201505","1414/0351/201505","19/201505","19/0351/201505","0351/201505",66157.39,1806339,61731.16,1507250.4,36614.710000000006,1270860.23,-3211.96,400843.36000000004,9884.99,374176.04]
[null,"01414","0310","201608",null,"01414","0351","201506",null,"Res","1414/Res/201608",{"$f":"IF(J432=0,0,+CONCATENATE(VLOOKUP(B432,Cadastro!$Q$3:$R$162,2,FALSE),\"/\",J432,\"/\",D432))","v":"19/Res/201608"},"Res/201608","1414/201608","1414/0310/201608","19/201608","19/0310/201608","0310/201608","Res","1414/Res/201506",{"$f":"+CONCATENATE(VLOOKUP(F432,Cadastro!$Q$3:$R$162,2,FALSE),\"/\",S432,\"/\",H432)","v":"19/Res/201506"},"Res/201506","1414/201506","1414/0351/201506","19/201506","19/0351/201506","0351/201506",78795.42,2031445.57,73879.569999999992,1793788.1500000001,40643.440000000002,1325093.75,-2929.5,-2010868.8900000001,11011.11,381356.32]
[null,"01414","0310","201609",null,"01414","0351","201507",null,"Res","1414/Res/201609",{"$f":"IF(J433=0,0,+CONCATENATE(VLOOKUP(B433,Cadastro!$Q$3:$R$162,2,FALSE),\"/\",J433,\"/\",D433))","v":"19/Res/201609"},"Res/201609","1414/201609","1414/0310/201609","19/201609","19/0310/201609","0310/201609","Res","1414/Res/201507",{"$f":"+CONCATENATE(VLOOKUP(F433,Cadastro!$Q$3:$R$162,2,FALSE),\"/\",S433,\"/\",H433)","v":"19/Res/201507"},"Res/201507","1414/201507","1414/0351/201507","19/201507","19/0351/201507","0351/201507",18642.990000000002,1980347.22,8945.2100000000009,1757711.02,30975.07,1353989.23,0,391528.07000000007,10068.6,366050.92]
[null,"01414","0310","201610",null,"01414","0351","201508",null,"Res","1414/Res/201610",{"$f":"IF(J434=0,0,+CONCATENATE(VLOOKUP(B434,Cadastro!$Q$3:$R$162,2,FALSE),\"/\",J434,\"/\",D434))","v":"19/Res/201610"},"Res/201610","1414/201610","1414/0310/201610","19/201610","19/0310/201610","0310/201610","Res","1414/Res/201508",{"$f":"+CONCATENATE(VLOOKUP(F434,Cadastro!$Q$3:$R$162,2,FALSE),\"/\",S434,\"/\",H434)","v":"19/Res/201508"},"Res/201508","1414/201508","1414/0351/201508","19/201508","19/0351/201508","0351/201508",550.82000000000005,1658311.28,-4519.67,1368766.58,34134.630000000005,1434939.8800000001,-6793.85,155662.75,11145.78,400434.62]
[null,"01414","0310","201611",null,"01414","0351","201509",null,"Res","1414/Res/201611",{"$f":"IF(J435=0,0,+CONCATENATE(VLOOKUP(B435,Cadastro!$Q$3:$R$162,2,FALSE),\"/\",J435,\"/\",D435))","v":"19/Res/201611"},"Res/201611","1414/201611","1414/0310/201611","19/201611","19/0310/201611","0310/201611","Res","1414/Res/201509",{"$f":"+CONCATENATE(VLOOKUP(F435,Cadastro!$Q$3:$R$162,2,FALSE),\"/\",S435,\"/\",H435)","v":"19/Res/201509"},"Res/201509","1414/201509","1414/0351/201509","19/201509","19/0351/201509","0351/201509",55337.24,1757307.75,51986.939999999995,1316731.83,35821.89,1229722.73,-9698.9600000000009,223585.83000000002,10049.959999999999,381127.21]
[null,"01414","0310","201612",null,"01414","0351","201510",null,"Res","1414/Res/201612",{"$f":"IF(J436=0,0,+CONCATENATE(VLOOKUP(B436,Cadastro!$Q$3:$R$162,2,FALSE),\"/\",J436,\"/\",D436))","v":"19/Res/201612"},"Res/201612","1414/201612","1414/0310/201612","19/201612","19/0310/201612","0310/201612","Res","1414/Res/201510",{"$f":"+CONCATENATE(VLOOKUP(F436,Cadastro!$Q$3:$R$162,2,FALSE),\"/\",S436,\"/\",H436)","v":"19/Res/201510"},"Res/201510","1414/201510","1414/0351/201510","19/201510","19/0351/201510","0351/201510",112911.78,1584611.72,110467.39,1309565.8899999999,44572.83,1561097.22,0,140169.68,11467.61,419746.72]
[null,"01414","0351","201601",null,"01414","0351","201511",null,"Res","1414/Res/201601",{"$f":"IF(J437=0,0,+CONCATENATE(VLOOKUP(B437,Cadastro!$Q$3:$R$162,2,FALSE),\"/\",J437,\"/\",D437))","v":"19/Res/201601"},"Res/201601","1414/201601","1414/0351/201601","19/201601","19/0351/201601","0351/201601","Res","1414/Res/201511",{"$f":"+CONCATENATE(VLOOKUP(F437,Cadastro!$Q$3:$R$162,2,FALSE),\"/\",S437,\"/\",H437)","v":"19/Res/201511"},"Res/201511","1414/201511","1414/0351/201511","19/201511","19/0351/201511","0351/201511",1664282.03,1422083.59,1399847.3900000001,1176938.6500000001,1446532.6099999999,1422616.83,584597.08000000007,103620.38,384809.87,384542.76]
[null,"01414","0351","201602",null,"01414","0351","201512",null,"Res","1414/Res/201602",{"$f":"IF(J438=0,0,+CONCATENATE(VLOOKUP(B438,Cadastro!$Q$3:$R$162,2,FALSE),\"/\",J438,\"/\",D438))","v":"19/Res/201602"},"Res/201602","1414/201602","1414/0351/201602","19/201602","19/0351/201602","0351/201602","Res","1414/Res/201512",{"$f":"+CONCATENATE(VLOOKUP(F438,Cadastro!$Q$3:$R$162,2,FALSE),\"/\",S438,\"/\",H438)","v":"19/Res/201512"},"Res/201512","1414/201512","1414/0351/201512","19/201512","19/0351/201512","0351/201512",1141183.46,1475889.29,904569.99,1095029.29,1386573.33,1165717.8999999999,295503.18,3182652.35,356421.01,110453.94]
[null,"01414","0351","201603",null,"01414","0378","201501",null,"Res","1414/Res/201603",{"$f":"IF(J439=0,0,+CONCATENATE(VLOOKUP(B439,Cadastro!$Q$3:$R$162,2,FALSE),\"/\",J439,\"/\",D439))","v":"19/Res/201603"},"Res/201603","1414/201603","1414/0351/201603","19/201603","19/0351/201603","0351/201603","Res","1414/Res/201501",{"$f":"+CONCATENATE(VLOOKUP(F439,Cadastro!$Q$3:$R$162,2,FALSE),\"/\",S439,\"/\",H439)","v":"19/Res/201501"},"Res/201501","1414/201501","1414/0378/201501","19/201501","19/0378/201501","0378/201501",1436346.88,645122.43999999994,1197162.42,575756.35,1429004.29,322784.76,-19875.54,68374.77,374017.78,75378.820000000007]
[null,"01414","0351","201604",null,"01414","0378","201502",null,"Res","1414/Res/201604",{"$f":"IF(J440=0,0,+CONCATENATE(VLOOKUP(B440,Cadastro!$Q$3:$R$162,2,FALSE),\"/\",J440,\"/\",D440))","v":"19/Res/201604"},"Res/201604","1414/201604","1414/0351/201604","19/201604","19/0351/201604","0351/201604","Res","1414/Res/201502",{"$f":"+CONCATENATE(VLOOKUP(F440,Cadastro!$Q$3:$R$162,2,FALSE),\"/\",S440,\"/\",H440)","v":"19/Res/201502"},"Res/201502","1414/201502","1414/0378/201502","19/201502","19/0378/201502","0378/201502",1719015.54,618519.87,1517250.28,548345.24,1429082.47,324307.02,382693.56000000006,32857.570000000007,399017.78,87004.72]
[null,"01414","0351","201605",null,"01414","0378","201503",null,"Res","1414/Res/201605",{"$f":"IF(J441=0,0,+CONCATENATE(VLOOKUP(B441,Cadastro!$Q$3:$R$162,2,FALSE),\"/\",J441,\"/\",D441))","v":"19/Res/201605"},"Res/201605","1414/201605","1414/0351/201605","19/201605","19/0351/201605","0351/201605","Res","1414/Res/201503",{"$f":"+CONCATENATE(VLOOKUP(F441,Cadastro!$Q$3:$R$162,2,FALSE),\"/\",S441,\"/\",H441)","v":"19/Res/201503"},"Res/201503","1414/201503","1414/0378/201503","19/201503","19/0378/201503","0378/201503",1728500,869480.86,622941.58000000007,782802.45,572460.87000000011,710225.45,510550.83,68738.040000000008,398389.01,122782.19]
[null,"01414","0351","201606",null,"01414","0378","201504",null,"Res","1414/Res/201606",{"$f":"IF(J442=0,0,+CONCATENATE(VLOOKUP(B442,Cadastro!$Q$3:$R$162,2,FALSE),\"/\",J442,\"/\",D442))","v":"19/Res/201606"},"Res/201606","1414/201606","1414/0351/201606","19/201606","19/0351/201606","0351/201606","Res","1414/Res/201504",{"$f":"+CONCATENATE(VLOOKUP(F442,Cadastro!$Q$3:$R$162,2,FALSE),\"/\",S442,\"/\",H442)","v":"19/Res/201504"},"Res/201504","1414/201504","1414/0378/201504","19/201504","19/0378/201504","0378/201504",1714314.93,688072.49,1517557.46,584715.44999999995,1489068.97,99228.319999999992,-8636.67,34808.31,448918.19,48771.33]
[null,"01414","0351","201607",null,"01414","0378","201505",null,"Res","1414/Res/201607",{"$f":"IF(J443=0,0,+CONCATENATE(VLOOKUP(B443,Cadastro!$Q$3:$R$162,2,FALSE),\"/\",J443,\"/\",D443))","v":"19/Res/201607"},"Res/201607","1414/201607","1414/0351/201607","19/201607","19/0351/201607","0351/201607","Res","1414/Res/201505",{"$f":"+CONCATENATE(VLOOKUP(F443,Cadastro!$Q$3:$R$162,2,FALSE),\"/\",S443,\"/\",H443)","v":"19/Res/201505"},"Res/201505","1414/201505","1414/0378/201505","19/201505","19/0378/201505","0378/201505",1634062.13,1842796.46,1351181.3499999999,1764372.16,1378328.59,443297.17,-2287374.85,211234.11000000002,387589.14,100632.83]
[null,"01414","0351","201608",null,"01414","0378","201506",null,"Res","1414/Res/201608",{"$f":"IF(J444=0,0,+CONCATENATE(VLOOKUP(B444,Cadastro!$Q$3:$R$162,2,FALSE),\"/\",J444,\"/\",D444))","v":"19/Res/201608"},"Res/201608","1414/201608","1414/0351/201608","19/201608","19/0351/201608","0351/201608","Res","1414/Res/201506",{"$f":"+CONCATENATE(VLOOKUP(F444,Cadastro!$Q$3:$R$162,2,FALSE),\"/\",S444,\"/\",H444)","v":"19/Res/201506"},"Res/201506","1414/201506","1414/0378/201506","19/201506","19/0378/201506","0378/201506",1803311.55,987187.98,1562389.7,974137.26,1501502.8699999999,563537.37,326777.13,-354184.72,403094.87,127772.05]
[null,"01414","0351","201609",null,"01414","0378","201507",null,"Res","1414/Res/201609",{"$f":"IF(J445=0,0,+CONCATENATE(VLOOKUP(B445,Cadastro!$Q$3:$R$162,2,FALSE),\"/\",J445,\"/\",D445))","v":"19/Res/201609"},"Res/201609","1414/201609","1414/0351/201609","19/201609","19/0351/201609","0351/201609","Res","1414/Res/201507",{"$f":"+CONCATENATE(VLOOKUP(F445,Cadastro!$Q$3:$R$162,2,FALSE),\"/\",S445,\"/\",H445)","v":"19/Res/201507"},"Res/201507","1414/201507","1414/0378/201507","19/201507","19/0378/201507","0378/201507",1797663.32,1191081.3999999999,1442130.6400000001,1093372.93,1179921.45,584817.72,83809.119999999995,187749.89,369398.02,176464.89]
[null,"01414","0351","201610",null,"01414","0378","201508",null,"Res","1414/Res/201610",{"$f":"IF(J446=0,0,+CONCATENATE(VLOOKUP(B446,Cadastro!$Q$3:$R$162,2,FALSE),\"/\",J446,\"/\",D446))","v":"19/Res/201610"},"Res/201610","1414/201610","1414/0351/201610","19/201610","19/0351/201610","0351/201610","Res","1414/Res/201508",{"$f":"+CONCATENATE(VLOOKUP(F446,Cadastro!$Q$3:$R$162,2,FALSE),\"/\",S446,\"/\",H446)","v":"19/Res/201508"},"Res/201508","1414/201508","1414/0378/201508","19/201508","19/0378/201508","0378/201508",1205869.1499999999,851301.9,981224.95,753362.29,1374377.35,650124.42000000004,3020000.35,29842.42,578747.30000000005,168751.21]
[null,"01414","0351","201611",null,"01414","0378","201509",null,"Res","1414/Res/201611",{"$f":"IF(J447=0,0,+CONCATENATE(VLOOKUP(B447,Cadastro!$Q$3:$R$162,2,FALSE),\"/\",J447,\"/\",D447))","v":"19/Res/201611"},"Res/201611","1414/201611","1414/0351/201611","19/201611","19/0351/201611","0351/201611","Res","1414/Res/201509",{"$f":"+CONCATENATE(VLOOKUP(F447,Cadastro!$Q$3:$R$162,2,FALSE),\"/\",S447,\"/\",H447)","v":"19/Res/201509"},"Res/201509","1414/201509","1414/0378/201509","19/201509","19/0378/201509","0378/201509",1453940.81,1018634.15,1268858.0900000001,852590.67,1468560.8900000001,599165.02,-65625.679999999993,58530.3,375354.67,164252.97]
[null,"01414","0351","201612",null,"01414","0378","201510",null,"Res","1414/Res/201612",{"$f":"IF(J448=0,0,+CONCATENATE(VLOOKUP(B448,Cadastro!$Q$3:$R$162,2,FALSE),\"/\",J448,\"/\",D448))","v":"19/Res/201612"},"Res/201612","1414/201612","1414/0351/201612","19/201612","19/0351/201612","0351/201612","Res","1414/Res/201510",{"$f":"+CONCATENATE(VLOOKUP(F448,Cadastro!$Q$3:$R$162,2,FALSE),\"/\",S448,\"/\",H448)","v":"19/Res/201510"},"Res/201510","1414/201510","1414/0378/201510","19/201510","19/0378/201510","0378/201510",1266865.23,1081671.82,1072613.06,969303.05,1323722.83,760127.1,-259405.75999999998,221543.30000000002,332490.15999999997,194752.68]
[null,"01414","0378","201601",null,"01414","0378","201511",null,"Res","1414/Res/201601",{"$f":"IF(J449=0,0,+CONCATENATE(VLOOKUP(B449,Cadastro!$Q$3:$R$162,2,FALSE),\"/\",J449,\"/\",D449))","v":"19/Res/201601"},"Res/201601","1414/201601","1414/0378/201601","19/201601","19/0378/201601","0378/201601","Res","1414/Res/201511",{"$f":"+CONCATENATE(VLOOKUP(F449,Cadastro!$Q$3:$R$162,2,FALSE),\"/\",S449,\"/\",H449)","v":"19/Res/201511"},"Res/201511","1414/201511","1414/0378/201511","19/201511","19/0378/201511","0378/201511",905367.5,938482.25,781585.56,824884.85,845143.53,762039.75,152179.83000000002,113888.68,216847.31,207756.62]
[null,"01414","0378","201602",null,"01414","0378","201512",null,"Res","1414/Res/201602",{"$f":"IF(J450=0,0,+CONCATENATE(VLOOKUP(B450,Cadastro!$Q$3:$R$162,2,FALSE),\"/\",J450,\"/\",D450))","v":"19/Res/201602"},"Res/201602","1414/201602","1414/0378/201602","19/201602","19/0378/201602","0378/201602","Res","1414/Res/201512",{"$f":"+CONCATENATE(VLOOKUP(F450,Cadastro!$Q$3:$R$162,2,FALSE),\"/\",S450,\"/\",H450)","v":"19/Res/201512"},"Res/201512","1414/201512","1414/0378/201512","19/201512","19/0378/201512","0378/201512",789955.08,1143515.3,666121.47,981905.72000000009,820089.66,748529.21000000008,31531.49,2627763.4000000004,195914.93,86657.97]
[null,"01414","0378","201603",null,"01414","0621","201501",null,"Res","1414/Res/201603",{"$f":"IF(J451=0,0,+CONCATENATE(VLOOKUP(B451,Cadastro!$Q$3:$R$162,2,FALSE),\"/\",J451,\"/\",D451))","v":"19/Res/201603"},"Res/201603","1414/201603","1414/0378/201603","19/201603","19/0378/201603","0378/201603","Transp","1414/Transp/201501",{"$f":"+CONCATENATE(VLOOKUP(F451,Cadastro!$Q$3:$R$162,2,FALSE),\"/\",S451,\"/\",H451)","v":"19/Transp/201501"},"Transp/201501","1414/201501","1414/0621/201501","19/201501","19/0621/201501","0621/201501",2710573.96,736351.27,2575194.1800000002,598064.37,932835.59000000008,551731.87,666432.66,524938.80000000005,216644.24,171568.66]
[null,"01414","0378","201604",null,"01414","0621","201502",null,"Res","1414/Res/201604",{"$f":"IF(J452=0,0,+CONCATENATE(VLOOKUP(B452,Cadastro!$Q$3:$R$162,2,FALSE),\"/\",J452,\"/\",D452))","v":"19/Res/201604"},"Res/201604","1414/201604","1414/0378/201604","19/201604","19/0378/201604","0378/201604","Transp","1414/Transp/201502",{"$f":"+CONCATENATE(VLOOKUP(F452,Cadastro!$Q$3:$R$162,2,FALSE),\"/\",S452,\"/\",H452)","v":"19/Transp/201502"},"Transp/201502","1414/201502","1414/0621/201502","19/201502","19/0621/201502","0621/201502",3154859.04,511286.48,2994624.32,391935.07999999996,936964.76,502559.17999999993,804845.22,172860.59,198245.15,170295.25]
[null,"01414","0378","201605",null,"01414","0621","201503",null,{"$f":"IF(C453=0,0,+VLOOKUP(C453,$AQ$4:$AR$130,2,FALSE))","v":"Res"},{"$f":"IF(J453=0,0,+CONCATENATE(VALUE(B453),\"/\",J453,\"/\",D453))","v":"1414/Res/201605"},{"$f":"IF(J453=0,0,+CONCATENATE(VLOOKUP(B453,Cadastro!$Q$3:$R$162,2,FALSE),\"/\",J453,\"/\",D453))","v":"19/Res/201605"},{"$f":"IF(J453=0,0,+CONCATENATE(J453,\"/\",D453))","v":"Res/201605"},"1414/201605","1414/0378/201605","19/201605","19/0378/201605","0378/201605",{"$f":"+VLOOKUP(G453,$AQ$4:$AR$130,2,FALSE)","v":"Transp"},{"$f":"+CONCATENATE(VALUE(F453),\"/\",S453,\"/\",H453)","v":"1414/Transp/201503"},{"$f":"+CONCATENATE(VLOOKUP(F453,Cadastro!$Q$3:$R$162,2,FALSE),\"/\",S453,\"/\",H453)","v":"19/Transp/201503"},"Transp/201503","1414/201503","1414/0621/201503","19/201503","19/0621/201503","0621/201503",3805684.26,630410.68000000005,3670845.8099999996,517779.48000000004,1075531.94,493287.58,710460.24,239324.01,266660.28000000003,156008.91]
[null,"01414","0378","201606",null,"01414","0621","201504",null,"Res","1414/Res/201606",{"$f":"IF(J454=0,0,+CONCATENATE(VLOOKUP(B454,Cadastro!$Q$3:$R$162,2,FALSE),\"/\",J454,\"/\",D454))","v":"19/Res/201606"},"Res/201606","1414/201606","1414/0378/201606","19/201606","19/0378/201606","0378/201606","Transp","1414/Transp/201504",{"$f":"+CONCATENATE(VLOOKUP(F454,Cadastro!$Q$3:$R$162,2,FALSE),\"/\",S454,\"/\",H454)","v":"19/Transp/201504"},{"$f":"+CONCATENATE(S454,\"/\",H454)","v":"Transp/201504"},"1414/201504","1414/0621/201504","19/201504","19/0621/201504","0621/201504",4035586.26,543498.1,3945587.1599999997,411155.72,1145710.99,587215.05999999994,970248.50000000012,119212.72,386426.7,147043.20000000001]
[null,"01414","0378","201607",null,"01414","0621","201505",null,"Res","1414/Res/201607",{"$f":"IF(J455=0,0,+CONCATENATE(VLOOKUP(B455,Cadastro!$Q$3:$R$162,2,FALSE),\"/\",J455,\"/\",D455))","v":"19/Res/201607"},"Res/201607","1414/201607","1414/0378/201607","19/201607","19/0378/201607","0378/201607","Transp","1414/Transp/201505",{"$f":"+CONCATENATE(VLOOKUP(F455,Cadastro!$Q$3:$R$162,2,FALSE),\"/\",S455,\"/\",H455)","v":"19/Transp/201505"},"Transp/201505","1414/201505","1414/0621/201505","19/201505","19/0621/201505","0621/201505",3438182.3,492349.45,3271558.02,372686.93,1153992.3,521345.82999999996,-693592.73,474403.80999999994,277465.94,155188.88]
[null,"01414","0378","201608",null,"01414","0621","201506",null,"Res","1414/Res/201608",{"$f":"IF(J456=0,0,+CONCATENATE(VLOOKUP(B456,Cadastro!$Q$3:$R$162,2,FALSE),\"/\",J456,\"/\",D456))","v":"19/Res/201608"},"Res/201608","1414/201608","1414/0378/201608","19/201608","19/0378/201608","0378/201608","Transp","1414/Transp/201506",{"$f":"+CONCATENATE(VLOOKUP(F456,Cadastro!$Q$3:$R$162,2,FALSE),\"/\",S456,\"/\",H456)","v":"19/Transp/201506"},"Transp/201506","1414/201506","1414/0621/201506","19/201506","19/0621/201506","0621/201506",3631750.98,782718.24,3460295.74,658287.75,1220610.82,559256.97,495595.87,1701740.1,262195.15000000002,187908.77]
[null,"01414","0378","201609",null,"01414","0621","201507",null,"Res","1414/Res/201609",{"$f":"IF(J457=0,0,+CONCATENATE(VLOOKUP(B457,Cadastro!$Q$3:$R$162,2,FALSE),\"/\",J457,\"/\",D457))","v":"19/Res/201609"},"Res/201609","1414/201609","1414/0378/201609","19/201609","19/0378/201609","0378/201609","Transp","1414/Transp/201507",{"$f":"+CONCATENATE(VLOOKUP(F457,Cadastro!$Q$3:$R$162,2,FALSE),\"/\",S457,\"/\",H457)","v":"19/Transp/201507"},"Transp/201507","1414/201507","1414/0621/201507","19/201507","19/0621/201507","0621/201507",2906170.05,1032018.71,2595760.8199999998,902514.25,1108972.8900000001,598536.5,11507.68,195938.91,269649.58,175653.64]
[null,"01414","0378","201610",null,"01414","0621","201508",null,"Res","1414/Res/201610",{"$f":"IF(J458=0,0,+CONCATENATE(VLOOKUP(B458,Cadastro!$Q$3:$R$162,2,FALSE),\"/\",J458,\"/\",D458))","v":"19/Res/201610"},"Res/201610","1414/201610","1414/0378/201610","19/201610","19/0378/201610","0378/201610","Transp","1414/Transp/201508",{"$f":"+CONCATENATE(VLOOKUP(F458,Cadastro!$Q$3:$R$162,2,FALSE),\"/\",S458,\"/\",H458)","v":"19/Transp/201508"},"Transp/201508","1414/201508","1414/0621/201508","19/201508","19/0621/201508","0621/201508",3419109.97,675350.7,3080404.0900000003,546805.77999999991,1090345.73,606032.03999999992,4338077.6100000003,613381.66999999993,-408248.65,181671.25]
[null,"01414","0378","201611",null,"01414","0621","201509",null,"Res","1414/Res/201611",{"$f":"IF(J459=0,0,+CONCATENATE(VLOOKUP(B459,Cadastro!$Q$3:$R$162,2,FALSE),\"/\",J459,\"/\",D459))","v":"19/Res/201611"},"Res/201611","1414/201611","1414/0378/201611","19/201611","19/0378/201611","0378/201611","Transp","1414/Transp/201509",{"$f":"+CONCATENATE(VLOOKUP(F459,Cadastro!$Q$3:$R$162,2,FALSE),\"/\",S459,\"/\",H459)","v":"19/Transp/201509"},"Transp/201509","1414/201509","1414/0621/201509","19/201509","19/0621/201509","0621/201509",3182962.83,767966.12,3142107.99,587094.47,1483995.64,673861.36,347259.04000000004,178872.56,212319.59,204339.75]
[null,"01414","0378","201612",null,"01414","0621","201510",null,"Res","1414/Res/201612",{"$f":"IF(J460=0,0,+CONCATENATE(VLOOKUP(B460,Cadastro!$Q$3:$R$162,2,FALSE),\"/\",J460,\"/\",D460))","v":"19/Res/201612"},"Res/201612","1414/201612","1414/0378/201612","19/201612","19/0378/201612","0378/201612","Transp","1414/Transp/201510",{"$f":"+CONCATENATE(VLOOKUP(F460,Cadastro!$Q$3:$R$162,2,FALSE),\"/\",S460,\"/\",H460)","v":"19/Transp/201510"},"Transp/201510","1414/201510","1414/0621/201510","19/201510","19/0621/201510","0621/201510",4123013.57,874214.91,4025276.3299999996,747517.3,1401821.56,635164.32999999996,85135.290000000008,217129.67000000004,276851.90999999997,185330.45]
[null,"01414","0621","201601",null,"01414","0621","201511",null,"Transp","1414/Transp/201601",{"$f":"IF(J461=0,0,+CONCATENATE(VLOOKUP(B461,Cadastro!$Q$3:$R$162,2,FALSE),\"/\",J461,\"/\",D461))","v":"19/Transp/201601"},"Transp/201601","1414/201601","1414/0621/201601","19/201601","19/0621/201601","0621/201601","Transp","1414/Transp/201511",{"$f":"+CONCATENATE(VLOOKUP(F461,Cadastro!$Q$3:$R$162,2,FALSE),\"/\",S461,\"/\",H461)","v":"19/Transp/201511"},"Transp/201511","1414/201511","1414/0621/201511","19/201511","19/0621/201511","0621/201511",820425.48,681597.45,697007.79,552637.46,673325.69,661184.27,319430.45,268172.46999999997,186777.41,202944.5]
[null,"01414","0621","201602",null,"01414","0621","201512",null,"Transp","1414/Transp/201602",{"$f":"IF(J462=0,0,+CONCATENATE(VLOOKUP(B462,Cadastro!$Q$3:$R$162,2,FALSE),\"/\",J462,\"/\",D462))","v":"19/Transp/201602"},"Transp/201602","1414/201602","1414/0621/201602","19/201602","19/0621/201602","0621/201602","Transp","1414/Transp/201512",{"$f":"+CONCATENATE(VLOOKUP(F462,Cadastro!$Q$3:$R$162,2,FALSE),\"/\",S462,\"/\",H462)","v":"19/Transp/201512"},"Transp/201512","1414/201512","1414/0621/201512","19/201512","19/0621/201512","0621/201512",644143.12,430165.79,539458.57999999996,371450.17,501695.91,345751.99,279721.88,-1179183.45,161117.16,89696.84]
[null,"01414","0621","201603",null,"01414","0622","201501",null,"Transp","1414/Transp/201603",{"$f":"IF(J463=0,0,+CONCATENATE(VLOOKUP(B463,Cadastro!$Q$3:$R$162,2,FALSE),\"/\",J463,\"/\",D463))","v":"19/Transp/201603"},"Transp/201603","1414/201603","1414/0621/201603","19/201603","19/0621/201603","0621/201603","Transp","1414/Transp/201501",{"$f":"+CONCATENATE(VLOOKUP(F463,Cadastro!$Q$3:$R$162,2,FALSE),\"/\",S463,\"/\",H463)","v":"19/Transp/201501"},"Transp/201501","1414/201501","1414/0622/201501","19/201501","19/0622/201501","0622/201501",637543.15,555633.65,529820.03,435560.97000000003,559006.91,498205.57,255765.83000000002,241272.49,181911.85,181008.91]
[null,"01414","0621","201604",null,"01414","0622","201502",null,"Transp","1414/Transp/201604",{"$f":"IF(J464=0,0,+CONCATENATE(VLOOKUP(B464,Cadastro!$Q$3:$R$162,2,FALSE),\"/\",J464,\"/\",D464))","v":"19/Transp/201604"},"Transp/201604","1414/201604","1414/0621/201604","19/201604","19/0621/201604","0621/201604","Transp","1414/Transp/201502",{"$f":"+CONCATENATE(VLOOKUP(F464,Cadastro!$Q$3:$R$162,2,FALSE),\"/\",S464,\"/\",H464)","v":"19/Transp/201502"},"Transp/201502","1414/201502","1414/0622/201502","19/201502","19/0622/201502","0622/201502",633162.68000000005,754657.28000000003,515231.73000000004,541750.95010000002,652698.89,436833.17009999999,34793.759999999995,124523.59,211641.64,218191.91]
[null,"01414","0621","201605",null,"01414","0622","201503",null,"Transp","1414/Transp/201605",{"$f":"IF(J465=0,0,+CONCATENATE(VLOOKUP(B465,Cadastro!$Q$3:$R$162,2,FALSE),\"/\",J465,\"/\",D465))","v":"19/Transp/201605"},"Transp/201605","1414/201605","1414/0621/201605","19/201605","19/0621/201605","0621/201605","Transp","1414/Transp/201503",{"$f":"+CONCATENATE(VLOOKUP(F465,Cadastro!$Q$3:$R$162,2,FALSE),\"/\",S465,\"/\",H465)","v":"19/Transp/201503"},"Transp/201503","1414/201503","1414/0622/201503","19/201503","19/0622/201503","0622/201503",1030670.62,876436.59,921135.57,578254.71010000003,623772.16999999993,567491.85009999992,695181.11,165686.84999999998,184434.95,252329.2]
[null,"01414","0621","201606",null,"01414","0622","201504",null,"Transp","1414/Transp/201606",{"$f":"IF(J466=0,0,+CONCATENATE(VLOOKUP(B466,Cadastro!$Q$3:$R$162,2,FALSE),\"/\",J466,\"/\",D466))","v":"19/Transp/201606"},"Transp/201606","1414/201606","1414/0621/201606","19/201606","19/0621/201606","0621/201606","Transp","1414/Transp/201504",{"$f":"+CONCATENATE(VLOOKUP(F466,Cadastro!$Q$3:$R$162,2,FALSE),\"/\",S466,\"/\",H466)","v":"19/Transp/201504"},"Transp/201504","1414/201504","1414/0622/201504","19/201504","19/0622/201504","0622/201504",1333890.21,806976.31,1172591.29,653642.33000000007,768714.49,694874.94000000006,457510.07999999996,57664.04,163949.35,249160.25]
[null,"01414","0621","201607",null,"01414","0622","201505",null,"Transp","1414/Transp/201607",{"$f":"IF(J467=0,0,+CONCATENATE(VLOOKUP(B467,Cadastro!$Q$3:$R$162,2,FALSE),\"/\",J467,\"/\",D467))","v":"19/Transp/201607"},"Transp/201607","1414/201607","1414/0621/201607","19/201607","19/0621/201607","0621/201607","Transp","1414/Transp/201505",{"$f":"+CONCATENATE(VLOOKUP(F467,Cadastro!$Q$3:$R$162,2,FALSE),\"/\",S467,\"/\",H467)","v":"19/Transp/201505"},"Transp/201505","1414/201505","1414/0622/201505","19/201505","19/0622/201505","0622/201505",1525395.29,672049.03,1393649,543758.19000000006,779015.27,574641.14,5353078.17,-161279.66999999998,233174.65,210060.78]
[null,"01414","0621","201608",null,"01414","0622","201506",null,"Transp","1414/Transp/201608",{"$f":"IF(J468=0,0,+CONCATENATE(VLOOKUP(B468,Cadastro!$Q$3:$R$162,2,FALSE),\"/\",J468,\"/\",D468))","v":"19/Transp/201608"},"Transp/201608","1414/201608","1414/0621/201608","19/201608","19/0621/201608","0621/201608","Transp","1414/Transp/201506",{"$f":"+CONCATENATE(VLOOKUP(F468,Cadastro!$Q$3:$R$162,2,FALSE),\"/\",S468,\"/\",H468)","v":"19/Transp/201506"},"Transp/201506","1414/201506","1414/0622/201506","19/201506","19/0622/201506","0622/201506",791735.48,737905.7,631999.55999999994,607704.01,813181.09,589738.41999999993,1154233.46,-456424.45,241259.45,216562.01]
[null,"01414","0621","201609",null,"01414","0622","201507",null,"Transp","1414/Transp/201609",{"$f":"IF(J469=0,0,+CONCATENATE(VLOOKUP(B469,Cadastro!$Q$3:$R$162,2,FALSE),\"/\",J469,\"/\",D469))","v":"19/Transp/201609"},"Transp/201609","1414/201609","1414/0621/201609","19/201609","19/0621/201609","0621/201609","Transp","1414/Transp/201507",{"$f":"+CONCATENATE(VLOOKUP(F469,Cadastro!$Q$3:$R$162,2,FALSE),\"/\",S469,\"/\",H469)","v":"19/Transp/201507"},"Transp/201507","1414/201507","1414/0622/201507","19/201507","19/0622/201507","0622/201507",1036497.95,769052.22,875240.1,631781.02,877906.15,631379.31000000006,519062.18999999994,209015.47999999998,264168.34999999998,233391.08]
[null,"01414","0621","201610",null,"01414","0622","201508",null,"Transp","1414/Transp/201610",{"$f":"IF(J470=0,0,+CONCATENATE(VLOOKUP(B470,Cadastro!$Q$3:$R$162,2,FALSE),\"/\",J470,\"/\",D470))","v":"19/Transp/201610"},"Transp/201610","1414/201610","1414/0621/201610","19/201610","19/0621/201610","0621/201610","Transp","1414/Transp/201508",{"$f":"+CONCATENATE(VLOOKUP(F470,Cadastro!$Q$3:$R$162,2,FALSE),\"/\",S470,\"/\",H470)","v":"19/Transp/201508"},"Transp/201508","1414/201508","1414/0622/201508","19/201508","19/0622/201508","0622/201508",858809.93,917042.7,656453.73,754609.78999999992,850019.87000000011,761182.25,-5250658.7299999995,161738.15,60512.639999999999,273939.56]
[null,"01414","0621","201611",null,"01414","0622","201509",null,"Transp","1414/Transp/201611",{"$f":"IF(J471=0,0,+CONCATENATE(VLOOKUP(B471,Cadastro!$Q$3:$R$162,2,FALSE),\"/\",J471,\"/\",D471))","v":"19/Transp/201611"},"Transp/201611","1414/201611","1414/0621/201611","19/201611","19/0621/201611","0621/201611","Transp","1414/Transp/201509",{"$f":"+CONCATENATE(VLOOKUP(F471,Cadastro!$Q$3:$R$162,2,FALSE),\"/\",S471,\"/\",H471)","v":"19/Transp/201509"},"Transp/201509","1414/201509","1414/0622/201509","19/201509","19/0622/201509","0622/201509",607171.76,978837.96,494644.29000000004,773517.44,710577.75,767971.58,478999.73000000004,56381.820000000007,182203.3,290554.57]
[null,"01414","0621","201612",null,"01414","0622","201510",null,"Transp","1414/Transp/201612",{"$f":"IF(J472=0,0,+CONCATENATE(VLOOKUP(B472,Cadastro!$Q$3:$R$162,2,FALSE),\"/\",J472,\"/\",D472))","v":"19/Transp/201612"},"Transp/201612","1414/201612","1414/0621/201612","19/201612","19/0621/201612","0621/201612","Transp","1414/Transp/201510",{"$f":"+CONCATENATE(VLOOKUP(F472,Cadastro!$Q$3:$R$162,2,FALSE),\"/\",S472,\"/\",H472)","v":"19/Transp/201510"},"Transp/201510","1414/201510","1414/0622/201510","19/201510","19/0622/201510","0622/201510",864983.94,974824.51,751165.92999999993,800537.49,754017.62,853312.33,643063.85,333098.32,199277.3,306577.21999999997]
[null,"01414","0622","201601",null,"01414","0622","201511",null,"Transp","1414/Transp/201601",{"$f":"IF(J473=0,0,+CONCATENATE(VLOOKUP(B473,Cadastro!$Q$3:$R$162,2,FALSE),\"/\",J473,\"/\",D473))","v":"19/Transp/201601"},"Transp/201601","1414/201601","1414/0622/201601","19/201601","19/0622/201601","0622/201601","Transp","1414/Transp/201511",{"$f":"+CONCATENATE(VLOOKUP(F473,Cadastro!$Q$3:$R$162,2,FALSE),\"/\",S473,\"/\",H473)","v":"19/Transp/201511"},"Transp/201511","1414/201511","1414/0622/201511","19/201511","19/0622/201511","0622/201511",814036.53,776008.54,676795.62,637590.79,713231.24,693837.38,404933.11000000004,327306.46000000002,268668.69,250184.14]
[null,"01414","0622","201602",null,"01414","0622","201512",null,"Transp","1414/Transp/201602",{"$f":"IF(J474=0,0,+CONCATENATE(VLOOKUP(B474,Cadastro!$Q$3:$R$162,2,FALSE),\"/\",J474,\"/\",D474))","v":"19/Transp/201602"},"Transp/201602","1414/201602","1414/0622/201602","19/201602","19/0622/201602","0622/201602","Transp","1414/Transp/201512",{"$f":"+CONCATENATE(VLOOKUP(F474,Cadastro!$Q$3:$R$162,2,FALSE),\"/\",S474,\"/\",H474)","v":"19/Transp/201512"},"Transp/201512","1414/201512","1414/0622/201512","19/201512","19/0622/201512","0622/201512",815797.79,360969.93,664660.8600000001,326061.90000000002,726947.17999999993,303485.54000000004,-58134.86,914240.96,267832.31,121318.87]
[null,"01414","0622","201603",null,"01414","0632","201501",null,"Transp","1414/Transp/201603",{"$f":"IF(J475=0,0,+CONCATENATE(VLOOKUP(B475,Cadastro!$Q$3:$R$162,2,FALSE),\"/\",J475,\"/\",D475))","v":"19/Transp/201603"},"Transp/201603","1414/201603","1414/0622/201603","19/201603","19/0622/201603","0622/201603","Transp","1414/Transp/201501",{"$f":"+CONCATENATE(VLOOKUP(F475,Cadastro!$Q$3:$R$162,2,FALSE),\"/\",S475,\"/\",H475)","v":"19/Transp/201501"},"Transp/201501","1414/201501","1414/0632/201501","19/201501","19/0632/201501","0632/201501",683960.98,26663.86,577074.30999999994,21310.57,579658.7699999999,21289.579999999998,-172329.86,8303.4399999999987,243730.39,6872.98]
[null,"01414","0622","201604",null,"01414","0632","201502",null,"Transp","1414/Transp/201604",{"$f":"IF(J476=0,0,+CONCATENATE(VLOOKUP(B476,Cadastro!$Q$3:$R$162,2,FALSE),\"/\",J476,\"/\",D476))","v":"19/Transp/201604"},"Transp/201604","1414/201604","1414/0622/201604","19/201604","19/0622/201604","0622/201604","Transp","1414/Transp/201502",{"$f":"+CONCATENATE(VLOOKUP(F476,Cadastro!$Q$3:$R$162,2,FALSE),\"/\",S476,\"/\",H476)","v":"19/Transp/201502"},"Transp/201502","1414/201502","1414/0632/201502","19/201502","19/0632/201502","0632/201502",884385.71,27067.52,745028.63,17794.150000000001,742053.37,17773.159999999996,188699.24,21063.840000000004,249294.96,8743.4699999999993]
[null,"01414","0622","201605",null,"01414","0632","201503",null,"Transp","1414/Transp/201605",{"$f":"IF(J477=0,0,+CONCATENATE(VLOOKUP(B477,Cadastro!$Q$3:$R$162,2,FALSE),\"/\",J477,\"/\",D477))","v":"19/Transp/201605"},"Transp/201605","1414/201605","1414/0622/201605","19/201605","19/0622/201605","0622/201605","Transp","1414/Transp/201503",{"$f":"+CONCATENATE(VLOOKUP(F477,Cadastro!$Q$3:$R$162,2,FALSE),\"/\",S477,\"/\",H477)","v":"19/Transp/201503"},"Transp/201503","1414/201503","1414/0632/201503","19/201503","19/0632/201503","0632/201503",655467.73,-28952.94,553137.21,-30690.099899999997,570826.97,-30690.099899999997,161585.75,18273.66,221370.69,-10062.86]
[null,"01414","0622","201606",null,"01414","0632","201504",null,"Transp","1414/Transp/201606",{"$f":"IF(J478=0,0,+CONCATENATE(VLOOKUP(B478,Cadastro!$Q$3:$R$162,2,FALSE),\"/\",J478,\"/\",D478))","v":"19/Transp/201606"},"Transp/201606","1414/201606","1414/0622/201606","19/201606","19/0622/201606","0622/201606","Transp","1414/Transp/201504",{"$f":"+CONCATENATE(VLOOKUP(F478,Cadastro!$Q$3:$R$162,2,FALSE),\"/\",S478,\"/\",H478)","v":"19/Transp/201504"},"Transp/201504","1414/201504","1414/0632/201504","19/201504","19/0632/201504","0632/201504",887214.07999999996,10920.88,768020.66999999993,8837.66,622039.30999999994,8837.66,258960.30000000002,24356.17,206447.18,1336.52]
[null,"01414","0622","201607",null,"01414","0632","201505",null,"Transp","1414/Transp/201607",{"$f":"IF(J479=0,0,+CONCATENATE(VLOOKUP(B479,Cadastro!$Q$3:$R$162,2,FALSE),\"/\",J479,\"/\",D479))","v":"19/Transp/201607"},"Transp/201607","1414/201607","1414/0622/201607","19/201607","19/0622/201607","0622/201607","Transp","1414/Transp/201505",{"$f":"+CONCATENATE(VLOOKUP(F479,Cadastro!$Q$3:$R$162,2,FALSE),\"/\",S479,\"/\",H479)","v":"19/Transp/201505"},"Transp/201505","1414/201505","1414/0632/201505","19/201505","19/0632/201505","0632/201505",1188249.7,18982.02,1077271,15634.19,649840,15634.19,53276.76,-4597.4699999999993,255882.74,3138.36]
[null,"01414","0622","201608",null,"01414","0632","201506",null,"Transp","1414/Transp/201608",{"$f":"IF(J480=0,0,+CONCATENATE(VLOOKUP(B480,Cadastro!$Q$3:$R$162,2,FALSE),\"/\",J480,\"/\",D480))","v":"19/Transp/201608"},"Transp/201608","1414/201608","1414/0622/201608","19/201608","19/0622/201608","0622/201608","Transp","1414/Transp/201506",{"$f":"+CONCATENATE(VLOOKUP(F480,Cadastro!$Q$3:$R$162,2,FALSE),\"/\",S480,\"/\",H480)","v":"19/Transp/201506"},"Transp/201506","1414/201506","1414/0632/201506","19/201506","19/0632/201506","0632/201506",801508.6,18000.39,651080.77,15135.38,720536.69000000006,15135.38,138317.91999999998,-19659.490000000002,276730.78999999998,3133.63]
[null,"01414","0622","201609",null,"01414","0632","201507",null,"Transp","1414/Transp/201609",{"$f":"IF(J481=0,0,+CONCATENATE(VLOOKUP(B481,Cadastro!$Q$3:$R$162,2,FALSE),\"/\",J481,\"/\",D481))","v":"19/Transp/201609"},"Transp/201609","1414/201609","1414/0622/201609","19/201609","19/0622/201609","0622/201609","Transp","1414/Transp/201507",{"$f":"+CONCATENATE(VLOOKUP(F481,Cadastro!$Q$3:$R$162,2,FALSE),\"/\",S481,\"/\",H481)","v":"19/Transp/201507"},"Transp/201507","1414/201507","1414/0632/201507","19/201507","19/0632/201507","0632/201507",946526.63,6932.06,794925.3,5861.08,830409.87,5861.08,212882.00000000003,0,318743.37,1424.65]
[null,"01414","0622","201610",null,"01414","0632","201508",null,"Transp","1414/Transp/201610",{"$f":"IF(J482=0,0,+CONCATENATE(VLOOKUP(B482,Cadastro!$Q$3:$R$162,2,FALSE),\"/\",J482,\"/\",D482))","v":"19/Transp/201610"},"Transp/201610","1414/201610","1414/0622/201610","19/201610","19/0622/201610","0622/201610","Transp","1414/Transp/201508",{"$f":"+CONCATENATE(VLOOKUP(F482,Cadastro!$Q$3:$R$162,2,FALSE),\"/\",S482,\"/\",H482)","v":"19/Transp/201508"},"Transp/201508","1414/201508","1414/0632/201508","19/201508","19/0632/201508","0632/201508",860258.34,12376.8,876587.75,10394.74,883645.92,10394.74,298429.30000000005,24523.120000000003,19684.53,2346.39]
[null,"01414","0622","201611",null,"01414","0632","201509",null,"Transp","1414/Transp/201611",{"$f":"IF(J483=0,0,+CONCATENATE(VLOOKUP(B483,Cadastro!$Q$3:$R$162,2,FALSE),\"/\",J483,\"/\",D483))","v":"19/Transp/201611"},"Transp/201611","1414/201611","1414/0622/201611","19/201611","19/0622/201611","0622/201611","Transp","1414/Transp/201509",{"$f":"+CONCATENATE(VLOOKUP(F483,Cadastro!$Q$3:$R$162,2,FALSE),\"/\",S483,\"/\",H483)","v":"19/Transp/201509"},"Transp/201509","1414/201509","1414/0632/201509","19/201509","19/0632/201509","0632/201509",849389.39,18074.439999999999,730646.51,14407.72,731167.05999999994,14407.72,127812.88,0,274820.96999999997,-829.71]
[null,"01414","0622","201612",null,"01414","0632","201510",null,"Transp","1414/Transp/201612",{"$f":"IF(J484=0,0,+CONCATENATE(VLOOKUP(B484,Cadastro!$Q$3:$R$162,2,FALSE),\"/\",J484,\"/\",D484))","v":"19/Transp/201612"},"Transp/201612","1414/201612","1414/0622/201612","19/201612","19/0622/201612","0622/201612","Transp","1414/Transp/201510",{"$f":"+CONCATENATE(VLOOKUP(F484,Cadastro!$Q$3:$R$162,2,FALSE),\"/\",S484,\"/\",H484)","v":"19/Transp/201510"},"Transp/201510","1414/201510","1414/0632/201510","19/201510","19/0632/201510","0632/201510",906529.15,20126.12,776425.59000000008,16918.419999999998,839272.6399999999,16918.419999999998,131547.69,10039.549999999999,271003.31,4993.5600000000004]
[null,"01414","0632","201601",null,"01414","0632","201511",null,"Transp","1414/Transp/201601",{"$f":"IF(J485=0,0,+CONCATENATE(VLOOKUP(B485,Cadastro!$Q$3:$R$162,2,FALSE),\"/\",J485,\"/\",D485))","v":"19/Transp/201601"},"Transp/201601","1414/201601","1414/0632/201601","19/201601","19/0632/201601","0632/201601","Transp","1414/Transp/201511",{"$f":"+CONCATENATE(VLOOKUP(F485,Cadastro!$Q$3:$R$162,2,FALSE),\"/\",S485,\"/\",H485)","v":"19/Transp/201511"},"Transp/201511","1414/201511","1414/0632/201511","19/201511","19/0632/201511","0632/201511",24835.32,18696.080000000002,20923.82,15751.530000000002,20923.82,15751.530000000002,17885.599999999999,60.019999999999996,5318.29,2686.53]
[null,"01414","0632","201602",null,"01414","0632","201512",null,"Transp","1414/Transp/201602",{"$f":"IF(J486=0,0,+CONCATENATE(VLOOKUP(B486,Cadastro!$Q$3:$R$162,2,FALSE),\"/\",J486,\"/\",D486))","v":"19/Transp/201602"},"Transp/201602","1414/201602","1414/0632/201602","19/201602","19/0632/201602","0632/201602","Transp","1414/Transp/201512",{"$f":"+CONCATENATE(VLOOKUP(F486,Cadastro!$Q$3:$R$162,2,FALSE),\"/\",S486,\"/\",H486)","v":"19/Transp/201512"},"Transp/201512","1414/201512","1414/0632/201512","19/201512","19/0632/201512","0632/201512",8752.02,-1037.96,7063.1200000000008,-562.77,7063.1200000000008,166.04000000000002,-14229.95,142357.70000000001,2629.07,-1276.76]
[null,"01414","0632","201603",null,"01414","0652","201501",null,"Transp","1414/Transp/201603",{"$f":"IF(J487=0,0,+CONCATENATE(VLOOKUP(B487,Cadastro!$Q$3:$R$162,2,FALSE),\"/\",J487,\"/\",D487))","v":"19/Transp/201603"},"Transp/201603","1414/201603","1414/0632/201603","19/201603","19/0632/201603","0632/201603","Transp","1414/Transp/201501",{"$f":"+CONCATENATE(VLOOKUP(F487,Cadastro!$Q$3:$R$162,2,FALSE),\"/\",S487,\"/\",H487)","v":"19/Transp/201501"},"Transp/201501","1414/201501","1414/0652/201501","19/201501","19/0652/201501","0652/201501",15806.92,36187.21,13403.29,28944.22,13403.29,28922.5,12701.79,44685.09,3696.91,9472.35]
[null,"01414","0632","201604",null,"01414","0652","201502",null,"Transp","1414/Transp/201604",{"$f":"IF(J488=0,0,+CONCATENATE(VLOOKUP(B488,Cadastro!$Q$3:$R$162,2,FALSE),\"/\",J488,\"/\",D488))","v":"19/Transp/201604"},"Transp/201604","1414/201604","1414/0632/201604","19/201604","19/0632/201604","0632/201604","Transp","1414/Transp/201502",{"$f":"+CONCATENATE(VLOOKUP(F488,Cadastro!$Q$3:$R$162,2,FALSE),\"/\",S488,\"/\",H488)","v":"19/Transp/201502"},"Transp/201502","1414/201502","1414/0652/201502","19/201502","19/0652/201502","0652/201502",16757.080000000002,26110.2,14236.610000000002,21192.91,14236.610000000002,21171.18,-17761.649999999998,562.97,3480.77,10833.22]
[null,"01414","0632","201605",null,"01414","0652","201503",null,"Transp","1414/Transp/201605",{"$f":"IF(J489=0,0,+CONCATENATE(VLOOKUP(B489,Cadastro!$Q$3:$R$162,2,FALSE),\"/\",J489,\"/\",D489))","v":"19/Transp/201605"},"Transp/201605","1414/201605","1414/0632/201605","19/201605","19/0632/201605","0632/201605","Transp","1414/Transp/201503",{"$f":"+CONCATENATE(VLOOKUP(F489,Cadastro!$Q$3:$R$162,2,FALSE),\"/\",S489,\"/\",H489)","v":"19/Transp/201503"},"Transp/201503","1414/201503","1414/0652/201503","19/201503","19/0652/201503","0652/201503",4942.3500000000004,14268.47,4431.88,11222.25,4431.88,11222.25,543.57999999999993,-1809.8899999999999,1300.82,3614.96]
[null,"01414","0632","201606",null,"01414","0652","201504",null,"Transp","1414/Transp/201606",{"$f":"IF(J490=0,0,+CONCATENATE(VLOOKUP(B490,Cadastro!$Q$3:$R$162,2,FALSE),\"/\",J490,\"/\",D490))","v":"19/Transp/201606"},"Transp/201606","1414/201606","1414/0632/201606","19/201606","19/0632/201606","0632/201606","Transp","1414/Transp/201504",{"$f":"+CONCATENATE(VLOOKUP(F490,Cadastro!$Q$3:$R$162,2,FALSE),\"/\",S490,\"/\",H490)","v":"19/Transp/201504"},"Transp/201504","1414/201504","1414/0652/201504","19/201504","19/0652/201504","0652/201504",9399.9599999999991,25861.200000000001,8114.48,21135.5,8114.48,21135.5,5130.63,10905.099999999999,2479.39,6630.99]
[null,"01414","0632","201607",null,"01414","0652","201505",null,"Transp","1414/Transp/201607",{"$f":"IF(J491=0,0,+CONCATENATE(VLOOKUP(B491,Cadastro!$Q$3:$R$162,2,FALSE),\"/\",J491,\"/\",D491))","v":"19/Transp/201607"},"Transp/201607","1414/201607","1414/0632/201607","19/201607","19/0632/201607","0632/201607","Transp","1414/Transp/201505",{"$f":"+CONCATENATE(VLOOKUP(F491,Cadastro!$Q$3:$R$162,2,FALSE),\"/\",S491,\"/\",H491)","v":"19/Transp/201505"},"Transp/201505","1414/201505","1414/0652/201505","19/201505","19/0652/201505","0652/201505",6232.85,38601.61,5356.9000000000005,31703.91,5356.9000000000005,31703.91,146167.72999999998,-3917.0499999999997,1672.35,10455.39]
[null,"01414","0632","201608",null,"01414","0652","201506",null,"Transp","1414/Transp/201608",{"$f":"IF(J492=0,0,+CONCATENATE(VLOOKUP(B492,Cadastro!$Q$3:$R$162,2,FALSE),\"/\",J492,\"/\",D492))","v":"19/Transp/201608"},"Transp/201608","1414/201608","1414/0632/201608","19/201608","19/0632/201608","0632/201608","Transp","1414/Transp/201506",{"$f":"+CONCATENATE(VLOOKUP(F492,Cadastro!$Q$3:$R$162,2,FALSE),\"/\",S492,\"/\",H492)","v":"19/Transp/201506"},"Transp/201506","1414/201506","1414/0652/201506","19/201506","19/0652/201506","0652/201506",7648.3,33935.96,5789.1100000000006,28107.199999999997,5789.1100000000006,28107.199999999997,72883.290000000008,-18457.02,2057.6,9096.4]
[null,"01414","0632","201609",null,"01414","0652","201507",null,"Transp","1414/Transp/201609",{"$f":"IF(J493=0,0,+CONCATENATE(VLOOKUP(B493,Cadastro!$Q$3:$R$162,2,FALSE),\"/\",J493,\"/\",D493))","v":"19/Transp/201609"},"Transp/201609","1414/201609","1414/0632/201609","19/201609","19/0632/201609","0632/201609","Transp","1414/Transp/201507",{"$f":"+CONCATENATE(VLOOKUP(F493,Cadastro!$Q$3:$R$162,2,FALSE),\"/\",S493,\"/\",H493)","v":"19/Transp/201507"},"Transp/201507","1414/201507","1414/0652/201507","19/201507","19/0652/201507","0652/201507",7681.92,26462.400000000001,6437.31,22103.88,6437.31,22103.88,75748.160000000003,1103,2186.0500000000002,7065.38]
[null,"01414","0632","201610",null,"01414","0652","201508",null,"Transp","1414/Transp/201610",{"$f":"IF(J494=0,0,+CONCATENATE(VLOOKUP(B494,Cadastro!$Q$3:$R$162,2,FALSE),\"/\",J494,\"/\",D494))","v":"19/Transp/201610"},"Transp/201610","1414/201610","1414/0632/201610","19/201610","19/0632/201610","0632/201610","Transp","1414/Transp/201508",{"$f":"+CONCATENATE(VLOOKUP(F494,Cadastro!$Q$3:$R$162,2,FALSE),\"/\",S494,\"/\",H494)","v":"19/Transp/201508"},"Transp/201508","1414/201508","1414/0652/201508","19/201508","19/0652/201508","0652/201508",7662.49,31242.81,6777.5999999999995,26352.170000000002,6777.5999999999995,26352.170000000002,-264279.3,479.83,-2321.89,8099.05]
[null,"01414","0632","201611",null,"01414","0652","201509",null,"Transp","1414/Transp/201611",{"$f":"IF(J495=0,0,+CONCATENATE(VLOOKUP(B495,Cadastro!$Q$3:$R$162,2,FALSE),\"/\",J495,\"/\",D495))","v":"19/Transp/201611"},"Transp/201611","1414/201611","1414/0632/201611","19/201611","19/0632/201611","0632/201611","Transp","1414/Transp/201509",{"$f":"+CONCATENATE(VLOOKUP(F495,Cadastro!$Q$3:$R$162,2,FALSE),\"/\",S495,\"/\",H495)","v":"19/Transp/201509"},"Transp/201509","1414/201509","1414/0652/201509","19/201509","19/0652/201509","0652/201509",9684.32,31337.16,8372.18,24765.4,8372.18,24765.4,-21989.64,-370.45999999999992,2421.08,7990.79]
[null,"01414","0632","201612",null,"01414","0652","201510",null,"Transp","1414/Transp/201612",{"$f":"IF(J496=0,0,+CONCATENATE(VLOOKUP(B496,Cadastro!$Q$3:$R$162,2,FALSE),\"/\",J496,\"/\",D496))","v":"19/Transp/201612"},"Transp/201612","1414/201612","1414/0632/201612","19/201612","19/0632/201612","0632/201612","Transp","1414/Transp/201510",{"$f":"+CONCATENATE(VLOOKUP(F496,Cadastro!$Q$3:$R$162,2,FALSE),\"/\",S496,\"/\",H496)","v":"19/Transp/201510"},"Transp/201510","1414/201510","1414/0652/201510","19/201510","19/0652/201510","0652/201510",9918.4699999999993,40305.360000000001,8574.5,33902.21,8574.5,33902.21,0,29095.489999999998,2479.6,10447.11]
[null,"01414","0652","201601",null,"01414","0652","201511",null,"Transp","1414/Transp/201601",{"$f":"IF(J497=0,0,+CONCATENATE(VLOOKUP(B497,Cadastro!$Q$3:$R$162,2,FALSE),\"/\",J497,\"/\",D497))","v":"19/Transp/201601"},"Transp/201601","1414/201601","1414/0652/201601","19/201601","19/0652/201601","0652/201601","Transp","1414/Transp/201511",{"$f":"+CONCATENATE(VLOOKUP(F497,Cadastro!$Q$3:$R$162,2,FALSE),\"/\",S497,\"/\",H497)","v":"19/Transp/201511"},"Transp/201511","1414/201511","1414/0652/201511","19/201511","19/0652/201511","0652/201511",71950.100000000006,57598.18,60489.670000000006,48739.34,60489.670000000006,48739.34,-6641.84,12575.630000000001,18357.689999999999,14434.94]
[null,"01414","0652","201602",null,"01414","0652","201512",null,"Transp","1414/Transp/201602",{"$f":"IF(J498=0,0,+CONCATENATE(VLOOKUP(B498,Cadastro!$Q$3:$R$162,2,FALSE),\"/\",J498,\"/\",D498))","v":"19/Transp/201602"},"Transp/201602","1414/201602","1414/0652/201602","19/201602","19/0652/201602","0652/201602","Transp","1414/Transp/201512",{"$f":"+CONCATENATE(VLOOKUP(F498,Cadastro!$Q$3:$R$162,2,FALSE),\"/\",S498,\"/\",H498)","v":"19/Transp/201512"},"Transp/201512","1414/201512","1414/0652/201512","19/201512","19/0652/201512","0652/201512",51508.4,27652.6,42731.380000000005,23268.799999999999,42731.380000000005,24022.75,20903.099999999999,17782.25,13623.94,7259.13]
[null,"01414","0652","201603",null,"01414","0654","201501",null,"Transp","1414/Transp/201603",{"$f":"IF(J499=0,0,+CONCATENATE(VLOOKUP(B499,Cadastro!$Q$3:$R$162,2,FALSE),\"/\",J499,\"/\",D499))","v":"19/Transp/201603"},"Transp/201603","1414/201603","1414/0652/201603","19/201603","19/0652/201603","0652/201603","Transp","1414/Transp/201501",{"$f":"+CONCATENATE(VLOOKUP(F499,Cadastro!$Q$3:$R$162,2,FALSE),\"/\",S499,\"/\",H499)","v":"19/Transp/201501"},"Transp/201501","1414/201501","1414/0654/201501","19/201501","19/0654/201501","0654/201501",61236.54,1070269.23,51594.34,848645.24,51594.34,893709.44,-16567.82,682648.59999999986,15303.04,283750.65999999997]
[null,"01414","0652","201604",null,"01414","0654","201502",null,"Transp","1414/Transp/201604",{"$f":"IF(J500=0,0,+CONCATENATE(VLOOKUP(B500,Cadastro!$Q$3:$R$162,2,FALSE),\"/\",J500,\"/\",D500))","v":"19/Transp/201604"},"Transp/201604","1414/201604","1414/0652/201604","19/201604","19/0652/201604","0652/201604","Transp","1414/Transp/201502",{"$f":"+CONCATENATE(VLOOKUP(F500,Cadastro!$Q$3:$R$162,2,FALSE),\"/\",S500,\"/\",H500)","v":"19/Transp/201502"},"Transp/201502","1414/201502","1414/0654/201502","19/201502","19/0654/201502","0654/201502",58170.64,1003226.43,49008.79,815195.38010000007,49008.79,855823.0601,5810.67,301718.68000000005,15897.24,283246.18]
[null,"01414","0652","201605",null,"01414","0654","201503",null,"Transp","1414/Transp/201605",{"$f":"IF(J501=0,0,+CONCATENATE(VLOOKUP(B501,Cadastro!$Q$3:$R$162,2,FALSE),\"/\",J501,\"/\",D501))","v":"19/Transp/201605"},"Transp/201605","1414/201605","1414/0652/201605","19/201605","19/0652/201605","0652/201605","Transp","1414/Transp/201503",{"$f":"+CONCATENATE(VLOOKUP(F501,Cadastro!$Q$3:$R$162,2,FALSE),\"/\",S501,\"/\",H501)","v":"19/Transp/201503"},"Transp/201503","1414/201503","1414/0654/201503","19/201503","19/0654/201503","0654/201503",70685.42,1111474.48,59770.45,904835.95,59770.45,900056.94,-4516.5999999999995,471320.07999999996,17896.61,268118.59000000003]
[null,"01414","0652","201606",null,"01414","0654","201504",null,"Transp","1414/Transp/201606",{"$f":"IF(J502=0,0,+CONCATENATE(VLOOKUP(B502,Cadastro!$Q$3:$R$162,2,FALSE),\"/\",J502,\"/\",D502))","v":"19/Transp/201606"},"Transp/201606","1414/201606","1414/0652/201606","19/201606","19/0652/201606","0652/201606","Transp","1414/Transp/201504",{"$f":"+CONCATENATE(VLOOKUP(F502,Cadastro!$Q$3:$R$162,2,FALSE),\"/\",S502,\"/\",H502)","v":"19/Transp/201504"},"Transp/201504","1414/201504","1414/0654/201504","19/201504","19/0654/201504","0654/201504",62385.98,1383243.36,52859.850000000006,1112103.27,52859.850000000006,1197604.99,61432.22,75497.890000000014,16122.74,356342.83]
[null,"01414","0652","201607",null,"01414","0654","201505",null,"Transp","1414/Transp/201607",{"$f":"IF(J503=0,0,+CONCATENATE(VLOOKUP(B503,Cadastro!$Q$3:$R$162,2,FALSE),\"/\",J503,\"/\",D503))","v":"19/Transp/201607"},"Transp/201607","1414/201607","1414/0652/201607","19/201607","19/0652/201607","0652/201607","Transp","1414/Transp/201505",{"$f":"+CONCATENATE(VLOOKUP(F503,Cadastro!$Q$3:$R$162,2,FALSE),\"/\",S503,\"/\",H503)","v":"19/Transp/201505"},"Transp/201505","1414/201505","1414/0654/201505","19/201505","19/0654/201505","0654/201505",62286.59,1241267.52,52962.869999999995,1013204.96,52962.869999999995,1050573.04,14831.410000000002,675417.54999999993,15722.75,322597.27]
[null,"01414","0652","201608",null,"01414","0654","201506",null,"Transp","1414/Transp/201608",{"$f":"IF(J504=0,0,+CONCATENATE(VLOOKUP(B504,Cadastro!$Q$3:$R$162,2,FALSE),\"/\",J504,\"/\",D504))","v":"19/Transp/201608"},"Transp/201608","1414/201608","1414/0652/201608","19/201608","19/0652/201608","0652/201608","Transp","1414/Transp/201506",{"$f":"+CONCATENATE(VLOOKUP(F504,Cadastro!$Q$3:$R$162,2,FALSE),\"/\",S504,\"/\",H504)","v":"19/Transp/201506"},"Transp/201506","1414/201506","1414/0654/201506","19/201506","19/0654/201506","0654/201506",75638.070000000007,1485101.64,62125.55,1257644.19,62125.55,1041632.81,41425.67,-200749.71000000002,18828.919999999998,337576.26]
[null,"01414","0652","201609",null,"01414","0654","201507",null,"Transp","1414/Transp/201609",{"$f":"IF(J505=0,0,+CONCATENATE(VLOOKUP(B505,Cadastro!$Q$3:$R$162,2,FALSE),\"/\",J505,\"/\",D505))","v":"19/Transp/201609"},"Transp/201609","1414/201609","1414/0652/201609","19/201609","19/0652/201609","0652/201609","Transp","1414/Transp/201507",{"$f":"+CONCATENATE(VLOOKUP(F505,Cadastro!$Q$3:$R$162,2,FALSE),\"/\",S505,\"/\",H505)","v":"19/Transp/201507"},"Transp/201507","1414/201507","1414/0654/201507","19/201507","19/0654/201507","0654/201507",52189.52,1420558.28,44564.679999999993,1185899.6600000001,44564.679999999993,1141762.29,3825.9199999999996,722118.73,12934.06,352161.01]
[null,"01414","0652","201610",null,"01414","0654","201508",null,"Transp","1414/Transp/201610",{"$f":"IF(J506=0,0,+CONCATENATE(VLOOKUP(B506,Cadastro!$Q$3:$R$162,2,FALSE),\"/\",J506,\"/\",D506))","v":"19/Transp/201610"},"Transp/201610","1414/201610","1414/0652/201610","19/201610","19/0652/201610","0652/201610","Transp","1414/Transp/201508",{"$f":"+CONCATENATE(VLOOKUP(F506,Cadastro!$Q$3:$R$162,2,FALSE),\"/\",S506,\"/\",H506)","v":"19/Transp/201508"},"Transp/201508","1414/201508","1414/0654/201508","19/201508","19/0654/201508","0654/201508",63027.67,1542063.18,54336.49,1285106.97,54336.49,1320509.6400000001,35011.51,546150.93999999994,15602.84,398090.8]
[null,"01414","0652","201611",null,"01414","0654","201509",null,"Transp","1414/Transp/201611",{"$f":"IF(J507=0,0,+CONCATENATE(VLOOKUP(B507,Cadastro!$Q$3:$R$162,2,FALSE),\"/\",J507,\"/\",D507))","v":"19/Transp/201611"},"Transp/201611","1414/201611","1414/0652/201611","19/201611","19/0652/201611","0652/201611","Transp","1414/Transp/201509",{"$f":"+CONCATENATE(VLOOKUP(F507,Cadastro!$Q$3:$R$162,2,FALSE),\"/\",S507,\"/\",H507)","v":"19/Transp/201509"},"Transp/201509","1414/201509","1414/0654/201509","19/201509","19/0654/201509","0654/201509",53607.02,1876773.74,46544.25,1498678.73,46544.25,1525711.3699999999,708.29,1139357.83,13236.08,480315.13]
[null,"01414","0652","201612",null,"01414","0654","201510",null,"Transp","1414/Transp/201612",{"$f":"IF(J508=0,0,+CONCATENATE(VLOOKUP(B508,Cadastro!$Q$3:$R$162,2,FALSE),\"/\",J508,\"/\",D508))","v":"19/Transp/201612"},"Transp/201612","1414/201612","1414/0652/201612","19/201612","19/0652/201612","0652/201612","Transp","1414/Transp/201510",{"$f":"+CONCATENATE(VLOOKUP(F508,Cadastro!$Q$3:$R$162,2,FALSE),\"/\",S508,\"/\",H508)","v":"19/Transp/201510"},"Transp/201510","1414/201510","1414/0654/201510","19/201510","19/0654/201510","0654/201510",65545.22,1948496.28,57093.16,1639322.4300000002,57093.16,1667256.17,-10437.459999999999,1374058.97,16299.25,500031.12]
[null,"01414","0654","201601",null,"01414","0654","201511",null,"Transp","1414/Transp/201601",{"$f":"IF(J509=0,0,+CONCATENATE(VLOOKUP(B509,Cadastro!$Q$3:$R$162,2,FALSE),\"/\",J509,\"/\",D509))","v":"19/Transp/201601"},"Transp/201601","1414/201601","1414/0654/201601","19/201601","19/0654/201601","0654/201601","Transp","1414/Transp/201511",{"$f":"+CONCATENATE(VLOOKUP(F509,Cadastro!$Q$3:$R$162,2,FALSE),\"/\",S509,\"/\",H509)","v":"19/Transp/201511"},"Transp/201511","1414/201511","1414/0654/201511","19/201511","19/0654/201511","0654/201511",1739859.24,2207889.56,1454895.1099999999,1849809.09,1482828.85,1876841.72,827657.21000000008,445186.02999999997,452909.51,542424.22]
[null,"01414","0654","201602",null,"01414","0654","201512",null,"Transp","1414/Transp/201602",{"$f":"IF(J510=0,0,+CONCATENATE(VLOOKUP(B510,Cadastro!$Q$3:$R$162,2,FALSE),\"/\",J510,\"/\",D510))","v":"19/Transp/201602"},"Transp/201602","1414/201602","1414/0654/201602","19/201602","19/0654/201602","0654/201602","Transp","1414/Transp/201512",{"$f":"+CONCATENATE(VLOOKUP(F510,Cadastro!$Q$3:$R$162,2,FALSE),\"/\",S510,\"/\",H510)","v":"19/Transp/201512"},"Transp/201512","1414/201512","1414/0654/201512","19/201512","19/0654/201512","0654/201512",1687427.21,1287964.54,1391562.5699999998,1100309.1000000001,1424409.3399999999,993693.05,638402.36,1803358.04,440364.95,291335.28000000003]
[null,"01414","0654","201603",null,"01414","0655","201501",null,"Transp","1414/Transp/201603",{"$f":"IF(J511=0,0,+CONCATENATE(VLOOKUP(B511,Cadastro!$Q$3:$R$162,2,FALSE),\"/\",J511,\"/\",D511))","v":"19/Transp/201603"},"Transp/201603","1414/201603","1414/0654/201603","19/201603","19/0654/201603","0654/201603","Transp","1414/Transp/201501",{"$f":"+CONCATENATE(VLOOKUP(F511,Cadastro!$Q$3:$R$162,2,FALSE),\"/\",S511,\"/\",H511)","v":"19/Transp/201501"},"Transp/201501","1414/201501","1414/0655/201501","19/201501","19/0655/201501","0655/201501",1617100.57,683198.32,1339290.03,536534.99,1522118.39,593625.55000000005,589899.64,143910.44,465337.06,191627.73]
[null,"01414","0654","201604",null,"01414","0655","201502",null,"Transp","1414/Transp/201604",{"$f":"IF(J512=0,0,+CONCATENATE(VLOOKUP(B512,Cadastro!$Q$3:$R$162,2,FALSE),\"/\",J512,\"/\",D512))","v":"19/Transp/201604"},"Transp/201604","1414/201604","1414/0654/201604","19/201604","19/0654/201604","0654/201604","Transp","1414/Transp/201502",{"$f":"+CONCATENATE(VLOOKUP(F512,Cadastro!$Q$3:$R$162,2,FALSE),\"/\",S512,\"/\",H512)","v":"19/Transp/201502"},"Transp/201502","1414/201502","1414/0655/201502","19/201502","19/0655/201502","0655/201502",2035713.16,573701.11,1724711.45,461743.29009999998,1737484.1400000001,513261.27009999997,255199.46000000002,-5196.6100000000006,536373.84,177689.47]
[null,"01414","0654","201605",null,"01414","0655","201503",null,"Transp","1414/Transp/201605",{"$f":"IF(J513=0,0,+CONCATENATE(VLOOKUP(B513,Cadastro!$Q$3:$R$162,2,FALSE),\"/\",J513,\"/\",D513))","v":"19/Transp/201605"},"Transp/201605","1414/201605","1414/0654/201605","19/201605","19/0654/201605","0654/201605","Transp","1414/Transp/201503",{"$f":"+CONCATENATE(VLOOKUP(F513,Cadastro!$Q$3:$R$162,2,FALSE),\"/\",S513,\"/\",H513)","v":"19/Transp/201503"},"Transp/201503","1414/201503","1414/0655/201503","19/201503","19/0655/201503","0655/201503",1783495.38,631036.6,1512548.95,514637.57999999996,1540740.9300000002,508586.67999999993,1068906.07,321813.76000000001,462824.61,160300.41]
[null,"01414","0654","201606",null,"01414","0655","201504",null,"Transp","1414/Transp/201606",{"$f":"IF(J514=0,0,+CONCATENATE(VLOOKUP(B514,Cadastro!$Q$3:$R$162,2,FALSE),\"/\",J514,\"/\",D514))","v":"19/Transp/201606"},"Transp/201606","1414/201606","1414/0654/201606","19/201606","19/0654/201606","0654/201606","Transp","1414/Transp/201504",{"$f":"+CONCATENATE(VLOOKUP(F514,Cadastro!$Q$3:$R$162,2,FALSE),\"/\",S514,\"/\",H514)","v":"19/Transp/201504"},"Transp/201504","1414/201504","1414/0655/201504","19/201504","19/0655/201504","0655/201504",2126642.33,788443.44,1846179.9100000001,624426.69999999995,1617347.04,721208.36,674682.59,1016093.85,476197.46,225550.56]
[null,"01414","0654","201607",null,"01414","0655","201505",null,"Transp","1414/Transp/201607",{"$f":"IF(J515=0,0,+CONCATENATE(VLOOKUP(B515,Cadastro!$Q$3:$R$162,2,FALSE),\"/\",J515,\"/\",D515))","v":"19/Transp/201607"},"Transp/201607","1414/201607","1414/0654/201607","19/201607","19/0654/201607","0654/201607","Transp","1414/Transp/201505",{"$f":"+CONCATENATE(VLOOKUP(F515,Cadastro!$Q$3:$R$162,2,FALSE),\"/\",S515,\"/\",H515)","v":"19/Transp/201505"},"Transp/201505","1414/201505","1414/0655/201505","19/201505","19/0655/201505","0655/201505",1887675.77,719426.09,1617029.47,582987.14999999991,1622462.8699999999,632091.59000000008,638998.88,410585.08000000007,467171.3,198730.65]
[null,"01414","0654","201608",null,"01414","0655","201506",null,"Transp","1414/Transp/201608",{"$f":"IF(J516=0,0,+CONCATENATE(VLOOKUP(B516,Cadastro!$Q$3:$R$162,2,FALSE),\"/\",J516,\"/\",D516))","v":"19/Transp/201608"},"Transp/201608","1414/201608","1414/0654/201608","19/201608","19/0654/201608","0654/201608","Transp","1414/Transp/201506",{"$f":"+CONCATENATE(VLOOKUP(F516,Cadastro!$Q$3:$R$162,2,FALSE),\"/\",S516,\"/\",H516)","v":"19/Transp/201506"},"Transp/201506","1414/201506","1414/0655/201506","19/201506","19/0655/201506","0655/201506",1944742.34,1134921.8600000001,1616230.27,986294.47000000009,1641412.28,677632.54999999993,210174.56,115698.84999999999,489034.44,220656.92]
[null,"01414","0654","201609",null,"01414","0655","201507",null,{"$f":"IF(C517=0,0,+VLOOKUP(C517,$AQ$4:$AR$130,2,FALSE))","v":"Transp"},{"$f":"IF(J517=0,0,+CONCATENATE(VALUE(B517),\"/\",J517,\"/\",D517))","v":"1414/Transp/201609"},{"$f":"IF(J517=0,0,+CONCATENATE(VLOOKUP(B517,Cadastro!$Q$3:$R$162,2,FALSE),\"/\",J517,\"/\",D517))","v":"19/Transp/201609"},{"$f":"IF(J517=0,0,+CONCATENATE(J517,\"/\",D517))","v":"Transp/201609"},"1414/201609","1414/0654/201609","19/201609","19/0654/201609","0654/201609",{"$f":"+VLOOKUP(G517,$AQ$4:$AR$130,2,FALSE)","v":"Transp"},{"$f":"+CONCATENATE(VALUE(F517),\"/\",S517,\"/\",H517)","v":"1414/Transp/201507"},{"$f":"+CONCATENATE(VLOOKUP(F517,Cadastro!$Q$3:$R$162,2,FALSE),\"/\",S517,\"/\",H517)","v":"19/Transp/201507"},"Transp/201507","1414/201507","1414/0655/201507","19/201507","19/0655/201507","0655/201507",1862143.36,903234.64,1568426.1800000002,762145.9,1592795.85,709601.47,959341.82000000007,301242.70999999996,473211.74,223187.21]
[null,"01414","0654","201610",null,"01414","0655","201508",null,"Transp","1414/Transp/201610",{"$f":"IF(J518=0,0,+CONCATENATE(VLOOKUP(B518,Cadastro!$Q$3:$R$162,2,FALSE),\"/\",J518,\"/\",D518))","v":"19/Transp/201610"},"Transp/201610","1414/201610","1414/0654/201610","19/201610","19/0654/201610","0654/201610","Transp","1414/Transp/201508",{"$f":"+CONCATENATE(VLOOKUP(F518,Cadastro!$Q$3:$R$162,2,FALSE),\"/\",S518,\"/\",H518)","v":"19/Transp/201508"},{"$f":"+CONCATENATE(S518,\"/\",H518)","v":"Transp/201508"},"1414/201508","1414/0655/201508","19/201508","19/0655/201508","0655/201508",1719306.69,952205.4,1495996.19,711208.3,1499120.12,751455.95000000007,1371459.0300000003,-27373.199999999997,399734.86,258156.27]
[null,"01414","0654","201611",null,"01414","0655","201509",null,"Transp","1414/Transp/201611",{"$f":"IF(J519=0,0,+CONCATENATE(VLOOKUP(B519,Cadastro!$Q$3:$R$162,2,FALSE),\"/\",J519,\"/\",D519))","v":"19/Transp/201611"},"Transp/201611","1414/201611","1414/0654/201611","19/201611","19/0654/201611","0654/201611","Transp","1414/Transp/201509",{"$f":"+CONCATENATE(VLOOKUP(F519,Cadastro!$Q$3:$R$162,2,FALSE),\"/\",S519,\"/\",H519)","v":"19/Transp/201509"},"Transp/201509","1414/201509","1414/0655/201509","19/201509","19/0655/201509","0655/201509",1622896.42,1028835.22,1407954.0699999998,818276.19,1432323.76,857225.5,967876.79,459700.1,399418.25,275942.58]
[null,"01414","0654","201612",null,"01414","0655","201510",null,"Transp","1414/Transp/201612",{"$f":"IF(J520=0,0,+CONCATENATE(VLOOKUP(B520,Cadastro!$Q$3:$R$162,2,FALSE),\"/\",J520,\"/\",D520))","v":"19/Transp/201612"},"Transp/201612","1414/201612","1414/0654/201612","19/201612","19/0654/201612","0654/201612","Transp","1414/Transp/201510",{"$f":"+CONCATENATE(VLOOKUP(F520,Cadastro!$Q$3:$R$162,2,FALSE),\"/\",S520,\"/\",H520)","v":"19/Transp/201510"},"Transp/201510","1414/201510","1414/0655/201510","19/201510","19/0655/201510","0655/201510",1812828.34,1142332.5900000001,1745329.6,946670.64000000013,1770511.56,986918.29,546539.12000000011,767318.92,432034.71,301280.69]
[null,"01414","0655","201601",null,"01414","0655","201511",null,"Transp","1414/Transp/201601",{"$f":"IF(J521=0,0,+CONCATENATE(VLOOKUP(B521,Cadastro!$Q$3:$R$162,2,FALSE),\"/\",J521,\"/\",D521))","v":"19/Transp/201601"},"Transp/201601","1414/201601","1414/0655/201601","19/201601","19/0655/201601","0655/201601","Transp","1414/Transp/201511",{"$f":"+CONCATENATE(VLOOKUP(F521,Cadastro!$Q$3:$R$162,2,FALSE),\"/\",S521,\"/\",H521)","v":"19/Transp/201511"},"Transp/201511","1414/201511","1414/0655/201511","19/201511","19/0655/201511","0655/201511",1183284.92,1333540.3400000001,986537.69,1111822.8600000001,1026785.31,1150772.17,789707.81,446656.64999999997,315158.34999999998,338826.63]
[null,"01414","0655","201602",null,"01414","0655","201512",null,"Transp","1414/Transp/201602",{"$f":"IF(J522=0,0,+CONCATENATE(VLOOKUP(B522,Cadastro!$Q$3:$R$162,2,FALSE),\"/\",J522,\"/\",D522))","v":"19/Transp/201602"},"Transp/201602","1414/201602","1414/0655/201602","19/201602","19/0655/201602","0655/201602","Transp","1414/Transp/201512",{"$f":"+CONCATENATE(VLOOKUP(F522,Cadastro!$Q$3:$R$162,2,FALSE),\"/\",S522,\"/\",H522)","v":"19/Transp/201512"},"Transp/201512","1414/201512","1414/0655/201512","19/201512","19/0655/201512","0655/201512",1117819.96,653623.23,918384.54999999993,542922.35,956035.57,600266.22,370006.8,1499140.8599999999,298086.28999999998,179581.29]
[null,"01414","0655","201603",null,"01414","0739","201501",null,"Transp","1414/Transp/201603",{"$f":"IF(J523=0,0,+CONCATENATE(VLOOKUP(B523,Cadastro!$Q$3:$R$162,2,FALSE),\"/\",J523,\"/\",D523))","v":"19/Transp/201603"},"Transp/201603","1414/201603","1414/0655/201603","19/201603","19/0655/201603","0655/201603","RF","1414/RF/201501",{"$f":"+CONCATENATE(VLOOKUP(F523,Cadastro!$Q$3:$R$162,2,FALSE),\"/\",S523,\"/\",H523)","v":"19/RF/201501"},"RF/201501","1414/201501","1414/0739/201501","19/201501","19/0739/201501","0739/201501",1129052.19,0,948000.53999999992,0,988248.17,0,567571.57999999996,9.82,313534.01,0]
[null,"01414","0655","201604",null,"01414","0739","201502",null,"Transp","1414/Transp/201604",{"$f":"IF(J524=0,0,+CONCATENATE(VLOOKUP(B524,Cadastro!$Q$3:$R$162,2,FALSE),\"/\",J524,\"/\",D524))","v":"19/Transp/201604"},"Transp/201604","1414/201604","1414/0655/201604","19/201604","19/0655/201604","0655/201604","RF","1414/RF/201502",{"$f":"+CONCATENATE(VLOOKUP(F524,Cadastro!$Q$3:$R$162,2,FALSE),\"/\",S524,\"/\",H524)","v":"19/RF/201502"},"RF/201502","1414/201502","1414/0739/201502","19/201502","19/0739/201502","0739/201502",1248842.06,0,1056074.75,0,1063384.04,0,470394.74,9.84,344483.85,0]
[null,"01414","0655","201605",null,"01414","0739","201503",null,"Transp","1414/Transp/201605",{"$f":"IF(J525=0,0,+CONCATENATE(VLOOKUP(B525,Cadastro!$Q$3:$R$162,2,FALSE),\"/\",J525,\"/\",D525))","v":"19/Transp/201605"},"Transp/201605","1414/201605","1414/0655/201605","19/201605","19/0655/201605","0655/201605","RF","1414/RF/201503",{"$f":"+CONCATENATE(VLOOKUP(F525,Cadastro!$Q$3:$R$162,2,FALSE),\"/\",S525,\"/\",H525)","v":"19/RF/201503"},"RF/201503","1414/201503","1414/0739/201503","19/201503","19/0739/201503","0739/201503",1114856.6000000001,0,940646.39000000013,0,981519.51,0,894914.56999999983,19.68,299889.18,0]
[null,"01414","0655","201606",null,"01414","0739","201504",null,"Transp","1414/Transp/201606",{"$f":"IF(J526=0,0,+CONCATENATE(VLOOKUP(B526,Cadastro!$Q$3:$R$162,2,FALSE),\"/\",J526,\"/\",D526))","v":"19/Transp/201606"},"Transp/201606","1414/201606","1414/0655/201606","19/201606","19/0655/201606","0655/201606","RF","1414/RF/201504",{"$f":"+CONCATENATE(VLOOKUP(F526,Cadastro!$Q$3:$R$162,2,FALSE),\"/\",S526,\"/\",H526)","v":"19/RF/201504"},"RF/201504","1414/201504","1414/0739/201504","19/201504","19/0739/201504","0739/201504",1505302.82,0,1337448.4300000002,0,1012566.35,0,713334.67999999993,13.130000000000003,305475.45,0]
[null,"01414","0655","201607",null,"01414","0739","201505",null,"Transp","1414/Transp/201607",{"$f":"IF(J527=0,0,+CONCATENATE(VLOOKUP(B527,Cadastro!$Q$3:$R$162,2,FALSE),\"/\",J527,\"/\",D527))","v":"19/Transp/201607"},"Transp/201607","1414/201607","1414/0655/201607","19/201607","19/0655/201607","0655/201607","RF","1414/RF/201505",{"$f":"+CONCATENATE(VLOOKUP(F527,Cadastro!$Q$3:$R$162,2,FALSE),\"/\",S527,\"/\",H527)","v":"19/RF/201505"},"RF/201505","1414/201505","1414/0739/201505","19/201505","19/0739/201505","0739/201505",1150277.73,0,989319.14,0,1007114.7899999999,0,269621.15000000002,14.05,294733.46000000002,0]
[null,"01414","0655","201608",null,"01414","0739","201506",null,"Transp","1414/Transp/201608",{"$f":"IF(J528=0,0,+CONCATENATE(VLOOKUP(B528,Cadastro!$Q$3:$R$162,2,FALSE),\"/\",J528,\"/\",D528))","v":"19/Transp/201608"},"Transp/201608","1414/201608","1414/0655/201608","19/201608","19/0655/201608","0655/201608","RF","1414/RF/201506",{"$f":"+CONCATENATE(VLOOKUP(F528,Cadastro!$Q$3:$R$162,2,FALSE),\"/\",S528,\"/\",H528)","v":"19/RF/201506"},"RF/201506","1414/201506","1414/0739/201506","19/201506","19/0739/201506","0739/201506",1281861.93,0,1055179.5899999999,0,1091027.74,0,1065100.83,-362.13,327081.13,0]
[null,"01414","0655","201609",null,"01414","0739","201507",null,"Transp","1414/Transp/201609",{"$f":"IF(J529=0,0,+CONCATENATE(VLOOKUP(B529,Cadastro!$Q$3:$R$162,2,FALSE),\"/\",J529,\"/\",D529))","v":"19/Transp/201609"},"Transp/201609","1414/201609","1414/0655/201609","19/201609","19/0655/201609","0655/201609","RF","1414/RF/201507",{"$f":"+CONCATENATE(VLOOKUP(F529,Cadastro!$Q$3:$R$162,2,FALSE),\"/\",S529,\"/\",H529)","v":"19/RF/201507"},"RF/201507","1414/201507","1414/0739/201507","19/201507","19/0739/201507","0739/201507",1177275.97,0,990241.15999999992,0,1024932.9099999999,0,644907.13000000012,0,303153.74,0]
[null,"01414","0655","201610",null,"01414","0739","201508",null,"Transp","1414/Transp/201610",{"$f":"IF(J530=0,0,+CONCATENATE(VLOOKUP(B530,Cadastro!$Q$3:$R$162,2,FALSE),\"/\",J530,\"/\",D530))","v":"19/Transp/201610"},"Transp/201610","1414/201610","1414/0655/201610","19/201610","19/0655/201610","0655/201610","RF","1414/RF/201508",{"$f":"+CONCATENATE(VLOOKUP(F530,Cadastro!$Q$3:$R$162,2,FALSE),\"/\",S530,\"/\",H530)","v":"19/RF/201508"},"RF/201508","1414/201508","1414/0739/201508","19/201508","19/0739/201508","0739/201508",1086917.6200000001,0,938453.10000000009,0,946444.35000000009,0,920172,0,243613.57,0]
[null,"01414","0655","201611",null,"01414","0739","201509",null,"Transp","1414/Transp/201611",{"$f":"IF(J531=0,0,+CONCATENATE(VLOOKUP(B531,Cadastro!$Q$3:$R$162,2,FALSE),\"/\",J531,\"/\",D531))","v":"19/Transp/201611"},"Transp/201611","1414/201611","1414/0655/201611","19/201611","19/0655/201611","0655/201611","RF","1414/RF/201509",{"$f":"+CONCATENATE(VLOOKUP(F531,Cadastro!$Q$3:$R$162,2,FALSE),\"/\",S531,\"/\",H531)","v":"19/RF/201509"},"RF/201509","1414/201509","1414/0739/201509","19/201509","19/0739/201509","0739/201509",1019304.95,0,882496.48,0,915696.34000000008,0,1735199.2899999998,0,258638.8,0]
[null,"01414","0655","201612",null,"01414","0739","201510",null,"Transp","1414/Transp/201612",{"$f":"IF(J532=0,0,+CONCATENATE(VLOOKUP(B532,Cadastro!$Q$3:$R$162,2,FALSE),\"/\",J532,\"/\",D532))","v":"19/Transp/201612"},"Transp/201612","1414/201612","1414/0655/201612","19/201612","19/0655/201612","0655/201612","RF","1414/RF/201510",{"$f":"+CONCATENATE(VLOOKUP(F532,Cadastro!$Q$3:$R$162,2,FALSE),\"/\",S532,\"/\",H532)","v":"19/RF/201510"},"RF/201510","1414/201510","1414/0739/201510","19/201510","19/0739/201510","0739/201510",1177445.78,0,1018849.0900000001,0,1054848.8500000001,0,673163.88,0,288896.2,0]
[null,"01414","0739","201601",null,"01414","0739","201511",null,"RF","1414/RF/201601",{"$f":"IF(J533=0,0,+CONCATENATE(VLOOKUP(B533,Cadastro!$Q$3:$R$162,2,FALSE),\"/\",J533,\"/\",D533))","v":"19/RF/201601"},"RF/201601","1414/201601","1414/0739/201601","19/201601","19/0739/201601","0739/201601","RF","1414/RF/201511",{"$f":"+CONCATENATE(VLOOKUP(F533,Cadastro!$Q$3:$R$162,2,FALSE),\"/\",S533,\"/\",H533)","v":"19/RF/201511"},"RF/201511","1414/201511","1414/0739/201511","19/201511","19/0739/201511","0739/201511",0,0,0,0,0,0,0,0,0,0]
[null,"01414","0739","201602",null,"01414","0739","201512",null,"RF","1414/RF/201602",{"$f":"IF(J534=0,0,+CONCATENATE(VLOOKUP(B534,Cadastro!$Q$3:$R$162,2,FALSE),\"/\",J534,\"/\",D534))","v":"19/RF/201602"},"RF/201602","1414/201602","1414/0739/201602","19/201602","19/0739/201602","0739/201602","RF","1414/RF/201512",{"$f":"+CONCATENATE(VLOOKUP(F534,Cadastro!$Q$3:$R$162,2,FALSE),\"/\",S534,\"/\",H534)","v":"19/RF/201512"},"RF/201512","1414/201512","1414/0739/201512","19/201512","19/0739/201512","0739/201512",0,0,0,0,0,0,0,0,0,0]
[null,"01414","0739","201603",null,"01414","0740","201501",null,"RF","1414/RF/201603",{"$f":"IF(J535=0,0,+CONCATENATE(VLOOKUP(B535,Cadastro!$Q$3:$R$162,2,FALSE),\"/\",J535,\"/\",D535))","v":"19/RF/201603"},"RF/201603","1414/201603","1414/0739/201603","19/201603","19/0739/201603","0739/201603","RF","1414/RF/201501",{"$f":"+CONCATENATE(VLOOKUP(F535,Cadastro!$Q$3:$R$162,2,FALSE),\"/\",S535,\"/\",H535)","v":"19/RF/201501"},"RF/201501","1414/201501","1414/0740/201501","19/201501","19/0740/201501","0740/201501",0,0,0,-15304.12,0,16001.299999999997,0,2237.6899999999996,0,5623.92]
[null,"01414","0739","201604",null,"01414","0740","201502",null,"RF","1414/RF/201604",{"$f":"IF(J536=0,0,+CONCATENATE(VLOOKUP(B536,Cadastro!$Q$3:$R$162,2,FALSE),\"/\",J536,\"/\",D536))","v":"19/RF/201604"},"RF/201604","1414/201604","1414/0739/201604","19/201604","19/0739/201604","0739/201604","RF","1414/RF/201502",{"$f":"+CONCATENATE(VLOOKUP(F536,Cadastro!$Q$3:$R$162,2,FALSE),\"/\",S536,\"/\",H536)","v":"19/RF/201502"},"RF/201502","1414/201502","1414/0740/201502","19/201502","19/0740/201502","0740/201502",0,0,0,-12636.73,0,12788.32,0,1794.08,0,5139.78]
[null,"01414","0739","201605",null,"01414","0740","201503",null,"RF","1414/RF/201605",{"$f":"IF(J537=0,0,+CONCATENATE(VLOOKUP(B537,Cadastro!$Q$3:$R$162,2,FALSE),\"/\",J537,\"/\",D537))","v":"19/RF/201605"},"RF/201605","1414/201605","1414/0739/201605","19/201605","19/0739/201605","0739/201605","RF","1414/RF/201503",{"$f":"+CONCATENATE(VLOOKUP(F537,Cadastro!$Q$3:$R$162,2,FALSE),\"/\",S537,\"/\",H537)","v":"19/RF/201503"},"RF/201503","1414/201503","1414/0740/201503","19/201503","19/0740/201503","0740/201503",0,-1622.06,0,-49.049999999999955,0,-5873.82,0,4539.1699999999992,0,-68.77]
[null,"01414","0739","201606",null,"01414","0740","201504",null,"RF","1414/RF/201606",{"$f":"IF(J538=0,0,+CONCATENATE(VLOOKUP(B538,Cadastro!$Q$3:$R$162,2,FALSE),\"/\",J538,\"/\",D538))","v":"19/RF/201606"},"RF/201606","1414/201606","1414/0739/201606","19/201606","19/0739/201606","0739/201606","RF","1414/RF/201504",{"$f":"+CONCATENATE(VLOOKUP(F538,Cadastro!$Q$3:$R$162,2,FALSE),\"/\",S538,\"/\",H538)","v":"19/RF/201504"},"RF/201504","1414/201504","1414/0740/201504","19/201504","19/0740/201504","0740/201504",0,-252.99,0,21593.539999999997,0,-3096.9600000000028,0,3687.1500000000005,0,347.42]
[null,"01414","0739","201607",null,"01414","0740","201505",null,"RF","1414/RF/201607",{"$f":"IF(J539=0,0,+CONCATENATE(VLOOKUP(B539,Cadastro!$Q$3:$R$162,2,FALSE),\"/\",J539,\"/\",D539))","v":"19/RF/201607"},"RF/201607","1414/201607","1414/0739/201607","19/201607","19/0739/201607","0739/201607","RF","1414/RF/201505",{"$f":"+CONCATENATE(VLOOKUP(F539,Cadastro!$Q$3:$R$162,2,FALSE),\"/\",S539,\"/\",H539)","v":"19/RF/201505"},"RF/201505","1414/201505","1414/0740/201505","19/201505","19/0740/201505","0740/201505",0,0,0,-55291.83,0,39097.19,0,1052478.19,0,12427.97]
[null,"01414","0739","201608",null,"01414","0740","201506",null,"RF","1414/RF/201608",{"$f":"IF(J540=0,0,+CONCATENATE(VLOOKUP(B540,Cadastro!$Q$3:$R$162,2,FALSE),\"/\",J540,\"/\",D540))","v":"19/RF/201608"},"RF/201608","1414/201608","1414/0739/201608","19/201608","19/0739/201608","0739/201608","RF","1414/RF/201506",{"$f":"+CONCATENATE(VLOOKUP(F540,Cadastro!$Q$3:$R$162,2,FALSE),\"/\",S540,\"/\",H540)","v":"19/RF/201506"},"RF/201506","1414/201506","1414/0740/201506","19/201506","19/0740/201506","0740/201506",0,0,0,-10185.700000000001,0,9692.6499999999978,0,4275716.2,0,3971.81]
[null,"01414","0739","201609",null,"01414","0740","201507",null,"RF","1414/RF/201609",{"$f":"IF(J541=0,0,+CONCATENATE(VLOOKUP(B541,Cadastro!$Q$3:$R$162,2,FALSE),\"/\",J541,\"/\",D541))","v":"19/RF/201609"},"RF/201609","1414/201609","1414/0739/201609","19/201609","19/0739/201609","0739/201609","RF","1414/RF/201507",{"$f":"+CONCATENATE(VLOOKUP(F541,Cadastro!$Q$3:$R$162,2,FALSE),\"/\",S541,\"/\",H541)","v":"19/RF/201507"},"RF/201507","1414/201507","1414/0740/201507","19/201507","19/0740/201507","0740/201507",0,0,0,-4685.38,0,9476.68,0,261577.13000000003,0,1364.43]
[null,"01414","0739","201610",null,"01414","0740","201508",null,"RF","1414/RF/201610",{"$f":"IF(J542=0,0,+CONCATENATE(VLOOKUP(B542,Cadastro!$Q$3:$R$162,2,FALSE),\"/\",J542,\"/\",D542))","v":"19/RF/201610"},"RF/201610","1414/201610","1414/0739/201610","19/201610","19/0739/201610","0739/201610","RF","1414/RF/201508",{"$f":"+CONCATENATE(VLOOKUP(F542,Cadastro!$Q$3:$R$162,2,FALSE),\"/\",S542,\"/\",H542)","v":"19/RF/201508"},"RF/201508","1414/201508","1414/0740/201508","19/201508","19/0740/201508","0740/201508",0,0,0,-7763.55,0,6524.86,0,244255.6,0,2568.5500000000002]
[null,"01414","0739","201611",null,"01414","0740","201509",null,"RF","1414/RF/201611",{"$f":"IF(J543=0,0,+CONCATENATE(VLOOKUP(B543,Cadastro!$Q$3:$R$162,2,FALSE),\"/\",J543,\"/\",D543))","v":"19/RF/201611"},"RF/201611","1414/201611","1414/0739/201611","19/201611","19/0739/201611","0739/201611","RF","1414/RF/201509",{"$f":"+CONCATENATE(VLOOKUP(F543,Cadastro!$Q$3:$R$162,2,FALSE),\"/\",S543,\"/\",H543)","v":"19/RF/201509"},"RF/201509","1414/201509","1414/0740/201509","19/201509","19/0740/201509","0740/201509",0,0,0,-5130.41,0,8520.98,0,102949.73000000001,0,1308.27]
[null,"01414","0739","201612",null,"01414","0740","201510",null,"RF","1414/RF/201612",{"$f":"IF(J544=0,0,+CONCATENATE(VLOOKUP(B544,Cadastro!$Q$3:$R$162,2,FALSE),\"/\",J544,\"/\",D544))","v":"19/RF/201612"},"RF/201612","1414/201612","1414/0739/201612","19/201612","19/0739/201612","0739/201612","RF","1414/RF/201510",{"$f":"+CONCATENATE(VLOOKUP(F544,Cadastro!$Q$3:$R$162,2,FALSE),\"/\",S544,\"/\",H544)","v":"19/RF/201510"},"RF/201510","1414/201510","1414/0740/201510","19/201510","19/0740/201510","0740/201510",0,0,0,-6117.99,0,5099.8500000000004,0,8599.3799999999992,0,1863.17]
[null,"01414","0740","201601",null,"01414","0740","201511",null,"RF","1414/RF/201601",{"$f":"IF(J545=0,0,+CONCATENATE(VLOOKUP(B545,Cadastro!$Q$3:$R$162,2,FALSE),\"/\",J545,\"/\",D545))","v":"19/RF/201601"},"RF/201601","1414/201601","1414/0740/201601","19/201601","19/0740/201601","0740/201601","RF","1414/RF/201511",{"$f":"+CONCATENATE(VLOOKUP(F545,Cadastro!$Q$3:$R$162,2,FALSE),\"/\",S545,\"/\",H545)","v":"19/RF/201511"},"RF/201511","1414/201511","1414/0740/201511","19/201511","19/0740/201511","0740/201511",0,0,-3998.65,-6255.81,2692.27,1884.5999999999995,4022.7000000000007,114977.93,1005.46,837.03]
[null,"01414","0740","201602",null,"01414","0740","201512",null,"RF","1414/RF/201602",{"$f":"IF(J546=0,0,+CONCATENATE(VLOOKUP(B546,Cadastro!$Q$3:$R$162,2,FALSE),\"/\",J546,\"/\",D546))","v":"19/RF/201602"},"RF/201602","1414/201602","1414/0740/201602","19/201602","19/0740/201602","0740/201602","RF","1414/RF/201512",{"$f":"+CONCATENATE(VLOOKUP(F546,Cadastro!$Q$3:$R$162,2,FALSE),\"/\",S546,\"/\",H546)","v":"19/RF/201512"},"RF/201512","1414/201512","1414/0740/201512","19/201512","19/0740/201512","0740/201512",0,0,0,-4625.3900000000003,6050.89,3662.1500000000005,-7301.429999999993,-5034867.83,909.21,1253.81]
[null,"01414","0740","201603",null,"01414","0745","201501",null,"RF","1414/RF/201603",{"$f":"IF(J547=0,0,+CONCATENATE(VLOOKUP(B547,Cadastro!$Q$3:$R$162,2,FALSE),\"/\",J547,\"/\",D547))","v":"19/RF/201603"},"RF/201603","1414/201603","1414/0740/201603","19/201603","19/0740/201603","0740/201603","RF","1414/RF/201501",{"$f":"+CONCATENATE(VLOOKUP(F547,Cadastro!$Q$3:$R$162,2,FALSE),\"/\",S547,\"/\",H547)","v":"19/RF/201501"},"RF/201501","1414/201501","1414/0745/201501","19/201501","19/0745/201501","0745/201501",0,2883.97,0,-19567.059999999998,6569.85,35335.26,4641.6000000000004,66734.78,915.84,9524.98]
[null,"01414","0740","201604",null,"01414","0745","201502",null,"RF","1414/RF/201604",{"$f":"IF(J548=0,0,+CONCATENATE(VLOOKUP(B548,Cadastro!$Q$3:$R$162,2,FALSE),\"/\",J548,\"/\",D548))","v":"19/RF/201604"},"RF/201604","1414/201604","1414/0740/201604","19/201604","19/0740/201604","0740/201604","RF","1414/RF/201502",{"$f":"+CONCATENATE(VLOOKUP(F548,Cadastro!$Q$3:$R$162,2,FALSE),\"/\",S548,\"/\",H548)","v":"19/RF/201502"},"RF/201502","1414/201502","1414/0745/201502","19/201502","19/0745/201502","0745/201502",0,2737.18,-3830.47,-16218.18,2527.4600000000005,29262.409999999996,391.79999999999995,10368.34,952.38,8533.9699999999993]
[null,"01414","0740","201605",null,"01414","0745","201503",null,"RF","1414/RF/201605",{"$f":"IF(J549=0,0,+CONCATENATE(VLOOKUP(B549,Cadastro!$Q$3:$R$162,2,FALSE),\"/\",J549,\"/\",D549))","v":"19/RF/201605"},"RF/201605","1414/201605","1414/0740/201605","19/201605","19/0740/201605","0740/201605","RF","1414/RF/201503",{"$f":"+CONCATENATE(VLOOKUP(F549,Cadastro!$Q$3:$R$162,2,FALSE),\"/\",S549,\"/\",H549)","v":"19/RF/201503"},"RF/201503","1414/201503","1414/0745/201503","19/201503","19/0745/201503","0745/201503",0,-3846.47,268.83999999999997,-2710.6099999999997,6838.6900000000005,-10053.89,5120.2199999999993,14494.970000000001,984.11,-1823.3]
[null,"01414","0740","201606",null,"01414","0745","201504",null,"RF","1414/RF/201606",{"$f":"IF(J550=0,0,+CONCATENATE(VLOOKUP(B550,Cadastro!$Q$3:$R$162,2,FALSE),\"/\",J550,\"/\",D550))","v":"19/RF/201606"},"RF/201606","1414/201606","1414/0740/201606","19/201606","19/0740/201606","0740/201606","RF","1414/RF/201504",{"$f":"+CONCATENATE(VLOOKUP(F550,Cadastro!$Q$3:$R$162,2,FALSE),\"/\",S550,\"/\",H550)","v":"19/RF/201504"},"RF/201504","1414/201504","1414/0745/201504","19/201504","19/0745/201504","0745/201504",0,0,-3708.77,-35081.410000000003,2649.14,54123.839999999997,-123236.55000000005,44753.420000000006,952.38,14362.04]
[null,"01414","0740","201607",null,"01414","0745","201505",null,"RF","1414/RF/201607",{"$f":"IF(J551=0,0,+CONCATENATE(VLOOKUP(B551,Cadastro!$Q$3:$R$162,2,FALSE),\"/\",J551,\"/\",D551))","v":"19/RF/201607"},"RF/201607","1414/201607","1414/0740/201607","19/201607","19/0740/201607","0740/201607","RF","1414/RF/201505",{"$f":"+CONCATENATE(VLOOKUP(F551,Cadastro!$Q$3:$R$162,2,FALSE),\"/\",S551,\"/\",H551)","v":"19/RF/201505"},"RF/201505","1414/201505","1414/0745/201505","19/201505","19/0745/201505","0745/201505",0,0,-2344.13,-14874.8,1089.1500000000001,21141.610000000004,164131.28000000003,10876.93,501.39,5817.02]
[null,"01414","0740","201608",null,"01414","0745","201506",null,"RF","1414/RF/201608",{"$f":"IF(J552=0,0,+CONCATENATE(VLOOKUP(B552,Cadastro!$Q$3:$R$162,2,FALSE),\"/\",J552,\"/\",D552))","v":"19/RF/201608"},"RF/201608","1414/201608","1414/0740/201608","19/201608","19/0740/201608","0740/201608","RF","1414/RF/201506",{"$f":"+CONCATENATE(VLOOKUP(F552,Cadastro!$Q$3:$R$162,2,FALSE),\"/\",S552,\"/\",H552)","v":"19/RF/201506"},"RF/201506","1414/201506","1414/0745/201506","19/201506","19/0745/201506","0745/201506",0,0,-709.85,-12492.52,309.66999999999996,16553.579999999998,27557.370000000003,-176655.05,94.81,4453.58]
[null,"01414","0740","201609",null,"01414","0745","201507",null,"RF","1414/RF/201609",{"$f":"IF(J553=0,0,+CONCATENATE(VLOOKUP(B553,Cadastro!$Q$3:$R$162,2,FALSE),\"/\",J553,\"/\",D553))","v":"19/RF/201609"},"RF/201609","1414/201609","1414/0740/201609","19/201609","19/0740/201609","0740/201609","RF","1414/RF/201507",{"$f":"+CONCATENATE(VLOOKUP(F553,Cadastro!$Q$3:$R$162,2,FALSE),\"/\",S553,\"/\",H553)","v":"19/RF/201507"},"RF/201507","1414/201507","1414/0745/201507","19/201507","19/0745/201507","0745/201507",-10767.61,0,-12216.390000000001,-12358.2,-2970.41,16155.009999999998,23801.18,48767.750000000007,-141.51,4279.97]
[null,"01414","0740","201610",null,"01414","0745","201508",null,"RF","1414/RF/201610",{"$f":"IF(J554=0,0,+CONCATENATE(VLOOKUP(B554,Cadastro!$Q$3:$R$162,2,FALSE),\"/\",J554,\"/\",D554))","v":"19/RF/201610"},"RF/201610","1414/201610","1414/0740/201610","19/201610","19/0740/201610","0740/201610","RF","1414/RF/201508",{"$f":"+CONCATENATE(VLOOKUP(F554,Cadastro!$Q$3:$R$162,2,FALSE),\"/\",S554,\"/\",H554)","v":"19/RF/201508"},"RF/201508","1414/201508","1414/0745/201508","19/201508","19/0745/201508","0745/201508",0,0,0,-12005.47,0,15331.44,-52719.44000000001,15402,-31.02,4316.18]
[null,"01414","0740","201611",null,"01414","0745","201509",null,"RF","1414/RF/201611",{"$f":"IF(J555=0,0,+CONCATENATE(VLOOKUP(B555,Cadastro!$Q$3:$R$162,2,FALSE),\"/\",J555,\"/\",D555))","v":"19/RF/201611"},"RF/201611","1414/201611","1414/0740/201611","19/201611","19/0740/201611","0740/201611","RF","1414/RF/201509",{"$f":"+CONCATENATE(VLOOKUP(F555,Cadastro!$Q$3:$R$162,2,FALSE),\"/\",S555,\"/\",H555)","v":"19/RF/201509"},"RF/201509","1414/201509","1414/0745/201509","19/201509","19/0745/201509","0745/201509",0,0,-1613.49,1303.3,-1613.49,13264.779999999999,246.27000000000004,-17248.480000000003,220.1,835.21]
[null,"01414","0740","201612",null,"01414","0745","201510",null,"RF","1414/RF/201612",{"$f":"IF(J556=0,0,+CONCATENATE(VLOOKUP(B556,Cadastro!$Q$3:$R$162,2,FALSE),\"/\",J556,\"/\",D556))","v":"19/RF/201612"},"RF/201612","1414/201612","1414/0740/201612","19/201612","19/0740/201612","0740/201612","RF","1414/RF/201510",{"$f":"+CONCATENATE(VLOOKUP(F556,Cadastro!$Q$3:$R$162,2,FALSE),\"/\",S556,\"/\",H556)","v":"19/RF/201510"},"RF/201510","1414/201510","1414/0745/201510","19/201510","19/0745/201510","0745/201510",0,0,0,-3760.06,0,5504.4600000000009,-51709.739999999991,8205.99,55.94,1562.22]
[null,"01414","0745","201601",null,"01414","0745","201511",null,"RF","1414/RF/201601",{"$f":"IF(J557=0,0,+CONCATENATE(VLOOKUP(B557,Cadastro!$Q$3:$R$162,2,FALSE),\"/\",J557,\"/\",D557))","v":"19/RF/201601"},"RF/201601","1414/201601","1414/0745/201601","19/201601","19/0745/201601","0745/201601","RF","1414/RF/201511",{"$f":"+CONCATENATE(VLOOKUP(F557,Cadastro!$Q$3:$R$162,2,FALSE),\"/\",S557,\"/\",H557)","v":"19/RF/201511"},"RF/201511","1414/201511","1414/0745/201511","19/201511","19/0745/201511","0745/201511",-245.36,0,-1546.6799999999998,-3327.99,2680.2799999999997,4875.76,5362.33,6188.47,681.31,1178.8399999999999]
[null,"01414","0745","201602",null,"01414","0745","201512",null,"RF","1414/RF/201602",{"$f":"IF(J558=0,0,+CONCATENATE(VLOOKUP(B558,Cadastro!$Q$3:$R$162,2,FALSE),\"/\",J558,\"/\",D558))","v":"19/RF/201602"},"RF/201602","1414/201602","1414/0745/201602","19/201602","19/0745/201602","0745/201602","RF","1414/RF/201512",{"$f":"+CONCATENATE(VLOOKUP(F558,Cadastro!$Q$3:$R$162,2,FALSE),\"/\",S558,\"/\",H558)","v":"19/RF/201512"},"RF/201512","1414/201512","1414/0745/201512","19/201512","19/0745/201512","0745/201512",0,-55704.23,0,-55539.990000000005,3725.28,-1037.6500000000001,106535.75,163601.59999999998,907.86,-748.91]
[null,"01414","0745","201603",null,"01414","0746","201501",null,"RF","1414/RF/201603",{"$f":"IF(J559=0,0,+CONCATENATE(VLOOKUP(B559,Cadastro!$Q$3:$R$162,2,FALSE),\"/\",J559,\"/\",D559))","v":"19/RF/201603"},"RF/201603","1414/201603","1414/0745/201603","19/201603","19/0745/201603","0745/201603","RF","1414/RF/201501",{"$f":"+CONCATENATE(VLOOKUP(F559,Cadastro!$Q$3:$R$162,2,FALSE),\"/\",S559,\"/\",H559)","v":"19/RF/201501"},"RF/201501","1414/201501","1414/0746/201501","19/201501","19/0746/201501","0746/201501",0,114384.64,0,-281125.52999999997,3874.54,-173478.65999999997,75590.889999999956,4013.9800000000005,635.4,38441.480000000003]
[null,"01414","0745","201604",null,"01414","0746","201502",null,"RF","1414/RF/201604",{"$f":"IF(J560=0,0,+CONCATENATE(VLOOKUP(B560,Cadastro!$Q$3:$R$162,2,FALSE),\"/\",J560,\"/\",D560))","v":"19/RF/201604"},"RF/201604","1414/201604","1414/0745/201604","19/201604","19/0745/201604","0745/201604","RF","1414/RF/201502",{"$f":"+CONCATENATE(VLOOKUP(F560,Cadastro!$Q$3:$R$162,2,FALSE),\"/\",S560,\"/\",H560)","v":"19/RF/201502"},"RF/201502","1414/201502","1414/0746/201502","19/201502","19/0746/201502","0746/201502",0,164667.65,-1078.8399999999999,113640.38,2246.58,161053.77000000002,38348.270000000004,6357.3700000000008,576.72,37002.19]
[null,"01414","0745","201605",null,"01414","0746","201503",null,"RF","1414/RF/201605",{"$f":"IF(J561=0,0,+CONCATENATE(VLOOKUP(B561,Cadastro!$Q$3:$R$162,2,FALSE),\"/\",J561,\"/\",D561))","v":"19/RF/201605"},"RF/201605","1414/201605","1414/0745/201605","19/201605","19/0745/201605","0745/201605","RF","1414/RF/201503",{"$f":"+CONCATENATE(VLOOKUP(F561,Cadastro!$Q$3:$R$162,2,FALSE),\"/\",S561,\"/\",H561)","v":"19/RF/201503"},"RF/201503","1414/201503","1414/0746/201503","19/201503","19/0746/201503","0746/201503",0,116050.16,1611.06,107625.3,4759.88,68923.78,19666.590000000011,9049.4,552.55999999999995,16074.96]
[null,"01414","0745","201606",null,"01414","0746","201504",null,"RF","1414/RF/201606",{"$f":"IF(J562=0,0,+CONCATENATE(VLOOKUP(B562,Cadastro!$Q$3:$R$162,2,FALSE),\"/\",J562,\"/\",D562))","v":"19/RF/201606"},"RF/201606","1414/201606","1414/0745/201606","19/201606","19/0745/201606","0745/201606","RF","1414/RF/201504",{"$f":"+CONCATENATE(VLOOKUP(F562,Cadastro!$Q$3:$R$162,2,FALSE),\"/\",S562,\"/\",H562)","v":"19/RF/201504"},"RF/201504","1414/201504","1414/0746/201504","19/201504","19/0746/201504","0746/201504",-140,484990.32,-684.88,400138.41000000003,2256.23,275011.29000000004,24266.129999999997,6033.74,749.72,65834.67]
[null,"01414","0745","201607",null,"01414","0746","201505",null,"RF","1414/RF/201607",{"$f":"IF(J563=0,0,+CONCATENATE(VLOOKUP(B563,Cadastro!$Q$3:$R$162,2,FALSE),\"/\",J563,\"/\",D563))","v":"19/RF/201607"},"RF/201607","1414/201607","1414/0745/201607","19/201607","19/0745/201607","0745/201607","RF","1414/RF/201505",{"$f":"+CONCATENATE(VLOOKUP(F563,Cadastro!$Q$3:$R$162,2,FALSE),\"/\",S563,\"/\",H563)","v":"19/RF/201505"},"RF/201505","1414/201505","1414/0746/201505","19/201505","19/0746/201505","0746/201505",0,140482.04999999999,-414.08,92625.289999999979,822.99,195864.11,192718.95,-44137.58,267.08,45061.93]
[null,"01414","0745","201608",null,"01414","0746","201506",null,"RF","1414/RF/201608",{"$f":"IF(J564=0,0,+CONCATENATE(VLOOKUP(B564,Cadastro!$Q$3:$R$162,2,FALSE),\"/\",J564,\"/\",D564))","v":"19/RF/201608"},"RF/201608","1414/201608","1414/0745/201608","19/201608","19/0745/201608","0745/201608","RF","1414/RF/201506",{"$f":"+CONCATENATE(VLOOKUP(F564,Cadastro!$Q$3:$R$162,2,FALSE),\"/\",S564,\"/\",H564)","v":"19/RF/201506"},"RF/201506","1414/201506","1414/0746/201506","19/201506","19/0746/201506","0746/201506",0,244554.12,-403.49,199996.11,802.95,175208.83,27534.77,-46193.58,188.45,41177.040000000001]
[null,"01414","0745","201609",null,"01414","0746","201507",null,"RF","1414/RF/201609",{"$f":"IF(J565=0,0,+CONCATENATE(VLOOKUP(B565,Cadastro!$Q$3:$R$162,2,FALSE),\"/\",J565,\"/\",D565))","v":"19/RF/201609"},"RF/201609","1414/201609","1414/0745/201609","19/201609","19/0745/201609","0745/201609","RF","1414/RF/201507",{"$f":"+CONCATENATE(VLOOKUP(F565,Cadastro!$Q$3:$R$162,2,FALSE),\"/\",S565,\"/\",H565)","v":"19/RF/201507"},"RF/201507","1414/201507","1414/0746/201507","19/201507","19/0746/201507","0746/201507",0,644032.99,-1889.45,587907.76,-876.08,262207.08,211518.58000000002,4840.75,159.01,50889.58]
[null,"01414","0745","201610",null,"01414","0746","201508",null,"RF","1414/RF/201610",{"$f":"IF(J566=0,0,+CONCATENATE(VLOOKUP(B566,Cadastro!$Q$3:$R$162,2,FALSE),\"/\",J566,\"/\",D566))","v":"19/RF/201610"},"RF/201610","1414/201610","1414/0745/201610","19/201610","19/0745/201610","0745/201610","RF","1414/RF/201508",{"$f":"+CONCATENATE(VLOOKUP(F566,Cadastro!$Q$3:$R$162,2,FALSE),\"/\",S566,\"/\",H566)","v":"19/RF/201508"},"RF/201508","1414/201508","1414/0746/201508","19/201508","19/0746/201508","0746/201508",0,102583.82,0,59867.19000000001,-5044.71,209340.29,-189981.72000000003,36656.04,2622.47,46060.08]
[null,"01414","0745","201611",null,"01414","0746","201509",null,"RF","1414/RF/201611",{"$f":"IF(J567=0,0,+CONCATENATE(VLOOKUP(B567,Cadastro!$Q$3:$R$162,2,FALSE),\"/\",J567,\"/\",D567))","v":"19/RF/201611"},"RF/201611","1414/201611","1414/0745/201611","19/201611","19/0745/201611","0745/201611","RF","1414/RF/201509",{"$f":"+CONCATENATE(VLOOKUP(F567,Cadastro!$Q$3:$R$162,2,FALSE),\"/\",S567,\"/\",H567)","v":"19/RF/201509"},"RF/201509","1414/201509","1414/0746/201509","19/201509","19/0746/201509","0746/201509",0,380014.61,-1004.13,387913.55,-1004.13,278907.21000000002,284.81000000000131,-5897.6400000000012,146.47999999999999,44506.43]
[null,"01414","0745","201612",null,"01414","0746","201510",null,"RF","1414/RF/201612",{"$f":"IF(J568=0,0,+CONCATENATE(VLOOKUP(B568,Cadastro!$Q$3:$R$162,2,FALSE),\"/\",J568,\"/\",D568))","v":"19/RF/201612"},"RF/201612","1414/201612","1414/0745/201612","19/201612","19/0745/201612","0745/201612","RF","1414/RF/201510",{"$f":"+CONCATENATE(VLOOKUP(F568,Cadastro!$Q$3:$R$162,2,FALSE),\"/\",S568,\"/\",H568)","v":"19/RF/201510"},"RF/201510","1414/201510","1414/0746/201510","19/201510","19/0746/201510","0746/201510",0,562157.68999999994,-0.35,521611.90999999992,-0.35,235787.1,43678.409999999996,10921.650000000001,33.61,50757.04]
[null,"01414","0746","201601",null,"01414","0746","201511",null,"RF","1414/RF/201601",{"$f":"IF(J569=0,0,+CONCATENATE(VLOOKUP(B569,Cadastro!$Q$3:$R$162,2,FALSE),\"/\",J569,\"/\",D569))","v":"19/RF/201601"},"RF/201601","1414/201601","1414/0746/201601","19/201601","19/0746/201601","0746/201601","RF","1414/RF/201511",{"$f":"+CONCATENATE(VLOOKUP(F569,Cadastro!$Q$3:$R$162,2,FALSE),\"/\",S569,\"/\",H569)","v":"19/RF/201511"},"RF/201511","1414/201511","1414/0746/201511","19/201511","19/0746/201511","0746/201511",52846.95,155549.35,20985.329999999998,122045.97,223913.78,231330.02000000002,2135.38,2071.69,54025.5,55451.22]
[null,"01414","0746","201602",null,"01414","0746","201512",null,"RF","1414/RF/201602",{"$f":"IF(J570=0,0,+CONCATENATE(VLOOKUP(B570,Cadastro!$Q$3:$R$162,2,FALSE),\"/\",J570,\"/\",D570))","v":"19/RF/201602"},"RF/201602","1414/201602","1414/0746/201602","19/201602","19/0746/201602","0746/201602","RF","1414/RF/201512",{"$f":"+CONCATENATE(VLOOKUP(F570,Cadastro!$Q$3:$R$162,2,FALSE),\"/\",S570,\"/\",H570)","v":"19/RF/201512"},"RF/201512","1414/201512","1414/0746/201512","19/201512","19/0746/201512","0746/201512",377626.96,74357.710000000006,348112.7,31998.240000000005,219710.41999999998,255615.62999999998,125381.98999999999,46087.880000000005,51565.47,50010.58]
[null,"01414","0746","201603",null,"01414","0747","201501",null,"RF","1414/RF/201603",{"$f":"IF(J571=0,0,+CONCATENATE(VLOOKUP(B571,Cadastro!$Q$3:$R$162,2,FALSE),\"/\",J571,\"/\",D571))","v":"19/RF/201603"},"RF/201603","1414/201603","1414/0746/201603","19/201603","19/0746/201603","0746/201603","RF","1414/RF/201501",{"$f":"+CONCATENATE(VLOOKUP(F571,Cadastro!$Q$3:$R$162,2,FALSE),\"/\",S571,\"/\",H571)","v":"19/RF/201501"},"RF/201501","1414/201501","1414/0747/201501","19/201501","19/0747/201501","0747/201501",153591.51,0,118896.85,0,241297.67,0,-23306.400000000001,12.29,49380.83,0]
[null,"01414","0746","201604",null,"01414","0747","201502",null,"RF","1414/RF/201604",{"$f":"IF(J572=0,0,+CONCATENATE(VLOOKUP(B572,Cadastro!$Q$3:$R$162,2,FALSE),\"/\",J572,\"/\",D572))","v":"19/RF/201604"},"RF/201604","1414/201604","1414/0746/201604","19/201604","19/0746/201604","0746/201604","RF","1414/RF/201502",{"$f":"+CONCATENATE(VLOOKUP(F572,Cadastro!$Q$3:$R$162,2,FALSE),\"/\",S572,\"/\",H572)","v":"19/RF/201502"},"RF/201502","1414/201502","1414/0747/201502","19/201502","19/0747/201502","0747/201502",212866.05,0,183435.78999999998,0,204201.69999999998,0,-1893.35,12.259999999999998,51511.34,25.37]
[null,"01414","0746","201605",null,"01414","0747","201503",null,"RF","1414/RF/201605",{"$f":"IF(J573=0,0,+CONCATENATE(VLOOKUP(B573,Cadastro!$Q$3:$R$162,2,FALSE),\"/\",J573,\"/\",D573))","v":"19/RF/201605"},"RF/201605","1414/201605","1414/0746/201605","19/201605","19/0746/201605","0746/201605","RF","1414/RF/201503",{"$f":"+CONCATENATE(VLOOKUP(F573,Cadastro!$Q$3:$R$162,2,FALSE),\"/\",S573,\"/\",H573)","v":"19/RF/201503"},"RF/201503","1414/201503","1414/0747/201503","19/201503","19/0747/201503","0747/201503",347698.61,-169.12,331524.07,-83.67,235223.13,-83.67,2321.5699999999997,24.519999999999996,52611.15,-25.37]
[null,"01414","0746","201606",null,"01414","0747","201504",null,"RF","1414/RF/201606",{"$f":"IF(J574=0,0,+CONCATENATE(VLOOKUP(B574,Cadastro!$Q$3:$R$162,2,FALSE),\"/\",J574,\"/\",D574))","v":"19/RF/201606"},"RF/201606","1414/201606","1414/0746/201606","19/201606","19/0746/201606","0746/201606","RF","1414/RF/201504",{"$f":"+CONCATENATE(VLOOKUP(F574,Cadastro!$Q$3:$R$162,2,FALSE),\"/\",S574,\"/\",H574)","v":"19/RF/201504"},"RF/201504","1414/201504","1414/0747/201504","19/201504","19/0747/201504","0747/201504",-26069.74,0,-80859,0,169660.08,0,32961.829999999994,16.350000000000001,-20147.47,0]
[null,"01414","0746","201607",null,"01414","0747","201505",null,"RF","1414/RF/201607",{"$f":"IF(J575=0,0,+CONCATENATE(VLOOKUP(B575,Cadastro!$Q$3:$R$162,2,FALSE),\"/\",J575,\"/\",D575))","v":"19/RF/201607"},"RF/201607","1414/201607","1414/0746/201607","19/201607","19/0746/201607","0746/201607","RF","1414/RF/201505",{"$f":"+CONCATENATE(VLOOKUP(F575,Cadastro!$Q$3:$R$162,2,FALSE),\"/\",S575,\"/\",H575)","v":"19/RF/201505"},"RF/201505","1414/201505","1414/0747/201505","19/201505","19/0747/201505","0747/201505",479680.25,0,449634.81,0,201139.38,0,-609658.63,26.39,49003.6,0]
[null,"01414","0746","201608",null,"01414","0747","201506",null,"RF","1414/RF/201608",{"$f":"IF(J576=0,0,+CONCATENATE(VLOOKUP(B576,Cadastro!$Q$3:$R$162,2,FALSE),\"/\",J576,\"/\",D576))","v":"19/RF/201608"},"RF/201608","1414/201608","1414/0746/201608","19/201608","19/0746/201608","0746/201608","RF","1414/RF/201506",{"$f":"+CONCATENATE(VLOOKUP(F576,Cadastro!$Q$3:$R$162,2,FALSE),\"/\",S576,\"/\",H576)","v":"19/RF/201506"},"RF/201506","1414/201506","1414/0747/201506","19/201506","19/0747/201506","0747/201506",264283.12,0,237637.19,0,189531.89,0,-9450.8100000000013,-461.01,43463.56,0]
[null,"01414","0746","201609",null,"01414","0747","201507",null,"RF","1414/RF/201609",{"$f":"IF(J577=0,0,+CONCATENATE(VLOOKUP(B577,Cadastro!$Q$3:$R$162,2,FALSE),\"/\",J577,\"/\",D577))","v":"19/RF/201609"},"RF/201609","1414/201609","1414/0746/201609","19/201609","19/0746/201609","0746/201609","RF","1414/RF/201507",{"$f":"+CONCATENATE(VLOOKUP(F577,Cadastro!$Q$3:$R$162,2,FALSE),\"/\",S577,\"/\",H577)","v":"19/RF/201507"},"RF/201507","1414/201507","1414/0747/201507","19/201507","19/0747/201507","0747/201507",104023.87,0,92961.079999999987,0,214650.19999999998,0,-4358.3500000000004,0,37767.9,0]
[null,"01414","0746","201610",null,"01414","0747","201508",null,"RF","1414/RF/201610",{"$f":"IF(J578=0,0,+CONCATENATE(VLOOKUP(B578,Cadastro!$Q$3:$R$162,2,FALSE),\"/\",J578,\"/\",D578))","v":"19/RF/201610"},"RF/201610","1414/201610","1414/0746/201610","19/201610","19/0746/201610","0746/201610","RF","1414/RF/201508",{"$f":"+CONCATENATE(VLOOKUP(F578,Cadastro!$Q$3:$R$162,2,FALSE),\"/\",S578,\"/\",H578)","v":"19/RF/201508"},"RF/201508","1414/201508","1414/0747/201508","19/201508","19/0747/201508","0747/201508",-49045.25,0,-60603.15,0,183284.92,0,226673.38999999998,0,145124.45000000001,0]
[null,"01414","0746","201611",null,"01414","0747","201509",null,"RF","1414/RF/201611",{"$f":"IF(J579=0,0,+CONCATENATE(VLOOKUP(B579,Cadastro!$Q$3:$R$162,2,FALSE),\"/\",J579,\"/\",D579))","v":"19/RF/201611"},"RF/201611","1414/201611","1414/0746/201611","19/201611","19/0746/201611","0746/201611","RF","1414/RF/201509",{"$f":"+CONCATENATE(VLOOKUP(F579,Cadastro!$Q$3:$R$162,2,FALSE),\"/\",S579,\"/\",H579)","v":"19/RF/201509"},"RF/201509","1414/201509","1414/0747/201509","19/201509","19/0747/201509","0747/201509",103128.68,0,117876.34,0,203021.81,0,20858.97,0,36668.36,0]
[null,"01414","0746","201612",null,"01414","0747","201510",null,"RF","1414/RF/201612",{"$f":"IF(J580=0,0,+CONCATENATE(VLOOKUP(B580,Cadastro!$Q$3:$R$162,2,FALSE),\"/\",J580,\"/\",D580))","v":"19/RF/201612"},"RF/201612","1414/201612","1414/0746/201612","19/201612","19/0746/201612","0746/201612","RF","1414/RF/201510",{"$f":"+CONCATENATE(VLOOKUP(F580,Cadastro!$Q$3:$R$162,2,FALSE),\"/\",S580,\"/\",H580)","v":"19/RF/201510"},"RF/201510","1414/201510","1414/0747/201510","19/201510","19/0747/201510","0747/201510",113554.36,0,88896.38,0,174569.09,0,14400.870000000003,0,39692.74,0]
[null,"01414","0747","201601",null,"01414","0747","201511",null,{"$f":"IF(C581=0,0,+VLOOKUP(C581,$AQ$4:$AR$130,2,FALSE))","v":"RF"},{"$f":"IF(J581=0,0,+CONCATENATE(VALUE(B581),\"/\",J581,\"/\",D581))","v":"1414/RF/201601"},{"$f":"IF(J581=0,0,+CONCATENATE(VLOOKUP(B581,Cadastro!$Q$3:$R$162,2,FALSE),\"/\",J581,\"/\",D581))","v":"19/RF/201601"},{"$f":"IF(J581=0,0,+CONCATENATE(J581,\"/\",D581))","v":"RF/201601"},"1414/201601","1414/0747/201601","19/201601","19/0747/201601","0747/201601",{"$f":"+VLOOKUP(G581,$AQ$4:$AR$130,2,FALSE)","v":"RF"},{"$f":"+CONCATENATE(VALUE(F581),\"/\",S581,\"/\",H581)","v":"1414/RF/201511"},{"$f":"+CONCATENATE(VLOOKUP(F581,Cadastro!$Q$3:$R$162,2,FALSE),\"/\",S581,\"/\",H581)","v":"19/RF/201511"},"RF/201511","1414/201511","1414/0747/201511","19/201511","19/0747/201511","0747/201511",0,0,0,0,0,0,0,0,0,0]
[null,"01414","0747","201602",null,"01414","0747","201512",null,"RF","1414/RF/201602",{"$f":"IF(J582=0,0,+CONCATENATE(VLOOKUP(B582,Cadastro!$Q$3:$R$162,2,FALSE),\"/\",J582,\"/\",D582))","v":"19/RF/201602"},"RF/201602","1414/201602","1414/0747/201602","19/201602","19/0747/201602","0747/201602","RF","1414/RF/201512",{"$f":"+CONCATENATE(VLOOKUP(F582,Cadastro!$Q$3:$R$162,2,FALSE),\"/\",S582,\"/\",H582)","v":"19/RF/201512"},{"$f":"+CONCATENATE(S582,\"/\",H582)","v":"RF/201512"},"1414/201512","1414/0747/201512","19/201512","19/0747/201512","0747/201512",0,0,0,0,0,0,0,0,0,0]
[null,"01414","0747","201603",null,"01414","0750","201501",null,"RF","1414/RF/201603",{"$f":"IF(J583=0,0,+CONCATENATE(VLOOKUP(B583,Cadastro!$Q$3:$R$162,2,FALSE),\"/\",J583,\"/\",D583))","v":"19/RF/201603"},"RF/201603","1414/201603","1414/0747/201603","19/201603","19/0747/201603","0747/201603","RF","1414/RF/201501",{"$f":"+CONCATENATE(VLOOKUP(F583,Cadastro!$Q$3:$R$162,2,FALSE),\"/\",S583,\"/\",H583)","v":"19/RF/201501"},"RF/201501","1414/201501","1414/0750/201501","19/201501","19/0750/201501","0750/201501",0,169.12,0,-66141.590000000011,0,67126.430000000008,0,1525.5199999999995,0,20628.11]
[null,"01414","0747","201604",null,"01414","0750","201502",null,"RF","1414/RF/201604",{"$f":"IF(J584=0,0,+CONCATENATE(VLOOKUP(B584,Cadastro!$Q$3:$R$162,2,FALSE),\"/\",J584,\"/\",D584))","v":"19/RF/201604"},"RF/201604","1414/201604","1414/0747/201604","19/201604","19/0747/201604","0747/201604","RF","1414/RF/201502",{"$f":"+CONCATENATE(VLOOKUP(F584,Cadastro!$Q$3:$R$162,2,FALSE),\"/\",S584,\"/\",H584)","v":"19/RF/201502"},"RF/201502","1414/201502","1414/0750/201502","19/201502","19/0750/201502","0750/201502",0,169.12,0,-59725.36,0,60631.139999999992,0,1525.5300000000007,0,23644.76]
[null,"01414","0747","201605",null,"01414","0750","201503",null,"RF","1414/RF/201605",{"$f":"IF(J585=0,0,+CONCATENATE(VLOOKUP(B585,Cadastro!$Q$3:$R$162,2,FALSE),\"/\",J585,\"/\",D585))","v":"19/RF/201605"},"RF/201605","1414/201605","1414/0747/201605","19/201605","19/0747/201605","0747/201605","RF","1414/RF/201503",{"$f":"+CONCATENATE(VLOOKUP(F585,Cadastro!$Q$3:$R$162,2,FALSE),\"/\",S585,\"/\",H585)","v":"19/RF/201503"},"RF/201503","1414/201503","1414/0750/201503","19/201503","19/0750/201503","0750/201503",0,-23219.86,0,-13533.2,0,-36293.97,0,3051.0600000000013,0,-9017.89]
[null,"01414","0747","201606",null,"01414","0750","201504",null,"RF","1414/RF/201606",{"$f":"IF(J586=0,0,+CONCATENATE(VLOOKUP(B586,Cadastro!$Q$3:$R$162,2,FALSE),\"/\",J586,\"/\",D586))","v":"19/RF/201606"},"RF/201606","1414/201606","1414/0747/201606","19/201606","19/0747/201606","0747/201606","RF","1414/RF/201504",{"$f":"+CONCATENATE(VLOOKUP(F586,Cadastro!$Q$3:$R$162,2,FALSE),\"/\",S586,\"/\",H586)","v":"19/RF/201504"},"RF/201504","1414/201504","1414/0750/201504","19/201504","19/0750/201504","0750/201504",0,0,0,-133637.72,0,151656.68999999997,0,2034.0399999999991,0,45158.37]
[null,"01414","0747","201607",null,"01414","0750","201505",null,"RF","1414/RF/201607",{"$f":"IF(J587=0,0,+CONCATENATE(VLOOKUP(B587,Cadastro!$Q$3:$R$162,2,FALSE),\"/\",J587,\"/\",D587))","v":"19/RF/201607"},"RF/201607","1414/201607","1414/0747/201607","19/201607","19/0747/201607","0747/201607","RF","1414/RF/201505",{"$f":"+CONCATENATE(VLOOKUP(F587,Cadastro!$Q$3:$R$162,2,FALSE),\"/\",S587,\"/\",H587)","v":"19/RF/201505"},"RF/201505","1414/201505","1414/0750/201505","19/201505","19/0750/201505","0750/201505",0,0,0,-66301.41,0,67117.31,0,4519.17,0,20750.86]
[null,"01414","0747","201608",null,"01414","0750","201506",null,"RF","1414/RF/201608",{"$f":"IF(J588=0,0,+CONCATENATE(VLOOKUP(B588,Cadastro!$Q$3:$R$162,2,FALSE),\"/\",J588,\"/\",D588))","v":"19/RF/201608"},"RF/201608","1414/201608","1414/0747/201608","19/201608","19/0747/201608","0747/201608","RF","1414/RF/201506",{"$f":"+CONCATENATE(VLOOKUP(F588,Cadastro!$Q$3:$R$162,2,FALSE),\"/\",S588,\"/\",H588)","v":"19/RF/201506"},"RF/201506","1414/201506","1414/0750/201506","19/201506","19/0750/201506","0750/201506",0,0,0,-23383.25,0,25066.739999999998,0,-58508.510000000009,0,7864.35]
[null,"01414","0747","201609",null,"01414","0750","201507",null,"RF","1414/RF/201609",{"$f":"IF(J589=0,0,+CONCATENATE(VLOOKUP(B589,Cadastro!$Q$3:$R$162,2,FALSE),\"/\",J589,\"/\",D589))","v":"19/RF/201609"},"RF/201609","1414/201609","1414/0747/201609","19/201609","19/0747/201609","0747/201609","RF","1414/RF/201507",{"$f":"+CONCATENATE(VLOOKUP(F589,Cadastro!$Q$3:$R$162,2,FALSE),\"/\",S589,\"/\",H589)","v":"19/RF/201507"},"RF/201507","1414/201507","1414/0750/201507","19/201507","19/0750/201507","0750/201507",0,0,0,-22717.17,0,24473.58,0,0,0,7691.17]
[null,"01414","0747","201610",null,"01414","0750","201508",null,"RF","1414/RF/201610",{"$f":"IF(J590=0,0,+CONCATENATE(VLOOKUP(B590,Cadastro!$Q$3:$R$162,2,FALSE),\"/\",J590,\"/\",D590))","v":"19/RF/201610"},"RF/201610","1414/201610","1414/0747/201610","19/201610","19/0747/201610","0747/201610","RF","1414/RF/201508",{"$f":"+CONCATENATE(VLOOKUP(F590,Cadastro!$Q$3:$R$162,2,FALSE),\"/\",S590,\"/\",H590)","v":"19/RF/201508"},"RF/201508","1414/201508","1414/0750/201508","19/201508","19/0750/201508","0750/201508",0,0,0,-22708.53,0,24482.190000000002,0,0,0,7691.17]
[null,"01414","0747","201611",null,"01414","0750","201509",null,"RF","1414/RF/201611",{"$f":"IF(J591=0,0,+CONCATENATE(VLOOKUP(B591,Cadastro!$Q$3:$R$162,2,FALSE),\"/\",J591,\"/\",D591))","v":"19/RF/201611"},"RF/201611","1414/201611","1414/0747/201611","19/201611","19/0747/201611","0747/201611","RF","1414/RF/201509",{"$f":"+CONCATENATE(VLOOKUP(F591,Cadastro!$Q$3:$R$162,2,FALSE),\"/\",S591,\"/\",H591)","v":"19/RF/201509"},"RF/201509","1414/201509","1414/0750/201509","19/201509","19/0750/201509","0750/201509",0,0,0,-11280.76,0,34387.71,0,0,0,7443.07]
[null,"01414","0747","201612",null,"01414","0750","201510",null,"RF","1414/RF/201612",{"$f":"IF(J592=0,0,+CONCATENATE(VLOOKUP(B592,Cadastro!$Q$3:$R$162,2,FALSE),\"/\",J592,\"/\",D592))","v":"19/RF/201612"},"RF/201612","1414/201612","1414/0747/201612","19/201612","19/0747/201612","0747/201612","RF","1414/RF/201510",{"$f":"+CONCATENATE(VLOOKUP(F592,Cadastro!$Q$3:$R$162,2,FALSE),\"/\",S592,\"/\",H592)","v":"19/RF/201510"},"RF/201510","1414/201510","1414/0750/201510","19/201510","19/0750/201510","0750/201510",0,0,0,-22986.49,0,24901.37,0,0,0,7795.73]
[null,"01414","0750","201601",null,"01414","0750","201511",null,"RF","1414/RF/201601",{"$f":"IF(J593=0,0,+CONCATENATE(VLOOKUP(B593,Cadastro!$Q$3:$R$162,2,FALSE),\"/\",J593,\"/\",D593))","v":"19/RF/201601"},"RF/201601","1414/201601","1414/0750/201601","19/201601","19/0750/201601","0750/201601","RF","1414/RF/201511",{"$f":"+CONCATENATE(VLOOKUP(F593,Cadastro!$Q$3:$R$162,2,FALSE),\"/\",S593,\"/\",H593)","v":"19/RF/201511"},"RF/201511","1414/201511","1414/0750/201511","19/201511","19/0750/201511","0750/201511",0,0,-23068.66,-22320.27,25022.570000000003,24219.63,0,0,7828.37,7573.78]
[null,"01414","0750","201602",null,"01414","0750","201512",null,"RF","1414/RF/201602",{"$f":"IF(J594=0,0,+CONCATENATE(VLOOKUP(B594,Cadastro!$Q$3:$R$162,2,FALSE),\"/\",J594,\"/\",D594))","v":"19/RF/201602"},"RF/201602","1414/201602","1414/0750/201602","19/201602","19/0750/201602","0750/201602","RF","1414/RF/201512",{"$f":"+CONCATENATE(VLOOKUP(F594,Cadastro!$Q$3:$R$162,2,FALSE),\"/\",S594,\"/\",H594)","v":"19/RF/201512"},"RF/201512","1414/201512","1414/0750/201512","19/201512","19/0750/201512","0750/201512",0,-5871.76,-18245.96,-28617.550000000003,19772.510000000002,24706.25,-750,750,6189.51,7731.97]
[null,"01414","0750","201603",null,"01414","0775","201501",null,"RF","1414/RF/201603",{"$f":"IF(J595=0,0,+CONCATENATE(VLOOKUP(B595,Cadastro!$Q$3:$R$162,2,FALSE),\"/\",J595,\"/\",D595))","v":"19/RF/201603"},"RF/201603","1414/201603","1414/0750/201603","19/201603","19/0750/201603","0750/201603","RF","1414/RF/201501",{"$f":"+CONCATENATE(VLOOKUP(F595,Cadastro!$Q$3:$R$162,2,FALSE),\"/\",S595,\"/\",H595)","v":"19/RF/201501"},"RF/201501","1414/201501","1414/0775/201501","19/201501","19/0775/201501","0775/201501",0,4080856.85,0,3146604.13,0,2430683.2999999998,0,439877.05000000005,63.43,782787.09]
[null,"01414","0750","201604",null,"01414","0775","201502",null,"RF","1414/RF/201604",{"$f":"IF(J596=0,0,+CONCATENATE(VLOOKUP(B596,Cadastro!$Q$3:$R$162,2,FALSE),\"/\",J596,\"/\",D596))","v":"19/RF/201604"},"RF/201604","1414/201604","1414/0750/201604","19/201604","19/0750/201604","0750/201604","RF","1414/RF/201502",{"$f":"+CONCATENATE(VLOOKUP(F596,Cadastro!$Q$3:$R$162,2,FALSE),\"/\",S596,\"/\",H596)","v":"19/RF/201502"},"RF/201502","1414/201502","1414/0775/201502","19/201502","19/0775/201502","0775/201502",0,4726583.37,0,3744655.1501000002,0,2179655.0400999999,0,99349.919999999984,5.71,669680.15]
[null,"01414","0750","201605",null,"01414","0775","201503",null,"RF","1414/RF/201605",{"$f":"IF(J597=0,0,+CONCATENATE(VLOOKUP(B597,Cadastro!$Q$3:$R$162,2,FALSE),\"/\",J597,\"/\",D597))","v":"19/RF/201605"},"RF/201605","1414/201605","1414/0750/201605","19/201605","19/0750/201605","0750/201605","RF","1414/RF/201503",{"$f":"+CONCATENATE(VLOOKUP(F597,Cadastro!$Q$3:$R$162,2,FALSE),\"/\",S597,\"/\",H597)","v":"19/RF/201503"},"RF/201503","1414/201503","1414/0775/201503","19/201503","19/0775/201503","0775/201503",0,5086990.0599999996,9838.77,4127708.9600999998,9838.77,2773183.4401000002,0,198484.58,5.21,786397.06]
[null,"01414","0750","201606",null,"01414","0775","201504",null,"RF","1414/RF/201606",{"$f":"IF(J598=0,0,+CONCATENATE(VLOOKUP(B598,Cadastro!$Q$3:$R$162,2,FALSE),\"/\",J598,\"/\",D598))","v":"19/RF/201606"},"RF/201606","1414/201606","1414/0750/201606","19/201606","19/0750/201606","0750/201606","RF","1414/RF/201504",{"$f":"+CONCATENATE(VLOOKUP(F598,Cadastro!$Q$3:$R$162,2,FALSE),\"/\",S598,\"/\",H598)","v":"19/RF/201504"},"RF/201504","1414/201504","1414/0775/201504","19/201504","19/0775/201504","0775/201504",0,4392348.05,0,3877029.25,0,2582158.56,0,306443.48,4.5999999999999996,836848.08]
[null,"01414","0750","201607",null,"01414","0775","201505",null,"RF","1414/RF/201607",{"$f":"IF(J599=0,0,+CONCATENATE(VLOOKUP(B599,Cadastro!$Q$3:$R$162,2,FALSE),\"/\",J599,\"/\",D599))","v":"19/RF/201607"},"RF/201607","1414/201607","1414/0750/201607","19/201607","19/0750/201607","0750/201607","RF","1414/RF/201505",{"$f":"+CONCATENATE(VLOOKUP(F599,Cadastro!$Q$3:$R$162,2,FALSE),\"/\",S599,\"/\",H599)","v":"19/RF/201505"},"RF/201505","1414/201505","1414/0775/201505","19/201505","19/0775/201505","0775/201505",0,5443631.4100000001,0,4277694.1400000006,0,2977277.07,100850.84999999999,-241245.94,3.96,973742.57]
[null,"01414","0750","201608",null,"01414","0775","201506",null,"RF","1414/RF/201608",{"$f":"IF(J600=0,0,+CONCATENATE(VLOOKUP(B600,Cadastro!$Q$3:$R$162,2,FALSE),\"/\",J600,\"/\",D600))","v":"19/RF/201608"},"RF/201608","1414/201608","1414/0750/201608","19/201608","19/0750/201608","0750/201608","RF","1414/RF/201506",{"$f":"+CONCATENATE(VLOOKUP(F600,Cadastro!$Q$3:$R$162,2,FALSE),\"/\",S600,\"/\",H600)","v":"19/RF/201506"},"RF/201506","1414/201506","1414/0775/201506","19/201506","19/0775/201506","0775/201506",0,5797207.6900000004,0,4826502.9600000009,0,2939260.22,-14538.89,-1731648.7399999998,5.17,922623.36]
[null,"01414","0750","201609",null,"01414","0775","201507",null,"RF","1414/RF/201609",{"$f":"IF(J601=0,0,+CONCATENATE(VLOOKUP(B601,Cadastro!$Q$3:$R$162,2,FALSE),\"/\",J601,\"/\",D601))","v":"19/RF/201609"},"RF/201609","1414/201609","1414/0750/201609","19/201609","19/0750/201609","0750/201609","RF","1414/RF/201507",{"$f":"+CONCATENATE(VLOOKUP(F601,Cadastro!$Q$3:$R$162,2,FALSE),\"/\",S601,\"/\",H601)","v":"19/RF/201507"},"RF/201507","1414/201507","1414/0775/201507","19/201507","19/0775/201507","0775/201507",0,5748040.71,-5798.18,4767471.0999999996,-5798.18,3186413.94,0,252090.83,6.75,879788.95]
[null,"01414","0750","201610",null,"01414","0775","201508",null,"RF","1414/RF/201610",{"$f":"IF(J602=0,0,+CONCATENATE(VLOOKUP(B602,Cadastro!$Q$3:$R$162,2,FALSE),\"/\",J602,\"/\",D602))","v":"19/RF/201610"},"RF/201610","1414/201610","1414/0750/201610","19/201610","19/0750/201610","0750/201610","RF","1414/RF/201508",{"$f":"+CONCATENATE(VLOOKUP(F602,Cadastro!$Q$3:$R$162,2,FALSE),\"/\",S602,\"/\",H602)","v":"19/RF/201508"},"RF/201508","1414/201508","1414/0775/201508","19/201508","19/0775/201508","0775/201508",0,8201805.3099999996,-285.02999999999997,7147616.3699999992,-285.02999999999997,3114740.27,-86261.64,337353.18,0,1050875.96]
[null,"01414","0750","201611",null,"01414","0775","201509",null,"RF","1414/RF/201611",{"$f":"IF(J603=0,0,+CONCATENATE(VLOOKUP(B603,Cadastro!$Q$3:$R$162,2,FALSE),\"/\",J603,\"/\",D603))","v":"19/RF/201611"},"RF/201611","1414/201611","1414/0750/201611","19/201611","19/0750/201611","0750/201611","RF","1414/RF/201509",{"$f":"+CONCATENATE(VLOOKUP(F603,Cadastro!$Q$3:$R$162,2,FALSE),\"/\",S603,\"/\",H603)","v":"19/RF/201509"},"RF/201509","1414/201509","1414/0775/201509","19/201509","19/0775/201509","0775/201509",0,5511643.3499999996,-3755.56,5552135.0299999993,-3755.56,4262433.9899999993,0,1378786.64,0,942198.32]
[null,"01414","0750","201612",null,"01414","0775","201510",null,"RF","1414/RF/201612",{"$f":"IF(J604=0,0,+CONCATENATE(VLOOKUP(B604,Cadastro!$Q$3:$R$162,2,FALSE),\"/\",J604,\"/\",D604))","v":"19/RF/201612"},"RF/201612","1414/201612","1414/0750/201612","19/201612","19/0750/201612","0750/201612","RF","1414/RF/201510",{"$f":"+CONCATENATE(VLOOKUP(F604,Cadastro!$Q$3:$R$162,2,FALSE),\"/\",S604,\"/\",H604)","v":"19/RF/201510"},"RF/201510","1414/201510","1414/0775/201510","19/201510","19/0775/201510","0775/201510",0,6962047.3799999999,0,5977049.5700000003,0,3314216.2499999995,0,267068.78999999998,0,1049804.3999999999]
[null,"01414","0775","201601",null,"01414","0775","201511",null,"RF","1414/RF/201601",{"$f":"IF(J605=0,0,+CONCATENATE(VLOOKUP(B605,Cadastro!$Q$3:$R$162,2,FALSE),\"/\",J605,\"/\",D605))","v":"19/RF/201601"},"RF/201601","1414/201601","1414/0775/201601","19/201601","19/0775/201601","0775/201601","RF","1414/RF/201511",{"$f":"+CONCATENATE(VLOOKUP(F605,Cadastro!$Q$3:$R$162,2,FALSE),\"/\",S605,\"/\",H605)","v":"19/RF/201511"},"RF/201511","1414/201511","1414/0775/201511","19/201511","19/0775/201511","0775/201511",4019961.11,7254656.2599999998,2973014.65,6158118.5199999996,3577204.0200000005,3344668.51,-6586.9200000000055,444135.07000000007,1129761.44,977223.22]
[null,"01414","0775","201602",null,"01414","0775","201512",null,"RF","1414/RF/201602",{"$f":"IF(J606=0,0,+CONCATENATE(VLOOKUP(B606,Cadastro!$Q$3:$R$162,2,FALSE),\"/\",J606,\"/\",D606))","v":"19/RF/201602"},"RF/201602","1414/201602","1414/0775/201602","19/201602","19/0775/201602","0775/201602","RF","1414/RF/201512",{"$f":"+CONCATENATE(VLOOKUP(F606,Cadastro!$Q$3:$R$162,2,FALSE),\"/\",S606,\"/\",H606)","v":"19/RF/201512"},"RF/201512","1414/201512","1414/0775/201512","19/201512","19/0775/201512","0775/201512",6464870.8399999999,7071035.71,5554411.2000000002,4746854.8900000006,3480252.8000000003,2186284.85,261225.59999999998,3919247.3099999996,1145240.3600000001,-1182861.0900000001]
[null,"01414","0775","201603",null,"01414","0776","201501",null,"RF","1414/RF/201603",{"$f":"IF(J607=0,0,+CONCATENATE(VLOOKUP(B607,Cadastro!$Q$3:$R$162,2,FALSE),\"/\",J607,\"/\",D607))","v":"19/RF/201603"},"RF/201603","1414/201603","1414/0775/201603","19/201603","19/0775/201603","0775/201603","RF","1414/RF/201501",{"$f":"+CONCATENATE(VLOOKUP(F607,Cadastro!$Q$3:$R$162,2,FALSE),\"/\",S607,\"/\",H607)","v":"19/RF/201501"},"RF/201501","1414/201501","1414/0776/201501","19/201501","19/0776/201501","0776/201501",7270714.6200000001,1667693.04,6174477.7200000007,1166287.1800000002,3650871.3400000003,942932.76000000013,808792.55999999994,-122299.92999999993,942832.06,285149.56]
[null,"01414","0775","201604",null,"01414","0776","201502",null,"RF","1414/RF/201604",{"$f":"IF(J608=0,0,+CONCATENATE(VLOOKUP(B608,Cadastro!$Q$3:$R$162,2,FALSE),\"/\",J608,\"/\",D608))","v":"19/RF/201604"},"RF/201604","1414/201604","1414/0775/201604","19/201604","19/0775/201604","0775/201604","RF","1414/RF/201502",{"$f":"+CONCATENATE(VLOOKUP(F608,Cadastro!$Q$3:$R$162,2,FALSE),\"/\",S608,\"/\",H608)","v":"19/RF/201502"},"RF/201502","1414/201502","1414/0776/201502","19/201502","19/0776/201502","0776/201502",7921249.4199999999,1355936.1,6987940.4900000002,881586.96000000008,3602593.06,907088.94000000006,337539.31,109202.45000000001,1174132.3500000001,293014.43]
[null,"01414","0775","201605",null,"01414","0776","201503",null,"RF","1414/RF/201605",{"$f":"IF(J609=0,0,+CONCATENATE(VLOOKUP(B609,Cadastro!$Q$3:$R$162,2,FALSE),\"/\",J609,\"/\",D609))","v":"19/RF/201605"},"RF/201605","1414/201605","1414/0775/201605","19/201605","19/0775/201605","0775/201605","RF","1414/RF/201503",{"$f":"+CONCATENATE(VLOOKUP(F609,Cadastro!$Q$3:$R$162,2,FALSE),\"/\",S609,\"/\",H609)","v":"19/RF/201503"},"RF/201503","1414/201503","1414/0776/201503","19/201503","19/0776/201503","0776/201503",6999339.8899999997,1874713.11,7948721.1499999994,1322606.02,5839030.7199999997,899655.58,532149.85,162416.17000000001,1345878.03,303353.27]
[null,"01414","0775","201606",null,"01414","0776","201504",null,"RF","1414/RF/201606",{"$f":"IF(J610=0,0,+CONCATENATE(VLOOKUP(B610,Cadastro!$Q$3:$R$162,2,FALSE),\"/\",J610,\"/\",D610))","v":"19/RF/201606"},"RF/201606","1414/201606","1414/0775/201606","19/201606","19/0775/201606","0775/201606","RF","1414/RF/201504",{"$f":"+CONCATENATE(VLOOKUP(F610,Cadastro!$Q$3:$R$162,2,FALSE),\"/\",S610,\"/\",H610)","v":"19/RF/201504"},"RF/201504","1414/201504","1414/0776/201504","19/201504","19/0776/201504","0776/201504",8068496.5499999998,2643213.79,7652905.3799999999,2211171.1800000002,4401502.8899999997,1197272.9900000002,-345181.14,158978.65000000002,2300944.4300000002,316380.86]
[null,"01414","0775","201607",null,"01414","0776","201505",null,"RF","1414/RF/201607",{"$f":"IF(J611=0,0,+CONCATENATE(VLOOKUP(B611,Cadastro!$Q$3:$R$162,2,FALSE),\"/\",J611,\"/\",D611))","v":"19/RF/201607"},"RF/201607","1414/201607","1414/0775/201607","19/201607","19/0775/201607","0775/201607","RF","1414/RF/201505",{"$f":"+CONCATENATE(VLOOKUP(F611,Cadastro!$Q$3:$R$162,2,FALSE),\"/\",S611,\"/\",H611)","v":"19/RF/201505"},"RF/201505","1414/201505","1414/0776/201505","19/201505","19/0776/201505","0776/201505",6255829.71,1165011.29,5286748.34,626120.25,4084219.3600000003,1042543.1499999999,-342577.61000000004,92076.18,1347358.75,340222.14]
[null,"01414","0775","201608",null,"01414","0776","201506",null,"RF","1414/RF/201608",{"$f":"IF(J612=0,0,+CONCATENATE(VLOOKUP(B612,Cadastro!$Q$3:$R$162,2,FALSE),\"/\",J612,\"/\",D612))","v":"19/RF/201608"},"RF/201608","1414/201608","1414/0775/201608","19/201608","19/0775/201608","0775/201608","RF","1414/RF/201506",{"$f":"+CONCATENATE(VLOOKUP(F612,Cadastro!$Q$3:$R$162,2,FALSE),\"/\",S612,\"/\",H612)","v":"19/RF/201506"},"RF/201506","1414/201506","1414/0776/201506","19/201506","19/0776/201506","0776/201506",5817778.3200000003,1885190.68,4849799.28,1448418.1099999999,4036868.7800000003,1074032.1599999999,1114982.01,-733634.81,1156107.6399999999,310682.26]
[null,"01414","0775","201609",null,"01414","0776","201507",null,"RF","1414/RF/201609",{"$f":"IF(J613=0,0,+CONCATENATE(VLOOKUP(B613,Cadastro!$Q$3:$R$162,2,FALSE),\"/\",J613,\"/\",D613))","v":"19/RF/201609"},"RF/201609","1414/201609","1414/0775/201609","19/201609","19/0775/201609","0775/201609","RF","1414/RF/201507",{"$f":"+CONCATENATE(VLOOKUP(F613,Cadastro!$Q$3:$R$162,2,FALSE),\"/\",S613,\"/\",H613)","v":"19/RF/201507"},"RF/201507","1414/201507","1414/0776/201507","19/201507","19/0776/201507","0776/201507",5695187.5800000001,1473145.43,5660653.2800000003,998588.66999999993,4828457.4300000006,1105226.1499999999,463698.87000000005,176063.8,1141712.8700000001,322658.71000000002]
[null,"01414","0775","201610",null,"01414","0776","201508",null,"RF","1414/RF/201610",{"$f":"IF(J614=0,0,+CONCATENATE(VLOOKUP(B614,Cadastro!$Q$3:$R$162,2,FALSE),\"/\",J614,\"/\",D614))","v":"19/RF/201610"},"RF/201610","1414/201610","1414/0775/201610","19/201610","19/0775/201610","0775/201610","RF","1414/RF/201508",{"$f":"+CONCATENATE(VLOOKUP(F614,Cadastro!$Q$3:$R$162,2,FALSE),\"/\",S614,\"/\",H614)","v":"19/RF/201508"},"RF/201508","1414/201508","1414/0776/201508","19/201508","19/0776/201508","0776/201508",6459507.3300000001,1303301.32,5250864.74,835611.79,3711026.74,1121671.3699999999,2663126.879999999,97905.279999999999,351602.5699,326071.82]
[null,"01414","0775","201611",null,"01414","0776","201509",null,"RF","1414/RF/201611",{"$f":"IF(J615=0,0,+CONCATENATE(VLOOKUP(B615,Cadastro!$Q$3:$R$162,2,FALSE),\"/\",J615,\"/\",D615))","v":"19/RF/201611"},"RF/201611","1414/201611","1414/0775/201611","19/201611","19/0775/201611","0775/201611","RF","1414/RF/201509",{"$f":"+CONCATENATE(VLOOKUP(F615,Cadastro!$Q$3:$R$162,2,FALSE),\"/\",S615,\"/\",H615)","v":"19/RF/201509"},"RF/201509","1414/201509","1414/0776/201509","19/201509","19/0776/201509","0776/201509",8888283.7100000009,2476179.61,9229615.7300000004,2439050.3199999998,5248179.1500000004,1479630.58,-2577067.4000000004,310768.12,-987653.81,291642.13]
[null,"01414","0775","201612",null,"01414","0776","201510",null,"RF","1414/RF/201612",{"$f":"IF(J616=0,0,+CONCATENATE(VLOOKUP(B616,Cadastro!$Q$3:$R$162,2,FALSE),\"/\",J616,\"/\",D616))","v":"19/RF/201612"},"RF/201612","1414/201612","1414/0775/201612","19/201612","19/0775/201612","0775/201612","RF","1414/RF/201510",{"$f":"+CONCATENATE(VLOOKUP(F616,Cadastro!$Q$3:$R$162,2,FALSE),\"/\",S616,\"/\",H616)","v":"19/RF/201510"},"RF/201510","1414/201510","1414/0776/201510","19/201510","19/0776/201510","0776/201510",8524262.7599999998,1835532.86,12019257.92,1401998.86,8563622.1099999994,1113749.6399999999,808258.59,585180.29,1404863.57,325422.93]
[null,"01414","0776","201601",null,"01414","0776","201511",null,"RF","1414/RF/201601",{"$f":"IF(J617=0,0,+CONCATENATE(VLOOKUP(B617,Cadastro!$Q$3:$R$162,2,FALSE),\"/\",J617,\"/\",D617))","v":"19/RF/201601"},"RF/201601","1414/201601","1414/0776/201601","19/201601","19/0776/201601","0776/201601","RF","1414/RF/201511",{"$f":"+CONCATENATE(VLOOKUP(F617,Cadastro!$Q$3:$R$162,2,FALSE),\"/\",S617,\"/\",H617)","v":"19/RF/201511"},"RF/201511","1414/201511","1414/0776/201511","19/201511","19/0776/201511","0776/201511",1743454.25,2163999.37,1385389.79,1799980.0100000002,1112455.81,1007278.57,-100871.57000000007,1330195.43,327608.28999999998,301533.95]
[null,"01414","0776","201602",null,"01414","0776","201512",null,"RF","1414/RF/201602",{"$f":"IF(J618=0,0,+CONCATENATE(VLOOKUP(B618,Cadastro!$Q$3:$R$162,2,FALSE),\"/\",J618,\"/\",D618))","v":"19/RF/201602"},"RF/201602","1414/201602","1414/0776/201602","19/201602","19/0776/201602","0776/201602","RF","1414/RF/201512",{"$f":"+CONCATENATE(VLOOKUP(F618,Cadastro!$Q$3:$R$162,2,FALSE),\"/\",S618,\"/\",H618)","v":"19/RF/201512"},"RF/201512","1414/201512","1414/0776/201512","19/201512","19/0776/201512","0776/201512",1680138,1264255.8400000001,1270201.3,508673.77000000014,1138590,700694.97000000009,1086934.1200000001,1870252.7799999998,351816.4,5624.24]
[null,"01414","0776","201603",null,"01414","0982","201501",null,"RF","1414/RF/201603",{"$f":"IF(J619=0,0,+CONCATENATE(VLOOKUP(B619,Cadastro!$Q$3:$R$162,2,FALSE),\"/\",J619,\"/\",D619))","v":"19/RF/201603"},"RF/201603","1414/201603","1414/0776/201603","19/201603","19/0776/201603","0776/201603","Pes","1414/Pes/201501",{"$f":"+CONCATENATE(VLOOKUP(F619,Cadastro!$Q$3:$R$162,2,FALSE),\"/\",S619,\"/\",H619)","v":"19/Pes/201501"},"Pes/201501","1414/201501","1414/0982/201501","19/201501","19/0982/201501","0982/201501",1751262.74,0,1357074.66,0,1252512.7,0,730968.67999999993,0,356594.37,0]
[null,"01414","0776","201604",null,"01414","0982","201502",null,"RF","1414/RF/201604",{"$f":"IF(J620=0,0,+CONCATENATE(VLOOKUP(B620,Cadastro!$Q$3:$R$162,2,FALSE),\"/\",J620,\"/\",D620))","v":"19/RF/201604"},"RF/201604","1414/201604","1414/0776/201604","19/201604","19/0776/201604","0776/201604","Pes","1414/Pes/201502",{"$f":"+CONCATENATE(VLOOKUP(F620,Cadastro!$Q$3:$R$162,2,FALSE),\"/\",S620,\"/\",H620)","v":"19/Pes/201502"},"Pes/201502","1414/201502","1414/0982/201502","19/201502","19/0982/201502","0982/201502",1132361.21,0,775009.89999999991,0,1110765.24,0,159596.35999999987,0,361049.36,0]
[null,"01414","0776","201605",null,"01414","0982","201503",null,"RF","1414/RF/201605",{"$f":"IF(J621=0,0,+CONCATENATE(VLOOKUP(B621,Cadastro!$Q$3:$R$162,2,FALSE),\"/\",J621,\"/\",D621))","v":"19/RF/201605"},"RF/201605","1414/201605","1414/0776/201605","19/201605","19/0776/201605","0776/201605","Pes","1414/Pes/201503",{"$f":"+CONCATENATE(VLOOKUP(F621,Cadastro!$Q$3:$R$162,2,FALSE),\"/\",S621,\"/\",H621)","v":"19/Pes/201503"},"Pes/201503","1414/201503","1414/0982/201503","19/201503","19/0982/201503","0982/201503",1441049.73,0,1639009.35,0,1620214.52,0,-544636.57000000007,0,327189.90000000002,0]
[null,"01414","0776","201606",null,"01414","0982","201504",null,"RF","1414/RF/201606",{"$f":"IF(J622=0,0,+CONCATENATE(VLOOKUP(B622,Cadastro!$Q$3:$R$162,2,FALSE),\"/\",J622,\"/\",D622))","v":"19/RF/201606"},"RF/201606","1414/201606","1414/0776/201606","19/201606","19/0776/201606","0776/201606","Pes","1414/Pes/201504",{"$f":"+CONCATENATE(VLOOKUP(F622,Cadastro!$Q$3:$R$162,2,FALSE),\"/\",S622,\"/\",H622)","v":"19/Pes/201504"},"Pes/201504","1414/201504","1414/0982/201504","19/201504","19/0982/201504","0982/201504",522376.51,0,-302264.55999999994,0,602446.51000000013,0,419998.22000000009,0,-302503.03999999998,0]
[null,"01414","0776","201607",null,"01414","0982","201505",null,"RF","1414/RF/201607",{"$f":"IF(J623=0,0,+CONCATENATE(VLOOKUP(B623,Cadastro!$Q$3:$R$162,2,FALSE),\"/\",J623,\"/\",D623))","v":"19/RF/201607"},"RF/201607","1414/201607","1414/0776/201607","19/201607","19/0776/201607","0776/201607","Pes","1414/Pes/201505",{"$f":"+CONCATENATE(VLOOKUP(F623,Cadastro!$Q$3:$R$162,2,FALSE),\"/\",S623,\"/\",H623)","v":"19/Pes/201505"},"Pes/201505","1414/201505","1414/0982/201505","19/201505","19/0982/201505","0982/201505",1494174.2,0,1131716.29,0,1127015.01,0,380080.75999999989,0,335057.68,0]
[null,"01414","0776","201608",null,"01414","0982","201506",null,"RF","1414/RF/201608",{"$f":"IF(J624=0,0,+CONCATENATE(VLOOKUP(B624,Cadastro!$Q$3:$R$162,2,FALSE),\"/\",J624,\"/\",D624))","v":"19/RF/201608"},"RF/201608","1414/201608","1414/0776/201608","19/201608","19/0776/201608","0776/201608","Pes","1414/Pes/201506",{"$f":"+CONCATENATE(VLOOKUP(F624,Cadastro!$Q$3:$R$162,2,FALSE),\"/\",S624,\"/\",H624)","v":"19/Pes/201506"},"Pes/201506","1414/201506","1414/0982/201506","19/201506","19/0982/201506","0982/201506",162890.63,0,-174602.41999999998,0,989611.73,0,653410.01,0,284397.44,0]
[null,"01414","0776","201609",null,"01414","0982","201507",null,"RF","1414/RF/201609",{"$f":"IF(J625=0,0,+CONCATENATE(VLOOKUP(B625,Cadastro!$Q$3:$R$162,2,FALSE),\"/\",J625,\"/\",D625))","v":"19/RF/201609"},"RF/201609","1414/201609","1414/0776/201609","19/201609","19/0776/201609","0776/201609","Pes","1414/Pes/201507",{"$f":"+CONCATENATE(VLOOKUP(F625,Cadastro!$Q$3:$R$162,2,FALSE),\"/\",S625,\"/\",H625)","v":"19/Pes/201507"},"Pes/201507","1414/201507","1414/0982/201507","19/201507","19/0982/201507","0982/201507",187733.24,0,-244908.40000000002,0,707236.59,0,35950.61,0,252332.55,0]
[null,"01414","0776","201610",null,"01414","0982","201508",null,"RF","1414/RF/201610",{"$f":"IF(J626=0,0,+CONCATENATE(VLOOKUP(B626,Cadastro!$Q$3:$R$162,2,FALSE),\"/\",J626,\"/\",D626))","v":"19/RF/201610"},"RF/201610","1414/201610","1414/0776/201610","19/201610","19/0776/201610","0776/201610","Pes","1414/Pes/201508",{"$f":"+CONCATENATE(VLOOKUP(F626,Cadastro!$Q$3:$R$162,2,FALSE),\"/\",S626,\"/\",H626)","v":"19/Pes/201508"},"Pes/201508","1414/201508","1414/0982/201508","19/201508","19/0982/201508","0982/201508",174342.69,-31.66,-1905.820000000007,-16.7,874475.5,-16.7,-3231910.76,0,499903.25,-6.33]
[null,"01414","0776","201611",null,"01414","0982","201509",null,"RF","1414/RF/201611",{"$f":"IF(J627=0,0,+CONCATENATE(VLOOKUP(B627,Cadastro!$Q$3:$R$162,2,FALSE),\"/\",J627,\"/\",D627))","v":"19/RF/201611"},"RF/201611","1414/201611","1414/0776/201611","19/201611","19/0776/201611","0776/201611","Pes","1414/Pes/201509",{"$f":"+CONCATENATE(VLOOKUP(F627,Cadastro!$Q$3:$R$162,2,FALSE),\"/\",S627,\"/\",H627)","v":"19/Pes/201509"},"Pes/201509","1414/201509","1414/0982/201509","19/201509","19/0982/201509","0982/201509",927989.98,0,778650.59,0.17,963007.57,0.17,-154496.13,0,253237.89,0]
[null,"01414","0776","201612",null,"01414","0982","201510",null,"RF","1414/RF/201612",{"$f":"IF(J628=0,0,+CONCATENATE(VLOOKUP(B628,Cadastro!$Q$3:$R$162,2,FALSE),\"/\",J628,\"/\",D628))","v":"19/RF/201612"},"RF/201612","1414/201612","1414/0776/201612","19/201612","19/0776/201612","0776/201612","Pes","1414/Pes/201510",{"$f":"+CONCATENATE(VLOOKUP(F628,Cadastro!$Q$3:$R$162,2,FALSE),\"/\",S628,\"/\",H628)","v":"19/Pes/201510"},"Pes/201510","1414/201510","1414/0982/201510","19/201510","19/0982/201510","0982/201510",723678.76,0,395265.82,0,841813.29,0,360804.87,0,248328.81,0]
[null,"01414","0982","201601",null,"01414","0982","201511",null,"Pes","1414/Pes/201601",{"$f":"IF(J629=0,0,+CONCATENATE(VLOOKUP(B629,Cadastro!$Q$3:$R$162,2,FALSE),\"/\",J629,\"/\",D629))","v":"19/Pes/201601"},"Pes/201601","1414/201601","1414/0982/201601","19/201601","19/0982/201601","0982/201601","Pes","1414/Pes/201511",{"$f":"+CONCATENATE(VLOOKUP(F629,Cadastro!$Q$3:$R$162,2,FALSE),\"/\",S629,\"/\",H629)","v":"19/Pes/201511"},"Pes/201511","1414/201511","1414/0982/201511","19/201511","19/0982/201511","0982/201511",0,0,0,0,0,0,0,0,-0.01,0]
[null,"01414","0982","201602",null,"01414","0982","201512",null,"Pes","1414/Pes/201602",{"$f":"IF(J630=0,0,+CONCATENATE(VLOOKUP(B630,Cadastro!$Q$3:$R$162,2,FALSE),\"/\",J630,\"/\",D630))","v":"19/Pes/201602"},"Pes/201602","1414/201602","1414/0982/201602","19/201602","19/0982/201602","0982/201602","Pes","1414/Pes/201512",{"$f":"+CONCATENATE(VLOOKUP(F630,Cadastro!$Q$3:$R$162,2,FALSE),\"/\",S630,\"/\",H630)","v":"19/Pes/201512"},"Pes/201512","1414/201512","1414/0982/201512","19/201512","19/0982/201512","0982/201512",0,0,0,0,0,0,0,0,-0.02,-0.01]
[null,"01414","0982","201603",null,"01414","1130","201501",null,"Pes","1414/Pes/201603",{"$f":"IF(J631=0,0,+CONCATENATE(VLOOKUP(B631,Cadastro!$Q$3:$R$162,2,FALSE),\"/\",J631,\"/\",D631))","v":"19/Pes/201603"},"Pes/201603","1414/201603","1414/0982/201603","19/201603","19/0982/201603","0982/201603","Rur","1414/Rur/201501",{"$f":"+CONCATENATE(VLOOKUP(F631,Cadastro!$Q$3:$R$162,2,FALSE),\"/\",S631,\"/\",H631)","v":"19/Rur/201501"},"Rur/201501","1414/201501","1414/1130/201501","19/201501","19/1130/201501","1130/201501",0,50437.78,0,34012.25,0,90432.62,0,58826.94,0,21268.16]
[null,"01414","0982","201604",null,"01414","1130","201502",null,"Pes","1414/Pes/201604",{"$f":"IF(J632=0,0,+CONCATENATE(VLOOKUP(B632,Cadastro!$Q$3:$R$162,2,FALSE),\"/\",J632,\"/\",D632))","v":"19/Pes/201604"},"Pes/201604","1414/201604","1414/0982/201604","19/201604","19/0982/201604","0982/201604","Rur","1414/Rur/201502",{"$f":"+CONCATENATE(VLOOKUP(F632,Cadastro!$Q$3:$R$162,2,FALSE),\"/\",S632,\"/\",H632)","v":"19/Rur/201502"},"Rur/201502","1414/201502","1414/1130/201502","19/201502","19/1130/201502","1130/201502",0,19836.27,0,4778.8500000000004,0,81071.06,0,37010.050000000003,-0.05,19382.02]
[null,"01414","0982","201605",null,"01414","1130","201503",null,"Pes","1414/Pes/201605",{"$f":"IF(J633=0,0,+CONCATENATE(VLOOKUP(B633,Cadastro!$Q$3:$R$162,2,FALSE),\"/\",J633,\"/\",D633))","v":"19/Pes/201605"},"Pes/201605","1414/201605","1414/0982/201605","19/201605","19/0982/201605","0982/201605","Rur","1414/Rur/201503",{"$f":"+CONCATENATE(VLOOKUP(F633,Cadastro!$Q$3:$R$162,2,FALSE),\"/\",S633,\"/\",H633)","v":"19/Rur/201503"},"Rur/201503","1414/201503","1414/1130/201503","19/201503","19/1130/201503","1130/201503",0,112829.05,0,100592.12,0,82230.649999999994,0,-4765.8799999999992,-0.04,20639.32]
[null,"01414","0982","201606",null,"01414","1130","201504",null,"Pes","1414/Pes/201606",{"$f":"IF(J634=0,0,+CONCATENATE(VLOOKUP(B634,Cadastro!$Q$3:$R$162,2,FALSE),\"/\",J634,\"/\",D634))","v":"19/Pes/201606"},"Pes/201606","1414/201606","1414/0982/201606","19/201606","19/0982/201606","0982/201606","Rur","1414/Rur/201504",{"$f":"+CONCATENATE(VLOOKUP(F634,Cadastro!$Q$3:$R$162,2,FALSE),\"/\",S634,\"/\",H634)","v":"19/Rur/201504"},"Rur/201504","1414/201504","1414/1130/201504","19/201504","19/1130/201504","1130/201504",0,303808.26,0,286853.95,0,99567.46,0,-74187.02,0,27121.21]
[null,"01414","0982","201607",null,"01414","1130","201505",null,"Pes","1414/Pes/201607",{"$f":"IF(J635=0,0,+CONCATENATE(VLOOKUP(B635,Cadastro!$Q$3:$R$162,2,FALSE),\"/\",J635,\"/\",D635))","v":"19/Pes/201607"},"Pes/201607","1414/201607","1414/0982/201607","19/201607","19/0982/201607","0982/201607","Rur","1414/Rur/201505",{"$f":"+CONCATENATE(VLOOKUP(F635,Cadastro!$Q$3:$R$162,2,FALSE),\"/\",S635,\"/\",H635)","v":"19/Rur/201505"},"Rur/201505","1414/201505","1414/1130/201505","19/201505","19/1130/201505","1130/201505",0,126023.97,0,107472.49,0,108574.89,0,66876.990000000005,0,25906.3]
[null,"01414","0982","201608",null,"01414","1130","201506",null,"Pes","1414/Pes/201608",{"$f":"IF(J636=0,0,+CONCATENATE(VLOOKUP(B636,Cadastro!$Q$3:$R$162,2,FALSE),\"/\",J636,\"/\",D636))","v":"19/Pes/201608"},"Pes/201608","1414/201608","1414/0982/201608","19/201608","19/0982/201608","0982/201608","Rur","1414/Rur/201506",{"$f":"+CONCATENATE(VLOOKUP(F636,Cadastro!$Q$3:$R$162,2,FALSE),\"/\",S636,\"/\",H636)","v":"19/Rur/201506"},"Rur/201506","1414/201506","1414/1130/201506","19/201506","19/1130/201506","1130/201506",0,23576.23,0,8687.1299999999992,0,88296.189999999988,0,-189903.07,-0.04,21934.28]
[null,"01414","0982","201609",null,"01414","1130","201507",null,"Pes","1414/Pes/201609",{"$f":"IF(J637=0,0,+CONCATENATE(VLOOKUP(B637,Cadastro!$Q$3:$R$162,2,FALSE),\"/\",J637,\"/\",D637))","v":"19/Pes/201609"},"Pes/201609","1414/201609","1414/0982/201609","19/201609","19/0982/201609","0982/201609","Rur","1414/Rur/201507",{"$f":"+CONCATENATE(VLOOKUP(F637,Cadastro!$Q$3:$R$162,2,FALSE),\"/\",S637,\"/\",H637)","v":"19/Rur/201507"},"Rur/201507","1414/201507","1414/1130/201507","19/201507","19/1130/201507","1130/201507",0,97840.12,0,79542.429999999993,0,110253.55,0,-7.4900000000000091,-0.04,27363.15]
[null,"01414","0982","201610",null,"01414","1130","201508",null,"Pes","1414/Pes/201610",{"$f":"IF(J638=0,0,+CONCATENATE(VLOOKUP(B638,Cadastro!$Q$3:$R$162,2,FALSE),\"/\",J638,\"/\",D638))","v":"19/Pes/201610"},"Pes/201610","1414/201610","1414/0982/201610","19/201610","19/0982/201610","0982/201610","Rur","1414/Rur/201508",{"$f":"+CONCATENATE(VLOOKUP(F638,Cadastro!$Q$3:$R$162,2,FALSE),\"/\",S638,\"/\",H638)","v":"19/Rur/201508"},"Rur/201508","1414/201508","1414/1130/201508","19/201508","19/1130/201508","1130/201508",0,98322.12,0,80602.349999999991,0,107803.94,0,-16596.009999999998,0,27206.49]
[null,"01414","0982","201611",null,"01414","1130","201509",null,"Pes","1414/Pes/201611",{"$f":"IF(J639=0,0,+CONCATENATE(VLOOKUP(B639,Cadastro!$Q$3:$R$162,2,FALSE),\"/\",J639,\"/\",D639))","v":"19/Pes/201611"},"Pes/201611","1414/201611","1414/0982/201611","19/201611","19/0982/201611","0982/201611","Rur","1414/Rur/201509",{"$f":"+CONCATENATE(VLOOKUP(F639,Cadastro!$Q$3:$R$162,2,FALSE),\"/\",S639,\"/\",H639)","v":"19/Rur/201509"},"Rur/201509","1414/201509","1414/1130/201509","19/201509","19/1130/201509","1130/201509",0,67610.460000000006,0,37385.550000000003,0,91142.86,0,15300.429999999997,0,23458.85]
[null,"01414","0982","201612",null,"01414","1130","201510",null,"Pes","1414/Pes/201612",{"$f":"IF(J640=0,0,+CONCATENATE(VLOOKUP(B640,Cadastro!$Q$3:$R$162,2,FALSE),\"/\",J640,\"/\",D640))","v":"19/Pes/201612"},"Pes/201612","1414/201612","1414/0982/201612","19/201612","19/0982/201612","0982/201612","Rur","1414/Rur/201510",{"$f":"+CONCATENATE(VLOOKUP(F640,Cadastro!$Q$3:$R$162,2,FALSE),\"/\",S640,\"/\",H640)","v":"19/Rur/201510"},"Rur/201510","1414/201510","1414/1130/201510","19/201510","19/1130/201510","1130/201510",0,70297.820000000007,0,52563.860000000008,0,110146.79999999999,0,17291.989999999998,0,28554.2]
[null,"01414","1130","201601",null,"01414","1130","201511",null,"Rur","1414/Rur/201601",{"$f":"IF(J641=0,0,+CONCATENATE(VLOOKUP(B641,Cadastro!$Q$3:$R$162,2,FALSE),\"/\",J641,\"/\",D641))","v":"19/Rur/201601"},"Rur/201601","1414/201601","1414/1130/201601","19/201601","19/1130/201601","1130/201601","Rur","1414/Rur/201511",{"$f":"+CONCATENATE(VLOOKUP(F641,Cadastro!$Q$3:$R$162,2,FALSE),\"/\",S641,\"/\",H641)","v":"19/Rur/201511"},"Rur/201511","1414/201511","1414/1130/201511","19/201511","19/1130/201511","1130/201511",34706.29,433566.5,19364.620000000003,417426.32,103943.33,101042.29999999999,41091.4,27341.120000000003,27611.47,26807.74]
[null,"01414","1130","201602",null,"01414","1130","201512",null,"Rur","1414/Rur/201602",{"$f":"IF(J642=0,0,+CONCATENATE(VLOOKUP(B642,Cadastro!$Q$3:$R$162,2,FALSE),\"/\",J642,\"/\",D642))","v":"19/Rur/201602"},"Rur/201602","1414/201602","1414/1130/201602","19/201602","19/1130/201602","1130/201602","Rur","1414/Rur/201512",{"$f":"+CONCATENATE(VLOOKUP(F642,Cadastro!$Q$3:$R$162,2,FALSE),\"/\",S642,\"/\",H642)","v":"19/Rur/201512"},"Rur/201512","1414/201512","1414/1130/201512","19/201512","19/1130/201512","1130/201512",43516.41,3845.47,29040.510000000002,-30574.989999999998,97683.69,81761.079999999987,74548.23000000001,136412.72999999998,24735.45,12073.31]
[null,"01414","1130","201603",null,"01414","1162","201501",null,"Rur","1414/Rur/201603",{"$f":"IF(J643=0,0,+CONCATENATE(VLOOKUP(B643,Cadastro!$Q$3:$R$162,2,FALSE),\"/\",J643,\"/\",D643))","v":"19/Rur/201603"},"Rur/201603","1414/201603","1414/1130/201603","19/201603","19/1130/201603","1130/201603","Rur","1414/Rur/201501",{"$f":"+CONCATENATE(VLOOKUP(F643,Cadastro!$Q$3:$R$162,2,FALSE),\"/\",S643,\"/\",H643)","v":"19/Rur/201501"},"Rur/201501","1414/201501","1414/1162/201501","19/201501","19/1162/201501","1162/201501",74790.789999999994,0,58345.569999999992,0,108088.19,0,18254.71,285.64999999999998,28401.16,0]
[null,"01414","1130","201604",null,"01414","1162","201502",null,"Rur","1414/Rur/201604",{"$f":"IF(J644=0,0,+CONCATENATE(VLOOKUP(B644,Cadastro!$Q$3:$R$162,2,FALSE),\"/\",J644,\"/\",D644))","v":"19/Rur/201604"},"Rur/201604","1414/201604","1414/1130/201604","19/201604","19/1130/201604","1130/201604","Rur","1414/Rur/201502",{"$f":"+CONCATENATE(VLOOKUP(F644,Cadastro!$Q$3:$R$162,2,FALSE),\"/\",S644,\"/\",H644)","v":"19/Rur/201502"},"Rur/201502","1414/201502","1414/1162/201502","19/201502","19/1162/201502","1162/201502",109323.86,0,93787.68,0,100153.12,0,-33437.360000000001,285.74,25031.58,0]
[null,"01414","1130","201605",null,"01414","1162","201503",null,{"$f":"IF(C645=0,0,+VLOOKUP(C645,$AQ$4:$AR$130,2,FALSE))","v":"Rur"},{"$f":"IF(J645=0,0,+CONCATENATE(VALUE(B645),\"/\",J645,\"/\",D645))","v":"1414/Rur/201605"},{"$f":"IF(J645=0,0,+CONCATENATE(VLOOKUP(B645,Cadastro!$Q$3:$R$162,2,FALSE),\"/\",J645,\"/\",D645))","v":"19/Rur/201605"},{"$f":"IF(J645=0,0,+CONCATENATE(J645,\"/\",D645))","v":"Rur/201605"},"1414/201605","1414/1130/201605","19/201605","19/1130/201605","1130/201605",{"$f":"+VLOOKUP(G645,$AQ$4:$AR$130,2,FALSE)","v":"Rur"},{"$f":"+CONCATENATE(VALUE(F645),\"/\",S645,\"/\",H645)","v":"1414/Rur/201503"},{"$f":"+CONCATENATE(VLOOKUP(F645,Cadastro!$Q$3:$R$162,2,FALSE),\"/\",S645,\"/\",H645)","v":"19/Rur/201503"},"Rur/201503","1414/201503","1414/1162/201503","19/201503","19/1162/201503","1162/201503",196506.78,0,2249.7999999999884,0,-72717.16,0,6410.85,571.48,27707.67,0]
[null,"01414","1130","201606",null,"01414","1162","201504",null,"Rur","1414/Rur/201606",{"$f":"IF(J646=0,0,+CONCATENATE(VLOOKUP(B646,Cadastro!$Q$3:$R$162,2,FALSE),\"/\",J646,\"/\",D646))","v":"19/Rur/201606"},"Rur/201606","1414/201606","1414/1130/201606","19/201606","19/1130/201606","1130/201606","Rur","1414/Rur/201504",{"$f":"+CONCATENATE(VLOOKUP(F646,Cadastro!$Q$3:$R$162,2,FALSE),\"/\",S646,\"/\",H646)","v":"19/Rur/201504"},{"$f":"+CONCATENATE(S646,\"/\",H646)","v":"Rur/201504"},"1414/201504","1414/1162/201504","19/201504","19/1162/201504","1162/201504",123194.16,-2662.31,110091.13,-2303.41,100514.72,-2303.41,42958.61,380.97,31453.759999999998,-532.46]
[null,"01414","1130","201607",null,"01414","1162","201505",null,"Rur","1414/Rur/201607",{"$f":"IF(J647=0,0,+CONCATENATE(VLOOKUP(B647,Cadastro!$Q$3:$R$162,2,FALSE),\"/\",J647,\"/\",D647))","v":"19/Rur/201607"},"Rur/201607","1414/201607","1414/1130/201607","19/201607","19/1130/201607","1130/201607","Rur","1414/Rur/201505",{"$f":"+CONCATENATE(VLOOKUP(F647,Cadastro!$Q$3:$R$162,2,FALSE),\"/\",S647,\"/\",H647)","v":"19/Rur/201505"},"Rur/201505","1414/201505","1414/1162/201505","19/201505","19/1162/201505","1162/201505",-21397.99,0,-35194.590000000004,0,92167.26999999999,0,881413.51999999979,159.06,23552.03,0]
[null,"01414","1130","201608",null,"01414","1162","201506",null,"Rur","1414/Rur/201608",{"$f":"IF(J648=0,0,+CONCATENATE(VLOOKUP(B648,Cadastro!$Q$3:$R$162,2,FALSE),\"/\",J648,\"/\",D648))","v":"19/Rur/201608"},"Rur/201608","1414/201608","1414/1130/201608","19/201608","19/1130/201608","1130/201608","Rur","1414/Rur/201506",{"$f":"+CONCATENATE(VLOOKUP(F648,Cadastro!$Q$3:$R$162,2,FALSE),\"/\",S648,\"/\",H648)","v":"19/Rur/201506"},"Rur/201506","1414/201506","1414/1162/201506","19/201506","19/1162/201506","1162/201506",4666.5600000000004,0,-8754.64,0,89827.92,0,-154831.99,-10840.59,22198.17,0]
[null,"01414","1130","201609",null,"01414","1162","201507",null,"Rur","1414/Rur/201609",{"$f":"IF(J649=0,0,+CONCATENATE(VLOOKUP(B649,Cadastro!$Q$3:$R$162,2,FALSE),\"/\",J649,\"/\",D649))","v":"19/Rur/201609"},"Rur/201609","1414/201609","1414/1130/201609","19/201609","19/1130/201609","1130/201609","Rur","1414/Rur/201507",{"$f":"+CONCATENATE(VLOOKUP(F649,Cadastro!$Q$3:$R$162,2,FALSE),\"/\",S649,\"/\",H649)","v":"19/Rur/201507"},"Rur/201507","1414/201507","1414/1162/201507","19/201507","19/1162/201507","1162/201507",-4317.58,0,-13675.91,0,87829.04,0,117400.74000000002,0,21103.27,-2.25]
[null,"01414","1130","201610",null,"01414","1162","201508",null,"Rur","1414/Rur/201610",{"$f":"IF(J650=0,0,+CONCATENATE(VLOOKUP(B650,Cadastro!$Q$3:$R$162,2,FALSE),\"/\",J650,\"/\",D650))","v":"19/Rur/201610"},"Rur/201610","1414/201610","1414/1130/201610","19/201610","19/1130/201610","1130/201610","Rur","1414/Rur/201508",{"$f":"+CONCATENATE(VLOOKUP(F650,Cadastro!$Q$3:$R$162,2,FALSE),\"/\",S650,\"/\",H650)","v":"19/Rur/201508"},"Rur/201508","1414/201508","1414/1162/201508","19/201508","19/1162/201508","1162/201508",-31057.29,0,-41043.040000000001,0,82368.100000000006,0,1620862.45,0,33928.29,-1.1399999999999999]
[null,"01414","1130","201611",null,"01414","1162","201509",null,"Rur","1414/Rur/201611",{"$f":"IF(J651=0,0,+CONCATENATE(VLOOKUP(B651,Cadastro!$Q$3:$R$162,2,FALSE),\"/\",J651,\"/\",D651))","v":"19/Rur/201611"},"Rur/201611","1414/201611","1414/1130/201611","19/201611","19/1130/201611","1130/201611","Rur","1414/Rur/201509",{"$f":"+CONCATENATE(VLOOKUP(F651,Cadastro!$Q$3:$R$162,2,FALSE),\"/\",S651,\"/\",H651)","v":"19/Rur/201509"},"Rur/201509","1414/201509","1414/1162/201509","19/201509","19/1162/201509","1162/201509",-7264.88,0,-14883.71,36.24,41270.32,36.24,-189481.38,0,10799.47,-1858.86]
[null,"01414","1130","201612",null,"01414","1162","201510",null,"Rur","1414/Rur/201612",{"$f":"IF(J652=0,0,+CONCATENATE(VLOOKUP(B652,Cadastro!$Q$3:$R$162,2,FALSE),\"/\",J652,\"/\",D652))","v":"19/Rur/201612"},"Rur/201612","1414/201612","1414/1130/201612","19/201612","19/1130/201612","1130/201612","Rur","1414/Rur/201510",{"$f":"+CONCATENATE(VLOOKUP(F652,Cadastro!$Q$3:$R$162,2,FALSE),\"/\",S652,\"/\",H652)","v":"19/Rur/201510"},"Rur/201510","1414/201510","1414/1162/201510","19/201510","19/1162/201510","1162/201510",-4244.1400000000003,0,-10788.51,0,39879.57,0,-39614.659999999996,0,9139.4,287.36]
[null,"01414","1162","201601",null,"01414","1162","201511",null,"Rur","1414/Rur/201601",{"$f":"IF(J653=0,0,+CONCATENATE(VLOOKUP(B653,Cadastro!$Q$3:$R$162,2,FALSE),\"/\",J653,\"/\",D653))","v":"19/Rur/201601"},"Rur/201601","1414/201601","1414/1162/201601","19/201601","19/1162/201601","1162/201601","Rur","1414/Rur/201511",{"$f":"+CONCATENATE(VLOOKUP(F653,Cadastro!$Q$3:$R$162,2,FALSE),\"/\",S653,\"/\",H653)","v":"19/Rur/201511"},"Rur/201511","1414/201511","1414/1162/201511","19/201511","19/1162/201511","1162/201511",0,0,0,0,0,0,0,0,309.51,-303.22000000000003]
[null,"01414","1162","201602",null,"01414","1162","201512",null,"Rur","1414/Rur/201602",{"$f":"IF(J654=0,0,+CONCATENATE(VLOOKUP(B654,Cadastro!$Q$3:$R$162,2,FALSE),\"/\",J654,\"/\",D654))","v":"19/Rur/201602"},"Rur/201602","1414/201602","1414/1162/201602","19/201602","19/1162/201602","1162/201602","Rur","1414/Rur/201512",{"$f":"+CONCATENATE(VLOOKUP(F654,Cadastro!$Q$3:$R$162,2,FALSE),\"/\",S654,\"/\",H654)","v":"19/Rur/201512"},"Rur/201512","1414/201512","1414/1162/201512","19/201512","19/1162/201512","1162/201512",0,0,0,0,0,0,-1162,1162,280.49,290.17]
[null,"01414","1162","201603",null,"01414","1433","201501",null,"Rur","1414/Rur/201603",{"$f":"IF(J655=0,0,+CONCATENATE(VLOOKUP(B655,Cadastro!$Q$3:$R$162,2,FALSE),\"/\",J655,\"/\",D655))","v":"19/Rur/201603"},"Rur/201603","1414/201603","1414/1162/201603","19/201603","19/1162/201603","1162/201603","Mar","1414/Mar/201501",{"$f":"+CONCATENATE(VLOOKUP(F655,Cadastro!$Q$3:$R$162,2,FALSE),\"/\",S655,\"/\",H655)","v":"19/Mar/201501"},"Mar/201501","1414/201501","1414/1433/201501","19/201501","19/1433/201501","1433/201501",0,0,0,0,0,0,0,0,187.43,0]
[null,"01414","1162","201604",null,"01414","1433","201502",null,"Rur","1414/Rur/201604",{"$f":"IF(J656=0,0,+CONCATENATE(VLOOKUP(B656,Cadastro!$Q$3:$R$162,2,FALSE),\"/\",J656,\"/\",D656))","v":"19/Rur/201604"},"Rur/201604","1414/201604","1414/1162/201604","19/201604","19/1162/201604","1162/201604","Mar","1414/Mar/201502",{"$f":"+CONCATENATE(VLOOKUP(F656,Cadastro!$Q$3:$R$162,2,FALSE),\"/\",S656,\"/\",H656)","v":"19/Mar/201502"},"Mar/201502","1414/201502","1414/1433/201502","19/201502","19/1433/201502","1433/201502",0,0,0,0,0,0,0,0,87.71,0]
[null,"01414","1162","201605",null,"01414","1433","201503",null,"Rur","1414/Rur/201605",{"$f":"IF(J657=0,0,+CONCATENATE(VLOOKUP(B657,Cadastro!$Q$3:$R$162,2,FALSE),\"/\",J657,\"/\",D657))","v":"19/Rur/201605"},"Rur/201605","1414/201605","1414/1162/201605","19/201605","19/1162/201605","1162/201605","Mar","1414/Mar/201503",{"$f":"+CONCATENATE(VLOOKUP(F657,Cadastro!$Q$3:$R$162,2,FALSE),\"/\",S657,\"/\",H657)","v":"19/Mar/201503"},"Mar/201503","1414/201503","1414/1433/201503","19/201503","19/1433/201503","1433/201503",0,0,0,0,0,0,0,0,0,0]
[null,"01414","1162","201606",null,"01414","1433","201504",null,"Rur","1414/Rur/201606",{"$f":"IF(J658=0,0,+CONCATENATE(VLOOKUP(B658,Cadastro!$Q$3:$R$162,2,FALSE),\"/\",J658,\"/\",D658))","v":"19/Rur/201606"},"Rur/201606","1414/201606","1414/1162/201606","19/201606","19/1162/201606","1162/201606","Mar","1414/Mar/201504",{"$f":"+CONCATENATE(VLOOKUP(F658,Cadastro!$Q$3:$R$162,2,FALSE),\"/\",S658,\"/\",H658)","v":"19/Mar/201504"},"Mar/201504","1414/201504","1414/1433/201504","19/201504","19/1433/201504","1433/201504",0,0,0,0,0,0,0,0,0,0]
[null,"01414","1162","201607",null,"01414","1433","201505",null,"Rur","1414/Rur/201607",{"$f":"IF(J659=0,0,+CONCATENATE(VLOOKUP(B659,Cadastro!$Q$3:$R$162,2,FALSE),\"/\",J659,\"/\",D659))","v":"19/Rur/201607"},"Rur/201607","1414/201607","1414/1162/201607","19/201607","19/1162/201607","1162/201607","Mar","1414/Mar/201505",{"$f":"+CONCATENATE(VLOOKUP(F659,Cadastro!$Q$3:$R$162,2,FALSE),\"/\",S659,\"/\",H659)","v":"19/Mar/201505"},"Mar/201505","1414/201505","1414/1433/201505","19/201505","19/1433/201505","1433/201505",0,0,0,0,0,0,34942.31,0,0,0]
[null,"01414","1162","201608",null,"01414","1433","201506",null,"Rur","1414/Rur/201608",{"$f":"IF(J660=0,0,+CONCATENATE(VLOOKUP(B660,Cadastro!$Q$3:$R$162,2,FALSE),\"/\",J660,\"/\",D660))","v":"19/Rur/201608"},"Rur/201608","1414/201608","1414/1162/201608","19/201608","19/1162/201608","1162/201608","Mar","1414/Mar/201506",{"$f":"+CONCATENATE(VLOOKUP(F660,Cadastro!$Q$3:$R$162,2,FALSE),\"/\",S660,\"/\",H660)","v":"19/Mar/201506"},"Mar/201506","1414/201506","1414/1433/201506","19/201506","19/1433/201506","1433/201506",0,0,0,0,0,0,-4148.0600000000004,0,0,0]
[null,"01414","1162","201609",null,"01414","1433","201507",null,"Rur","1414/Rur/201609",{"$f":"IF(J661=0,0,+CONCATENATE(VLOOKUP(B661,Cadastro!$Q$3:$R$162,2,FALSE),\"/\",J661,\"/\",D661))","v":"19/Rur/201609"},"Rur/201609","1414/201609","1414/1162/201609","19/201609","19/1162/201609","1162/201609","Mar","1414/Mar/201507",{"$f":"+CONCATENATE(VLOOKUP(F661,Cadastro!$Q$3:$R$162,2,FALSE),\"/\",S661,\"/\",H661)","v":"19/Mar/201507"},"Mar/201507","1414/201507","1414/1433/201507","19/201507","19/1433/201507","1433/201507",0,0,0,0,0,0,0,0,0,0]
[null,"01414","1162","201610",null,"01414","1433","201508",null,"Rur","1414/Rur/201610",{"$f":"IF(J662=0,0,+CONCATENATE(VLOOKUP(B662,Cadastro!$Q$3:$R$162,2,FALSE),\"/\",J662,\"/\",D662))","v":"19/Rur/201610"},"Rur/201610","1414/201610","1414/1162/201610","19/201610","19/1162/201610","1162/201610","Mar","1414/Mar/201508",{"$f":"+CONCATENATE(VLOOKUP(F662,Cadastro!$Q$3:$R$162,2,FALSE),\"/\",S662,\"/\",H662)","v":"19/Mar/201508"},"Mar/201508","1414/201508","1414/1433/201508","19/201508","19/1433/201508","1433/201508",0,0,0,0,0,0,-26772.65,0,0,0]
[null,"01414","1162","201611",null,"01414","1433","201509",null,"Rur","1414/Rur/201611",{"$f":"IF(J663=0,0,+CONCATENATE(VLOOKUP(B663,Cadastro!$Q$3:$R$162,2,FALSE),\"/\",J663,\"/\",D663))","v":"19/Rur/201611"},"Rur/201611","1414/201611","1414/1162/201611","19/201611","19/1162/201611","1162/201611","Mar","1414/Mar/201509",{"$f":"+CONCATENATE(VLOOKUP(F663,Cadastro!$Q$3:$R$162,2,FALSE),\"/\",S663,\"/\",H663)","v":"19/Mar/201509"},"Mar/201509","1414/201509","1414/1433/201509","19/201509","19/1433/201509","1433/201509",0,0,0,0,0,0,0,0,0,0]
[null,"01414","1162","201612",null,"01414","1433","201510",null,"Rur","1414/Rur/201612",{"$f":"IF(J664=0,0,+CONCATENATE(VLOOKUP(B664,Cadastro!$Q$3:$R$162,2,FALSE),\"/\",J664,\"/\",D664))","v":"19/Rur/201612"},"Rur/201612","1414/201612","1414/1162/201612","19/201612","19/1162/201612","1162/201612","Mar","1414/Mar/201510",{"$f":"+CONCATENATE(VLOOKUP(F664,Cadastro!$Q$3:$R$162,2,FALSE),\"/\",S664,\"/\",H664)","v":"19/Mar/201510"},"Mar/201510","1414/201510","1414/1433/201510","19/201510","19/1433/201510","1433/201510",0,0,0,0,0,0,0,0,0,0]
[null,"01414","1433","201601",null,"01414","1433","201511",null,"Mar","1414/Mar/201601",{"$f":"IF(J665=0,0,+CONCATENATE(VLOOKUP(B665,Cadastro!$Q$3:$R$162,2,FALSE),\"/\",J665,\"/\",D665))","v":"19/Mar/201601"},"Mar/201601","1414/201601","1414/1433/201601","19/201601","19/1433/201601","1433/201601","Mar","1414/Mar/201511",{"$f":"+CONCATENATE(VLOOKUP(F665,Cadastro!$Q$3:$R$162,2,FALSE),\"/\",S665,\"/\",H665)","v":"19/Mar/201511"},"Mar/201511","1414/201511","1414/1433/201511","19/201511","19/1433/201511","1433/201511",0,0,0,0,0,0,0,0,0,0]
[null,"01414","1433","201602",null,"01414","1433","201512",null,"Mar","1414/Mar/201602",{"$f":"IF(J666=0,0,+CONCATENATE(VLOOKUP(B666,Cadastro!$Q$3:$R$162,2,FALSE),\"/\",J666,\"/\",D666))","v":"19/Mar/201602"},"Mar/201602","1414/201602","1414/1433/201602","19/201602","19/1433/201602","1433/201602","Mar","1414/Mar/201512",{"$f":"+CONCATENATE(VLOOKUP(F666,Cadastro!$Q$3:$R$162,2,FALSE),\"/\",S666,\"/\",H666)","v":"19/Mar/201512"},"Mar/201512","1414/201512","1414/1433/201512","19/201512","19/1433/201512","1433/201512",0,0,0,0,0,0,0,0,0,0]
[null,"01414","1433","201603",null,"01431","0118","201501",null,"Mar","1414/Mar/201603",{"$f":"IF(J667=0,0,+CONCATENATE(VLOOKUP(B667,Cadastro!$Q$3:$R$162,2,FALSE),\"/\",J667,\"/\",D667))","v":"19/Mar/201603"},"Mar/201603","1414/201603","1414/1433/201603","19/201603","19/1433/201603","1433/201603","Pat","1431/Pat/201501",{"$f":"+CONCATENATE(VLOOKUP(F667,Cadastro!$Q$3:$R$162,2,FALSE),\"/\",S667,\"/\",H667)","v":"80/Pat/201501"},"Pat/201501","1431/201501","1431/0118/201501","80/201501","80/0118/201501","0118/201501",0,0,0,-589239.65,0,-589239.65,0,250.9,0,0]
[null,"01414","1433","201604",null,"01431","0118","201502",null,"Mar","1414/Mar/201604",{"$f":"IF(J668=0,0,+CONCATENATE(VLOOKUP(B668,Cadastro!$Q$3:$R$162,2,FALSE),\"/\",J668,\"/\",D668))","v":"19/Mar/201604"},"Mar/201604","1414/201604","1414/1433/201604","19/201604","19/1433/201604","1433/201604","Pat","1431/Pat/201502",{"$f":"+CONCATENATE(VLOOKUP(F668,Cadastro!$Q$3:$R$162,2,FALSE),\"/\",S668,\"/\",H668)","v":"80/Pat/201502"},"Pat/201502","1431/201502","1431/0118/201502","80/201502","80/0118/201502","0118/201502",0,0,0,-23535.22,0,-23535.22,0,-3.17,0,0]
[null,"01414","1433","201605",null,"01431","0118","201503",null,"Mar","1414/Mar/201605",{"$f":"IF(J669=0,0,+CONCATENATE(VLOOKUP(B669,Cadastro!$Q$3:$R$162,2,FALSE),\"/\",J669,\"/\",D669))","v":"19/Mar/201605"},"Mar/201605","1414/201605","1414/1433/201605","19/201605","19/1433/201605","1433/201605","Pat","1431/Pat/201503",{"$f":"+CONCATENATE(VLOOKUP(F669,Cadastro!$Q$3:$R$162,2,FALSE),\"/\",S669,\"/\",H669)","v":"80/Pat/201503"},"Pat/201503","1431/201503","1431/0118/201503","80/201503","80/0118/201503","0118/201503",0,0,0,-23535.21,0,-23535.21,0,0,0,0]
[null,"01414","1433","201606",null,"01431","0118","201504",null,"Mar","1414/Mar/201606",{"$f":"IF(J670=0,0,+CONCATENATE(VLOOKUP(B670,Cadastro!$Q$3:$R$162,2,FALSE),\"/\",J670,\"/\",D670))","v":"19/Mar/201606"},"Mar/201606","1414/201606","1414/1433/201606","19/201606","19/1433/201606","1433/201606","Pat","1431/Pat/201504",{"$f":"+CONCATENATE(VLOOKUP(F670,Cadastro!$Q$3:$R$162,2,FALSE),\"/\",S670,\"/\",H670)","v":"80/Pat/201504"},"Pat/201504","1431/201504","1431/0118/201504","80/201504","80/0118/201504","0118/201504",0,0,0,-35485.26,0,-35485.26,0,3879.99,0,0]
[null,"01414","1433","201607",null,"01431","0118","201505",null,"Mar","1414/Mar/201607",{"$f":"IF(J671=0,0,+CONCATENATE(VLOOKUP(B671,Cadastro!$Q$3:$R$162,2,FALSE),\"/\",J671,\"/\",D671))","v":"19/Mar/201607"},"Mar/201607","1414/201607","1414/1433/201607","19/201607","19/1433/201607","1433/201607","Pat","1431/Pat/201505",{"$f":"+CONCATENATE(VLOOKUP(F671,Cadastro!$Q$3:$R$162,2,FALSE),\"/\",S671,\"/\",H671)","v":"80/Pat/201505"},"Pat/201505","1431/201505","1431/0118/201505","80/201505","80/0118/201505","0118/201505",0,0,0,-28132.35,0,-28132.35,0,-49932.09,0,0]
[null,"01414","1433","201608",null,"01431","0118","201506",null,"Mar","1414/Mar/201608",{"$f":"IF(J672=0,0,+CONCATENATE(VLOOKUP(B672,Cadastro!$Q$3:$R$162,2,FALSE),\"/\",J672,\"/\",D672))","v":"19/Mar/201608"},"Mar/201608","1414/201608","1414/1433/201608","19/201608","19/1433/201608","1433/201608","Pat","1431/Pat/201506",{"$f":"+CONCATENATE(VLOOKUP(F672,Cadastro!$Q$3:$R$162,2,FALSE),\"/\",S672,\"/\",H672)","v":"80/Pat/201506"},"Pat/201506","1431/201506","1431/0118/201506","80/201506","80/0118/201506","0118/201506",0,0,0,532067.59,0,532067.59,0,-9920,0,0]
[null,"01414","1433","201609",null,"01431","0118","201507",null,"Mar","1414/Mar/201609",{"$f":"IF(J673=0,0,+CONCATENATE(VLOOKUP(B673,Cadastro!$Q$3:$R$162,2,FALSE),\"/\",J673,\"/\",D673))","v":"19/Mar/201609"},"Mar/201609","1414/201609","1414/1433/201609","19/201609","19/1433/201609","1433/201609","Pat","1431/Pat/201507",{"$f":"+CONCATENATE(VLOOKUP(F673,Cadastro!$Q$3:$R$162,2,FALSE),\"/\",S673,\"/\",H673)","v":"80/Pat/201507"},"Pat/201507","1431/201507","1431/0118/201507","80/201507","80/0118/201507","0118/201507",0,0,0,-59.04,0,-59.04,0,0,0,0]
[null,"01414","1433","201610",null,"01431","0118","201508",null,"Mar","1414/Mar/201610",{"$f":"IF(J674=0,0,+CONCATENATE(VLOOKUP(B674,Cadastro!$Q$3:$R$162,2,FALSE),\"/\",J674,\"/\",D674))","v":"19/Mar/201610"},"Mar/201610","1414/201610","1414/1433/201610","19/201610","19/1433/201610","1433/201610","Pat","1431/Pat/201508",{"$f":"+CONCATENATE(VLOOKUP(F674,Cadastro!$Q$3:$R$162,2,FALSE),\"/\",S674,\"/\",H674)","v":"80/Pat/201508"},"Pat/201508","1431/201508","1431/0118/201508","80/201508","80/0118/201508","0118/201508",0,0,0,-8721.56,0,-8721.56,0,0,0,0]
[null,"01414","1433","201611",null,"01431","0118","201509",null,"Mar","1414/Mar/201611",{"$f":"IF(J675=0,0,+CONCATENATE(VLOOKUP(B675,Cadastro!$Q$3:$R$162,2,FALSE),\"/\",J675,\"/\",D675))","v":"19/Mar/201611"},"Mar/201611","1414/201611","1414/1433/201611","19/201611","19/1433/201611","1433/201611","Pat","1431/Pat/201509",{"$f":"+CONCATENATE(VLOOKUP(F675,Cadastro!$Q$3:$R$162,2,FALSE),\"/\",S675,\"/\",H675)","v":"80/Pat/201509"},"Pat/201509","1431/201509","1431/0118/201509","80/201509","80/0118/201509","0118/201509",0,0,0,-59.04,0,-59.04,0,0,0,0]
[null,"01414","1433","201612",null,"01431","0118","201510",null,"Mar","1414/Mar/201612",{"$f":"IF(J676=0,0,+CONCATENATE(VLOOKUP(B676,Cadastro!$Q$3:$R$162,2,FALSE),\"/\",J676,\"/\",D676))","v":"19/Mar/201612"},"Mar/201612","1414/201612","1414/1433/201612","19/201612","19/1433/201612","1433/201612","Pat","1431/Pat/201510",{"$f":"+CONCATENATE(VLOOKUP(F676,Cadastro!$Q$3:$R$162,2,FALSE),\"/\",S676,\"/\",H676)","v":"80/Pat/201510"},"Pat/201510","1431/201510","1431/0118/201510","80/201510","80/0118/201510","0118/201510",0,0,0,-40864.050000000003,0,-40864.050000000003,0,0,0,0]
[null,"01431","0118","201601",null,"01431","0118","201511",null,"Pat","1431/Pat/201601",{"$f":"IF(J677=0,0,+CONCATENATE(VLOOKUP(B677,Cadastro!$Q$3:$R$162,2,FALSE),\"/\",J677,\"/\",D677))","v":"80/Pat/201601"},"Pat/201601","1431/201601","1431/0118/201601","80/201601","80/0118/201601","0118/201601","Pat","1431/Pat/201511",{"$f":"+CONCATENATE(VLOOKUP(F677,Cadastro!$Q$3:$R$162,2,FALSE),\"/\",S677,\"/\",H677)","v":"80/Pat/201511"},"Pat/201511","1431/201511","1431/0118/201511","80/201511","80/0118/201511","0118/201511",0,0,-88.47,-88.47,-88.47,-88.47,0,0,0,0]
[null,"01431","0118","201602",null,"01431","0118","201512",null,"Pat","1431/Pat/201602",{"$f":"IF(J678=0,0,+CONCATENATE(VLOOKUP(B678,Cadastro!$Q$3:$R$162,2,FALSE),\"/\",J678,\"/\",D678))","v":"80/Pat/201602"},"Pat/201602","1431/201602","1431/0118/201602","80/201602","80/0118/201602","0118/201602","Pat","1431/Pat/201512",{"$f":"+CONCATENATE(VLOOKUP(F678,Cadastro!$Q$3:$R$162,2,FALSE),\"/\",S678,\"/\",H678)","v":"80/Pat/201512"},"Pat/201512","1431/201512","1431/0118/201512","80/201512","80/0118/201512","0118/201512",0,0,-88.47,-35898.93,-88.47,-35898.93,0,-1003,3000,0]
[null,"01431","0118","201603",null,"01431","0141","201501",null,"Pat","1431/Pat/201603",{"$f":"IF(J679=0,0,+CONCATENATE(VLOOKUP(B679,Cadastro!$Q$3:$R$162,2,FALSE),\"/\",J679,\"/\",D679))","v":"80/Pat/201603"},"Pat/201603","1431/201603","1431/0118/201603","80/201603","80/0118/201603","0118/201603","Pat","1431/Pat/201501",{"$f":"+CONCATENATE(VLOOKUP(F679,Cadastro!$Q$3:$R$162,2,FALSE),\"/\",S679,\"/\",H679)","v":"80/Pat/201501"},"Pat/201501","1431/201501","1431/0141/201501","80/201501","80/0141/201501","0141/201501",0,0,-88.47,-7030.47,-88.47,-7030.47,0,0,0,0]
[null,"01431","0118","201604",null,"01431","0141","201502",null,"Pat","1431/Pat/201604",{"$f":"IF(J680=0,0,+CONCATENATE(VLOOKUP(B680,Cadastro!$Q$3:$R$162,2,FALSE),\"/\",J680,\"/\",D680))","v":"80/Pat/201604"},"Pat/201604","1431/201604","1431/0118/201604","80/201604","80/0118/201604","0118/201604","Pat","1431/Pat/201502",{"$f":"+CONCATENATE(VLOOKUP(F680,Cadastro!$Q$3:$R$162,2,FALSE),\"/\",S680,\"/\",H680)","v":"80/Pat/201502"},"Pat/201502","1431/201502","1431/0141/201502","80/201502","80/0141/201502","0141/201502",0,0,-88.47,-3701.17,-88.47,-3701.17,0,0,0,0]
[null,"01431","0118","201605",null,"01431","0141","201503",null,"Pat","1431/Pat/201605",{"$f":"IF(J681=0,0,+CONCATENATE(VLOOKUP(B681,Cadastro!$Q$3:$R$162,2,FALSE),\"/\",J681,\"/\",D681))","v":"80/Pat/201605"},"Pat/201605","1431/201605","1431/0118/201605","80/201605","80/0118/201605","0118/201605","Pat","1431/Pat/201503",{"$f":"+CONCATENATE(VLOOKUP(F681,Cadastro!$Q$3:$R$162,2,FALSE),\"/\",S681,\"/\",H681)","v":"80/Pat/201503"},"Pat/201503","1431/201503","1431/0141/201503","80/201503","80/0141/201503","0141/201503",0,0,-88.47,-3701.14,-88.47,-3701.14,0,0,0,0]
[null,"01431","0118","201606",null,"01431","0141","201504",null,"Pat","1431/Pat/201606",{"$f":"IF(J682=0,0,+CONCATENATE(VLOOKUP(B682,Cadastro!$Q$3:$R$162,2,FALSE),\"/\",J682,\"/\",D682))","v":"80/Pat/201606"},"Pat/201606","1431/201606","1431/0118/201606","80/201606","80/0118/201606","0118/201606","Pat","1431/Pat/201504",{"$f":"+CONCATENATE(VLOOKUP(F682,Cadastro!$Q$3:$R$162,2,FALSE),\"/\",S682,\"/\",H682)","v":"80/Pat/201504"},"Pat/201504","1431/201504","1431/0141/201504","80/201504","80/0141/201504","0141/201504",0,0,0,-5557.61,0,-5557.61,-6496.18,0,22645,0]
[null,"01431","0118","201607",null,"01431","0141","201505",null,"Pat","1431/Pat/201607",{"$f":"IF(J683=0,0,+CONCATENATE(VLOOKUP(B683,Cadastro!$Q$3:$R$162,2,FALSE),\"/\",J683,\"/\",D683))","v":"80/Pat/201607"},"Pat/201607","1431/201607","1431/0118/201607","80/201607","80/0118/201607","0118/201607","Pat","1431/Pat/201505",{"$f":"+CONCATENATE(VLOOKUP(F683,Cadastro!$Q$3:$R$162,2,FALSE),\"/\",S683,\"/\",H683)","v":"80/Pat/201505"},"Pat/201505","1431/201505","1431/0141/201505","80/201505","80/0141/201505","0141/201505",0,0,0,-3701.14,0,-3701.14,0,0,0,0]
[null,"01431","0118","201608",null,"01431","0141","201506",null,"Pat","1431/Pat/201608",{"$f":"IF(J684=0,0,+CONCATENATE(VLOOKUP(B684,Cadastro!$Q$3:$R$162,2,FALSE),\"/\",J684,\"/\",D684))","v":"80/Pat/201608"},"Pat/201608","1431/201608","1431/0118/201608","80/201608","80/0118/201608","0118/201608","Pat","1431/Pat/201506",{"$f":"+CONCATENATE(VLOOKUP(F684,Cadastro!$Q$3:$R$162,2,FALSE),\"/\",S684,\"/\",H684)","v":"80/Pat/201506"},"Pat/201506","1431/201506","1431/0141/201506","80/201506","80/0141/201506","0141/201506",0,0,0,-3446.05,0,-3446.05,0,0,0,0]
[null,"01431","0118","201609",null,"01431","0141","201507",null,"Pat","1431/Pat/201609",{"$f":"IF(J685=0,0,+CONCATENATE(VLOOKUP(B685,Cadastro!$Q$3:$R$162,2,FALSE),\"/\",J685,\"/\",D685))","v":"80/Pat/201609"},"Pat/201609","1431/201609","1431/0118/201609","80/201609","80/0118/201609","0118/201609","Pat","1431/Pat/201507",{"$f":"+CONCATENATE(VLOOKUP(F685,Cadastro!$Q$3:$R$162,2,FALSE),\"/\",S685,\"/\",H685)","v":"80/Pat/201507"},"Pat/201507","1431/201507","1431/0141/201507","80/201507","80/0141/201507","0141/201507",0,0,0,-1559.04,0,-1559.04,0,0,0,0]
[null,"01431","0118","201610",null,"01431","0141","201508",null,"Pat","1431/Pat/201610",{"$f":"IF(J686=0,0,+CONCATENATE(VLOOKUP(B686,Cadastro!$Q$3:$R$162,2,FALSE),\"/\",J686,\"/\",D686))","v":"80/Pat/201610"},"Pat/201610","1431/201610","1431/0118/201610","80/201610","80/0118/201610","0118/201610","Pat","1431/Pat/201508",{"$f":"+CONCATENATE(VLOOKUP(F686,Cadastro!$Q$3:$R$162,2,FALSE),\"/\",S686,\"/\",H686)","v":"80/Pat/201508"},"Pat/201508","1431/201508","1431/0141/201508","80/201508","80/0141/201508","0141/201508",0,0,757.04,-1559.04,757.04,-1559.04,0,0,0,0]
[null,"01431","0118","201611",null,"01431","0141","201509",null,"Pat","1431/Pat/201611",{"$f":"IF(J687=0,0,+CONCATENATE(VLOOKUP(B687,Cadastro!$Q$3:$R$162,2,FALSE),\"/\",J687,\"/\",D687))","v":"80/Pat/201611"},"Pat/201611","1431/201611","1431/0118/201611","80/201611","80/0118/201611","0118/201611","Pat","1431/Pat/201509",{"$f":"+CONCATENATE(VLOOKUP(F687,Cadastro!$Q$3:$R$162,2,FALSE),\"/\",S687,\"/\",H687)","v":"80/Pat/201509"},"Pat/201509","1431/201509","1431/0141/201509","80/201509","80/0141/201509","0141/201509",0,0,-22086.720000000001,-1559.04,-22086.720000000001,-1559.04,0,0,0,0]
[null,"01431","0118","201612",null,"01431","0141","201510",null,"Pat","1431/Pat/201612",{"$f":"IF(J688=0,0,+CONCATENATE(VLOOKUP(B688,Cadastro!$Q$3:$R$162,2,FALSE),\"/\",J688,\"/\",D688))","v":"80/Pat/201612"},"Pat/201612","1431/201612","1431/0118/201612","80/201612","80/0118/201612","0118/201612","Pat","1431/Pat/201510",{"$f":"+CONCATENATE(VLOOKUP(F688,Cadastro!$Q$3:$R$162,2,FALSE),\"/\",S688,\"/\",H688)","v":"80/Pat/201510"},"Pat/201510","1431/201510","1431/0141/201510","80/201510","80/0141/201510","0141/201510",0,0,-1143.19,-8320.7199999999993,-1143.19,-8320.7199999999993,0,0,0,0]
[null,"01431","0141","201601",null,"01431","0141","201511",null,"Pat","1431/Pat/201601",{"$f":"IF(J689=0,0,+CONCATENATE(VLOOKUP(B689,Cadastro!$Q$3:$R$162,2,FALSE),\"/\",J689,\"/\",D689))","v":"80/Pat/201601"},"Pat/201601","1431/201601","1431/0141/201601","80/201601","80/0141/201601","0141/201601","Pat","1431/Pat/201511",{"$f":"+CONCATENATE(VLOOKUP(F689,Cadastro!$Q$3:$R$162,2,FALSE),\"/\",S689,\"/\",H689)","v":"80/Pat/201511"},"Pat/201511","1431/201511","1431/0141/201511","80/201511","80/0141/201511","0141/201511",0,0,-1588.47,-1588.47,-1588.47,-1588.47,0,0,0,0]
[null,"01431","0141","201602",null,"01431","0141","201512",null,"Pat","1431/Pat/201602",{"$f":"IF(J690=0,0,+CONCATENATE(VLOOKUP(B690,Cadastro!$Q$3:$R$162,2,FALSE),\"/\",J690,\"/\",D690))","v":"80/Pat/201602"},"Pat/201602","1431/201602","1431/0141/201602","80/201602","80/0141/201602","0141/201602","Pat","1431/Pat/201512",{"$f":"+CONCATENATE(VLOOKUP(F690,Cadastro!$Q$3:$R$162,2,FALSE),\"/\",S690,\"/\",H690)","v":"80/Pat/201512"},"Pat/201512","1431/201512","1431/0141/201512","80/201512","80/0141/201512","0141/201512",0,0,-1588.47,-7151.65,-1588.47,-7151.65,0,0,0,0]
[null,"01431","0141","201603",null,"01431","0167","201501",null,"Pat","1431/Pat/201603",{"$f":"IF(J691=0,0,+CONCATENATE(VLOOKUP(B691,Cadastro!$Q$3:$R$162,2,FALSE),\"/\",J691,\"/\",D691))","v":"80/Pat/201603"},"Pat/201603","1431/201603","1431/0141/201603","80/201603","80/0141/201603","0141/201603","Pat","1431/Pat/201501",{"$f":"+CONCATENATE(VLOOKUP(F691,Cadastro!$Q$3:$R$162,2,FALSE),\"/\",S691,\"/\",H691)","v":"80/Pat/201501"},"Pat/201501","1431/201501","1431/0167/201501","80/201501","80/0167/201501","0167/201501",0,435498.38,-1588.47,322681.8,-1588.47,-3149.5899999999965,0,-4.43,0,7956.1]
[null,"01431","0141","201604",null,"01431","0167","201502",null,"Pat","1431/Pat/201604",{"$f":"IF(J692=0,0,+CONCATENATE(VLOOKUP(B692,Cadastro!$Q$3:$R$162,2,FALSE),\"/\",J692,\"/\",D692))","v":"80/Pat/201604"},"Pat/201604","1431/201604","1431/0141/201604","80/201604","80/0141/201604","0141/201604","Pat","1431/Pat/201502",{"$f":"+CONCATENATE(VLOOKUP(F692,Cadastro!$Q$3:$R$162,2,FALSE),\"/\",S692,\"/\",H692)","v":"80/Pat/201502"},"Pat/201502","1431/201502","1431/0167/201502","80/201502","80/0167/201502","0167/201502",0,24998.2,-1588.47,-50363.790000000008,-1588.47,-12620.270000000004,0,-12.289999999999992,0,6465.69]
[null,"01431","0141","201605",null,"01431","0167","201503",null,"Pat","1431/Pat/201605",{"$f":"IF(J693=0,0,+CONCATENATE(VLOOKUP(B693,Cadastro!$Q$3:$R$162,2,FALSE),\"/\",J693,\"/\",D693))","v":"80/Pat/201605"},"Pat/201605","1431/201605","1431/0141/201605","80/201605","80/0141/201605","0141/201605","Pat","1431/Pat/201503",{"$f":"+CONCATENATE(VLOOKUP(F693,Cadastro!$Q$3:$R$162,2,FALSE),\"/\",S693,\"/\",H693)","v":"80/Pat/201503"},"Pat/201503","1431/201503","1431/0167/201503","80/201503","80/0167/201503","0167/201503",0,-89029.77,-1588.47,-165881.49,-1588.47,-16365.14,0,-8.06,0,7158.35]
[null,"01431","0141","201606",null,"01431","0167","201504",null,"Pat","1431/Pat/201606",{"$f":"IF(J694=0,0,+CONCATENATE(VLOOKUP(B694,Cadastro!$Q$3:$R$162,2,FALSE),\"/\",J694,\"/\",D694))","v":"80/Pat/201606"},"Pat/201606","1431/201606","1431/0141/201606","80/201606","80/0141/201606","0141/201606","Pat","1431/Pat/201504",{"$f":"+CONCATENATE(VLOOKUP(F694,Cadastro!$Q$3:$R$162,2,FALSE),\"/\",S694,\"/\",H694)","v":"80/Pat/201504"},"Pat/201504","1431/201504","1431/0167/201504","80/201504","80/0167/201504","0167/201504",0,90541.14,-1500,-17377.039999999994,-1500,3041.7400000000052,0,-23.96,0,29886.42]
[null,"01431","0141","201607",null,"01431","0167","201505",null,"Pat","1431/Pat/201607",{"$f":"IF(J695=0,0,+CONCATENATE(VLOOKUP(B695,Cadastro!$Q$3:$R$162,2,FALSE),\"/\",J695,\"/\",D695))","v":"80/Pat/201607"},"Pat/201607","1431/201607","1431/0141/201607","80/201607","80/0141/201607","0141/201607","Pat","1431/Pat/201505",{"$f":"+CONCATENATE(VLOOKUP(F695,Cadastro!$Q$3:$R$162,2,FALSE),\"/\",S695,\"/\",H695)","v":"80/Pat/201505"},"Pat/201505","1431/201505","1431/0167/201505","80/201505","80/0167/201505","0167/201505",0,40861.14,-1500,-49618.720000000001,-1500,-245.33999999999651,0,1.8899999999999997,0,9490.02]
[null,"01431","0141","201608",null,"01431","0167","201506",null,"Pat","1431/Pat/201608",{"$f":"IF(J696=0,0,+CONCATENATE(VLOOKUP(B696,Cadastro!$Q$3:$R$162,2,FALSE),\"/\",J696,\"/\",D696))","v":"80/Pat/201608"},"Pat/201608","1431/201608","1431/0141/201608","80/201608","80/0141/201608","0141/201608","Pat","1431/Pat/201506",{"$f":"+CONCATENATE(VLOOKUP(F696,Cadastro!$Q$3:$R$162,2,FALSE),\"/\",S696,\"/\",H696)","v":"80/Pat/201506"},"Pat/201506","1431/201506","1431/0167/201506","80/201506","80/0167/201506","0167/201506",0,15014.11,-1500,-185406.08000000002,-1500,-116438.72,0,64.62,0,9183.61]
[null,"01431","0141","201609",null,"01431","0167","201507",null,"Pat","1431/Pat/201609",{"$f":"IF(J697=0,0,+CONCATENATE(VLOOKUP(B697,Cadastro!$Q$3:$R$162,2,FALSE),\"/\",J697,\"/\",D697))","v":"80/Pat/201609"},"Pat/201609","1431/201609","1431/0141/201609","80/201609","80/0141/201609","0141/201609","Pat","1431/Pat/201507",{"$f":"+CONCATENATE(VLOOKUP(F697,Cadastro!$Q$3:$R$162,2,FALSE),\"/\",S697,\"/\",H697)","v":"80/Pat/201507"},"Pat/201507","1431/201507","1431/0167/201507","80/201507","80/0167/201507","0167/201507",0,3573.94,-1500,-48794.799999999996,-1500,15241.29,0,-8.9499999999999993,0,7158.42]
[null,"01431","0141","201610",null,"01431","0167","201508",null,"Pat","1431/Pat/201610",{"$f":"IF(J698=0,0,+CONCATENATE(VLOOKUP(B698,Cadastro!$Q$3:$R$162,2,FALSE),\"/\",J698,\"/\",D698))","v":"80/Pat/201610"},"Pat/201610","1431/201610","1431/0141/201610","80/201610","80/0141/201610","0141/201610","Pat","1431/Pat/201508",{"$f":"+CONCATENATE(VLOOKUP(F698,Cadastro!$Q$3:$R$162,2,FALSE),\"/\",S698,\"/\",H698)","v":"80/Pat/201508"},"Pat/201508","1431/201508","1431/0167/201508","80/201508","80/0167/201508","0167/201508",0,2555.8200000000002,-1500,-49831.8,-1500,15143.999999999993,0,-1,0,7158.4]
[null,"01431","0141","201611",null,"01431","0167","201509",null,"Pat","1431/Pat/201611",{"$f":"IF(J699=0,0,+CONCATENATE(VLOOKUP(B699,Cadastro!$Q$3:$R$162,2,FALSE),\"/\",J699,\"/\",D699))","v":"80/Pat/201611"},"Pat/201611","1431/201611","1431/0141/201611","80/201611","80/0141/201611","0141/201611","Pat","1431/Pat/201509",{"$f":"+CONCATENATE(VLOOKUP(F699,Cadastro!$Q$3:$R$162,2,FALSE),\"/\",S699,\"/\",H699)","v":"80/Pat/201509"},"Pat/201509","1431/201509","1431/0167/201509","80/201509","80/0167/201509","0167/201509",0,199563.62,-1500,46722.75,-1500,80637.010000000009,0,-38.21,0,36149.07]
[null,"01431","0141","201612",null,"01431","0167","201510",null,"Pat","1431/Pat/201612",{"$f":"IF(J700=0,0,+CONCATENATE(VLOOKUP(B700,Cadastro!$Q$3:$R$162,2,FALSE),\"/\",J700,\"/\",D700))","v":"80/Pat/201612"},"Pat/201612","1431/201612","1431/0141/201612","80/201612","80/0141/201612","0141/201612","Pat","1431/Pat/201510",{"$f":"+CONCATENATE(VLOOKUP(F700,Cadastro!$Q$3:$R$162,2,FALSE),\"/\",S700,\"/\",H700)","v":"80/Pat/201510"},"Pat/201510","1431/201510","1431/0167/201510","80/201510","80/0167/201510","0167/201510",0,199569.23,-1500,-37745.959999999992,-1500,-147092.91,0,21.610000000000003,0,9287.61]
[null,"01431","0167","201601",null,"01431","0167","201511",null,"Pat","1431/Pat/201601",{"$f":"IF(J701=0,0,+CONCATENATE(VLOOKUP(B701,Cadastro!$Q$3:$R$162,2,FALSE),\"/\",J701,\"/\",D701))","v":"80/Pat/201601"},"Pat/201601","1431/201601","1431/0167/201601","80/201601","80/0167/201601","0167/201601","Pat","1431/Pat/201511",{"$f":"+CONCATENATE(VLOOKUP(F701,Cadastro!$Q$3:$R$162,2,FALSE),\"/\",S701,\"/\",H701)","v":"80/Pat/201511"},"Pat/201511","1431/201511","1431/0167/201511","80/201511","80/0167/201511","0167/201511",13417.08,775810.15,-52272.849999999991,657147.03,49520.33,45199.989999999991,797.7,4.3000000000000043,18880.189999999999,25163.71]
[null,"01431","0167","201602",null,"01431","0167","201512",null,"Pat","1431/Pat/201602",{"$f":"IF(J702=0,0,+CONCATENATE(VLOOKUP(B702,Cadastro!$Q$3:$R$162,2,FALSE),\"/\",J702,\"/\",D702))","v":"80/Pat/201602"},"Pat/201602","1431/201602","1431/0167/201602","80/201602","80/0167/201602","0167/201602","Pat","1431/Pat/201512",{"$f":"+CONCATENATE(VLOOKUP(F702,Cadastro!$Q$3:$R$162,2,FALSE),\"/\",S702,\"/\",H702)","v":"80/Pat/201512"},"Pat/201512","1431/201512","1431/0167/201512","80/201512","80/0167/201512","0167/201512",-29023.71,161114.01999999999,-138993.87,-200059.38000000003,2723.7299999999959,-57739.69,-21058.720000000001,77182.59,17581.7,22341.25]
[null,"01431","0167","201603",null,"01431","0171","201501",null,"Pat","1431/Pat/201603",{"$f":"IF(J703=0,0,+CONCATENATE(VLOOKUP(B703,Cadastro!$Q$3:$R$162,2,FALSE),\"/\",J703,\"/\",D703))","v":"80/Pat/201603"},"Pat/201603","1431/201603","1431/0167/201603","80/201603","80/0167/201603","0167/201603","Pat","1431/Pat/201501",{"$f":"+CONCATENATE(VLOOKUP(F703,Cadastro!$Q$3:$R$162,2,FALSE),\"/\",S703,\"/\",H703)","v":"80/Pat/201501"},"Pat/201501","1431/201501","1431/0171/201501","80/201501","80/0171/201501","0171/201501",-30210.59,0,-124366.28,-4901.79,26514.720000000001,-4901.79,0,0,31380.9,0]
[null,"01431","0167","201604",null,"01431","0171","201502",null,"Pat","1431/Pat/201604",{"$f":"IF(J704=0,0,+CONCATENATE(VLOOKUP(B704,Cadastro!$Q$3:$R$162,2,FALSE),\"/\",J704,\"/\",D704))","v":"80/Pat/201604"},"Pat/201604","1431/201604","1431/0167/201604","80/201604","80/0167/201604","0167/201604","Pat","1431/Pat/201502",{"$f":"+CONCATENATE(VLOOKUP(F704,Cadastro!$Q$3:$R$162,2,FALSE),\"/\",S704,\"/\",H704)","v":"80/Pat/201502"},"Pat/201502","1431/201502","1431/0171/201502","80/201502","80/0171/201502","0171/201502",-26177.83,0,-98032.62,-4901.79,26066.210000000006,-4901.79,1080,0,16717.59,0]
[null,"01431","0167","201605",null,"01431","0171","201503",null,"Pat","1431/Pat/201605",{"$f":"IF(J705=0,0,+CONCATENATE(VLOOKUP(B705,Cadastro!$Q$3:$R$162,2,FALSE),\"/\",J705,\"/\",D705))","v":"80/Pat/201605"},"Pat/201605","1431/201605","1431/0167/201605","80/201605","80/0167/201605","0167/201605","Pat","1431/Pat/201503",{"$f":"+CONCATENATE(VLOOKUP(F705,Cadastro!$Q$3:$R$162,2,FALSE),\"/\",S705,\"/\",H705)","v":"80/Pat/201503"},"Pat/201503","1431/201503","1431/0171/201503","80/201503","80/0171/201503","0171/201503",145604.16,0,-49.489999999990687,-4901.79,63925.75,-4901.79,9830.9400000000023,0,29640.61,0]
[null,"01431","0167","201606",null,"01431","0171","201504",null,"Pat","1431/Pat/201606",{"$f":"IF(J706=0,0,+CONCATENATE(VLOOKUP(B706,Cadastro!$Q$3:$R$162,2,FALSE),\"/\",J706,\"/\",D706))","v":"80/Pat/201606"},"Pat/201606","1431/201606","1431/0167/201606","80/201606","80/0167/201606","0167/201606","Pat","1431/Pat/201504",{"$f":"+CONCATENATE(VLOOKUP(F706,Cadastro!$Q$3:$R$162,2,FALSE),\"/\",S706,\"/\",H706)","v":"80/Pat/201504"},"Pat/201504","1431/201504","1431/0171/201504","80/201504","80/0171/201504","0171/201504",502594.95,152332.60999999999,418112.86,146905.69999999998,46600.81,-4665.2299999999996,-60925.85,0,16399.599999999999,7.6]
[null,"01431","0167","201607",null,"01431","0171","201505",null,"Pat","1431/Pat/201607",{"$f":"IF(J707=0,0,+CONCATENATE(VLOOKUP(B707,Cadastro!$Q$3:$R$162,2,FALSE),\"/\",J707,\"/\",D707))","v":"80/Pat/201607"},"Pat/201607","1431/201607","1431/0167/201607","80/201607","80/0167/201607","0167/201607","Pat","1431/Pat/201505",{"$f":"+CONCATENATE(VLOOKUP(F707,Cadastro!$Q$3:$R$162,2,FALSE),\"/\",S707,\"/\",H707)","v":"80/Pat/201505"},"Pat/201505","1431/201505","1431/0171/201505","80/201505","80/0171/201505","0171/201505",2705437.8,0,1945570.3099999998,-21179.9,161106.53000000003,2431.6299999999974,-6000.3499999999985,0,21106.73,236.12]
[null,"01431","0167","201608",null,"01431","0171","201506",null,"Pat","1431/Pat/201608",{"$f":"IF(J708=0,0,+CONCATENATE(VLOOKUP(B708,Cadastro!$Q$3:$R$162,2,FALSE),\"/\",J708,\"/\",D708))","v":"80/Pat/201608"},"Pat/201608","1431/201608","1431/0167/201608","80/201608","80/0167/201608","0167/201608","Pat","1431/Pat/201506",{"$f":"+CONCATENATE(VLOOKUP(F708,Cadastro!$Q$3:$R$162,2,FALSE),\"/\",S708,\"/\",H708)","v":"80/Pat/201506"},"Pat/201506","1431/201506","1431/0171/201506","80/201506","80/0171/201506","0171/201506",927804.68,40658.82,1059170.05,24167.73,635246.54,20022.850000000002,0,16.869999999999997,21438.9,229.88]
[null,"01431","0167","201609",null,"01431","0171","201507",null,{"$f":"IF(C709=0,0,+VLOOKUP(C709,$AQ$4:$AR$130,2,FALSE))","v":"Pat"},{"$f":"IF(J709=0,0,+CONCATENATE(VALUE(B709),\"/\",J709,\"/\",D709))","v":"1431/Pat/201609"},{"$f":"IF(J709=0,0,+CONCATENATE(VLOOKUP(B709,Cadastro!$Q$3:$R$162,2,FALSE),\"/\",J709,\"/\",D709))","v":"80/Pat/201609"},{"$f":"IF(J709=0,0,+CONCATENATE(J709,\"/\",D709))","v":"Pat/201609"},"1431/201609","1431/0167/201609","80/201609","80/0167/201609","0167/201609",{"$f":"+VLOOKUP(G709,$AQ$4:$AR$130,2,FALSE)","v":"Pat"},{"$f":"+CONCATENATE(VALUE(F709),\"/\",S709,\"/\",H709)","v":"1431/Pat/201507"},{"$f":"+CONCATENATE(VLOOKUP(F709,Cadastro!$Q$3:$R$162,2,FALSE),\"/\",S709,\"/\",H709)","v":"80/Pat/201507"},"Pat/201507","1431/201507","1431/0171/201507","80/201507","80/0171/201507","0171/201507",563607.47,270488.40000000002,-196735.42000000004,253472.16000000003,-411159.27,97081.09,0,8.1300000000000008,23889.47,245.17]
[null,"01431","0167","201610",null,"01431","0171","201508",null,"Pat","1431/Pat/201610",{"$f":"IF(J710=0,0,+CONCATENATE(VLOOKUP(B710,Cadastro!$Q$3:$R$162,2,FALSE),\"/\",J710,\"/\",D710))","v":"80/Pat/201610"},"Pat/201610","1431/201610","1431/0167/201610","80/201610","80/0167/201610","0167/201610","Pat","1431/Pat/201508",{"$f":"+CONCATENATE(VLOOKUP(F710,Cadastro!$Q$3:$R$162,2,FALSE),\"/\",S710,\"/\",H710)","v":"80/Pat/201508"},{"$f":"+CONCATENATE(S710,\"/\",H710)","v":"Pat/201508"},"1431/201508","1431/0171/201508","80/201508","80/0171/201508","0171/201508",281417.03999999998,0.2,-49581.600000000035,-32422.01,56854.729999999981,17481.059999999998,1427.9100000000017,50.57,26604.02,238.73]
[null,"01431","0167","201611",null,"01431","0171","201509",null,"Pat","1431/Pat/201611",{"$f":"IF(J711=0,0,+CONCATENATE(VLOOKUP(B711,Cadastro!$Q$3:$R$162,2,FALSE),\"/\",J711,\"/\",D711))","v":"80/Pat/201611"},"Pat/201611","1431/201611","1431/0167/201611","80/201611","80/0167/201611","0167/201611","Pat","1431/Pat/201509",{"$f":"+CONCATENATE(VLOOKUP(F711,Cadastro!$Q$3:$R$162,2,FALSE),\"/\",S711,\"/\",H711)","v":"80/Pat/201509"},"Pat/201509","1431/201509","1431/0171/201509","80/201509","80/0171/201509","0171/201509",1000421.99,16655.39,724292.41999999993,-14725.52,52487.380000000005,29737.109999999997,0,-3.16,23833.08,359.29]
[null,"01431","0167","201612",null,"01431","0171","201510",null,"Pat","1431/Pat/201612",{"$f":"IF(J712=0,0,+CONCATENATE(VLOOKUP(B712,Cadastro!$Q$3:$R$162,2,FALSE),\"/\",J712,\"/\",D712))","v":"80/Pat/201612"},"Pat/201612","1431/201612","1431/0167/201612","80/201612","80/0167/201612","0167/201612","Pat","1431/Pat/201510",{"$f":"+CONCATENATE(VLOOKUP(F712,Cadastro!$Q$3:$R$162,2,FALSE),\"/\",S712,\"/\",H712)","v":"80/Pat/201510"},"Pat/201510","1431/201510","1431/0171/201510","80/201510","80/0171/201510","0171/201510",4693189.71,-37785.82,4355460.2699999996,-87754.41,85894.5,-19722.859999999997,-118.25,1.4200000000000002,19499.87,262.33999999999997]
[null,"01431","0171","201601",null,"01431","0171","201511",null,"Pat","1431/Pat/201601",{"$f":"IF(J713=0,0,+CONCATENATE(VLOOKUP(B713,Cadastro!$Q$3:$R$162,2,FALSE),\"/\",J713,\"/\",D713))","v":"80/Pat/201601"},"Pat/201601","1431/201601","1431/0171/201601","80/201601","80/0171/201601","0171/201601","Pat","1431/Pat/201511",{"$f":"+CONCATENATE(VLOOKUP(F713,Cadastro!$Q$3:$R$162,2,FALSE),\"/\",S713,\"/\",H713)","v":"80/Pat/201511"},"Pat/201511","1431/201511","1431/0171/201511","80/201511","80/0171/201511","0171/201511",-4469.92,0,-6117.68,-14794.49,19706.02,20234.32,0,-12.62,2.31,129]
[null,"01431","0171","201602",null,"01431","0171","201512",null,"Pat","1431/Pat/201602",{"$f":"IF(J714=0,0,+CONCATENATE(VLOOKUP(B714,Cadastro!$Q$3:$R$162,2,FALSE),\"/\",J714,\"/\",D714))","v":"80/Pat/201602"},"Pat/201602","1431/201602","1431/0171/201602","80/201602","80/0171/201602","0171/201602","Pat","1431/Pat/201512",{"$f":"+CONCATENATE(VLOOKUP(F714,Cadastro!$Q$3:$R$162,2,FALSE),\"/\",S714,\"/\",H714)","v":"80/Pat/201512"},"Pat/201512","1431/201512","1431/0171/201512","80/201512","80/0171/201512","0171/201512",-3084,24120.1,-6800.2199999999993,16049.16,15641.270000000002,24450.81,0,9670.48,2.2000000000000002,2.31]
[null,"01431","0171","201603",null,"01431","0196","201501",null,"Pat","1431/Pat/201603",{"$f":"IF(J715=0,0,+CONCATENATE(VLOOKUP(B715,Cadastro!$Q$3:$R$162,2,FALSE),\"/\",J715,\"/\",D715))","v":"80/Pat/201603"},"Pat/201603","1431/201603","1431/0171/201603","80/201603","80/0171/201603","0171/201603","Pat","1431/Pat/201501",{"$f":"+CONCATENATE(VLOOKUP(F715,Cadastro!$Q$3:$R$162,2,FALSE),\"/\",S715,\"/\",H715)","v":"80/Pat/201501"},"Pat/201501","1431/201501","1431/0196/201501","80/201501","80/0196/201501","0196/201501",-5351.34,697474.35,-8799.1,-203635.5,16445.32,-81298.900000000023,74.540000000000006,-767292.6399999999,2.46,47953.93]
[null,"01431","0171","201604",null,"01431","0196","201502",null,"Pat","1431/Pat/201604",{"$f":"IF(J716=0,0,+CONCATENATE(VLOOKUP(B716,Cadastro!$Q$3:$R$162,2,FALSE),\"/\",J716,\"/\",D716))","v":"80/Pat/201604"},"Pat/201604","1431/201604","1431/0171/201604","80/201604","80/0171/201604","0171/201604","Pat","1431/Pat/201502",{"$f":"+CONCATENATE(VLOOKUP(F716,Cadastro!$Q$3:$R$162,2,FALSE),\"/\",S716,\"/\",H716)","v":"80/Pat/201502"},"Pat/201502","1431/201502","1431/0196/201502","80/201502","80/0196/201502","0196/201502",-3157.44,1014887.34,-3746.7200000000003,285515.63,4576.7700000000004,100526.59000000008,0,1583.9099999999999,0.57999999999999996,43821.39]
[null,"01431","0171","201605",null,"01431","0196","201503",null,"Pat","1431/Pat/201605",{"$f":"IF(J717=0,0,+CONCATENATE(VLOOKUP(B717,Cadastro!$Q$3:$R$162,2,FALSE),\"/\",J717,\"/\",D717))","v":"80/Pat/201605"},"Pat/201605","1431/201605","1431/0171/201605","80/201605","80/0171/201605","0171/201605","Pat","1431/Pat/201503",{"$f":"+CONCATENATE(VLOOKUP(F717,Cadastro!$Q$3:$R$162,2,FALSE),\"/\",S717,\"/\",H717)","v":"80/Pat/201503"},"Pat/201503","1431/201503","1431/0196/201503","80/201503","80/0196/201503","0196/201503",20171.36,1937297.73,19467.560000000001,1134358.9100000001,3278.6800000000003,546553.06999999995,668.99,-201612.19999999995,0.34,47297.33]
[null,"01431","0171","201606",null,"01431","0196","201504",null,"Pat","1431/Pat/201606",{"$f":"IF(J718=0,0,+CONCATENATE(VLOOKUP(B718,Cadastro!$Q$3:$R$162,2,FALSE),\"/\",J718,\"/\",D718))","v":"80/Pat/201606"},"Pat/201606","1431/201606","1431/0171/201606","80/201606","80/0171/201606","0171/201606","Pat","1431/Pat/201504",{"$f":"+CONCATENATE(VLOOKUP(F718,Cadastro!$Q$3:$R$162,2,FALSE),\"/\",S718,\"/\",H718)","v":"80/Pat/201504"},"Pat/201504","1431/201504","1431/0196/201504","80/201504","80/0196/201504","0196/201504",5363.77,5351380.78,5363.77,3996029.3900000006,5834.8,85588.480000000214,-10475.219999999999,-130351.90999999999,0.59,32517.89]
[null,"01431","0171","201607",null,"01431","0196","201505",null,"Pat","1431/Pat/201607",{"$f":"IF(J719=0,0,+CONCATENATE(VLOOKUP(B719,Cadastro!$Q$3:$R$162,2,FALSE),\"/\",J719,\"/\",D719))","v":"80/Pat/201607"},"Pat/201607","1431/201607","1431/0171/201607","80/201607","80/0171/201607","0171/201607","Pat","1431/Pat/201505",{"$f":"+CONCATENATE(VLOOKUP(F719,Cadastro!$Q$3:$R$162,2,FALSE),\"/\",S719,\"/\",H719)","v":"80/Pat/201505"},"Pat/201505","1431/201505","1431/0196/201505","80/201505","80/0196/201505","0196/201505",-1243.1500000000001,1111245.2,-1243.1500000000001,-2948.2199999999721,3900.45,203980.16000000015,0,39803.06,0.43,13410.2]
[null,"01431","0171","201608",null,"01431","0196","201506",null,"Pat","1431/Pat/201608",{"$f":"IF(J720=0,0,+CONCATENATE(VLOOKUP(B720,Cadastro!$Q$3:$R$162,2,FALSE),\"/\",J720,\"/\",D720))","v":"80/Pat/201608"},"Pat/201608","1431/201608","1431/0171/201608","80/201608","80/0171/201608","0171/201608","Pat","1431/Pat/201506",{"$f":"+CONCATENATE(VLOOKUP(F720,Cadastro!$Q$3:$R$162,2,FALSE),\"/\",S720,\"/\",H720)","v":"80/Pat/201506"},"Pat/201506","1431/201506","1431/0196/201506","80/201506","80/0196/201506","0196/201506",69006.570000000007,2413935.2599999998,69006.570000000007,739800.83999999985,21574.42,-289176.57999999984,0,-512199.05,2.15,76747.69]
[null,"01431","0171","201609",null,"01431","0196","201507",null,"Pat","1431/Pat/201609",{"$f":"IF(J721=0,0,+CONCATENATE(VLOOKUP(B721,Cadastro!$Q$3:$R$162,2,FALSE),\"/\",J721,\"/\",D721))","v":"80/Pat/201609"},"Pat/201609","1431/201609","1431/0171/201609","80/201609","80/0171/201609","0171/201609","Pat","1431/Pat/201507",{"$f":"+CONCATENATE(VLOOKUP(F721,Cadastro!$Q$3:$R$162,2,FALSE),\"/\",S721,\"/\",H721)","v":"80/Pat/201507"},"Pat/201507","1431/201507","1431/0196/201507","80/201507","80/0196/201507","0196/201507",193942.42,1998900.93,193942.42,849882.39999999991,104368.25,368623.86999999988,0,43864.639999999956,10.46,79612.41]
[null,"01431","0171","201610",null,"01431","0196","201508",null,"Pat","1431/Pat/201610",{"$f":"IF(J722=0,0,+CONCATENATE(VLOOKUP(B722,Cadastro!$Q$3:$R$162,2,FALSE),\"/\",J722,\"/\",D722))","v":"80/Pat/201610"},"Pat/201610","1431/201610","1431/0171/201610","80/201610","80/0171/201610","0171/201610","Pat","1431/Pat/201508",{"$f":"+CONCATENATE(VLOOKUP(F722,Cadastro!$Q$3:$R$162,2,FALSE),\"/\",S722,\"/\",H722)","v":"80/Pat/201508"},"Pat/201508","1431/201508","1431/0196/201508","80/201508","80/0196/201508","0196/201508",32995.17,5714323.21,-39356.150000000009,3813570.23,-40224.130000000005,700289.06,66264,-120730.6799999997,3.37,96614.15]
[null,"01431","0171","201611",null,"01431","0196","201509",null,"Pat","1431/Pat/201611",{"$f":"IF(J723=0,0,+CONCATENATE(VLOOKUP(B723,Cadastro!$Q$3:$R$162,2,FALSE),\"/\",J723,\"/\",D723))","v":"80/Pat/201611"},"Pat/201611","1431/201611","1431/0171/201611","80/201611","80/0171/201611","0171/201611","Pat","1431/Pat/201509",{"$f":"+CONCATENATE(VLOOKUP(F723,Cadastro!$Q$3:$R$162,2,FALSE),\"/\",S723,\"/\",H723)","v":"80/Pat/201509"},"Pat/201509","1431/201509","1431/0196/201509","80/201509","80/0196/201509","0196/201509",-3908.18,1264018.58,-13956.98,-197300.80999999982,10040.43,527124.64000000013,16674.199999999953,123035.33999999998,2.44,105744.08]
[null,"01431","0171","201612",null,"01431","0196","201510",null,"Pat","1431/Pat/201612",{"$f":"IF(J724=0,0,+CONCATENATE(VLOOKUP(B724,Cadastro!$Q$3:$R$162,2,FALSE),\"/\",J724,\"/\",D724))","v":"80/Pat/201612"},"Pat/201612","1431/201612","1431/0171/201612","80/201612","80/0171/201612","0171/201612","Pat","1431/Pat/201510",{"$f":"+CONCATENATE(VLOOKUP(F724,Cadastro!$Q$3:$R$162,2,FALSE),\"/\",S724,\"/\",H724)","v":"80/Pat/201510"},"Pat/201510","1431/201510","1431/0196/201510","80/201510","80/0196/201510","0196/201510",-2801.11,732190.66,-13184.83,-1341385.2399999998,9501.6100000000024,295715.09000000032,-2253.2900000000373,22173.979999999981,2.16,87394.36]
[null,"01431","0196","201601",null,"01431","0196","201511",null,"Pat","1431/Pat/201601",{"$f":"IF(J725=0,0,+CONCATENATE(VLOOKUP(B725,Cadastro!$Q$3:$R$162,2,FALSE),\"/\",J725,\"/\",D725))","v":"80/Pat/201601"},"Pat/201601","1431/201601","1431/0196/201601","80/201601","80/0196/201601","0196/201601","Pat","1431/Pat/201511",{"$f":"+CONCATENATE(VLOOKUP(F725,Cadastro!$Q$3:$R$162,2,FALSE),\"/\",S725,\"/\",H725)","v":"80/Pat/201511"},"Pat/201511","1431/201511","1431/0196/201511","80/201511","80/0196/201511","0196/201511",-79766.59,1546108.13,-1120778.51,106827.55999999982,392223.5199999999,505283.93999999994,36204.150000000023,35477.179999999993,79451.149999999994,98434.74]
[null,"01431","0196","201602",null,"01431","0196","201512",null,"Pat","1431/Pat/201602",{"$f":"IF(J726=0,0,+CONCATENATE(VLOOKUP(B726,Cadastro!$Q$3:$R$162,2,FALSE),\"/\",J726,\"/\",D726))","v":"80/Pat/201602"},"Pat/201602","1431/201602","1431/0196/201602","80/201602","80/0196/201602","0196/201602","Pat","1431/Pat/201512",{"$f":"+CONCATENATE(VLOOKUP(F726,Cadastro!$Q$3:$R$162,2,FALSE),\"/\",S726,\"/\",H726)","v":"80/Pat/201512"},"Pat/201512","1431/201512","1431/0196/201512","80/201512","80/0196/201512","0196/201512",329711.96000000002,203147.97,-807290.34000000008,-1909727.6700000002,307926.54000000004,145529.08000000007,110038.77000000002,101226.82999999999,104612.27,99703.35]
[null,"01431","0196","201603",null,"01431","0234","201503",null,"Pat","1431/Pat/201603",{"$f":"IF(J727=0,0,+CONCATENATE(VLOOKUP(B727,Cadastro!$Q$3:$R$162,2,FALSE),\"/\",J727,\"/\",D727))","v":"80/Pat/201603"},"Pat/201603","1431/201603","1431/0196/201603","80/201603","80/0196/201603","0196/201603","RE","1431/RE/201503",{"$f":"+CONCATENATE(VLOOKUP(F727,Cadastro!$Q$3:$R$162,2,FALSE),\"/\",S727,\"/\",H727)","v":"80/RE/201503"},"RE/201503","1431/201503","1431/0234/201503","80/201503","80/0234/201503","0234/201503",3785968.4,0,1699904.8599999999,0,782922.94,0,65962.080000000075,0,177136.59,0]
[null,"01431","0196","201604",null,"01431","0234","201504",null,"Pat","1431/Pat/201604",{"$f":"IF(J728=0,0,+CONCATENATE(VLOOKUP(B728,Cadastro!$Q$3:$R$162,2,FALSE),\"/\",J728,\"/\",D728))","v":"80/Pat/201604"},"Pat/201604","1431/201604","1431/0196/201604","80/201604","80/0196/201604","0196/201604","RE","1431/RE/201504",{"$f":"+CONCATENATE(VLOOKUP(F728,Cadastro!$Q$3:$R$162,2,FALSE),\"/\",S728,\"/\",H728)","v":"80/RE/201504"},"RE/201504","1431/201504","1431/0234/201504","80/201504","80/0234/201504","0234/201504",6440861.5099999998,0,4681644.49,0,598346.73,0,-27841.130000000005,0,132708.04999999999,0]
[null,"01431","0196","201605",null,"01431","0234","201505",null,"Pat","1431/Pat/201605",{"$f":"IF(J729=0,0,+CONCATENATE(VLOOKUP(B729,Cadastro!$Q$3:$R$162,2,FALSE),\"/\",J729,\"/\",D729))","v":"80/Pat/201605"},"Pat/201605","1431/201605","1431/0196/201605","80/201605","80/0196/201605","0196/201605","RE","1431/RE/201505",{"$f":"+CONCATENATE(VLOOKUP(F729,Cadastro!$Q$3:$R$162,2,FALSE),\"/\",S729,\"/\",H729)","v":"80/RE/201505"},"RE/201505","1431/201505","1431/0234/201505","80/201505","80/0234/201505","0234/201505",2467440.2999999998,0,654248.8899999999,0,585022.81000000029,0,69958.839999999967,0,144116.35999999999,0]
[null,"01431","0196","201606",null,"01431","0234","201506",null,"Pat","1431/Pat/201606",{"$f":"IF(J730=0,0,+CONCATENATE(VLOOKUP(B730,Cadastro!$Q$3:$R$162,2,FALSE),\"/\",J730,\"/\",D730))","v":"80/Pat/201606"},"Pat/201606","1431/201606","1431/0196/201606","80/201606","80/0196/201606","0196/201606","RE","1431/RE/201506",{"$f":"+CONCATENATE(VLOOKUP(F730,Cadastro!$Q$3:$R$162,2,FALSE),\"/\",S730,\"/\",H730)","v":"80/RE/201506"},"RE/201506","1431/201506","1431/0234/201506","80/201506","80/0234/201506","0234/201506",2317101.88,0,207819.10000000009,0,661257.19000000041,0,488400.34999999963,0,189401.78,0]
[null,"01431","0196","201607",null,"01431","0234","201507",null,"Pat","1431/Pat/201607",{"$f":"IF(J731=0,0,+CONCATENATE(VLOOKUP(B731,Cadastro!$Q$3:$R$162,2,FALSE),\"/\",J731,\"/\",D731))","v":"80/Pat/201607"},"Pat/201607","1431/201607","1431/0196/201607","80/201607","80/0196/201607","0196/201607","RE","1431/RE/201507",{"$f":"+CONCATENATE(VLOOKUP(F731,Cadastro!$Q$3:$R$162,2,FALSE),\"/\",S731,\"/\",H731)","v":"80/RE/201507"},"RE/201507","1431/201507","1431/0234/201507","80/201507","80/0234/201507","0234/201507",5502269.4299999997,0,3722093.04,0,451511.22,0,1367185.6800000006,0,164035.37,0]
[null,"01431","0196","201608",null,"01431","0234","201508",null,"Pat","1431/Pat/201608",{"$f":"IF(J732=0,0,+CONCATENATE(VLOOKUP(B732,Cadastro!$Q$3:$R$162,2,FALSE),\"/\",J732,\"/\",D732))","v":"80/Pat/201608"},"Pat/201608","1431/201608","1431/0196/201608","80/201608","80/0196/201608","0196/201608","RE","1431/RE/201508",{"$f":"+CONCATENATE(VLOOKUP(F732,Cadastro!$Q$3:$R$162,2,FALSE),\"/\",S732,\"/\",H732)","v":"80/RE/201508"},"RE/201508","1431/201508","1431/0234/201508","80/201508","80/0234/201508","0234/201508",6396024.0599999996,0,3976768.9099999997,0,633157.3200000003,0,648342.33000000007,0,292152.62,0]
[null,"01431","0196","201609",null,"01431","0234","201509",null,"Pat","1431/Pat/201609",{"$f":"IF(J733=0,0,+CONCATENATE(VLOOKUP(B733,Cadastro!$Q$3:$R$162,2,FALSE),\"/\",J733,\"/\",D733))","v":"80/Pat/201609"},"Pat/201609","1431/201609","1431/0196/201609","80/201609","80/0196/201609","0196/201609","RE","1431/RE/201509",{"$f":"+CONCATENATE(VLOOKUP(F733,Cadastro!$Q$3:$R$162,2,FALSE),\"/\",S733,\"/\",H733)","v":"80/RE/201509"},"RE/201509","1431/201509","1431/0234/201509","80/201509","80/0234/201509","0234/201509",2833770.42,0,732291.25999999978,0,477856.7799999998,0,-153025.53999999998,0,199593.72,0]
[null,"01431","0196","201610",null,"01431","0234","201510",null,"Pat","1431/Pat/201610",{"$f":"IF(J734=0,0,+CONCATENATE(VLOOKUP(B734,Cadastro!$Q$3:$R$162,2,FALSE),\"/\",J734,\"/\",D734))","v":"80/Pat/201610"},"Pat/201610","1431/201610","1431/0196/201610","80/201610","80/0196/201610","0196/201610","RE","1431/RE/201510",{"$f":"+CONCATENATE(VLOOKUP(F734,Cadastro!$Q$3:$R$162,2,FALSE),\"/\",S734,\"/\",H734)","v":"80/RE/201510"},"RE/201510","1431/201510","1431/0234/201510","80/201510","80/0234/201510","0234/201510",5408209.8600000003,0,2619958.91,0,734025.32999999961,0,467277.38999999996,0,149904.04,0]
[null,"01431","0196","201611",null,"01431","0234","201511",null,"Pat","1431/Pat/201611",{"$f":"IF(J735=0,0,+CONCATENATE(VLOOKUP(B735,Cadastro!$Q$3:$R$162,2,FALSE),\"/\",J735,\"/\",D735))","v":"80/Pat/201611"},"Pat/201611","1431/201611","1431/0196/201611","80/201611","80/0196/201611","0196/201611","RE","1431/RE/201511",{"$f":"+CONCATENATE(VLOOKUP(F735,Cadastro!$Q$3:$R$162,2,FALSE),\"/\",S735,\"/\",H735)","v":"80/RE/201511"},"RE/201511","1431/201511","1431/0234/201511","80/201511","80/0234/201511","0234/201511",2358175.65,0,-122925.93999999994,0,624802.13000000035,0,-198506.67999999993,0,532685.63,0]
[null,"01431","0196","201612",null,"01431","0234","201512",null,"Pat","1431/Pat/201612",{"$f":"IF(J736=0,0,+CONCATENATE(VLOOKUP(B736,Cadastro!$Q$3:$R$162,2,FALSE),\"/\",J736,\"/\",D736))","v":"80/Pat/201612"},"Pat/201612","1431/201612","1431/0196/201612","80/201612","80/0196/201612","0196/201612","RE","1431/RE/201512",{"$f":"+CONCATENATE(VLOOKUP(F736,Cadastro!$Q$3:$R$162,2,FALSE),\"/\",S736,\"/\",H736)","v":"80/RE/201512"},"RE/201512","1431/201512","1431/0234/201512","80/201512","80/0234/201512","0234/201512",10917711.08,0,8736676.8399999999,0,584969.83999999985,0,57956.350000000093,0,291879.59000000003,0]
[null,"01431","0234","201601",null,"01431","0274","201506",null,"RE","1431/RE/201601",{"$f":"IF(J737=0,0,+CONCATENATE(VLOOKUP(B737,Cadastro!$Q$3:$R$162,2,FALSE),\"/\",J737,\"/\",D737))","v":"80/RE/201601"},"RE/201601","1431/201601","1431/0234/201601","80/201601","80/0234/201601","0234/201601","RE","1431/RE/201506",{"$f":"+CONCATENATE(VLOOKUP(F737,Cadastro!$Q$3:$R$162,2,FALSE),\"/\",S737,\"/\",H737)","v":"80/RE/201506"},"RE/201506","1431/201506","1431/0274/201506","80/201506","80/0274/201506","0274/201506",0,0,0,0,0,0,0,0,0,0]
[null,"01431","0234","201602",null,"01431","0274","201507",null,"RE","1431/RE/201602",{"$f":"IF(J738=0,0,+CONCATENATE(VLOOKUP(B738,Cadastro!$Q$3:$R$162,2,FALSE),\"/\",J738,\"/\",D738))","v":"80/RE/201602"},"RE/201602","1431/201602","1431/0234/201602","80/201602","80/0234/201602","0234/201602","RE","1431/RE/201507",{"$f":"+CONCATENATE(VLOOKUP(F738,Cadastro!$Q$3:$R$162,2,FALSE),\"/\",S738,\"/\",H738)","v":"80/RE/201507"},"RE/201507","1431/201507","1431/0274/201507","80/201507","80/0274/201507","0274/201507",0,0,0,0,0,0,0,0,0,0]
[null,"01431","0234","201603",null,"01431","0274","201508",null,"RE","1431/RE/201603",{"$f":"IF(J739=0,0,+CONCATENATE(VLOOKUP(B739,Cadastro!$Q$3:$R$162,2,FALSE),\"/\",J739,\"/\",D739))","v":"80/RE/201603"},"RE/201603","1431/201603","1431/0234/201603","80/201603","80/0234/201603","0234/201603","RE","1431/RE/201508",{"$f":"+CONCATENATE(VLOOKUP(F739,Cadastro!$Q$3:$R$162,2,FALSE),\"/\",S739,\"/\",H739)","v":"80/RE/201508"},"RE/201508","1431/201508","1431/0274/201508","80/201508","80/0274/201508","0274/201508",0,0,0,0,0,0,0,0,0,0]
[null,"01431","0234","201604",null,"01431","0274","201509",null,"RE","1431/RE/201604",{"$f":"IF(J740=0,0,+CONCATENATE(VLOOKUP(B740,Cadastro!$Q$3:$R$162,2,FALSE),\"/\",J740,\"/\",D740))","v":"80/RE/201604"},"RE/201604","1431/201604","1431/0234/201604","80/201604","80/0234/201604","0234/201604","RE","1431/RE/201509",{"$f":"+CONCATENATE(VLOOKUP(F740,Cadastro!$Q$3:$R$162,2,FALSE),\"/\",S740,\"/\",H740)","v":"80/RE/201509"},"RE/201509","1431/201509","1431/0274/201509","80/201509","80/0274/201509","0274/201509",0,0,0,0,0,0,0,0,0,0]
[null,"01431","0234","201605",null,"01431","0274","201510",null,"RE","1431/RE/201605",{"$f":"IF(J741=0,0,+CONCATENATE(VLOOKUP(B741,Cadastro!$Q$3:$R$162,2,FALSE),\"/\",J741,\"/\",D741))","v":"80/RE/201605"},"RE/201605","1431/201605","1431/0234/201605","80/201605","80/0234/201605","0234/201605","RE","1431/RE/201510",{"$f":"+CONCATENATE(VLOOKUP(F741,Cadastro!$Q$3:$R$162,2,FALSE),\"/\",S741,\"/\",H741)","v":"80/RE/201510"},"RE/201510","1431/201510","1431/0274/201510","80/201510","80/0274/201510","0274/201510",0,0,0,0,0,0,0,0,0,0]
[null,"01431","0234","201606",null,"01431","0274","201511",null,"RE","1431/RE/201606",{"$f":"IF(J742=0,0,+CONCATENATE(VLOOKUP(B742,Cadastro!$Q$3:$R$162,2,FALSE),\"/\",J742,\"/\",D742))","v":"80/RE/201606"},"RE/201606","1431/201606","1431/0234/201606","80/201606","80/0234/201606","0234/201606","RE","1431/RE/201511",{"$f":"+CONCATENATE(VLOOKUP(F742,Cadastro!$Q$3:$R$162,2,FALSE),\"/\",S742,\"/\",H742)","v":"80/RE/201511"},"RE/201511","1431/201511","1431/0274/201511","80/201511","80/0274/201511","0274/201511",0,0,0,0,0,0,0,0,0,0]
[null,"01431","0234","201607",null,"01431","0274","201512",null,"RE","1431/RE/201607",{"$f":"IF(J743=0,0,+CONCATENATE(VLOOKUP(B743,Cadastro!$Q$3:$R$162,2,FALSE),\"/\",J743,\"/\",D743))","v":"80/RE/201607"},"RE/201607","1431/201607","1431/0234/201607","80/201607","80/0234/201607","0234/201607","RE","1431/RE/201512",{"$f":"+CONCATENATE(VLOOKUP(F743,Cadastro!$Q$3:$R$162,2,FALSE),\"/\",S743,\"/\",H743)","v":"80/RE/201512"},"RE/201512","1431/201512","1431/0274/201512","80/201512","80/0274/201512","0274/201512",0,0,0,0,0,0,0,0,0,0]
[null,"01431","0234","201608",null,"01431","0310","201501",null,"RE","1431/RE/201608",{"$f":"IF(J744=0,0,+CONCATENATE(VLOOKUP(B744,Cadastro!$Q$3:$R$162,2,FALSE),\"/\",J744,\"/\",D744))","v":"80/RE/201608"},"RE/201608","1431/201608","1431/0234/201608","80/201608","80/0234/201608","0234/201608","Res","1431/Res/201501",{"$f":"+CONCATENATE(VLOOKUP(F744,Cadastro!$Q$3:$R$162,2,FALSE),\"/\",S744,\"/\",H744)","v":"80/Res/201501"},"Res/201501","1431/201501","1431/0310/201501","80/201501","80/0310/201501","0310/201501",0,1767754.43,0,842333.73,0,180134.43999999994,0,-9.3799999999999955,0,139313.35]
[null,"01431","0234","201609",null,"01431","0310","201502",null,"RE","1431/RE/201609",{"$f":"IF(J745=0,0,+CONCATENATE(VLOOKUP(B745,Cadastro!$Q$3:$R$162,2,FALSE),\"/\",J745,\"/\",D745))","v":"80/RE/201609"},"RE/201609","1431/201609","1431/0234/201609","80/201609","80/0234/201609","0234/201609","Res","1431/Res/201502",{"$f":"+CONCATENATE(VLOOKUP(F745,Cadastro!$Q$3:$R$162,2,FALSE),\"/\",S745,\"/\",H745)","v":"80/Res/201502"},"Res/201502","1431/201502","1431/0310/201502","80/201502","80/0310/201502","0310/201502",0,2058858.67,0,1578724.94,0,473854.39,0,194.48000000000002,0,150387.35999999999]
[null,"01431","0234","201610",null,"01431","0310","201503",null,"RE","1431/RE/201610",{"$f":"IF(J746=0,0,+CONCATENATE(VLOOKUP(B746,Cadastro!$Q$3:$R$162,2,FALSE),\"/\",J746,\"/\",D746))","v":"80/RE/201610"},"RE/201610","1431/201610","1431/0234/201610","80/201610","80/0234/201610","0234/201610","Res","1431/Res/201503",{"$f":"+CONCATENATE(VLOOKUP(F746,Cadastro!$Q$3:$R$162,2,FALSE),\"/\",S746,\"/\",H746)","v":"80/Res/201503"},"Res/201503","1431/201503","1431/0310/201503","80/201503","80/0310/201503","0310/201503",0,-548298.81999999995,0,-1019121.6399999999,0,402381.85000000003,0,-27245.47,0,146148.91]
[null,"01431","0234","201611",null,"01431","0310","201504",null,"RE","1431/RE/201611",{"$f":"IF(J747=0,0,+CONCATENATE(VLOOKUP(B747,Cadastro!$Q$3:$R$162,2,FALSE),\"/\",J747,\"/\",D747))","v":"80/RE/201611"},"RE/201611","1431/201611","1431/0234/201611","80/201611","80/0234/201611","0234/201611","Res","1431/Res/201504",{"$f":"+CONCATENATE(VLOOKUP(F747,Cadastro!$Q$3:$R$162,2,FALSE),\"/\",S747,\"/\",H747)","v":"80/Res/201504"},"Res/201504","1431/201504","1431/0310/201504","80/201504","80/0310/201504","0310/201504",0,1493830.15,0,1338273.8799999999,0,984483.02,0,42.97,0,167918.65]
[null,"01431","0234","201612",null,"01431","0310","201505",null,"RE","1431/RE/201612",{"$f":"IF(J748=0,0,+CONCATENATE(VLOOKUP(B748,Cadastro!$Q$3:$R$162,2,FALSE),\"/\",J748,\"/\",D748))","v":"80/RE/201612"},"RE/201612","1431/201612","1431/0234/201612","80/201612","80/0234/201612","0234/201612","Res","1431/Res/201505",{"$f":"+CONCATENATE(VLOOKUP(F748,Cadastro!$Q$3:$R$162,2,FALSE),\"/\",S748,\"/\",H748)","v":"80/Res/201505"},"Res/201505","1431/201505","1431/0310/201505","80/201505","80/0310/201505","0310/201505",0,1089811.8799999999,0,93485.169999999925,0,272004.16999999993,0,834.63999999999987,0,170067.32]
[null,"01431","0274","201601",null,"01431","0310","201506",null,"RE","1431/RE/201601",{"$f":"IF(J749=0,0,+CONCATENATE(VLOOKUP(B749,Cadastro!$Q$3:$R$162,2,FALSE),\"/\",J749,\"/\",D749))","v":"80/RE/201601"},"RE/201601","1431/201601","1431/0274/201601","80/201601","80/0274/201601","0274/201601","Res","1431/Res/201506",{"$f":"+CONCATENATE(VLOOKUP(F749,Cadastro!$Q$3:$R$162,2,FALSE),\"/\",S749,\"/\",H749)","v":"80/Res/201506"},"Res/201506","1431/201506","1431/0310/201506","80/201506","80/0310/201506","0310/201506",0,869789.81,0,784697.72000000009,0,813351.38,0,6581.1700000000019,0,93439.2]
[null,"01431","0274","201602",null,"01431","0310","201507",null,"RE","1431/RE/201602",{"$f":"IF(J750=0,0,+CONCATENATE(VLOOKUP(B750,Cadastro!$Q$3:$R$162,2,FALSE),\"/\",J750,\"/\",D750))","v":"80/RE/201602"},"RE/201602","1431/201602","1431/0274/201602","80/201602","80/0274/201602","0274/201602","Res","1431/Res/201507",{"$f":"+CONCATENATE(VLOOKUP(F750,Cadastro!$Q$3:$R$162,2,FALSE),\"/\",S750,\"/\",H750)","v":"80/Res/201507"},"Res/201507","1431/201507","1431/0310/201507","80/201507","80/0310/201507","0310/201507",0,1417776.38,0,890059.62999999989,0,502952.19999999995,0,10277.32,0,140672.10999999999]
[null,"01431","0274","201603",null,"01431","0310","201508",null,"RE","1431/RE/201603",{"$f":"IF(J751=0,0,+CONCATENATE(VLOOKUP(B751,Cadastro!$Q$3:$R$162,2,FALSE),\"/\",J751,\"/\",D751))","v":"80/RE/201603"},"RE/201603","1431/201603","1431/0274/201603","80/201603","80/0274/201603","0274/201603","Res","1431/Res/201508",{"$f":"+CONCATENATE(VLOOKUP(F751,Cadastro!$Q$3:$R$162,2,FALSE),\"/\",S751,\"/\",H751)","v":"80/Res/201508"},"Res/201508","1431/201508","1431/0310/201508","80/201508","80/0310/201508","0310/201508",0,512507.25,0,99198.780000000028,0,431188.46000000008,0,18210.450000000004,0,107498.16]
[null,"01431","0274","201604",null,"01431","0310","201509",null,"RE","1431/RE/201604",{"$f":"IF(J752=0,0,+CONCATENATE(VLOOKUP(B752,Cadastro!$Q$3:$R$162,2,FALSE),\"/\",J752,\"/\",D752))","v":"80/RE/201604"},"RE/201604","1431/201604","1431/0274/201604","80/201604","80/0274/201604","0274/201604","Res","1431/Res/201509",{"$f":"+CONCATENATE(VLOOKUP(F752,Cadastro!$Q$3:$R$162,2,FALSE),\"/\",S752,\"/\",H752)","v":"80/Res/201509"},"Res/201509","1431/201509","1431/0310/201509","80/201509","80/0310/201509","0310/201509",0,902257.83,0,472945.08999999997,0,452715.49,0,98458.010000000009,0,105941]
[null,"01431","0274","201605",null,"01431","0310","201510",null,"RE","1431/RE/201605",{"$f":"IF(J753=0,0,+CONCATENATE(VLOOKUP(B753,Cadastro!$Q$3:$R$162,2,FALSE),\"/\",J753,\"/\",D753))","v":"80/RE/201605"},"RE/201605","1431/201605","1431/0274/201605","80/201605","80/0274/201605","0274/201605","Res","1431/Res/201510",{"$f":"+CONCATENATE(VLOOKUP(F753,Cadastro!$Q$3:$R$162,2,FALSE),\"/\",S753,\"/\",H753)","v":"80/Res/201510"},"Res/201510","1431/201510","1431/0310/201510","80/201510","80/0310/201510","0310/201510",0,2907066.12,0,1280555.06,0,676267.37000000011,0,21339.19,0,196034.34]
[null,"01431","0274","201606",null,"01431","0310","201511",null,"RE","1431/RE/201606",{"$f":"IF(J754=0,0,+CONCATENATE(VLOOKUP(B754,Cadastro!$Q$3:$R$162,2,FALSE),\"/\",J754,\"/\",D754))","v":"80/RE/201606"},"RE/201606","1431/201606","1431/0274/201606","80/201606","80/0274/201606","0274/201606","Res","1431/Res/201511",{"$f":"+CONCATENATE(VLOOKUP(F754,Cadastro!$Q$3:$R$162,2,FALSE),\"/\",S754,\"/\",H754)","v":"80/Res/201511"},"Res/201511","1431/201511","1431/0310/201511","80/201511","80/0310/201511","0310/201511",0,1361065.21,0,865215.19,0,490589.41999999993,0,-37067.51999999999,0,115867.8]
[null,"01431","0274","201607",null,"01431","0310","201512",null,"RE","1431/RE/201607",{"$f":"IF(J755=0,0,+CONCATENATE(VLOOKUP(B755,Cadastro!$Q$3:$R$162,2,FALSE),\"/\",J755,\"/\",D755))","v":"80/RE/201607"},"RE/201607","1431/201607","1431/0274/201607","80/201607","80/0274/201607","0274/201607","Res","1431/Res/201512",{"$f":"+CONCATENATE(VLOOKUP(F755,Cadastro!$Q$3:$R$162,2,FALSE),\"/\",S755,\"/\",H755)","v":"80/Res/201512"},"Res/201512","1431/201512","1431/0310/201512","80/201512","80/0310/201512","0310/201512",0,-583992.92000000004,0,-1260540.1499999999,0,427708.89000000013,0,174878.12999999998,0,130945.31]
[null,"01431","0274","201608",null,"01431","0313","201501",null,"RE","1431/RE/201608",{"$f":"IF(J756=0,0,+CONCATENATE(VLOOKUP(B756,Cadastro!$Q$3:$R$162,2,FALSE),\"/\",J756,\"/\",D756))","v":"80/RE/201608"},"RE/201608","1431/201608","1431/0274/201608","80/201608","80/0274/201608","0274/201608","Res","1431/Res/201501",{"$f":"+CONCATENATE(VLOOKUP(F756,Cadastro!$Q$3:$R$162,2,FALSE),\"/\",S756,\"/\",H756)","v":"80/Res/201501"},"Res/201501","1431/201501","1431/0313/201501","80/201501","80/0313/201501","0313/201501",0,-7621.47,0,-8359.6,0,3091.0699999999997,0,0,0,899.36]
[null,"01431","0274","201609",null,"01431","0313","201502",null,"RE","1431/RE/201609",{"$f":"IF(J757=0,0,+CONCATENATE(VLOOKUP(B757,Cadastro!$Q$3:$R$162,2,FALSE),\"/\",J757,\"/\",D757))","v":"80/RE/201609"},"RE/201609","1431/201609","1431/0274/201609","80/201609","80/0274/201609","0274/201609","Res","1431/Res/201502",{"$f":"+CONCATENATE(VLOOKUP(F757,Cadastro!$Q$3:$R$162,2,FALSE),\"/\",S757,\"/\",H757)","v":"80/Res/201502"},"Res/201502","1431/201502","1431/0313/201502","80/201502","80/0313/201502","0313/201502",0,8543.64,0,7805.5099999999993,0,3790.1899999999996,0,0,0,774.23]
[null,"01431","0274","201610",null,"01431","0313","201503",null,"RE","1431/RE/201610",{"$f":"IF(J758=0,0,+CONCATENATE(VLOOKUP(B758,Cadastro!$Q$3:$R$162,2,FALSE),\"/\",J758,\"/\",D758))","v":"80/RE/201610"},"RE/201610","1431/201610","1431/0274/201610","80/201610","80/0274/201610","0274/201610","Res","1431/Res/201503",{"$f":"+CONCATENATE(VLOOKUP(F758,Cadastro!$Q$3:$R$162,2,FALSE),\"/\",S758,\"/\",H758)","v":"80/Res/201503"},"Res/201503","1431/201503","1431/0313/201503","80/201503","80/0313/201503","0313/201503",0,57355.47,0,56617.340000000004,0,15146.910000000002,0,0,0,858.57]
[null,"01431","0274","201611",null,"01431","0313","201504",null,"RE","1431/RE/201611",{"$f":"IF(J759=0,0,+CONCATENATE(VLOOKUP(B759,Cadastro!$Q$3:$R$162,2,FALSE),\"/\",J759,\"/\",D759))","v":"80/RE/201611"},"RE/201611","1431/201611","1431/0274/201611","80/201611","80/0274/201611","0274/201611","Res","1431/Res/201504",{"$f":"+CONCATENATE(VLOOKUP(F759,Cadastro!$Q$3:$R$162,2,FALSE),\"/\",S759,\"/\",H759)","v":"80/Res/201504"},"Res/201504","1431/201504","1431/0313/201504","80/201504","80/0313/201504","0313/201504",0,5244.35,0,4506.22,0,8459.51,0,0,0,829.99]
[null,"01431","0274","201612",null,"01431","0313","201505",null,"RE","1431/RE/201612",{"$f":"IF(J760=0,0,+CONCATENATE(VLOOKUP(B760,Cadastro!$Q$3:$R$162,2,FALSE),\"/\",J760,\"/\",D760))","v":"80/RE/201612"},"RE/201612","1431/201612","1431/0274/201612","80/201612","80/0274/201612","0274/201612","Res","1431/Res/201505",{"$f":"+CONCATENATE(VLOOKUP(F760,Cadastro!$Q$3:$R$162,2,FALSE),\"/\",S760,\"/\",H760)","v":"80/Res/201505"},"Res/201505","1431/201505","1431/0313/201505","80/201505","80/0313/201505","0313/201505",0,12404.26,0,11666.130000000001,0,9303.3900000000012,0,0,0,857.64]
[null,"01431","0310","201601",null,"01431","0313","201506",null,"Res","1431/Res/201601",{"$f":"IF(J761=0,0,+CONCATENATE(VLOOKUP(B761,Cadastro!$Q$3:$R$162,2,FALSE),\"/\",J761,\"/\",D761))","v":"80/Res/201601"},"Res/201601","1431/201601","1431/0310/201601","80/201601","80/0310/201601","0310/201601","Res","1431/Res/201506",{"$f":"+CONCATENATE(VLOOKUP(F761,Cadastro!$Q$3:$R$162,2,FALSE),\"/\",S761,\"/\",H761)","v":"80/Res/201506"},"Res/201506","1431/201506","1431/0313/201506","80/201506","80/0313/201506","0313/201506",710430.8,19963.73,278969.72000000003,17725.599999999999,551335.10999999987,6690.21,41728.67,0,234664.32000000001,594.74]
[null,"01431","0310","201602",null,"01431","0313","201507",null,"Res","1431/Res/201602",{"$f":"IF(J762=0,0,+CONCATENATE(VLOOKUP(B762,Cadastro!$Q$3:$R$162,2,FALSE),\"/\",J762,\"/\",D762))","v":"80/Res/201602"},"Res/201602","1431/201602","1431/0310/201602","80/201602","80/0310/201602","0310/201602","Res","1431/Res/201507",{"$f":"+CONCATENATE(VLOOKUP(F762,Cadastro!$Q$3:$R$162,2,FALSE),\"/\",S762,\"/\",H762)","v":"80/Res/201507"},"Res/201507","1431/201507","1431/0313/201507","80/201507","80/0313/201507","0313/201507",1501867.25,1221.45,1005103.85,-1016.6800000000001,704197.33,3992.24,17478.47,0,130351.94,200.72]
[null,"01431","0310","201603",null,"01431","0313","201508",null,"Res","1431/Res/201603",{"$f":"IF(J763=0,0,+CONCATENATE(VLOOKUP(B763,Cadastro!$Q$3:$R$162,2,FALSE),\"/\",J763,\"/\",D763))","v":"80/Res/201603"},"Res/201603","1431/201603","1431/0310/201603","80/201603","80/0310/201603","0310/201603","Res","1431/Res/201508",{"$f":"+CONCATENATE(VLOOKUP(F763,Cadastro!$Q$3:$R$162,2,FALSE),\"/\",S763,\"/\",H763)","v":"80/Res/201508"},"Res/201508","1431/201508","1431/0313/201508","80/201508","80/0313/201508","0313/201508",3773911.33,85494.23,3196902.42,83256.099999999991,671673.80999999994,19725.379999999997,3077.97,0,183724.98,3203.62]
[null,"01431","0310","201604",null,"01431","0313","201509",null,"Res","1431/Res/201604",{"$f":"IF(J764=0,0,+CONCATENATE(VLOOKUP(B764,Cadastro!$Q$3:$R$162,2,FALSE),\"/\",J764,\"/\",D764))","v":"80/Res/201604"},"Res/201604","1431/201604","1431/0310/201604","80/201604","80/0310/201604","0310/201604","Res","1431/Res/201509",{"$f":"+CONCATENATE(VLOOKUP(F764,Cadastro!$Q$3:$R$162,2,FALSE),\"/\",S764,\"/\",H764)","v":"80/Res/201509"},"Res/201509","1431/201509","1431/0313/201509","80/201509","80/0313/201509","0313/201509",1983070.76,2249.5100000000002,1395368.08,11.380000000000109,674997.09,10790.630000000001,33430.249999999993,0,140931.29999999999,1437.95]
[null,"01431","0310","201605",null,"01431","0313","201510",null,"Res","1431/Res/201605",{"$f":"IF(J765=0,0,+CONCATENATE(VLOOKUP(B765,Cadastro!$Q$3:$R$162,2,FALSE),\"/\",J765,\"/\",D765))","v":"80/Res/201605"},"Res/201605","1431/201605","1431/0310/201605","80/201605","80/0310/201605","0310/201605","Res","1431/Res/201510",{"$f":"+CONCATENATE(VLOOKUP(F765,Cadastro!$Q$3:$R$162,2,FALSE),\"/\",S765,\"/\",H765)","v":"80/Res/201510"},"Res/201510","1431/201510","1431/0313/201510","80/201510","80/0313/201510","0313/201510",52225.21,6046.16,-492217.45,-2446.4400000000005,543447.00999999989,5256.7099999999991,-63084.7,0,122082.98,1485.85]
[null,"01431","0310","201606",null,"01431","0313","201511",null,"Res","1431/Res/201606",{"$f":"IF(J766=0,0,+CONCATENATE(VLOOKUP(B766,Cadastro!$Q$3:$R$162,2,FALSE),\"/\",J766,\"/\",D766))","v":"80/Res/201606"},"Res/201606","1431/201606","1431/0310/201606","80/201606","80/0310/201606","0310/201606","Res","1431/Res/201511",{"$f":"+CONCATENATE(VLOOKUP(F766,Cadastro!$Q$3:$R$162,2,FALSE),\"/\",S766,\"/\",H766)","v":"80/Res/201511"},"Res/201511","1431/201511","1431/0313/201511","80/201511","80/0313/201511","0313/201511",1113306.78,3666.83,482350.25,1060.79,585557.04,10531.720000000001,93634.49,0,148525.13,1437.94]
[null,"01431","0310","201607",null,"01431","0313","201512",null,"Res","1431/Res/201607",{"$f":"IF(J767=0,0,+CONCATENATE(VLOOKUP(B767,Cadastro!$Q$3:$R$162,2,FALSE),\"/\",J767,\"/\",D767))","v":"80/Res/201607"},"Res/201607","1431/201607","1431/0310/201607","80/201607","80/0310/201607","0310/201607","Res","1431/Res/201512",{"$f":"+CONCATENATE(VLOOKUP(F767,Cadastro!$Q$3:$R$162,2,FALSE),\"/\",S767,\"/\",H767)","v":"80/Res/201512"},"Res/201512","1431/201512","1431/0313/201512","80/201512","80/0313/201512","0313/201512",617270.85,-120672.76,-362431.70000000007,-124696.08,277914.44999999995,5706.880000000001,263715.75999999978,18377.64,157801.25,1485.87]
[null,"01431","0310","201608",null,"01431","0351","201501",null,"Res","1431/Res/201608",{"$f":"IF(J768=0,0,+CONCATENATE(VLOOKUP(B768,Cadastro!$Q$3:$R$162,2,FALSE),\"/\",J768,\"/\",D768))","v":"80/Res/201608"},"Res/201608","1431/201608","1431/0310/201608","80/201608","80/0310/201608","0310/201608","Res","1431/Res/201501",{"$f":"+CONCATENATE(VLOOKUP(F768,Cadastro!$Q$3:$R$162,2,FALSE),\"/\",S768,\"/\",H768)","v":"80/Res/201501"},"Res/201501","1431/201501","1431/0351/201501","80/201501","80/0351/201501","0351/201501",754887.64,1499101.96,67526.940000000061,1024821.4199999999,506740.54000000004,1074440.8699999999,4918.3199999998324,268046.78999999998,141797.65,145128.01]
[null,"01431","0310","201609",null,"01431","0351","201502",null,"Res","1431/Res/201609",{"$f":"IF(J769=0,0,+CONCATENATE(VLOOKUP(B769,Cadastro!$Q$3:$R$162,2,FALSE),\"/\",J769,\"/\",D769))","v":"80/Res/201609"},"Res/201609","1431/201609","1431/0310/201609","80/201609","80/0310/201609","0310/201609","Res","1431/Res/201502",{"$f":"+CONCATENATE(VLOOKUP(F769,Cadastro!$Q$3:$R$162,2,FALSE),\"/\",S769,\"/\",H769)","v":"80/Res/201502"},"Res/201502","1431/201502","1431/0351/201502","80/201502","80/0351/201502","0351/201502",1169402.1200000001,1412797.26,579279.65000000014,949014.67999999993,517444.62000000011,981234.12999999989,547317.79,390915.2,133665.54999999999,150465.93]
[null,"01431","0310","201610",null,"01431","0351","201503",null,"Res","1431/Res/201610",{"$f":"IF(J770=0,0,+CONCATENATE(VLOOKUP(B770,Cadastro!$Q$3:$R$162,2,FALSE),\"/\",J770,\"/\",D770))","v":"80/Res/201610"},"Res/201610","1431/201610","1431/0310/201610","80/201610","80/0310/201610","0310/201610","Res","1431/Res/201503",{"$f":"+CONCATENATE(VLOOKUP(F770,Cadastro!$Q$3:$R$162,2,FALSE),\"/\",S770,\"/\",H770)","v":"80/Res/201503"},"Res/201503","1431/201503","1431/0351/201503","80/201503","80/0351/201503","0351/201503",690433.79,122643.22,237019.13000000006,-372637.68000000005,663880.13000000012,1564523.5899999999,-718453.99,243966.39,141856.95000000001,201113.87]
[null,"01431","0310","201611",null,"01431","0351","201504",null,"Res","1431/Res/201611",{"$f":"IF(J771=0,0,+CONCATENATE(VLOOKUP(B771,Cadastro!$Q$3:$R$162,2,FALSE),\"/\",J771,\"/\",D771))","v":"80/Res/201611"},"Res/201611","1431/201611","1431/0310/201611","80/201611","80/0310/201611","0310/201611","Res","1431/Res/201504",{"$f":"+CONCATENATE(VLOOKUP(F771,Cadastro!$Q$3:$R$162,2,FALSE),\"/\",S771,\"/\",H771)","v":"80/Res/201504"},"Res/201504","1431/201504","1431/0351/201504","80/201504","80/0351/201504","0351/201504",1644041.34,1036151.3,1050836.17,521463.71,623640.9,1261548.7899999998,-37745.1,485414.86,160409.93,168082.65]
[null,"01431","0310","201612",null,"01431","0351","201505",null,"Res","1431/Res/201612",{"$f":"IF(J772=0,0,+CONCATENATE(VLOOKUP(B772,Cadastro!$Q$3:$R$162,2,FALSE),\"/\",J772,\"/\",D772))","v":"80/Res/201612"},"Res/201612","1431/201612","1431/0310/201612","80/201612","80/0310/201612","0310/201612","Res","1431/Res/201505",{"$f":"+CONCATENATE(VLOOKUP(F772,Cadastro!$Q$3:$R$162,2,FALSE),\"/\",S772,\"/\",H772)","v":"80/Res/201505"},"Res/201505","1431/201505","1431/0351/201505","80/201505","80/0351/201505","0351/201505",4051773.12,3524119.63,3235649.79,2792754.67,850031.64,1300168.42,85775.340000000026,1063636.1199999999,171150.12,164079.82999999999]
[null,"01431","0313","201601",null,"01431","0351","201506",null,{"$f":"IF(C773=0,0,+VLOOKUP(C773,$AQ$4:$AR$130,2,FALSE))","v":"Res"},{"$f":"IF(J773=0,0,+CONCATENATE(VALUE(B773),\"/\",J773,\"/\",D773))","v":"1431/Res/201601"},{"$f":"IF(J773=0,0,+CONCATENATE(VLOOKUP(B773,Cadastro!$Q$3:$R$162,2,FALSE),\"/\",J773,\"/\",D773))","v":"80/Res/201601"},{"$f":"IF(J773=0,0,+CONCATENATE(J773,\"/\",D773))","v":"Res/201601"},"1431/201601","1431/0313/201601","80/201601","80/0313/201601","0313/201601",{"$f":"+VLOOKUP(G773,$AQ$4:$AR$130,2,FALSE)","v":"Res"},{"$f":"+CONCATENATE(VALUE(F773),\"/\",S773,\"/\",H773)","v":"1431/Res/201506"},{"$f":"+CONCATENATE(VLOOKUP(F773,Cadastro!$Q$3:$R$162,2,FALSE),\"/\",S773,\"/\",H773)","v":"80/Res/201506"},"Res/201506","1431/201506","1431/0351/201506","80/201506","80/0351/201506","0351/201506",-1677.92,834337.81,-5732.3899999999994,-294266.79000000004,6595.92,577520.5299999998,-3885.63,336954.01,1485.65,152957.26]
[null,"01431","0313","201602",null,"01431","0351","201507",null,"Res","1431/Res/201602",{"$f":"IF(J774=0,0,+CONCATENATE(VLOOKUP(B774,Cadastro!$Q$3:$R$162,2,FALSE),\"/\",J774,\"/\",D774))","v":"80/Res/201602"},"Res/201602","1431/201602","1431/0313/201602","80/201602","80/0313/201602","0313/201602","Res","1431/Res/201507",{"$f":"+CONCATENATE(VLOOKUP(F774,Cadastro!$Q$3:$R$162,2,FALSE),\"/\",S774,\"/\",H774)","v":"80/Res/201507"},{"$f":"+CONCATENATE(S774,\"/\",H774)","v":"Res/201507"},"1431/201507","1431/0351/201507","80/201507","80/0351/201507","0351/201507",53729.75,2476395.1,50749.919999999998,2005893.9000000001,44156.08,1090115.6500000001,0,1311386.1599999999,5157.3,136714.09]
[null,"01431","0313","201603",null,"01431","0351","201508",null,"Res","1431/Res/201603",{"$f":"IF(J775=0,0,+CONCATENATE(VLOOKUP(B775,Cadastro!$Q$3:$R$162,2,FALSE),\"/\",J775,\"/\",D775))","v":"80/Res/201603"},"Res/201603","1431/201603","1431/0313/201603","80/201603","80/0313/201603","0313/201603","Res","1431/Res/201508",{"$f":"+CONCATENATE(VLOOKUP(F775,Cadastro!$Q$3:$R$162,2,FALSE),\"/\",S775,\"/\",H775)","v":"80/Res/201508"},"Res/201508","1431/201508","1431/0351/201508","80/201508","80/0351/201508","0351/201508",2749.44,2231291.9900000002,83.869999999999891,1610274.1800000002,14557.349999999999,1090123.0799999998,4363.33,528975.15,2646.75,139953.79999999999]
[null,"01431","0313","201604",null,"01431","0351","201509",null,"Res","1431/Res/201604",{"$f":"IF(J776=0,0,+CONCATENATE(VLOOKUP(B776,Cadastro!$Q$3:$R$162,2,FALSE),\"/\",J776,\"/\",D776))","v":"80/Res/201604"},"Res/201604","1431/201604","1431/0313/201604","80/201604","80/0313/201604","0313/201604","Res","1431/Res/201509",{"$f":"+CONCATENATE(VLOOKUP(F776,Cadastro!$Q$3:$R$162,2,FALSE),\"/\",S776,\"/\",H776)","v":"80/Res/201509"},"Res/201509","1431/201509","1431/0351/201509","80/201509","80/0351/201509","0351/201509",-4285.43,372591.82,-5996.58,-60183.75,9654.3900000000012,1110860.6299999999,-6759.3,636740.30999999959,1522.22,134536.79999999999]
[null,"01431","0313","201605",null,"01431","0351","201510",null,"Res","1431/Res/201605",{"$f":"IF(J777=0,0,+CONCATENATE(VLOOKUP(B777,Cadastro!$Q$3:$R$162,2,FALSE),\"/\",J777,\"/\",D777))","v":"80/Res/201605"},"Res/201605","1431/201605","1431/0313/201605","80/201605","80/0313/201605","0313/201605","Res","1431/Res/201510",{"$f":"+CONCATENATE(VLOOKUP(F777,Cadastro!$Q$3:$R$162,2,FALSE),\"/\",S777,\"/\",H777)","v":"80/Res/201510"},"Res/201510","1431/201510","1431/0351/201510","80/201510","80/0351/201510","0351/201510",11620.77,555209.69999999995,8519.2900000000009,-1570127.53,14098.54,-636485.09000000008,825.19,-676294.92999999993,2143.84,126350.39999999999]
[null,"01431","0313","201606",null,"01431","0351","201511",null,"Res","1431/Res/201606",{"$f":"IF(J778=0,0,+CONCATENATE(VLOOKUP(B778,Cadastro!$Q$3:$R$162,2,FALSE),\"/\",J778,\"/\",D778))","v":"80/Res/201606"},"Res/201606","1431/201606","1431/0313/201606","80/201606","80/0313/201606","0313/201606","Res","1431/Res/201511",{"$f":"+CONCATENATE(VLOOKUP(F778,Cadastro!$Q$3:$R$162,2,FALSE),\"/\",S778,\"/\",H778)","v":"80/Res/201511"},"Res/201511","1431/201511","1431/0351/201511","80/201511","80/0351/201511","0351/201511",17469.77,1941388.28,15759.66,1418995.07,18055.96,1172378.1000000001,-12921.23,1616553.74,2348.75,135814.37]
[null,"01431","0313","201607",null,"01431","0351","201512",null,"Res","1431/Res/201607",{"$f":"IF(J779=0,0,+CONCATENATE(VLOOKUP(B779,Cadastro!$Q$3:$R$162,2,FALSE),\"/\",J779,\"/\",D779))","v":"80/Res/201607"},"Res/201607","1431/201607","1431/0313/201607","80/201607","80/0313/201607","0313/201607","Res","1431/Res/201512",{"$f":"+CONCATENATE(VLOOKUP(F779,Cadastro!$Q$3:$R$162,2,FALSE),\"/\",S779,\"/\",H779)","v":"80/Res/201512"},"Res/201512","1431/201512","1431/0351/201512","80/201512","80/0351/201512","0351/201512",107168.92,-1912797.53,103542.45,-3437111.66,22983.48,651612.12999999989,164527.84000000003,-635593.04999999993,4077.97,193081]
[null,"01431","0313","201608",null,"01431","0378","201501",null,"Res","1431/Res/201608",{"$f":"IF(J780=0,0,+CONCATENATE(VLOOKUP(B780,Cadastro!$Q$3:$R$162,2,FALSE),\"/\",J780,\"/\",D780))","v":"80/Res/201608"},"Res/201608","1431/201608","1431/0313/201608","80/201608","80/0313/201608","0313/201608","Res","1431/Res/201501",{"$f":"+CONCATENATE(VLOOKUP(F780,Cadastro!$Q$3:$R$162,2,FALSE),\"/\",S780,\"/\",H780)","v":"80/Res/201501"},"Res/201501","1431/201501","1431/0378/201501","80/201501","80/0378/201501","0378/201501",31269.81,-13172.72,29000.82,-138991.88,23903.449999999997,-2007.1800000000076,-164527.84000000003,23.150000000000002,3909,34485.589999999997]
[null,"01431","0313","201609",null,"01431","0378","201502",null,"Res","1431/Res/201609",{"$f":"IF(J781=0,0,+CONCATENATE(VLOOKUP(B781,Cadastro!$Q$3:$R$162,2,FALSE),\"/\",J781,\"/\",D781))","v":"80/Res/201609"},"Res/201609","1431/201609","1431/0313/201609","80/201609","80/0313/201609","0313/201609","Res","1431/Res/201502",{"$f":"+CONCATENATE(VLOOKUP(F781,Cadastro!$Q$3:$R$162,2,FALSE),\"/\",S781,\"/\",H781)","v":"80/Res/201502"},"Res/201502","1431/201502","1431/0378/201502","80/201502","80/0378/201502","0378/201502",49151.34,173660.03,50038.17,120904.59,64869.66,36588.789999999994,0,-3.17,2375.5,15740.82]
[null,"01431","0313","201610",null,"01431","0378","201503",null,"Res","1431/Res/201610",{"$f":"IF(J782=0,0,+CONCATENATE(VLOOKUP(B782,Cadastro!$Q$3:$R$162,2,FALSE),\"/\",J782,\"/\",D782))","v":"80/Res/201610"},"Res/201610","1431/201610","1431/0313/201610","80/201610","80/0313/201610","0313/201610","Res","1431/Res/201503",{"$f":"+CONCATENATE(VLOOKUP(F782,Cadastro!$Q$3:$R$162,2,FALSE),\"/\",S782,\"/\",H782)","v":"80/Res/201503"},"Res/201503","1431/201503","1431/0378/201503","80/201503","80/0378/201503","0378/201503",45192.37,209669.86,43697.130000000005,136120.60999999999,37635.51,63913.540000000008,0,39.15,4260.05,22143.97]
[null,"01431","0313","201611",null,"01431","0378","201504",null,"Res","1431/Res/201611",{"$f":"IF(J783=0,0,+CONCATENATE(VLOOKUP(B783,Cadastro!$Q$3:$R$162,2,FALSE),\"/\",J783,\"/\",D783))","v":"80/Res/201611"},"Res/201611","1431/201611","1431/0313/201611","80/201611","80/0313/201611","0313/201611","Res","1431/Res/201504",{"$f":"+CONCATENATE(VLOOKUP(F783,Cadastro!$Q$3:$R$162,2,FALSE),\"/\",S783,\"/\",H783)","v":"80/Res/201504"},"Res/201504","1431/201504","1431/0378/201504","80/201504","80/0378/201504","0378/201504",187298,331205.44,185431.85,232348.21000000002,46059.17,88419.650000000009,0,18.940000000000001,7060.1,34279.199999999997]
[null,"01431","0313","201612",null,"01431","0378","201505",null,"Res","1431/Res/201612",{"$f":"IF(J784=0,0,+CONCATENATE(VLOOKUP(B784,Cadastro!$Q$3:$R$162,2,FALSE),\"/\",J784,\"/\",D784))","v":"80/Res/201612"},"Res/201612","1431/201612","1431/0313/201612","80/201612","80/0313/201612","0313/201612","Res","1431/Res/201505",{"$f":"+CONCATENATE(VLOOKUP(F784,Cadastro!$Q$3:$R$162,2,FALSE),\"/\",S784,\"/\",H784)","v":"80/Res/201505"},"Res/201505","1431/201505","1431/0378/201505","80/201505","80/0378/201505","0378/201505",74996.97,33138.81,72922.19,-39857.740000000005,62912.67,66827.240000000005,0,-14.100000000000001,9411.2099999999991,23855.200000000001]
[null,"01431","0351","201601",null,"01431","0378","201506",null,"Res","1431/Res/201601",{"$f":"IF(J785=0,0,+CONCATENATE(VLOOKUP(B785,Cadastro!$Q$3:$R$162,2,FALSE),\"/\",J785,\"/\",D785))","v":"80/Res/201601"},"Res/201601","1431/201601","1431/0351/201601","80/201601","80/0351/201601","0351/201601","Res","1431/Res/201506",{"$f":"+CONCATENATE(VLOOKUP(F785,Cadastro!$Q$3:$R$162,2,FALSE),\"/\",S785,\"/\",H785)","v":"80/Res/201506"},"Res/201506","1431/201506","1431/0378/201506","80/201506","80/0378/201506","0378/201506",1352975.3,172687.28,700537.2300000001,143500.16,1004919.2000000001,119635.48999999999,62919.840000000011,23389.57,125369.55,25969.02]
[null,"01431","0351","201602",null,"01431","0378","201507",null,"Res","1431/Res/201602",{"$f":"IF(J786=0,0,+CONCATENATE(VLOOKUP(B786,Cadastro!$Q$3:$R$162,2,FALSE),\"/\",J786,\"/\",D786))","v":"80/Res/201602"},"Res/201602","1431/201602","1431/0351/201602","80/201602","80/0351/201602","0351/201602","Res","1431/Res/201507",{"$f":"+CONCATENATE(VLOOKUP(F786,Cadastro!$Q$3:$R$162,2,FALSE),\"/\",S786,\"/\",H786)","v":"80/Res/201507"},"Res/201507","1431/201507","1431/0378/201507","80/201507","80/0378/201507","0378/201507",3924631.14,172103.39,3081295.67,79556.670000000013,1056740.4099999999,72937.75,9701.0799999999872,178.18,149560.03,28392.33]
[null,"01431","0351","201603",null,"01431","0378","201508",null,"Res","1431/Res/201603",{"$f":"IF(J787=0,0,+CONCATENATE(VLOOKUP(B787,Cadastro!$Q$3:$R$162,2,FALSE),\"/\",J787,\"/\",D787))","v":"80/Res/201603"},"Res/201603","1431/201603","1431/0351/201603","80/201603","80/0351/201603","0351/201603","Res","1431/Res/201508",{"$f":"+CONCATENATE(VLOOKUP(F787,Cadastro!$Q$3:$R$162,2,FALSE),\"/\",S787,\"/\",H787)","v":"80/Res/201508"},"Res/201508","1431/201508","1431/0378/201508","80/201508","80/0378/201508","0378/201508",2448938.88,236766.6,1780745.41,140025.43,1713845.3099999998,78902.060000000012,212813.55000000002,-81.510000000000005,243904.83,24452.639999999999]
[null,"01431","0351","201604",null,"01431","0378","201509",null,"Res","1431/Res/201604",{"$f":"IF(J788=0,0,+CONCATENATE(VLOOKUP(B788,Cadastro!$Q$3:$R$162,2,FALSE),\"/\",J788,\"/\",D788))","v":"80/Res/201604"},"Res/201604","1431/201604","1431/0351/201604","80/201604","80/0351/201604","0351/201604","Res","1431/Res/201509",{"$f":"+CONCATENATE(VLOOKUP(F788,Cadastro!$Q$3:$R$162,2,FALSE),\"/\",S788,\"/\",H788)","v":"80/Res/201509"},"Res/201509","1431/201509","1431/0378/201509","80/201509","80/0378/201509","0378/201509",2786590.45,328065.03999999998,1924024.2000000002,229695.13999999998,1632493.4300000002,82085.260000000009,1535867.31,7.73,191705.21,30159.68]
[null,"01431","0351","201605",null,"01431","0378","201510",null,"Res","1431/Res/201605",{"$f":"IF(J789=0,0,+CONCATENATE(VLOOKUP(B789,Cadastro!$Q$3:$R$162,2,FALSE),\"/\",J789,\"/\",D789))","v":"80/Res/201605"},"Res/201605","1431/201605","1431/0351/201605","80/201605","80/0351/201605","0351/201605","Res","1431/Res/201510",{"$f":"+CONCATENATE(VLOOKUP(F789,Cadastro!$Q$3:$R$162,2,FALSE),\"/\",S789,\"/\",H789)","v":"80/Res/201510"},"Res/201510","1431/201510","1431/0378/201510","80/201510","80/0378/201510","0378/201510",1329455.3400000001,82864.86,706586.92,-167269.28999999998,1500443.7800000003,-67680.199999999983,513402.14,-96.820000000000007,190211.13,29780.41]
[null,"01431","0351","201606",null,"01431","0378","201511",null,"Res","1431/Res/201606",{"$f":"IF(J790=0,0,+CONCATENATE(VLOOKUP(B790,Cadastro!$Q$3:$R$162,2,FALSE),\"/\",J790,\"/\",D790))","v":"80/Res/201606"},"Res/201606","1431/201606","1431/0351/201606","80/201606","80/0351/201606","0351/201606","Res","1431/Res/201511",{"$f":"+CONCATENATE(VLOOKUP(F790,Cadastro!$Q$3:$R$162,2,FALSE),\"/\",S790,\"/\",H790)","v":"80/Res/201511"},"Res/201511","1431/201511","1431/0378/201511","80/201511","80/0378/201511","0378/201511",1417240.84,710362.52,927100.19000000006,588302.64,1543855.5099999998,97674.329999999987,640955.53,21430.12,158130.06,37761.03]
[null,"01431","0351","201607",null,"01431","0378","201512",null,"Res","1431/Res/201607",{"$f":"IF(J791=0,0,+CONCATENATE(VLOOKUP(B791,Cadastro!$Q$3:$R$162,2,FALSE),\"/\",J791,\"/\",D791))","v":"80/Res/201607"},"Res/201607","1431/201607","1431/0351/201607","80/201607","80/0351/201607","0351/201607","Res","1431/Res/201512",{"$f":"+CONCATENATE(VLOOKUP(F791,Cadastro!$Q$3:$R$162,2,FALSE),\"/\",S791,\"/\",H791)","v":"80/Res/201512"},"Res/201512","1431/201512","1431/0378/201512","80/201512","80/0378/201512","0378/201512",2820136.44,647891.91,1639753.28,465113.45000000007,1262370.8699999999,142004.73000000001,274869.78000000003,287194.74,173700.88,45441.95]
[null,"01431","0351","201608",null,"01431","0588","201501",null,"Res","1431/Res/201608",{"$f":"IF(J792=0,0,+CONCATENATE(VLOOKUP(B792,Cadastro!$Q$3:$R$162,2,FALSE),\"/\",J792,\"/\",D792))","v":"80/Res/201608"},"Res/201608","1431/201608","1431/0351/201608","80/201608","80/0351/201608","0351/201608","Dpvat","1431/Dpvat/201501",{"$f":"+CONCATENATE(VLOOKUP(F792,Cadastro!$Q$3:$R$162,2,FALSE),\"/\",S792,\"/\",H792)","v":"80/Dpvat/201501"},"Dpvat/201501","1431/201501","1431/0588/201501","80/201501","80/0588/201501","0588/201501",2509449.73,5473569.9699999997,1828668.28,5473569.9699999997,1707153.59,5430013.3200000003,875453.79999999981,4487301.1399999997,174292.73,65721.25]
[null,"01431","0351","201609",null,"01431","0588","201502",null,"Res","1431/Res/201609",{"$f":"IF(J793=0,0,+CONCATENATE(VLOOKUP(B793,Cadastro!$Q$3:$R$162,2,FALSE),\"/\",J793,\"/\",D793))","v":"80/Res/201609"},"Res/201609","1431/201609","1431/0351/201609","80/201609","80/0351/201609","0351/201609","Dpvat","1431/Dpvat/201502",{"$f":"+CONCATENATE(VLOOKUP(F793,Cadastro!$Q$3:$R$162,2,FALSE),\"/\",S793,\"/\",H793)","v":"80/Dpvat/201502"},"Dpvat/201502","1431/201502","1431/0588/201502","80/201502","80/0588/201502","0588/201502",3595138.13,3422565.3,2582301.83,3422565.3,1588520.74,3373534.15,-822298.7899999998,2787563.1,178209.29,48365.97]
[null,"01431","0351","201610",null,"01431","0588","201503",null,"Res","1431/Res/201610",{"$f":"IF(J794=0,0,+CONCATENATE(VLOOKUP(B794,Cadastro!$Q$3:$R$162,2,FALSE),\"/\",J794,\"/\",D794))","v":"80/Res/201610"},"Res/201610","1431/201610","1431/0351/201610","80/201610","80/0351/201610","0351/201610","Dpvat","1431/Dpvat/201503",{"$f":"+CONCATENATE(VLOOKUP(F794,Cadastro!$Q$3:$R$162,2,FALSE),\"/\",S794,\"/\",H794)","v":"80/Dpvat/201503"},"Dpvat/201503","1431/201503","1431/0588/201503","80/201503","80/0588/201503","0588/201503",8777754.9900000002,3636827.72,6596299.6300000008,3636827.72,1705964.6,3516849.96,-465430.58999999985,3145811.52,221403.81,53162]
[null,"01431","0351","201611",null,"01431","0588","201504",null,"Res","1431/Res/201611",{"$f":"IF(J795=0,0,+CONCATENATE(VLOOKUP(B795,Cadastro!$Q$3:$R$162,2,FALSE),\"/\",J795,\"/\",D795))","v":"80/Res/201611"},"Res/201611","1431/201611","1431/0351/201611","80/201611","80/0351/201611","0351/201611","Dpvat","1431/Dpvat/201504",{"$f":"+CONCATENATE(VLOOKUP(F795,Cadastro!$Q$3:$R$162,2,FALSE),\"/\",S795,\"/\",H795)","v":"80/Dpvat/201504"},"Dpvat/201504","1431/201504","1431/0588/201504","80/201504","80/0588/201504","0588/201504",4115261.04,3438832.81,2934126.4299999997,3438832.81,1388725.34,3378039.92,560123.34000000008,2975476.38,191795.45,49974.400000000001]
[null,"01431","0351","201612",null,"01431","0588","201505",null,"Res","1431/Res/201612",{"$f":"IF(J796=0,0,+CONCATENATE(VLOOKUP(B796,Cadastro!$Q$3:$R$162,2,FALSE),\"/\",J796,\"/\",D796))","v":"80/Res/201612"},"Res/201612","1431/201612","1431/0351/201612","80/201612","80/0351/201612","0351/201612","Dpvat","1431/Dpvat/201505",{"$f":"+CONCATENATE(VLOOKUP(F796,Cadastro!$Q$3:$R$162,2,FALSE),\"/\",S796,\"/\",H796)","v":"80/Dpvat/201505"},"Dpvat/201505","1431/201505","1431/0588/201505","80/201505","80/0588/201505","0588/201505",2951004.05,3219565.5,1979067.23,3219565.5,2211109.66,3173364.09,319862.46999999997,2785772.4,261252.4,46873.55]
[null,"01431","0378","201601",null,"01431","0588","201506",null,"Res","1431/Res/201601",{"$f":"IF(J797=0,0,+CONCATENATE(VLOOKUP(B797,Cadastro!$Q$3:$R$162,2,FALSE),\"/\",J797,\"/\",D797))","v":"80/Res/201601"},"Res/201601","1431/201601","1431/0378/201601","80/201601","80/0378/201601","0378/201601","Dpvat","1431/Dpvat/201506",{"$f":"+CONCATENATE(VLOOKUP(F797,Cadastro!$Q$3:$R$162,2,FALSE),\"/\",S797,\"/\",H797)","v":"80/Dpvat/201506"},"Dpvat/201506","1431/201506","1431/0588/201506","80/201506","80/0588/201506","0588/201506",221965.74,2853032.13,73430.41,2853032.13,113834.45000000004,2856756.08,-94208.69,2468359.9,43292.01,41633.269999999997]
[null,"01431","0378","201602",null,"01431","0588","201507",null,"Res","1431/Res/201602",{"$f":"IF(J798=0,0,+CONCATENATE(VLOOKUP(B798,Cadastro!$Q$3:$R$162,2,FALSE),\"/\",J798,\"/\",D798))","v":"80/Res/201602"},"Res/201602","1431/201602","1431/0378/201602","80/201602","80/0378/201602","0378/201602","Dpvat","1431/Dpvat/201507",{"$f":"+CONCATENATE(VLOOKUP(F798,Cadastro!$Q$3:$R$162,2,FALSE),\"/\",S798,\"/\",H798)","v":"80/Dpvat/201507"},"Dpvat/201507","1431/201507","1431/0588/201507","80/201507","80/0588/201507","0588/201507",532687.37,2726199.82,383567.22,2726199.82,107718.36000000002,2729853.39,43110.02,2359066.42,47176.4,39570.47]
[null,"01431","0378","201603",null,"01431","0588","201508",null,"Res","1431/Res/201603",{"$f":"IF(J799=0,0,+CONCATENATE(VLOOKUP(B799,Cadastro!$Q$3:$R$162,2,FALSE),\"/\",J799,\"/\",D799))","v":"80/Res/201603"},"Res/201603","1431/201603","1431/0378/201603","80/201603","80/0378/201603","0378/201603","Dpvat","1431/Dpvat/201508",{"$f":"+CONCATENATE(VLOOKUP(F799,Cadastro!$Q$3:$R$162,2,FALSE),\"/\",S799,\"/\",H799)","v":"80/Dpvat/201508"},"Dpvat/201508","1431/201508","1431/0588/201508","80/201508","80/0588/201508","0588/201508",405407.3,2620512.16,249264.36,2620512.16,143434.38,2653907.91,51458.759999999995,2268214.4700000002,66435.86,36861.360000000001]
[null,"01431","0378","201604",null,"01431","0588","201509",null,"Res","1431/Res/201604",{"$f":"IF(J800=0,0,+CONCATENATE(VLOOKUP(B800,Cadastro!$Q$3:$R$162,2,FALSE),\"/\",J800,\"/\",D800))","v":"80/Res/201604"},"Res/201604","1431/201604","1431/0378/201604","80/201604","80/0378/201604","0378/201604","Dpvat","1431/Dpvat/201509",{"$f":"+CONCATENATE(VLOOKUP(F800,Cadastro!$Q$3:$R$162,2,FALSE),\"/\",S800,\"/\",H800)","v":"80/Dpvat/201509"},"Dpvat/201509","1431/201509","1431/0588/201509","80/201509","80/0588/201509","0588/201509",535247.31999999995,2411066.16,397218.86,2411066.16,141966.92000000001,2411431.89,261178.09999999998,2087302.73,55444.639999999999,34263.86]
[null,"01431","0378","201605",null,"01431","0588","201510",null,"Res","1431/Res/201605",{"$f":"IF(J801=0,0,+CONCATENATE(VLOOKUP(B801,Cadastro!$Q$3:$R$162,2,FALSE),\"/\",J801,\"/\",D801))","v":"80/Res/201605"},"Res/201605","1431/201605","1431/0378/201605","80/201605","80/0378/201605","0378/201605","Dpvat","1431/Dpvat/201510",{"$f":"+CONCATENATE(VLOOKUP(F801,Cadastro!$Q$3:$R$162,2,FALSE),\"/\",S801,\"/\",H801)","v":"80/Dpvat/201510"},"Dpvat/201510","1431/201510","1431/0588/201510","80/201510","80/0588/201510","0588/201510",765147.11,1958269.43,517796.17,1958269.43,267420.25,1985696.3,17502.829999999994,1695367.73,104235.85,27314.31]
[null,"01431","0378","201606",null,"01431","0588","201511",null,"Res","1431/Res/201606",{"$f":"IF(J802=0,0,+CONCATENATE(VLOOKUP(B802,Cadastro!$Q$3:$R$162,2,FALSE),\"/\",J802,\"/\",D802))","v":"80/Res/201606"},"Res/201606","1431/201606","1431/0378/201606","80/201606","80/0378/201606","0378/201606","Dpvat","1431/Dpvat/201511",{"$f":"+CONCATENATE(VLOOKUP(F802,Cadastro!$Q$3:$R$162,2,FALSE),\"/\",S802,\"/\",H802)","v":"80/Dpvat/201511"},"Dpvat/201511","1431/201511","1431/0588/201511","80/201511","80/0588/201511","0588/201511",921240.31,1654036,714658.06,1654036,256549.75,1714730.4,354774.45999999996,1432371.29,85470.47,23207.9]
[null,"01431","0378","201607",null,"01431","0588","201512",null,"Res","1431/Res/201607",{"$f":"IF(J803=0,0,+CONCATENATE(VLOOKUP(B803,Cadastro!$Q$3:$R$162,2,FALSE),\"/\",J803,\"/\",D803))","v":"80/Res/201607"},"Res/201607","1431/201607","1431/0378/201607","80/201607","80/0378/201607","0378/201607","Dpvat","1431/Dpvat/201512",{"$f":"+CONCATENATE(VLOOKUP(F803,Cadastro!$Q$3:$R$162,2,FALSE),\"/\",S803,\"/\",H803)","v":"80/Dpvat/201512"},"Dpvat/201512","1431/201512","1431/0588/201512","80/201512","80/0588/201512","0588/201512",387195.04,1719512.12,163601.10999999999,1719512.12,237875.43,1883344.33,274261,1490730.01,91545.66,22873.41]
[null,"01431","0378","201608",null,"01431","0621","201501",null,"Res","1431/Res/201608",{"$f":"IF(J804=0,0,+CONCATENATE(VLOOKUP(B804,Cadastro!$Q$3:$R$162,2,FALSE),\"/\",J804,\"/\",D804))","v":"80/Res/201608"},"Res/201608","1431/201608","1431/0378/201608","80/201608","80/0378/201608","0378/201608","Transp","1431/Transp/201501",{"$f":"+CONCATENATE(VLOOKUP(F804,Cadastro!$Q$3:$R$162,2,FALSE),\"/\",S804,\"/\",H804)","v":"80/Transp/201501"},"Transp/201501","1431/201501","1431/0621/201501","80/201501","80/0621/201501","0621/201501",1102472.6399999999,224443.62,813579.35999999987,-497278.98,284066.20999999996,1173111.2000000002,-112599.71999999997,1146956.0899999999,91131.89,266923.23]
[null,"01431","0378","201609",null,"01431","0621","201502",null,"Res","1431/Res/201609",{"$f":"IF(J805=0,0,+CONCATENATE(VLOOKUP(B805,Cadastro!$Q$3:$R$162,2,FALSE),\"/\",J805,\"/\",D805))","v":"80/Res/201609"},"Res/201609","1431/201609","1431/0378/201609","80/201609","80/0378/201609","0378/201609","Transp","1431/Transp/201502",{"$f":"+CONCATENATE(VLOOKUP(F805,Cadastro!$Q$3:$R$162,2,FALSE),\"/\",S805,\"/\",H805)","v":"80/Transp/201502"},"Transp/201502","1431/201502","1431/0621/201502","80/201502","80/0621/201502","0621/201502",463036.2,764784.81,261145.68000000002,573281.44000000006,121065.30000000002,1257541.9700000002,191829.22999999998,1829392.9000000001,-4367.6000000000004,228419.07]
[null,"01431","0378","201610",null,"01431","0621","201503",null,"Res","1431/Res/201610",{"$f":"IF(J806=0,0,+CONCATENATE(VLOOKUP(B806,Cadastro!$Q$3:$R$162,2,FALSE),\"/\",J806,\"/\",D806))","v":"80/Res/201610"},"Res/201610","1431/201610","1431/0378/201610","80/201610","80/0378/201610","0378/201610","Transp","1431/Transp/201503",{"$f":"+CONCATENATE(VLOOKUP(F806,Cadastro!$Q$3:$R$162,2,FALSE),\"/\",S806,\"/\",H806)","v":"80/Transp/201503"},"Transp/201503","1431/201503","1431/0621/201503","80/201503","80/0621/201503","0621/201503",382000.54,-329373.88,115098.31,-535540.54,289013.67000000004,1297104.6400000001,-131201.18,1458633.84,93074.61,248662.34]
[null,"01431","0378","201611",null,"01431","0621","201504",null,"Res","1431/Res/201611",{"$f":"IF(J807=0,0,+CONCATENATE(VLOOKUP(B807,Cadastro!$Q$3:$R$162,2,FALSE),\"/\",J807,\"/\",D807))","v":"80/Res/201611"},"Res/201611","1431/201611","1431/0378/201611","80/201611","80/0378/201611","0378/201611","Transp","1431/Transp/201504",{"$f":"+CONCATENATE(VLOOKUP(F807,Cadastro!$Q$3:$R$162,2,FALSE),\"/\",S807,\"/\",H807)","v":"80/Transp/201504"},"Transp/201504","1431/201504","1431/0621/201504","80/201504","80/0621/201504","0621/201504",570467,970720.89,318357.64,679035.05,252576.84000000003,1178255.0599999998,-506905.64,1239556.1199999999,85781.45,219523.52]
[null,"01431","0378","201612",null,"01431","0621","201505",null,"Res","1431/Res/201612",{"$f":"IF(J808=0,0,+CONCATENATE(VLOOKUP(B808,Cadastro!$Q$3:$R$162,2,FALSE),\"/\",J808,\"/\",D808))","v":"80/Res/201612"},"Res/201612","1431/201612","1431/0378/201612","80/201612","80/0378/201612","0378/201612","Transp","1431/Transp/201505",{"$f":"+CONCATENATE(VLOOKUP(F808,Cadastro!$Q$3:$R$162,2,FALSE),\"/\",S808,\"/\",H808)","v":"80/Transp/201505"},"Transp/201505","1431/201505","1431/0621/201505","80/201505","80/0621/201505","0621/201505",880593.57,1001849.36,629809.42999999993,627048.61,249564.24,1280210.05,144218.5,4071604.85,80151.17,270731.59000000003]
[null,"01431","0588","201601",null,"01431","0621","201506",null,"Dpvat","1431/Dpvat/201601",{"$f":"IF(J809=0,0,+CONCATENATE(VLOOKUP(B809,Cadastro!$Q$3:$R$162,2,FALSE),\"/\",J809,\"/\",D809))","v":"80/Dpvat/201601"},"Dpvat/201601","1431/201601","1431/0588/201601","80/201601","80/0588/201601","0588/201601","Transp","1431/Transp/201506",{"$f":"+CONCATENATE(VLOOKUP(F809,Cadastro!$Q$3:$R$162,2,FALSE),\"/\",S809,\"/\",H809)","v":"80/Transp/201506"},"Transp/201506","1431/201506","1431/0621/201506","80/201506","80/0621/201506","0621/201506",6285100.4400000004,15228515.66,6285100.4400000004,15415059.92,6110556,5970616.5999999996,5348560.16,1873580.26,87990.39,645295.42000000004]
[null,"01431","0588","201602",null,"01431","0621","201507",null,"Dpvat","1431/Dpvat/201602",{"$f":"IF(J810=0,0,+CONCATENATE(VLOOKUP(B810,Cadastro!$Q$3:$R$162,2,FALSE),\"/\",J810,\"/\",D810))","v":"80/Dpvat/201602"},"Dpvat/201602","1431/201602","1431/0588/201602","80/201602","80/0588/201602","0588/201602","Transp","1431/Transp/201507",{"$f":"+CONCATENATE(VLOOKUP(F810,Cadastro!$Q$3:$R$162,2,FALSE),\"/\",S810,\"/\",H810)","v":"80/Transp/201507"},"Transp/201507","1431/201507","1431/0621/201507","80/201507","80/0621/201507","0621/201507",3762354.86,2148391.16,3762354.86,1962562.6600000001,3719285.21,2879204.12,3202289.05,2187554.67,52681.58,641025.44999999995]
[null,"01431","0588","201603",null,"01431","0621","201508",null,"Dpvat","1431/Dpvat/201603",{"$f":"IF(J811=0,0,+CONCATENATE(VLOOKUP(B811,Cadastro!$Q$3:$R$162,2,FALSE),\"/\",J811,\"/\",D811))","v":"80/Dpvat/201603"},"Dpvat/201603","1431/201603","1431/0588/201603","80/201603","80/0588/201603","0588/201603","Transp","1431/Transp/201508",{"$f":"+CONCATENATE(VLOOKUP(F811,Cadastro!$Q$3:$R$162,2,FALSE),\"/\",S811,\"/\",H811)","v":"80/Transp/201508"},"Transp/201508","1431/201508","1431/0621/201508","80/201508","80/0621/201508","0621/201508",3790027.17,4528801.2,3790027.17,4085817.21,3713505.38,3025019.34,3226111.37,2958643.4699999997,53073.53,481490.78]
[null,"01431","0588","201604",null,"01431","0621","201509",null,"Dpvat","1431/Dpvat/201604",{"$f":"IF(J812=0,0,+CONCATENATE(VLOOKUP(B812,Cadastro!$Q$3:$R$162,2,FALSE),\"/\",J812,\"/\",D812))","v":"80/Dpvat/201604"},"Dpvat/201604","1431/201604","1431/0588/201604","80/201604","80/0588/201604","0588/201604","Transp","1431/Transp/201509",{"$f":"+CONCATENATE(VLOOKUP(F812,Cadastro!$Q$3:$R$162,2,FALSE),\"/\",S812,\"/\",H812)","v":"80/Transp/201509"},"Transp/201509","1431/201509","1431/0621/201509","80/201509","80/0621/201509","0621/201509",3960268.09,2272965.0299999998,3960268.09,2045138.4099999997,3894015.99,2265124.96,3371087.87,2791559.2199999997,55458.55,469102.01]
[null,"01431","0588","201605",null,"01431","0621","201510",null,"Dpvat","1431/Dpvat/201605",{"$f":"IF(J813=0,0,+CONCATENATE(VLOOKUP(B813,Cadastro!$Q$3:$R$162,2,FALSE),\"/\",J813,\"/\",D813))","v":"80/Dpvat/201605"},"Dpvat/201605","1431/201605","1431/0588/201605","80/201605","80/0588/201605","0588/201605","Transp","1431/Transp/201510",{"$f":"+CONCATENATE(VLOOKUP(F813,Cadastro!$Q$3:$R$162,2,FALSE),\"/\",S813,\"/\",H813)","v":"80/Transp/201510"},"Transp/201510","1431/201510","1431/0621/201510","80/201510","80/0621/201510","0621/201510",3286694.53,1069019.22,3286694.53,643906.55000000005,3275180.82,1491612.72,2798047.45,2887071.5999999996,45821.33,318991.28999999998]
[null,"01431","0588","201606",null,"01431","0621","201511",null,"Dpvat","1431/Dpvat/201606",{"$f":"IF(J814=0,0,+CONCATENATE(VLOOKUP(B814,Cadastro!$Q$3:$R$162,2,FALSE),\"/\",J814,\"/\",D814))","v":"80/Dpvat/201606"},"Dpvat/201606","1431/201606","1431/0588/201606","80/201606","80/0588/201606","0588/201606","Transp","1431/Transp/201511",{"$f":"+CONCATENATE(VLOOKUP(F814,Cadastro!$Q$3:$R$162,2,FALSE),\"/\",S814,\"/\",H814)","v":"80/Transp/201511"},"Transp/201511","1431/201511","1431/0621/201511","80/201511","80/0621/201511","0621/201511",3325909.36,519539.7,3325909.36,316188.92000000004,3362375.15,692200.73,2831220.7,3252292.69,46577.08,264252.53000000003]
[null,"01431","0588","201607",null,"01431","0621","201512",null,"Dpvat","1431/Dpvat/201607",{"$f":"IF(J815=0,0,+CONCATENATE(VLOOKUP(B815,Cadastro!$Q$3:$R$162,2,FALSE),\"/\",J815,\"/\",D815))","v":"80/Dpvat/201607"},"Dpvat/201607","1431/201607","1431/0588/201607","80/201607","80/0588/201607","0588/201607","Transp","1431/Transp/201512",{"$f":"+CONCATENATE(VLOOKUP(F815,Cadastro!$Q$3:$R$162,2,FALSE),\"/\",S815,\"/\",H815)","v":"80/Transp/201512"},"Transp/201512","1431/201512","1431/0621/201512","80/201512","80/0621/201512","0621/201512",2966144.67,1777229.88,2966144.67,1185686.9499999997,2986077.62,1841094.9299999997,2524511.2999999998,4405349.17,41531.33,504254.99]
[null,"01431","0588","201608",null,"01431","0622","201501",null,"Dpvat","1431/Dpvat/201608",{"$f":"IF(J816=0,0,+CONCATENATE(VLOOKUP(B816,Cadastro!$Q$3:$R$162,2,FALSE),\"/\",J816,\"/\",D816))","v":"80/Dpvat/201608"},"Dpvat/201608","1431/201608","1431/0588/201608","80/201608","80/0588/201608","0588/201608","Transp","1431/Transp/201501",{"$f":"+CONCATENATE(VLOOKUP(F816,Cadastro!$Q$3:$R$162,2,FALSE),\"/\",S816,\"/\",H816)","v":"80/Transp/201501"},"Transp/201501","1431/201501","1431/0622/201501","80/201501","80/0622/201501","0622/201501",2960373.57,592692.09,2960373.57,127821.66999999998,2928938.34,200789.14000000007,2519738.5699999998,442902.43000000005,41452.82,82349.240000000005]
[null,"01431","0588","201609",null,"01431","0622","201502",null,"Dpvat","1431/Dpvat/201609",{"$f":"IF(J817=0,0,+CONCATENATE(VLOOKUP(B817,Cadastro!$Q$3:$R$162,2,FALSE),\"/\",J817,\"/\",D817))","v":"80/Dpvat/201609"},"Dpvat/201609","1431/201609","1431/0588/201609","80/201609","80/0588/201609","0588/201609","Transp","1431/Transp/201502",{"$f":"+CONCATENATE(VLOOKUP(F817,Cadastro!$Q$3:$R$162,2,FALSE),\"/\",S817,\"/\",H817)","v":"80/Transp/201502"},"Transp/201502","1431/201502","1431/0622/201502","80/201502","80/0622/201502","0622/201502",2477443.4700000002,728807.33,2477443.4700000002,521110.67999999993,2472052.91,387191.78999999992,2108841.5099999998,80398.650000000009,34693.050000000003,97266.68]
[null,"01431","0588","201610",null,"01431","0622","201503",null,"Dpvat","1431/Dpvat/201610",{"$f":"IF(J818=0,0,+CONCATENATE(VLOOKUP(B818,Cadastro!$Q$3:$R$162,2,FALSE),\"/\",J818,\"/\",D818))","v":"80/Dpvat/201610"},"Dpvat/201610","1431/201610","1431/0588/201610","80/201610","80/0588/201610","0588/201610","Transp","1431/Transp/201503",{"$f":"+CONCATENATE(VLOOKUP(F818,Cadastro!$Q$3:$R$162,2,FALSE),\"/\",S818,\"/\",H818)","v":"80/Transp/201503"},"Transp/201503","1431/201503","1431/0622/201503","80/201503","80/0622/201503","0622/201503",2081743.4,592542.68999999994,2081743.4,-227109.46000000008,2117920.4500000002,567365.78999999992,1771872.32,-301480.62,28939.48,142549.81]
[null,"01431","0588","201611",null,"01431","0622","201504",null,"Dpvat","1431/Dpvat/201611",{"$f":"IF(J819=0,0,+CONCATENATE(VLOOKUP(B819,Cadastro!$Q$3:$R$162,2,FALSE),\"/\",J819,\"/\",D819))","v":"80/Dpvat/201611"},"Dpvat/201611","1431/201611","1431/0588/201611","80/201611","80/0588/201611","0588/201611","Transp","1431/Transp/201504",{"$f":"+CONCATENATE(VLOOKUP(F819,Cadastro!$Q$3:$R$162,2,FALSE),\"/\",S819,\"/\",H819)","v":"80/Transp/201504"},"Transp/201504","1431/201504","1431/0622/201504","80/201504","80/0622/201504","0622/201504",2001805.81,961563.09,2001805.81,708361.94,2032456.68,437353.27,1703837.79,807191.96,28030.240000000002,115407.75]
[null,"01431","0588","201612",null,"01431","0622","201505",null,"Dpvat","1431/Dpvat/201612",{"$f":"IF(J820=0,0,+CONCATENATE(VLOOKUP(B820,Cadastro!$Q$3:$R$162,2,FALSE),\"/\",J820,\"/\",D820))","v":"80/Dpvat/201612"},"Dpvat/201612","1431/201612","1431/0588/201612","80/201612","80/0588/201612","0588/201612","Transp","1431/Transp/201505",{"$f":"+CONCATENATE(VLOOKUP(F820,Cadastro!$Q$3:$R$162,2,FALSE),\"/\",S820,\"/\",H820)","v":"80/Transp/201505"},"Transp/201505","1431/201505","1431/0622/201505","80/201505","80/0622/201505","0622/201505",1899311.85,604637.61,1899311.85,283018.82999999996,1944818.62,366105.36,1616652.26,961543.7,26595.93,116712.27]
[null,"01431","0621","201601",null,"01431","0622","201506",null,"Transp","1431/Transp/201601",{"$f":"IF(J821=0,0,+CONCATENATE(VLOOKUP(B821,Cadastro!$Q$3:$R$162,2,FALSE),\"/\",J821,\"/\",D821))","v":"80/Transp/201601"},"Transp/201601","1431/201601","1431/0621/201601","80/201601","80/0621/201601","0621/201601","Transp","1431/Transp/201506",{"$f":"+CONCATENATE(VLOOKUP(F821,Cadastro!$Q$3:$R$162,2,FALSE),\"/\",S821,\"/\",H821)","v":"80/Transp/201506"},"Transp/201506","1431/201506","1431/0622/201506","80/201506","80/0622/201506","0622/201506",613016.29,1020371.65,519378.91000000003,838673.02,1874318.2400000002,1238826.3500000001,1767809.84,-181307.69000000003,309108.37,230469.18]
[null,"01431","0621","201602",null,"01431","0622","201507",null,"Transp","1431/Transp/201602",{"$f":"IF(J822=0,0,+CONCATENATE(VLOOKUP(B822,Cadastro!$Q$3:$R$162,2,FALSE),\"/\",J822,\"/\",D822))","v":"80/Transp/201602"},"Transp/201602","1431/201602","1431/0621/201602","80/201602","80/0621/201602","0621/201602","Transp","1431/Transp/201507",{"$f":"+CONCATENATE(VLOOKUP(F822,Cadastro!$Q$3:$R$162,2,FALSE),\"/\",S822,\"/\",H822)","v":"80/Transp/201507"},"Transp/201507","1431/201507","1431/0622/201507","80/201507","80/0622/201507","0622/201507",1303943.47,1407833.3,1098446.49,1270382.1600000001,1724488.1,1429746.0899999999,1342864.32,253370.63999999998,345548.3,368012.05]
[null,"01431","0621","201603",null,"01431","0622","201508",null,"Transp","1431/Transp/201603",{"$f":"IF(J823=0,0,+CONCATENATE(VLOOKUP(B823,Cadastro!$Q$3:$R$162,2,FALSE),\"/\",J823,\"/\",D823))","v":"80/Transp/201603"},"Transp/201603","1431/201603","1431/0621/201603","80/201603","80/0621/201603","0621/201603","Transp","1431/Transp/201508",{"$f":"+CONCATENATE(VLOOKUP(F823,Cadastro!$Q$3:$R$162,2,FALSE),\"/\",S823,\"/\",H823)","v":"80/Transp/201508"},"Transp/201508","1431/201508","1431/0622/201508","80/201508","80/0622/201508","0622/201508",551617.31000000006,1128744.1399999999,346015.67000000004,867678.71,2007798.29,518480.88999999996,2940188.6199999996,64709.77,476440.88,166311.18]
[null,"01431","0621","201604",null,"01431","0622","201509",null,"Transp","1431/Transp/201604",{"$f":"IF(J824=0,0,+CONCATENATE(VLOOKUP(B824,Cadastro!$Q$3:$R$162,2,FALSE),\"/\",J824,\"/\",D824))","v":"80/Transp/201604"},"Transp/201604","1431/201604","1431/0621/201604","80/201604","80/0621/201604","0621/201604","Transp","1431/Transp/201509",{"$f":"+CONCATENATE(VLOOKUP(F824,Cadastro!$Q$3:$R$162,2,FALSE),\"/\",S824,\"/\",H824)","v":"80/Transp/201509"},"Transp/201509","1431/201509","1431/0622/201509","80/201509","80/0622/201509","0622/201509",2019912.3,4707105.87,1383546.54,4180905.87,1086604.78,545153.87999999989,2923094.29,1612913.75,210812.13,122654.58]
[null,"01431","0621","201605",null,"01431","0622","201510",null,"Transp","1431/Transp/201605",{"$f":"IF(J825=0,0,+CONCATENATE(VLOOKUP(B825,Cadastro!$Q$3:$R$162,2,FALSE),\"/\",J825,\"/\",D825))","v":"80/Transp/201605"},"Transp/201605","1431/201605","1431/0621/201605","80/201605","80/0621/201605","0621/201605","Transp","1431/Transp/201510",{"$f":"+CONCATENATE(VLOOKUP(F825,Cadastro!$Q$3:$R$162,2,FALSE),\"/\",S825,\"/\",H825)","v":"80/Transp/201510"},"Transp/201510","1431/201510","1431/0622/201510","80/201510","80/0622/201510","0622/201510",2382021.2999999998,813162.6,1769303.67,398674.23,2205639.48,561628.06000000006,5246877.24,923994.12,471316.39,162551.24]
[null,"01431","0621","201606",null,"01431","0622","201511",null,"Transp","1431/Transp/201606",{"$f":"IF(J826=0,0,+CONCATENATE(VLOOKUP(B826,Cadastro!$Q$3:$R$162,2,FALSE),\"/\",J826,\"/\",D826))","v":"80/Transp/201606"},"Transp/201606","1431/201606","1431/0621/201606","80/201606","80/0621/201606","0621/201606","Transp","1431/Transp/201511",{"$f":"+CONCATENATE(VLOOKUP(F826,Cadastro!$Q$3:$R$162,2,FALSE),\"/\",S826,\"/\",H826)","v":"80/Transp/201511"},"Transp/201511","1431/201511","1431/0622/201511","80/201511","80/0622/201511","0622/201511",17135547.289999999,851497.99,16690341.279999999,552632.39,2821869.04,826489.82,2491712.5799999996,218958.18999999994,617039.43999999994,193606.63]
[null,"01431","0621","201607",null,"01431","0622","201512",null,"Transp","1431/Transp/201607",{"$f":"IF(J827=0,0,+CONCATENATE(VLOOKUP(B827,Cadastro!$Q$3:$R$162,2,FALSE),\"/\",J827,\"/\",D827))","v":"80/Transp/201607"},"Transp/201607","1431/201607","1431/0621/201607","80/201607","80/0621/201607","0621/201607","Transp","1431/Transp/201512",{"$f":"+CONCATENATE(VLOOKUP(F827,Cadastro!$Q$3:$R$162,2,FALSE),\"/\",S827,\"/\",H827)","v":"80/Transp/201512"},"Transp/201512","1431/201512","1431/0622/201512","80/201512","80/0622/201512","0622/201512",3275421.96,805405.25,2893806,261640.45999999996,2978901.55,-194863.98000000004,1289538.6300000001,-1072024.42,834716.07,39101.870000000003]
[null,"01431","0621","201608",null,"01431","0638","201501",null,"Transp","1431/Transp/201608",{"$f":"IF(J828=0,0,+CONCATENATE(VLOOKUP(B828,Cadastro!$Q$3:$R$162,2,FALSE),\"/\",J828,\"/\",D828))","v":"80/Transp/201608"},"Transp/201608","1431/201608","1431/0621/201608","80/201608","80/0621/201608","0621/201608","Transp","1431/Transp/201501",{"$f":"+CONCATENATE(VLOOKUP(F828,Cadastro!$Q$3:$R$162,2,FALSE),\"/\",S828,\"/\",H828)","v":"80/Transp/201501"},"Transp/201501","1431/201501","1431/0638/201501","80/201501","80/0638/201501","0638/201501",6990941.0800000001,0,6149964.3100000005,-999.97,7344169.25,-999.97,4202738.9899999993,0,879028.32,0]
[null,"01431","0621","201609",null,"01431","0638","201502",null,"Transp","1431/Transp/201609",{"$f":"IF(J829=0,0,+CONCATENATE(VLOOKUP(B829,Cadastro!$Q$3:$R$162,2,FALSE),\"/\",J829,\"/\",D829))","v":"80/Transp/201609"},"Transp/201609","1431/201609","1431/0621/201609","80/201609","80/0621/201609","0621/201609","Transp","1431/Transp/201502",{"$f":"+CONCATENATE(VLOOKUP(F829,Cadastro!$Q$3:$R$162,2,FALSE),\"/\",S829,\"/\",H829)","v":"80/Transp/201502"},"Transp/201502","1431/201502","1431/0638/201502","80/201502","80/0638/201502","0638/201502",5081634.53,0,4937845.2300000004,-999.97,2672098.39,-999.97,2448851.69,0,474376.89,0]
[null,"01431","0621","201610",null,"01431","0638","201503",null,"Transp","1431/Transp/201610",{"$f":"IF(J830=0,0,+CONCATENATE(VLOOKUP(B830,Cadastro!$Q$3:$R$162,2,FALSE),\"/\",J830,\"/\",D830))","v":"80/Transp/201610"},"Transp/201610","1431/201610","1431/0621/201610","80/201610","80/0621/201610","0621/201610","Transp","1431/Transp/201503",{"$f":"+CONCATENATE(VLOOKUP(F830,Cadastro!$Q$3:$R$162,2,FALSE),\"/\",S830,\"/\",H830)","v":"80/Transp/201503"},"Transp/201503","1431/201503","1431/0638/201503","80/201503","80/0638/201503","0638/201503",982484.5,0,746791.79,-999.97,2449740.44,-999.97,2861204.26,0,451560.38,0]
[null,"01431","0621","201611",null,"01431","0638","201504",null,"Transp","1431/Transp/201611",{"$f":"IF(J831=0,0,+CONCATENATE(VLOOKUP(B831,Cadastro!$Q$3:$R$162,2,FALSE),\"/\",J831,\"/\",D831))","v":"80/Transp/201611"},"Transp/201611","1431/201611","1431/0621/201611","80/201611","80/0621/201611","0621/201611","Transp","1431/Transp/201504",{"$f":"+CONCATENATE(VLOOKUP(F831,Cadastro!$Q$3:$R$162,2,FALSE),\"/\",S831,\"/\",H831)","v":"80/Transp/201504"},"Transp/201504","1431/201504","1431/0638/201504","80/201504","80/0638/201504","0638/201504",5906790.6500000004,0,5036291.7600000007,-999.97,2192825.25,-999.97,1691157.94,0,580710.26,0]
[null,"01431","0621","201612",null,"01431","0638","201505",null,"Transp","1431/Transp/201612",{"$f":"IF(J832=0,0,+CONCATENATE(VLOOKUP(B832,Cadastro!$Q$3:$R$162,2,FALSE),\"/\",J832,\"/\",D832))","v":"80/Transp/201612"},"Transp/201612","1431/201612","1431/0621/201612","80/201612","80/0621/201612","0621/201612","Transp","1431/Transp/201505",{"$f":"+CONCATENATE(VLOOKUP(F832,Cadastro!$Q$3:$R$162,2,FALSE),\"/\",S832,\"/\",H832)","v":"80/Transp/201505"},"Transp/201505","1431/201505","1431/0638/201505","80/201505","80/0638/201505","0638/201505",4062285.07,0,3835739.9899999998,-1000.36,3583746.29,-1000.36,3454776.5399999996,0,856020.05,0]
[null,"01431","0622","201601",null,"01431","0638","201506",null,"Transp","1431/Transp/201601",{"$f":"IF(J833=0,0,+CONCATENATE(VLOOKUP(B833,Cadastro!$Q$3:$R$162,2,FALSE),\"/\",J833,\"/\",D833))","v":"80/Transp/201601"},"Transp/201601","1431/201601","1431/0622/201601","80/201601","80/0622/201601","0622/201601","Transp","1431/Transp/201506",{"$f":"+CONCATENATE(VLOOKUP(F833,Cadastro!$Q$3:$R$162,2,FALSE),\"/\",S833,\"/\",H833)","v":"80/Transp/201506"},"Transp/201506","1431/201506","1431/0638/201506","80/201506","80/0638/201506","0638/201506",1758969.15,0,1275292.6299999999,0,1036107.8799999999,0,113666.02000000002,0,208550.48,0]
[null,"01431","0622","201602",null,"01431","0638","201507",null,"Transp","1431/Transp/201602",{"$f":"IF(J834=0,0,+CONCATENATE(VLOOKUP(B834,Cadastro!$Q$3:$R$162,2,FALSE),\"/\",J834,\"/\",D834))","v":"80/Transp/201602"},"Transp/201602","1431/201602","1431/0622/201602","80/201602","80/0622/201602","0622/201602","Transp","1431/Transp/201507",{"$f":"+CONCATENATE(VLOOKUP(F834,Cadastro!$Q$3:$R$162,2,FALSE),\"/\",S834,\"/\",H834)","v":"80/Transp/201507"},"Transp/201507","1431/201507","1431/0638/201507","80/201507","80/0638/201507","0638/201507",506223.21,0,123461.68,0,753706.21,0,-27782.069999999832,0,185782.84,0]
[null,"01431","0622","201603",null,"01431","0638","201508",null,"Transp","1431/Transp/201603",{"$f":"IF(J835=0,0,+CONCATENATE(VLOOKUP(B835,Cadastro!$Q$3:$R$162,2,FALSE),\"/\",J835,\"/\",D835))","v":"80/Transp/201603"},"Transp/201603","1431/201603","1431/0622/201603","80/201603","80/0622/201603","0622/201603","Transp","1431/Transp/201508",{"$f":"+CONCATENATE(VLOOKUP(F835,Cadastro!$Q$3:$R$162,2,FALSE),\"/\",S835,\"/\",H835)","v":"80/Transp/201508"},"Transp/201508","1431/201508","1431/0638/201508","80/201508","80/0638/201508","0638/201508",2804439.36,0,2488735.6399999997,-2080.4699999999998,1472417.22,-2080.4699999999998,92162.469999999972,0,448733.43,0]
[null,"01431","0622","201604",null,"01431","0638","201509",null,"Transp","1431/Transp/201604",{"$f":"IF(J836=0,0,+CONCATENATE(VLOOKUP(B836,Cadastro!$Q$3:$R$162,2,FALSE),\"/\",J836,\"/\",D836))","v":"80/Transp/201604"},"Transp/201604","1431/201604","1431/0622/201604","80/201604","80/0622/201604","0622/201604","Transp","1431/Transp/201509",{"$f":"+CONCATENATE(VLOOKUP(F836,Cadastro!$Q$3:$R$162,2,FALSE),\"/\",S836,\"/\",H836)","v":"80/Transp/201509"},"Transp/201509","1431/201509","1431/0638/201509","80/201509","80/0638/201509","0638/201509",1115602.43,0,492427.72,0,679476.72,0,4038543.96,0,232913.97,0]
[null,"01431","0622","201605",null,"01431","0638","201510",null,{"$f":"IF(C837=0,0,+VLOOKUP(C837,$AQ$4:$AR$130,2,FALSE))","v":"Transp"},{"$f":"IF(J837=0,0,+CONCATENATE(VALUE(B837),\"/\",J837,\"/\",D837))","v":"1431/Transp/201605"},{"$f":"IF(J837=0,0,+CONCATENATE(VLOOKUP(B837,Cadastro!$Q$3:$R$162,2,FALSE),\"/\",J837,\"/\",D837))","v":"80/Transp/201605"},{"$f":"IF(J837=0,0,+CONCATENATE(J837,\"/\",D837))","v":"Transp/201605"},"1431/201605","1431/0622/201605","80/201605","80/0622/201605","0622/201605",{"$f":"+VLOOKUP(G837,$AQ$4:$AR$130,2,FALSE)","v":"Transp"},{"$f":"+CONCATENATE(VALUE(F837),\"/\",S837,\"/\",H837)","v":"1431/Transp/201510"},{"$f":"+CONCATENATE(VLOOKUP(F837,Cadastro!$Q$3:$R$162,2,FALSE),\"/\",S837,\"/\",H837)","v":"80/Transp/201510"},"Transp/201510","1431/201510","1431/0638/201510","80/201510","80/0638/201510","0638/201510",862153.15,0,382900.67000000004,0,1029308.8600000001,0,-3282701.2,0,313543.15999999997,0]
[null,"01431","0622","201606",null,"01431","0638","201511",null,"Transp","1431/Transp/201606",{"$f":"IF(J838=0,0,+CONCATENATE(VLOOKUP(B838,Cadastro!$Q$3:$R$162,2,FALSE),\"/\",J838,\"/\",D838))","v":"80/Transp/201606"},"Transp/201606","1431/201606","1431/0622/201606","80/201606","80/0622/201606","0622/201606","Transp","1431/Transp/201511",{"$f":"+CONCATENATE(VLOOKUP(F838,Cadastro!$Q$3:$R$162,2,FALSE),\"/\",S838,\"/\",H838)","v":"80/Transp/201511"},{"$f":"+CONCATENATE(S838,\"/\",H838)","v":"Transp/201511"},"1431/201511","1431/0638/201511","80/201511","80/0638/201511","0638/201511",1547437.83,0,980664.34000000008,0,1171071.26,0,2077845.4100000001,0,366170.94,0]
[null,"01431","0622","201607",null,"01431","0638","201512",null,"Transp","1431/Transp/201607",{"$f":"IF(J839=0,0,+CONCATENATE(VLOOKUP(B839,Cadastro!$Q$3:$R$162,2,FALSE),\"/\",J839,\"/\",D839))","v":"80/Transp/201607"},"Transp/201607","1431/201607","1431/0622/201607","80/201607","80/0622/201607","0622/201607","Transp","1431/Transp/201512",{"$f":"+CONCATENATE(VLOOKUP(F839,Cadastro!$Q$3:$R$162,2,FALSE),\"/\",S839,\"/\",H839)","v":"80/Transp/201512"},"Transp/201512","1431/201512","1431/0638/201512","80/201512","80/0638/201512","0638/201512",925383.71,0,309424.5,0,666220.5,0,2294518.04,0,263277.28999999998,0]
[null,"01431","0622","201608",null,"01431","0652","201501",null,"Transp","1431/Transp/201608",{"$f":"IF(J840=0,0,+CONCATENATE(VLOOKUP(B840,Cadastro!$Q$3:$R$162,2,FALSE),\"/\",J840,\"/\",D840))","v":"80/Transp/201608"},"Transp/201608","1431/201608","1431/0622/201608","80/201608","80/0622/201608","0622/201608","Transp","1431/Transp/201501",{"$f":"+CONCATENATE(VLOOKUP(F840,Cadastro!$Q$3:$R$162,2,FALSE),\"/\",S840,\"/\",H840)","v":"80/Transp/201501"},"Transp/201501","1431/201501","1431/0652/201501","80/201501","80/0652/201501","0652/201501",-3262616.48,0,-3513693.2199999997,-3122.85,-1012394.04,-3122.85,-3315934.76,0,-227916.29,0]
[null,"01431","0622","201609",null,"01431","0652","201502",null,"Transp","1431/Transp/201609",{"$f":"IF(J841=0,0,+CONCATENATE(VLOOKUP(B841,Cadastro!$Q$3:$R$162,2,FALSE),\"/\",J841,\"/\",D841))","v":"80/Transp/201609"},"Transp/201609","1431/201609","1431/0622/201609","80/201609","80/0622/201609","0622/201609","Transp","1431/Transp/201502",{"$f":"+CONCATENATE(VLOOKUP(F841,Cadastro!$Q$3:$R$162,2,FALSE),\"/\",S841,\"/\",H841)","v":"80/Transp/201502"},"Transp/201502","1431/201502","1431/0652/201502","80/201502","80/0652/201502","0652/201502",6765172.8399999999,2373.33,6401937.7299999995,-749.52,1126533.5100000002,-2099.7799999999997,2173254.81,0,220482.57,276.23]
[null,"01431","0622","201610",null,"01431","0652","201503",null,"Transp","1431/Transp/201610",{"$f":"IF(J842=0,0,+CONCATENATE(VLOOKUP(B842,Cadastro!$Q$3:$R$162,2,FALSE),\"/\",J842,\"/\",D842))","v":"80/Transp/201610"},"Transp/201610","1431/201610","1431/0622/201610","80/201610","80/0622/201610","0622/201610","Transp","1431/Transp/201503",{"$f":"+CONCATENATE(VLOOKUP(F842,Cadastro!$Q$3:$R$162,2,FALSE),\"/\",S842,\"/\",H842)","v":"80/Transp/201503"},"Transp/201503","1431/201503","1431/0652/201503","80/201503","80/0652/201503","0652/201503",2170669.14,1600,-2696663.78,-1522.85,-3185559.1799999997,-2249.4899999999998,1817138.5499999998,2.9999999999999971E-2,243181.48,235.8]
[null,"01431","0622","201611",null,"01431","0652","201504",null,"Transp","1431/Transp/201611",{"$f":"IF(J843=0,0,+CONCATENATE(VLOOKUP(B843,Cadastro!$Q$3:$R$162,2,FALSE),\"/\",J843,\"/\",D843))","v":"80/Transp/201611"},"Transp/201611","1431/201611","1431/0622/201611","80/201611","80/0622/201611","0622/201611","Transp","1431/Transp/201504",{"$f":"+CONCATENATE(VLOOKUP(F843,Cadastro!$Q$3:$R$162,2,FALSE),\"/\",S843,\"/\",H843)","v":"80/Transp/201504"},"Transp/201504","1431/201504","1431/0652/201504","80/201504","80/0652/201504","0652/201504",513428.13,41042.339999999997,-487096.56999999995,37919.49,231042.85000000009,32575.010000000002,3268401.58,3.999999999999998E-2,231374.39,8939.25]
[null,"01431","0622","201612",null,"01431","0652","201505",null,"Transp","1431/Transp/201612",{"$f":"IF(J844=0,0,+CONCATENATE(VLOOKUP(B844,Cadastro!$Q$3:$R$162,2,FALSE),\"/\",J844,\"/\",D844))","v":"80/Transp/201612"},"Transp/201612","1431/201612","1431/0622/201612","80/201612","80/0622/201612","0622/201612","Transp","1431/Transp/201505",{"$f":"+CONCATENATE(VLOOKUP(F844,Cadastro!$Q$3:$R$162,2,FALSE),\"/\",S844,\"/\",H844)","v":"80/Transp/201505"},"Transp/201505","1431/201505","1431/0652/201505","80/201505","80/0652/201505","0652/201505",4499376.4000000004,0,3674136.9800000004,-3123.09,852519.49999999988,2694.76,-1855902,0,303751.78000000003,1465.16]
[null,"01431","0638","201601",null,"01431","0652","201506",null,"Transp","1431/Transp/201601",{"$f":"IF(J845=0,0,+CONCATENATE(VLOOKUP(B845,Cadastro!$Q$3:$R$162,2,FALSE),\"/\",J845,\"/\",D845))","v":"80/Transp/201601"},"Transp/201601","1431/201601","1431/0638/201601","80/201601","80/0638/201601","0638/201601","Transp","1431/Transp/201506",{"$f":"+CONCATENATE(VLOOKUP(F845,Cadastro!$Q$3:$R$162,2,FALSE),\"/\",S845,\"/\",H845)","v":"80/Transp/201506"},"Transp/201506","1431/201506","1431/0652/201506","80/201506","80/0652/201506","0652/201506",0.01,1600.04,0.01,1551.03,0,1413.72,0,8.8899999999999988,0,394.95]
[null,"01431","0638","201602",null,"01431","0652","201507",null,"Transp","1431/Transp/201602",{"$f":"IF(J846=0,0,+CONCATENATE(VLOOKUP(B846,Cadastro!$Q$3:$R$162,2,FALSE),\"/\",J846,\"/\",D846))","v":"80/Transp/201602"},"Transp/201602","1431/201602","1431/0638/201602","80/201602","80/0638/201602","0638/201602","Transp","1431/Transp/201507",{"$f":"+CONCATENATE(VLOOKUP(F846,Cadastro!$Q$3:$R$162,2,FALSE),\"/\",S846,\"/\",H846)","v":"80/Transp/201507"},"Transp/201507","1431/201507","1431/0652/201507","80/201507","80/0652/201507","0652/201507",0,1303.08,0,1254.07,0,2110.6699999999996,76000,0.24,0,583.11]
[null,"01431","0638","201603",null,"01431","0652","201508",null,"Transp","1431/Transp/201603",{"$f":"IF(J847=0,0,+CONCATENATE(VLOOKUP(B847,Cadastro!$Q$3:$R$162,2,FALSE),\"/\",J847,\"/\",D847))","v":"80/Transp/201603"},"Transp/201603","1431/201603","1431/0638/201603","80/201603","80/0638/201603","0638/201603","Transp","1431/Transp/201508",{"$f":"+CONCATENATE(VLOOKUP(F847,Cadastro!$Q$3:$R$162,2,FALSE),\"/\",S847,\"/\",H847)","v":"80/Transp/201508"},"Transp/201508","1431/201508","1431/0652/201508","80/201508","80/0652/201508","0652/201508",0,4032.26,0,-3291.7199999999993,0,-2435.1299999999992,24369,0.26,0,1319.98]
[null,"01431","0638","201604",null,"01431","0652","201509",null,"Transp","1431/Transp/201604",{"$f":"IF(J848=0,0,+CONCATENATE(VLOOKUP(B848,Cadastro!$Q$3:$R$162,2,FALSE),\"/\",J848,\"/\",D848))","v":"80/Transp/201604"},"Transp/201604","1431/201604","1431/0638/201604","80/201604","80/0638/201604","0638/201604","Transp","1431/Transp/201509",{"$f":"+CONCATENATE(VLOOKUP(F848,Cadastro!$Q$3:$R$162,2,FALSE),\"/\",S848,\"/\",H848)","v":"80/Transp/201509"},"Transp/201509","1431/201509","1431/0652/201509","80/201509","80/0652/201509","0652/201509",0.01,18913.75,0.01,18864.740000000002,0.02,18892.330000000002,-958.5,-0.44999999999999996,0,5114.16]
[null,"01431","0638","201605",null,"01431","0652","201510",null,"Transp","1431/Transp/201605",{"$f":"IF(J849=0,0,+CONCATENATE(VLOOKUP(B849,Cadastro!$Q$3:$R$162,2,FALSE),\"/\",J849,\"/\",D849))","v":"80/Transp/201605"},"Transp/201605","1431/201605","1431/0638/201605","80/201605","80/0638/201605","0638/201605","Transp","1431/Transp/201510",{"$f":"+CONCATENATE(VLOOKUP(F849,Cadastro!$Q$3:$R$162,2,FALSE),\"/\",S849,\"/\",H849)","v":"80/Transp/201510"},"Transp/201510","1431/201510","1431/0652/201510","80/201510","80/0652/201510","0652/201510",0,2225.8200000000002,0,2176.81,0,2176.8199999999997,-11750.05,3.74,0,600.96]
[null,"01431","0638","201606",null,"01431","0652","201511",null,"Transp","1431/Transp/201606",{"$f":"IF(J850=0,0,+CONCATENATE(VLOOKUP(B850,Cadastro!$Q$3:$R$162,2,FALSE),\"/\",J850,\"/\",D850))","v":"80/Transp/201606"},"Transp/201606","1431/201606","1431/0638/201606","80/201606","80/0638/201606","0638/201606","Transp","1431/Transp/201511",{"$f":"+CONCATENATE(VLOOKUP(F850,Cadastro!$Q$3:$R$162,2,FALSE),\"/\",S850,\"/\",H850)","v":"80/Transp/201511"},"Transp/201511","1431/201511","1431/0652/201511","80/201511","80/0652/201511","0652/201511",0,18339.12,-96.32,18290.11,-96.32,18290.13,-17300.03,0.44,0,4647.59]
[null,"01431","0638","201607",null,"01431","0652","201512",null,"Transp","1431/Transp/201607",{"$f":"IF(J851=0,0,+CONCATENATE(VLOOKUP(B851,Cadastro!$Q$3:$R$162,2,FALSE),\"/\",J851,\"/\",D851))","v":"80/Transp/201607"},"Transp/201607","1431/201607","1431/0638/201607","80/201607","80/0638/201607","0638/201607","Transp","1431/Transp/201512",{"$f":"+CONCATENATE(VLOOKUP(F851,Cadastro!$Q$3:$R$162,2,FALSE),\"/\",S851,\"/\",H851)","v":"80/Transp/201512"},"Transp/201512","1431/201512","1431/0652/201512","80/201512","80/0652/201512","0652/201512",0,8864.17,0,8815.16,0,8815.1999999999989,561331.05000000028,6844.04,0,2262.7800000000002]
[null,"01431","0638","201608",null,"01431","0654","201501",null,"Transp","1431/Transp/201608",{"$f":"IF(J852=0,0,+CONCATENATE(VLOOKUP(B852,Cadastro!$Q$3:$R$162,2,FALSE),\"/\",J852,\"/\",D852))","v":"80/Transp/201608"},"Transp/201608","1431/201608","1431/0638/201608","80/201608","80/0638/201608","0638/201608","Transp","1431/Transp/201501",{"$f":"+CONCATENATE(VLOOKUP(F852,Cadastro!$Q$3:$R$162,2,FALSE),\"/\",S852,\"/\",H852)","v":"80/Transp/201501"},"Transp/201501","1431/201501","1431/0654/201501","80/201501","80/0654/201501","0654/201501",0,214270.92,0,181919.39,0,151395.62,-580170.30000000028,-42128.869999999995,0,24559.82]
[null,"01431","0638","201609",null,"01431","0654","201502",null,"Transp","1431/Transp/201609",{"$f":"IF(J853=0,0,+CONCATENATE(VLOOKUP(B853,Cadastro!$Q$3:$R$162,2,FALSE),\"/\",J853,\"/\",D853))","v":"80/Transp/201609"},"Transp/201609","1431/201609","1431/0638/201609","80/201609","80/0638/201609","0638/201609","Transp","1431/Transp/201502",{"$f":"+CONCATENATE(VLOOKUP(F853,Cadastro!$Q$3:$R$162,2,FALSE),\"/\",S853,\"/\",H853)","v":"80/Transp/201502"},"Transp/201502","1431/201502","1431/0654/201502","80/201502","80/0654/201502","0654/201502",0,274464.65999999997,0,242113.12999999998,0,168435.99,-3763,179258.7,0,30398.06]
[null,"01431","0638","201610",null,"01431","0654","201503",null,"Transp","1431/Transp/201610",{"$f":"IF(J854=0,0,+CONCATENATE(VLOOKUP(B854,Cadastro!$Q$3:$R$162,2,FALSE),\"/\",J854,\"/\",D854))","v":"80/Transp/201610"},"Transp/201610","1431/201610","1431/0638/201610","80/201610","80/0638/201610","0638/201610","Transp","1431/Transp/201503",{"$f":"+CONCATENATE(VLOOKUP(F854,Cadastro!$Q$3:$R$162,2,FALSE),\"/\",S854,\"/\",H854)","v":"80/Transp/201503"},"Transp/201503","1431/201503","1431/0654/201503","80/201503","80/0654/201503","0654/201503",83.35,371605.51,83.35,339253.98,83.34,299341.79000000004,23044.14,274606.02999999997,0.01,54426.559999999998]
[null,"01431","0638","201611",null,"01431","0654","201504",null,"Transp","1431/Transp/201611",{"$f":"IF(J855=0,0,+CONCATENATE(VLOOKUP(B855,Cadastro!$Q$3:$R$162,2,FALSE),\"/\",J855,\"/\",D855))","v":"80/Transp/201611"},"Transp/201611","1431/201611","1431/0638/201611","80/201611","80/0638/201611","0638/201611","Transp","1431/Transp/201504",{"$f":"+CONCATENATE(VLOOKUP(F855,Cadastro!$Q$3:$R$162,2,FALSE),\"/\",S855,\"/\",H855)","v":"80/Transp/201504"},"Transp/201504","1431/201504","1431/0654/201504","80/201504","80/0654/201504","0654/201504",8362.6200000000008,329038.38,3058.0200000000004,296686.84999999998,3058.0200000000004,347498.23,-2075.0800000000004,212038.32,0.84,51191.13]
[null,"01431","0638","201612",null,"01431","0654","201505",null,"Transp","1431/Transp/201612",{"$f":"IF(J856=0,0,+CONCATENATE(VLOOKUP(B856,Cadastro!$Q$3:$R$162,2,FALSE),\"/\",J856,\"/\",D856))","v":"80/Transp/201612"},"Transp/201612","1431/201612","1431/0638/201612","80/201612","80/0638/201612","0638/201612","Transp","1431/Transp/201505",{"$f":"+CONCATENATE(VLOOKUP(F856,Cadastro!$Q$3:$R$162,2,FALSE),\"/\",S856,\"/\",H856)","v":"80/Transp/201505"},"Transp/201505","1431/201505","1431/0654/201505","80/201505","80/0654/201505","0654/201505",0.01,268304.52,0.01,203816.78000000003,0.01,329702.09000000003,481.26,127965.26999999999,0,55934.11]
[null,"01431","0652","201601",null,"01431","0654","201506",null,"Transp","1431/Transp/201601",{"$f":"IF(J857=0,0,+CONCATENATE(VLOOKUP(B857,Cadastro!$Q$3:$R$162,2,FALSE),\"/\",J857,\"/\",D857))","v":"80/Transp/201601"},"Transp/201601","1431/201601","1431/0652/201601","80/201601","80/0652/201601","0652/201601","Transp","1431/Transp/201506",{"$f":"+CONCATENATE(VLOOKUP(F857,Cadastro!$Q$3:$R$162,2,FALSE),\"/\",S857,\"/\",H857)","v":"80/Transp/201506"},"Transp/201506","1431/201506","1431/0654/201506","80/201506","80/0654/201506","0654/201506",999.99,1474103.1,950.98,1456590.4300000002,950.98,499212.60000000003,664.81,322536.65000000002,270,85664.65]
[null,"01431","0652","201602",null,"01431","0654","201507",null,"Transp","1431/Transp/201602",{"$f":"IF(J858=0,0,+CONCATENATE(VLOOKUP(B858,Cadastro!$Q$3:$R$162,2,FALSE),\"/\",J858,\"/\",D858))","v":"80/Transp/201602"},"Transp/201602","1431/201602","1431/0652/201602","80/201602","80/0652/201602","0652/201602","Transp","1431/Transp/201507",{"$f":"+CONCATENATE(VLOOKUP(F858,Cadastro!$Q$3:$R$162,2,FALSE),\"/\",S858,\"/\",H858)","v":"80/Transp/201507"},"Transp/201507","1431/201507","1431/0654/201507","80/201507","80/0654/201507","0654/201507",3502.12,326092,3453.1099999999997,308579.32,3453.1099999999997,515603.57,75,50535.44,945.57,87699.66]
[null,"01431","0652","201603",null,"01431","0654","201508",null,"Transp","1431/Transp/201603",{"$f":"IF(J859=0,0,+CONCATENATE(VLOOKUP(B859,Cadastro!$Q$3:$R$162,2,FALSE),\"/\",J859,\"/\",D859))","v":"80/Transp/201603"},"Transp/201603","1431/201603","1431/0652/201603","80/201603","80/0652/201603","0652/201603","Transp","1431/Transp/201508",{"$f":"+CONCATENATE(VLOOKUP(F859,Cadastro!$Q$3:$R$162,2,FALSE),\"/\",S859,\"/\",H859)","v":"80/Transp/201508"},"Transp/201508","1431/201508","1431/0654/201508","80/201508","80/0654/201508","0654/201508",0,218435.23,-49.01,182098.56,-49.01,322121.02,84.66,370649.93,0,68944.2]
[null,"01431","0652","201604",null,"01431","0654","201509",null,"Transp","1431/Transp/201604",{"$f":"IF(J860=0,0,+CONCATENATE(VLOOKUP(B860,Cadastro!$Q$3:$R$162,2,FALSE),\"/\",J860,\"/\",D860))","v":"80/Transp/201604"},"Transp/201604","1431/201604","1431/0652/201604","80/201604","80/0652/201604","0652/201604","Transp","1431/Transp/201509",{"$f":"+CONCATENATE(VLOOKUP(F860,Cadastro!$Q$3:$R$162,2,FALSE),\"/\",S860,\"/\",H860)","v":"80/Transp/201509"},"Transp/201509","1431/201509","1431/0654/201509","80/201509","80/0654/201509","0654/201509",1000,132543.79999999999,950.99,115031.12,950.99,242646.31,-120,260622.67,270,40799.629999999997]
[null,"01431","0652","201605",null,"01431","0654","201510",null,"Transp","1431/Transp/201605",{"$f":"IF(J861=0,0,+CONCATENATE(VLOOKUP(B861,Cadastro!$Q$3:$R$162,2,FALSE),\"/\",J861,\"/\",D861))","v":"80/Transp/201605"},"Transp/201605","1431/201605","1431/0652/201605","80/201605","80/0652/201605","0652/201605","Transp","1431/Transp/201510",{"$f":"+CONCATENATE(VLOOKUP(F861,Cadastro!$Q$3:$R$162,2,FALSE),\"/\",S861,\"/\",H861)","v":"80/Transp/201510"},"Transp/201510","1431/201510","1431/0654/201510","80/201510","80/0654/201510","0654/201510",7547.51,372887.61,7420.37,355374.93,7420.36,246157.87,515.86,21180.98,2037.83,42213.279999999999]
[null,"01431","0652","201606",null,"01431","0654","201511",null,"Transp","1431/Transp/201606",{"$f":"IF(J862=0,0,+CONCATENATE(VLOOKUP(B862,Cadastro!$Q$3:$R$162,2,FALSE),\"/\",J862,\"/\",D862))","v":"80/Transp/201606"},"Transp/201606","1431/201606","1431/0652/201606","80/201606","80/0652/201606","0652/201606","Transp","1431/Transp/201511",{"$f":"+CONCATENATE(VLOOKUP(F862,Cadastro!$Q$3:$R$162,2,FALSE),\"/\",S862,\"/\",H862)","v":"80/Transp/201511"},"Transp/201511","1431/201511","1431/0654/201511","80/201511","80/0654/201511","0654/201511",-16543.93,730001.83,-17084.3,712489.14999999991,-17084.3,844392.48,-8077.56,77156.86,-4486.84,162095.95000000001]
[null,"01431","0652","201607",null,"01431","0654","201512",null,"Transp","1431/Transp/201607",{"$f":"IF(J863=0,0,+CONCATENATE(VLOOKUP(B863,Cadastro!$Q$3:$R$162,2,FALSE),\"/\",J863,\"/\",D863))","v":"80/Transp/201607"},"Transp/201607","1431/201607","1431/0652/201607","80/201607","80/0652/201607","0652/201607","Transp","1431/Transp/201512",{"$f":"+CONCATENATE(VLOOKUP(F863,Cadastro!$Q$3:$R$162,2,FALSE),\"/\",S863,\"/\",H863)","v":"80/Transp/201512"},"Transp/201512","1431/201512","1431/0654/201512","80/201512","80/0654/201512","0654/201512",2271.75,376870.27,2087.67,356000.58,2087.67,480748.87,0,656558.79999999993,567.94000000000005,87963.199999999997]
[null,"01431","0652","201608",null,"01431","0655","201501",null,"Transp","1431/Transp/201608",{"$f":"IF(J864=0,0,+CONCATENATE(VLOOKUP(B864,Cadastro!$Q$3:$R$162,2,FALSE),\"/\",J864,\"/\",D864))","v":"80/Transp/201608"},"Transp/201608","1431/201608","1431/0652/201608","80/201608","80/0652/201608","0652/201608","Transp","1431/Transp/201501",{"$f":"+CONCATENATE(VLOOKUP(F864,Cadastro!$Q$3:$R$162,2,FALSE),\"/\",S864,\"/\",H864)","v":"80/Transp/201501"},"Transp/201501","1431/201501","1431/0655/201501","80/201501","80/0655/201501","0655/201501",1409.89,63558.77,1013.7500000000001,38575.839999999997,1013.7500000000001,22702.409999999996,0,11195.1,352.47,9974.48]
[null,"01431","0652","201609",null,"01431","0655","201502",null,"Transp","1431/Transp/201609",{"$f":"IF(J865=0,0,+CONCATENATE(VLOOKUP(B865,Cadastro!$Q$3:$R$162,2,FALSE),\"/\",J865,\"/\",D865))","v":"80/Transp/201609"},"Transp/201609","1431/201609","1431/0652/201609","80/201609","80/0652/201609","0652/201609","Transp","1431/Transp/201502",{"$f":"+CONCATENATE(VLOOKUP(F865,Cadastro!$Q$3:$R$162,2,FALSE),\"/\",S865,\"/\",H865)","v":"80/Transp/201502"},"Transp/201502","1431/201502","1431/0655/201502","80/201502","80/0655/201502","0655/201502",-2041.38,63157.53,-2225.4500000000003,38174.6,-2225.4500000000003,23777.18,0,341937.61,-551.17999999999995,11333.27]
[null,"01431","0652","201610",null,"01431","0655","201503",null,"Transp","1431/Transp/201610",{"$f":"IF(J866=0,0,+CONCATENATE(VLOOKUP(B866,Cadastro!$Q$3:$R$162,2,FALSE),\"/\",J866,\"/\",D866))","v":"80/Transp/201610"},"Transp/201610","1431/201610","1431/0652/201610","80/201610","80/0652/201610","0652/201610","Transp","1431/Transp/201503",{"$f":"+CONCATENATE(VLOOKUP(F866,Cadastro!$Q$3:$R$162,2,FALSE),\"/\",S866,\"/\",H866)","v":"80/Transp/201503"},"Transp/201503","1431/201503","1431/0655/201503","80/201503","80/0655/201503","0655/201503",2000,178343.96,1815.93,153361.03,1815.94,76760.97,0,296378.93,500,23805.61]
[null,"01431","0652","201611",null,"01431","0655","201504",null,"Transp","1431/Transp/201611",{"$f":"IF(J867=0,0,+CONCATENATE(VLOOKUP(B867,Cadastro!$Q$3:$R$162,2,FALSE),\"/\",J867,\"/\",D867))","v":"80/Transp/201611"},"Transp/201611","1431/201611","1431/0652/201611","80/201611","80/0652/201611","0652/201611","Transp","1431/Transp/201504",{"$f":"+CONCATENATE(VLOOKUP(F867,Cadastro!$Q$3:$R$162,2,FALSE),\"/\",S867,\"/\",H867)","v":"80/Transp/201504"},"Transp/201504","1431/201504","1431/0655/201504","80/201504","80/0655/201504","0655/201504",1000,72064.649999999994,-15749.740000000002,47081.719999999994,-15749.740000000002,80092.040000000008,0,-84142.97,250,24936.87]
[null,"01431","0652","201612",null,"01431","0655","201505",null,"Transp","1431/Transp/201612",{"$f":"IF(J868=0,0,+CONCATENATE(VLOOKUP(B868,Cadastro!$Q$3:$R$162,2,FALSE),\"/\",J868,\"/\",D868))","v":"80/Transp/201612"},"Transp/201612","1431/201612","1431/0652/201612","80/201612","80/0652/201612","0652/201612","Transp","1431/Transp/201505",{"$f":"+CONCATENATE(VLOOKUP(F868,Cadastro!$Q$3:$R$162,2,FALSE),\"/\",S868,\"/\",H868)","v":"80/Transp/201505"},"Transp/201505","1431/201505","1431/0655/201505","80/201505","80/0655/201505","0655/201505",1064.67,88328.35,880.60000000000014,63345.260000000009,880.60000000000014,75904.11,0,1756.31,266.17,24017.14]
[null,"01431","0654","201601",null,"01431","0655","201506",null,"Transp","1431/Transp/201601",{"$f":"IF(J869=0,0,+CONCATENATE(VLOOKUP(B869,Cadastro!$Q$3:$R$162,2,FALSE),\"/\",J869,\"/\",D869))","v":"80/Transp/201601"},"Transp/201601","1431/201601","1431/0654/201601","80/201601","80/0654/201601","0654/201601","Transp","1431/Transp/201506",{"$f":"+CONCATENATE(VLOOKUP(F869,Cadastro!$Q$3:$R$162,2,FALSE),\"/\",S869,\"/\",H869)","v":"80/Transp/201506"},"Transp/201506","1431/201506","1431/0655/201506","80/201506","80/0655/201506","0655/201506",219088.03,77774.149999999994,197289.83,74438.26999999999,341119.07,136728.94,108178.73,282776.56,68857.86,34075.06]
[null,"01431","0654","201602",null,"01431","0655","201507",null,"Transp","1431/Transp/201602",{"$f":"IF(J870=0,0,+CONCATENATE(VLOOKUP(B870,Cadastro!$Q$3:$R$162,2,FALSE),\"/\",J870,\"/\",D870))","v":"80/Transp/201602"},"Transp/201602","1431/201602","1431/0654/201602","80/201602","80/0654/201602","0654/201602","Transp","1431/Transp/201507",{"$f":"+CONCATENATE(VLOOKUP(F870,Cadastro!$Q$3:$R$162,2,FALSE),\"/\",S870,\"/\",H870)","v":"80/Transp/201507"},"Transp/201507","1431/201507","1431/0655/201507","80/201507","80/0655/201507","0655/201507",136917.44,102556.56,126749.17,99220.68,272281.93,151960.6,210808.4,304397.64999999997,44199.81,35877.69]
[null,"01431","0654","201603",null,"01431","0655","201508",null,"Transp","1431/Transp/201603",{"$f":"IF(J871=0,0,+CONCATENATE(VLOOKUP(B871,Cadastro!$Q$3:$R$162,2,FALSE),\"/\",J871,\"/\",D871))","v":"80/Transp/201603"},"Transp/201603","1431/201603","1431/0654/201603","80/201603","80/0654/201603","0654/201603","Transp","1431/Transp/201508",{"$f":"+CONCATENATE(VLOOKUP(F871,Cadastro!$Q$3:$R$162,2,FALSE),\"/\",S871,\"/\",H871)","v":"80/Transp/201508"},"Transp/201508","1431/201508","1431/0655/201508","80/201508","80/0655/201508","0655/201508",468552.28,99426.85,450948.77,-3591.8099999999977,400914.93,16725.289999999994,708697.88,99160.18,75284.179999999993,30892.61]
[null,"01431","0654","201604",null,"01431","0655","201509",null,"Transp","1431/Transp/201604",{"$f":"IF(J872=0,0,+CONCATENATE(VLOOKUP(B872,Cadastro!$Q$3:$R$162,2,FALSE),\"/\",J872,\"/\",D872))","v":"80/Transp/201604"},"Transp/201604","1431/201604","1431/0654/201604","80/201604","80/0654/201604","0654/201604","Transp","1431/Transp/201509",{"$f":"+CONCATENATE(VLOOKUP(F872,Cadastro!$Q$3:$R$162,2,FALSE),\"/\",S872,\"/\",H872)","v":"80/Transp/201509"},"Transp/201509","1431/201509","1431/0655/201509","80/201509","80/0655/201509","0655/201509",259819.81,69588.929999999993,242377.36,66253.049999999988,237944.74,82861.31,310110.87,38098.46,41479.449999999997,19169.240000000002]
[null,"01431","0654","201605",null,"01431","0655","201510",null,"Transp","1431/Transp/201605",{"$f":"IF(J873=0,0,+CONCATENATE(VLOOKUP(B873,Cadastro!$Q$3:$R$162,2,FALSE),\"/\",J873,\"/\",D873))","v":"80/Transp/201605"},"Transp/201605","1431/201605","1431/0654/201605","80/201605","80/0654/201605","0654/201605","Transp","1431/Transp/201510",{"$f":"+CONCATENATE(VLOOKUP(F873,Cadastro!$Q$3:$R$162,2,FALSE),\"/\",S873,\"/\",H873)","v":"80/Transp/201510"},"Transp/201510","1431/201510","1431/0655/201510","80/201510","80/0655/201510","0655/201510",740041.92,26776.79,694206.17,23440.91,848251.26,34165.550000000003,1201054.6599999999,-438916.48,160827.10999999999,9759.65]
[null,"01431","0654","201606",null,"01431","0655","201511",null,"Transp","1431/Transp/201606",{"$f":"IF(J874=0,0,+CONCATENATE(VLOOKUP(B874,Cadastro!$Q$3:$R$162,2,FALSE),\"/\",J874,\"/\",D874))","v":"80/Transp/201606"},"Transp/201606","1431/201606","1431/0654/201606","80/201606","80/0654/201606","0654/201606","Transp","1431/Transp/201511",{"$f":"+CONCATENATE(VLOOKUP(F874,Cadastro!$Q$3:$R$162,2,FALSE),\"/\",S874,\"/\",H874)","v":"80/Transp/201511"},"Transp/201511","1431/201511","1431/0655/201511","80/201511","80/0655/201511","0655/201511",1299837.8600000001,519520,1261812.1200000001,516184.12,1354726.17,524667.80000000005,642143.54,278965.45999999996,202363.46,108352.64]
[null,"01431","0654","201607",null,"01431","0655","201512",null,"Transp","1431/Transp/201607",{"$f":"IF(J875=0,0,+CONCATENATE(VLOOKUP(B875,Cadastro!$Q$3:$R$162,2,FALSE),\"/\",J875,\"/\",D875))","v":"80/Transp/201607"},"Transp/201607","1431/201607","1431/0654/201607","80/201607","80/0654/201607","0654/201607","Transp","1431/Transp/201512",{"$f":"+CONCATENATE(VLOOKUP(F875,Cadastro!$Q$3:$R$162,2,FALSE),\"/\",S875,\"/\",H875)","v":"80/Transp/201512"},"Transp/201512","1431/201512","1431/0655/201512","80/201512","80/0655/201512","0655/201512",3070163.72,175085.48,3030494.9000000004,171736.40000000002,1192207.8699999999,190383.69,449659.59,238890.6,224904.17,44160.160000000003]
[null,"01431","0654","201608",null,"01431","0656","201501",null,"Transp","1431/Transp/201608",{"$f":"IF(J876=0,0,+CONCATENATE(VLOOKUP(B876,Cadastro!$Q$3:$R$162,2,FALSE),\"/\",J876,\"/\",D876))","v":"80/Transp/201608"},"Transp/201608","1431/201608","1431/0654/201608","80/201608","80/0654/201608","0654/201608","Transp","1431/Transp/201501",{"$f":"+CONCATENATE(VLOOKUP(F876,Cadastro!$Q$3:$R$162,2,FALSE),\"/\",S876,\"/\",H876)","v":"80/Transp/201501"},"Transp/201501","1431/201501","1431/0656/201501","80/201501","80/0656/201501","0656/201501",1275480.06,0,1198964.06,-999.97,861803.69,-999.97,1016114.09,0,173819.02,0]
[null,"01431","0654","201609",null,"01431","0656","201502",null,"Transp","1431/Transp/201609",{"$f":"IF(J877=0,0,+CONCATENATE(VLOOKUP(B877,Cadastro!$Q$3:$R$162,2,FALSE),\"/\",J877,\"/\",D877))","v":"80/Transp/201609"},"Transp/201609","1431/201609","1431/0654/201609","80/201609","80/0654/201609","0654/201609","Transp","1431/Transp/201502",{"$f":"+CONCATENATE(VLOOKUP(F877,Cadastro!$Q$3:$R$162,2,FALSE),\"/\",S877,\"/\",H877)","v":"80/Transp/201502"},"Transp/201502","1431/201502","1431/0656/201502","80/201502","80/0656/201502","0656/201502",824543.89,0,818377.08,-999.97,701962.21,-999.97,552516.14,0,141147.9,0]
[null,"01431","0654","201610",null,"01431","0656","201503",null,"Transp","1431/Transp/201610",{"$f":"IF(J878=0,0,+CONCATENATE(VLOOKUP(B878,Cadastro!$Q$3:$R$162,2,FALSE),\"/\",J878,\"/\",D878))","v":"80/Transp/201610"},"Transp/201610","1431/201610","1431/0654/201610","80/201610","80/0654/201610","0654/201610","Transp","1431/Transp/201503",{"$f":"+CONCATENATE(VLOOKUP(F878,Cadastro!$Q$3:$R$162,2,FALSE),\"/\",S878,\"/\",H878)","v":"80/Transp/201503"},"Transp/201503","1431/201503","1431/0656/201503","80/201503","80/0656/201503","0656/201503",840522.93,0,829447.12,-999.97,810109.24,-999.97,1018360.23,0,143021.26,0]
[null,"01431","0654","201611",null,"01431","0656","201504",null,"Transp","1431/Transp/201611",{"$f":"IF(J879=0,0,+CONCATENATE(VLOOKUP(B879,Cadastro!$Q$3:$R$162,2,FALSE),\"/\",J879,\"/\",D879))","v":"80/Transp/201611"},"Transp/201611","1431/201611","1431/0654/201611","80/201611","80/0654/201611","0654/201611","Transp","1431/Transp/201504",{"$f":"+CONCATENATE(VLOOKUP(F879,Cadastro!$Q$3:$R$162,2,FALSE),\"/\",S879,\"/\",H879)","v":"80/Transp/201504"},"Transp/201504","1431/201504","1431/0656/201504","80/201504","80/0656/201504","0656/201504",915869.3,0,730862.71000000008,-999.97,830339.02,-999.97,577545.89,0,202185.03,0]
[null,"01431","0654","201612",null,"01431","0656","201505",null,"Transp","1431/Transp/201612",{"$f":"IF(J880=0,0,+CONCATENATE(VLOOKUP(B880,Cadastro!$Q$3:$R$162,2,FALSE),\"/\",J880,\"/\",D880))","v":"80/Transp/201612"},"Transp/201612","1431/201612","1431/0654/201612","80/201612","80/0654/201612","0654/201612","Transp","1431/Transp/201505",{"$f":"+CONCATENATE(VLOOKUP(F880,Cadastro!$Q$3:$R$162,2,FALSE),\"/\",S880,\"/\",H880)","v":"80/Transp/201505"},"Transp/201505","1431/201505","1431/0656/201505","80/201505","80/0656/201505","0656/201505",890881.03,0,876738.65,-1000.36,916862.94,-1000.36,734599.29,0,189344.25,0]
[null,"01431","0655","201601",null,"01431","0656","201506",null,"Transp","1431/Transp/201601",{"$f":"IF(J881=0,0,+CONCATENATE(VLOOKUP(B881,Cadastro!$Q$3:$R$162,2,FALSE),\"/\",J881,\"/\",D881))","v":"80/Transp/201601"},"Transp/201601","1431/201601","1431/0655/201601","80/201601","80/0655/201601","0655/201601","Transp","1431/Transp/201506",{"$f":"+CONCATENATE(VLOOKUP(F881,Cadastro!$Q$3:$R$162,2,FALSE),\"/\",S881,\"/\",H881)","v":"80/Transp/201506"},"Transp/201506","1431/201506","1431/0656/201506","80/201506","80/0656/201506","0656/201506",232713.84,0,229378.68,0,229897.32,0,11327.3,0,51873,0]
[null,"01431","0655","201602",null,"01431","0656","201507",null,"Transp","1431/Transp/201602",{"$f":"IF(J882=0,0,+CONCATENATE(VLOOKUP(B882,Cadastro!$Q$3:$R$162,2,FALSE),\"/\",J882,\"/\",D882))","v":"80/Transp/201602"},"Transp/201602","1431/201602","1431/0655/201602","80/201602","80/0655/201602","0655/201602","Transp","1431/Transp/201507",{"$f":"+CONCATENATE(VLOOKUP(F882,Cadastro!$Q$3:$R$162,2,FALSE),\"/\",S882,\"/\",H882)","v":"80/Transp/201507"},"Transp/201507","1431/201507","1431/0656/201507","80/201507","80/0656/201507","0656/201507",74770.06,0,71441.539999999994,0,71544.3,0,10290.61,0,17094.23,0]
[null,"01431","0655","201603",null,"01431","0656","201508",null,"Transp","1431/Transp/201603",{"$f":"IF(J883=0,0,+CONCATENATE(VLOOKUP(B883,Cadastro!$Q$3:$R$162,2,FALSE),\"/\",J883,\"/\",D883))","v":"80/Transp/201603"},"Transp/201603","1431/201603","1431/0655/201603","80/201603","80/0655/201603","0655/201603","Transp","1431/Transp/201508",{"$f":"+CONCATENATE(VLOOKUP(F883,Cadastro!$Q$3:$R$162,2,FALSE),\"/\",S883,\"/\",H883)","v":"80/Transp/201508"},"Transp/201508","1431/201508","1431/0656/201508","80/201508","80/0656/201508","0656/201508",167019.12,0,163688.35999999999,0,114843.58,0,420227.89,0,25627.88,0]
[null,"01431","0655","201604",null,"01431","0656","201509",null,"Transp","1431/Transp/201604",{"$f":"IF(J884=0,0,+CONCATENATE(VLOOKUP(B884,Cadastro!$Q$3:$R$162,2,FALSE),\"/\",J884,\"/\",D884))","v":"80/Transp/201604"},"Transp/201604","1431/201604","1431/0655/201604","80/201604","80/0655/201604","0655/201604","Transp","1431/Transp/201509",{"$f":"+CONCATENATE(VLOOKUP(F884,Cadastro!$Q$3:$R$162,2,FALSE),\"/\",S884,\"/\",H884)","v":"80/Transp/201509"},"Transp/201509","1431/201509","1431/0656/201509","80/201509","80/0656/201509","0656/201509",114306.5,0,110857.07,0,39675.94,0,1188877.95,0,9924.7199999999993,0]
[null,"01431","0655","201605",null,"01431","0656","201510",null,"Transp","1431/Transp/201605",{"$f":"IF(J885=0,0,+CONCATENATE(VLOOKUP(B885,Cadastro!$Q$3:$R$162,2,FALSE),\"/\",J885,\"/\",D885))","v":"80/Transp/201605"},"Transp/201605","1431/201605","1431/0655/201605","80/201605","80/0655/201605","0655/201605","Transp","1431/Transp/201510",{"$f":"+CONCATENATE(VLOOKUP(F885,Cadastro!$Q$3:$R$162,2,FALSE),\"/\",S885,\"/\",H885)","v":"80/Transp/201510"},"Transp/201510","1431/201510","1431/0656/201510","80/201510","80/0656/201510","0656/201510",602304.62,0,593264.31999999995,0,559036.5,0,305425.82,0,111848.12,0]
[null,"01431","0655","201606",null,"01431","0656","201511",null,"Transp","1431/Transp/201606",{"$f":"IF(J886=0,0,+CONCATENATE(VLOOKUP(B886,Cadastro!$Q$3:$R$162,2,FALSE),\"/\",J886,\"/\",D886))","v":"80/Transp/201606"},"Transp/201606","1431/201606","1431/0655/201606","80/201606","80/0655/201606","0655/201606","Transp","1431/Transp/201511",{"$f":"+CONCATENATE(VLOOKUP(F886,Cadastro!$Q$3:$R$162,2,FALSE),\"/\",S886,\"/\",H886)","v":"80/Transp/201511"},"Transp/201511","1431/201511","1431/0656/201511","80/201511","80/0656/201511","0656/201511",629839.85,0,617982.01,0,559491.61,0,668832.59,0,103162.76,0]
[null,"01431","0655","201607",null,"01431","0656","201512",null,"Transp","1431/Transp/201607",{"$f":"IF(J887=0,0,+CONCATENATE(VLOOKUP(B887,Cadastro!$Q$3:$R$162,2,FALSE),\"/\",J887,\"/\",D887))","v":"80/Transp/201607"},"Transp/201607","1431/201607","1431/0655/201607","80/201607","80/0655/201607","0655/201607","Transp","1431/Transp/201512",{"$f":"+CONCATENATE(VLOOKUP(F887,Cadastro!$Q$3:$R$162,2,FALSE),\"/\",S887,\"/\",H887)","v":"80/Transp/201512"},"Transp/201512","1431/201512","1431/0656/201512","80/201512","80/0656/201512","0656/201512",920642.69,0,908987.3899999999,0,641723.55999999994,0,1132989.3799999999,0,132313.84,0]
[null,"01431","0655","201608",null,"01431","0658","201501",null,"Transp","1431/Transp/201608",{"$f":"IF(J888=0,0,+CONCATENATE(VLOOKUP(B888,Cadastro!$Q$3:$R$162,2,FALSE),\"/\",J888,\"/\",D888))","v":"80/Transp/201608"},"Transp/201608","1431/201608","1431/0655/201608","80/201608","80/0655/201608","0655/201608","Transp","1431/Transp/201501",{"$f":"+CONCATENATE(VLOOKUP(F888,Cadastro!$Q$3:$R$162,2,FALSE),\"/\",S888,\"/\",H888)","v":"80/Transp/201501"},"Transp/201501","1431/201501","1431/0658/201501","80/201501","80/0658/201501","0658/201501",510946.46,0,494907.14,-10682.15,441874.52,-10682.15,341309.83,0,92897.51,0]
[null,"01431","0655","201609",null,"01431","0658","201502",null,"Transp","1431/Transp/201609",{"$f":"IF(J889=0,0,+CONCATENATE(VLOOKUP(B889,Cadastro!$Q$3:$R$162,2,FALSE),\"/\",J889,\"/\",D889))","v":"80/Transp/201609"},"Transp/201609","1431/201609","1431/0655/201609","80/201609","80/0655/201609","0655/201609","Transp","1431/Transp/201502",{"$f":"+CONCATENATE(VLOOKUP(F889,Cadastro!$Q$3:$R$162,2,FALSE),\"/\",S889,\"/\",H889)","v":"80/Transp/201502"},"Transp/201502","1431/201502","1431/0658/201502","80/201502","80/0658/201502","0658/201502",657269.02,0,654779.1,-10682.13,455619.37,-10682.13,835501.8,0,94854.62,0]
[null,"01431","0655","201610",null,"01431","0658","201503",null,"Transp","1431/Transp/201610",{"$f":"IF(J890=0,0,+CONCATENATE(VLOOKUP(B890,Cadastro!$Q$3:$R$162,2,FALSE),\"/\",J890,\"/\",D890))","v":"80/Transp/201610"},"Transp/201610","1431/201610","1431/0655/201610","80/201610","80/0655/201610","0655/201610","Transp","1431/Transp/201503",{"$f":"+CONCATENATE(VLOOKUP(F890,Cadastro!$Q$3:$R$162,2,FALSE),\"/\",S890,\"/\",H890)","v":"80/Transp/201503"},"Transp/201503","1431/201503","1431/0658/201503","80/201503","80/0658/201503","0658/201503",428034.22,0,424040.36,-10682.15,502787.94,-10682.15,616501.39,0,85721.78,0]
[null,"01431","0655","201611",null,"01431","0658","201504",null,"Transp","1431/Transp/201611",{"$f":"IF(J891=0,0,+CONCATENATE(VLOOKUP(B891,Cadastro!$Q$3:$R$162,2,FALSE),\"/\",J891,\"/\",D891))","v":"80/Transp/201611"},"Transp/201611","1431/201611","1431/0655/201611","80/201611","80/0655/201611","0655/201611","Transp","1431/Transp/201504",{"$f":"+CONCATENATE(VLOOKUP(F891,Cadastro!$Q$3:$R$162,2,FALSE),\"/\",S891,\"/\",H891)","v":"80/Transp/201504"},"Transp/201504","1431/201504","1431/0658/201504","80/201504","80/0658/201504","0658/201504",578821.31000000006,0,441539.94000000006,-10842.15,529724.92000000004,-10842.15,1393269.31,0,135525.16,0]
[null,"01431","0655","201612",null,"01431","0658","201505",null,"Transp","1431/Transp/201612",{"$f":"IF(J892=0,0,+CONCATENATE(VLOOKUP(B892,Cadastro!$Q$3:$R$162,2,FALSE),\"/\",J892,\"/\",D892))","v":"80/Transp/201612"},"Transp/201612","1431/201612","1431/0655/201612","80/201612","80/0655/201612","0655/201612","Transp","1431/Transp/201505",{"$f":"+CONCATENATE(VLOOKUP(F892,Cadastro!$Q$3:$R$162,2,FALSE),\"/\",S892,\"/\",H892)","v":"80/Transp/201505"},"Transp/201505","1431/201505","1431/0658/201505","80/201505","80/0658/201505","0658/201505",480930.24,0,475933.14999999997,-22174.880000000001,504663.81999999995,-22174.880000000001,2349889.5700000003,0,98996.66,0]
[null,"01431","0656","201601",null,"01431","0658","201506",null,"Transp","1431/Transp/201601",{"$f":"IF(J893=0,0,+CONCATENATE(VLOOKUP(B893,Cadastro!$Q$3:$R$162,2,FALSE),\"/\",J893,\"/\",D893))","v":"80/Transp/201601"},"Transp/201601","1431/201601","1431/0656/201601","80/201601","80/0656/201601","0656/201601","Transp","1431/Transp/201506",{"$f":"+CONCATENATE(VLOOKUP(F893,Cadastro!$Q$3:$R$162,2,FALSE),\"/\",S893,\"/\",H893)","v":"80/Transp/201506"},"Transp/201506","1431/201506","1431/0658/201506","80/201506","80/0658/201506","0658/201506",0,1462814.56,0,1163073.4100000001,0,68935.69,0,0,0,36.869999999999997]
[null,"01431","0656","201602",null,"01431","0658","201507",null,"Transp","1431/Transp/201602",{"$f":"IF(J894=0,0,+CONCATENATE(VLOOKUP(B894,Cadastro!$Q$3:$R$162,2,FALSE),\"/\",J894,\"/\",D894))","v":"80/Transp/201602"},"Transp/201602","1431/201602","1431/0656/201602","80/201602","80/0656/201602","0656/201602","Transp","1431/Transp/201507",{"$f":"+CONCATENATE(VLOOKUP(F894,Cadastro!$Q$3:$R$162,2,FALSE),\"/\",S894,\"/\",H894)","v":"80/Transp/201507"},"Transp/201507","1431/201507","1431/0658/201507","80/201507","80/0658/201507","0658/201507",0,0,0,-149314.12,0,35024.300000000017,0,0,0,18.43]
[null,"01431","0656","201603",null,"01431","0658","201508",null,"Transp","1431/Transp/201603",{"$f":"IF(J895=0,0,+CONCATENATE(VLOOKUP(B895,Cadastro!$Q$3:$R$162,2,FALSE),\"/\",J895,\"/\",D895))","v":"80/Transp/201603"},"Transp/201603","1431/201603","1431/0656/201603","80/201603","80/0656/201603","0656/201603","Transp","1431/Transp/201508",{"$f":"+CONCATENATE(VLOOKUP(F895,Cadastro!$Q$3:$R$162,2,FALSE),\"/\",S895,\"/\",H895)","v":"80/Transp/201508"},"Transp/201508","1431/201508","1431/0658/201508","80/201508","80/0658/201508","0658/201508",0,0,0,-173050.77,0,11287.650000000023,0,0,0,18.43]
[null,"01431","0656","201604",null,"01431","0658","201509",null,"Transp","1431/Transp/201604",{"$f":"IF(J896=0,0,+CONCATENATE(VLOOKUP(B896,Cadastro!$Q$3:$R$162,2,FALSE),\"/\",J896,\"/\",D896))","v":"80/Transp/201604"},"Transp/201604","1431/201604","1431/0656/201604","80/201604","80/0656/201604","0656/201604","Transp","1431/Transp/201509",{"$f":"+CONCATENATE(VLOOKUP(F896,Cadastro!$Q$3:$R$162,2,FALSE),\"/\",S896,\"/\",H896)","v":"80/Transp/201509"},"Transp/201509","1431/201509","1431/0658/201509","80/201509","80/0658/201509","0658/201509",0,0,0,-144497.54,0,33894.479999999981,0,204701,0,17.84]
[null,"01431","0656","201605",null,"01431","0658","201510",null,"Transp","1431/Transp/201605",{"$f":"IF(J897=0,0,+CONCATENATE(VLOOKUP(B897,Cadastro!$Q$3:$R$162,2,FALSE),\"/\",J897,\"/\",D897))","v":"80/Transp/201605"},"Transp/201605","1431/201605","1431/0656/201605","80/201605","80/0656/201605","0656/201605","Transp","1431/Transp/201510",{"$f":"+CONCATENATE(VLOOKUP(F897,Cadastro!$Q$3:$R$162,2,FALSE),\"/\",S897,\"/\",H897)","v":"80/Transp/201510"},"Transp/201510","1431/201510","1431/0658/201510","80/201510","80/0658/201510","0658/201510",0,0,0,-150441,0,33897.420000000013,0,1870,0,18.440000000000001]
[null,"01431","0656","201606",null,"01431","0658","201511",null,"Transp","1431/Transp/201606",{"$f":"IF(J898=0,0,+CONCATENATE(VLOOKUP(B898,Cadastro!$Q$3:$R$162,2,FALSE),\"/\",J898,\"/\",D898))","v":"80/Transp/201606"},"Transp/201606","1431/201606","1431/0656/201606","80/201606","80/0656/201606","0656/201606","Transp","1431/Transp/201511",{"$f":"+CONCATENATE(VLOOKUP(F898,Cadastro!$Q$3:$R$162,2,FALSE),\"/\",S898,\"/\",H898)","v":"80/Transp/201511"},"Transp/201511","1431/201511","1431/0658/201511","80/201511","80/0658/201511","0658/201511",0,0,0,-144497.53,0,33894.489999999991,0,10569,0,17.84]
[null,"01431","0656","201607",null,"01431","0658","201512",null,"Transp","1431/Transp/201607",{"$f":"IF(J899=0,0,+CONCATENATE(VLOOKUP(B899,Cadastro!$Q$3:$R$162,2,FALSE),\"/\",J899,\"/\",D899))","v":"80/Transp/201607"},"Transp/201607","1431/201607","1431/0656/201607","80/201607","80/0656/201607","0656/201607","Transp","1431/Transp/201512",{"$f":"+CONCATENATE(VLOOKUP(F899,Cadastro!$Q$3:$R$162,2,FALSE),\"/\",S899,\"/\",H899)","v":"80/Transp/201512"},"Transp/201512","1431/201512","1431/0658/201512","80/201512","80/0658/201512","0658/201512",0,48822.85,0,-106009.35999999999,0,33788.920000000013,0,56050.119999999995,0,18.43]
[null,"01431","0656","201608",null,"01431","0748","201501",null,"Transp","1431/Transp/201608",{"$f":"IF(J900=0,0,+CONCATENATE(VLOOKUP(B900,Cadastro!$Q$3:$R$162,2,FALSE),\"/\",J900,\"/\",D900))","v":"80/Transp/201608"},"Transp/201608","1431/201608","1431/0656/201608","80/201608","80/0656/201608","0656/201608","RF","1431/RF/201501",{"$f":"+CONCATENATE(VLOOKUP(F900,Cadastro!$Q$3:$R$162,2,FALSE),\"/\",S900,\"/\",H900)","v":"80/RF/201501"},"RF/201501","1431/201501","1431/0748/201501","80/201501","80/0748/201501","0748/201501",0,0,0,0,0,0,0,0,0,0]
[null,"01431","0656","201609",null,"01431","0748","201502",null,{"$f":"IF(C901=0,0,+VLOOKUP(C901,$AQ$4:$AR$130,2,FALSE))","v":"Transp"},{"$f":"IF(J901=0,0,+CONCATENATE(VALUE(B901),\"/\",J901,\"/\",D901))","v":"1431/Transp/201609"},{"$f":"IF(J901=0,0,+CONCATENATE(VLOOKUP(B901,Cadastro!$Q$3:$R$162,2,FALSE),\"/\",J901,\"/\",D901))","v":"80/Transp/201609"},{"$f":"IF(J901=0,0,+CONCATENATE(J901,\"/\",D901))","v":"Transp/201609"},"1431/201609","1431/0656/201609","80/201609","80/0656/201609","0656/201609",{"$f":"+VLOOKUP(G901,$AQ$4:$AR$130,2,FALSE)","v":"RF"},{"$f":"+CONCATENATE(VALUE(F901),\"/\",S901,\"/\",H901)","v":"1431/RF/201502"},{"$f":"+CONCATENATE(VLOOKUP(F901,Cadastro!$Q$3:$R$162,2,FALSE),\"/\",S901,\"/\",H901)","v":"80/RF/201502"},"RF/201502","1431/201502","1431/0748/201502","80/201502","80/0748/201502","0748/201502",0,0,0,0,0,0,0,0,0,0]
[null,"01431","0656","201610",null,"01431","0748","201503",null,"Transp","1431/Transp/201610",{"$f":"IF(J902=0,0,+CONCATENATE(VLOOKUP(B902,Cadastro!$Q$3:$R$162,2,FALSE),\"/\",J902,\"/\",D902))","v":"80/Transp/201610"},"Transp/201610","1431/201610","1431/0656/201610","80/201610","80/0656/201610","0656/201610","RF","1431/RF/201503",{"$f":"+CONCATENATE(VLOOKUP(F902,Cadastro!$Q$3:$R$162,2,FALSE),\"/\",S902,\"/\",H902)","v":"80/RF/201503"},{"$f":"+CONCATENATE(S902,\"/\",H902)","v":"RF/201503"},"1431/201503","1431/0748/201503","80/201503","80/0748/201503","0748/201503",0,0,0,0,0,0,0,0,0,0]
[null,"01431","0656","201611",null,"01431","0748","201504",null,"Transp","1431/Transp/201611",{"$f":"IF(J903=0,0,+CONCATENATE(VLOOKUP(B903,Cadastro!$Q$3:$R$162,2,FALSE),\"/\",J903,\"/\",D903))","v":"80/Transp/201611"},"Transp/201611","1431/201611","1431/0656/201611","80/201611","80/0656/201611","0656/201611","RF","1431/RF/201504",{"$f":"+CONCATENATE(VLOOKUP(F903,Cadastro!$Q$3:$R$162,2,FALSE),\"/\",S903,\"/\",H903)","v":"80/RF/201504"},"RF/201504","1431/201504","1431/0748/201504","80/201504","80/0748/201504","0748/201504",0,0,0,0,0,0,0,0,0,0]
[null,"01431","0656","201612",null,"01431","0748","201505",null,"Transp","1431/Transp/201612",{"$f":"IF(J904=0,0,+CONCATENATE(VLOOKUP(B904,Cadastro!$Q$3:$R$162,2,FALSE),\"/\",J904,\"/\",D904))","v":"80/Transp/201612"},"Transp/201612","1431/201612","1431/0656/201612","80/201612","80/0656/201612","0656/201612","RF","1431/RF/201505",{"$f":"+CONCATENATE(VLOOKUP(F904,Cadastro!$Q$3:$R$162,2,FALSE),\"/\",S904,\"/\",H904)","v":"80/RF/201505"},"RF/201505","1431/201505","1431/0748/201505","80/201505","80/0748/201505","0748/201505",0,0,0,0,0,0,0,0,0,0]
[null,"01431","0658","201601",null,"01431","0748","201506",null,"Transp","1431/Transp/201601",{"$f":"IF(J905=0,0,+CONCATENATE(VLOOKUP(B905,Cadastro!$Q$3:$R$162,2,FALSE),\"/\",J905,\"/\",D905))","v":"80/Transp/201601"},"Transp/201601","1431/201601","1431/0658/201601","80/201601","80/0658/201601","0658/201601","RF","1431/RF/201506",{"$f":"+CONCATENATE(VLOOKUP(F905,Cadastro!$Q$3:$R$162,2,FALSE),\"/\",S905,\"/\",H905)","v":"80/RF/201506"},"RF/201506","1431/201506","1431/0748/201506","80/201506","80/0748/201506","0748/201506",-48822.85,0,-44512.84,0,27.300000000000182,0,13319.700000000012,0,0,0]
[null,"01431","0658","201602",null,"01431","0748","201507",null,"Transp","1431/Transp/201602",{"$f":"IF(J906=0,0,+CONCATENATE(VLOOKUP(B906,Cadastro!$Q$3:$R$162,2,FALSE),\"/\",J906,\"/\",D906))","v":"80/Transp/201602"},"Transp/201602","1431/201602","1431/0658/201602","80/201602","80/0658/201602","0658/201602","RF","1431/RF/201507",{"$f":"+CONCATENATE(VLOOKUP(F906,Cadastro!$Q$3:$R$162,2,FALSE),\"/\",S906,\"/\",H906)","v":"80/RF/201507"},"RF/201507","1431/201507","1431/0748/201507","80/201507","80/0748/201507","0748/201507",0,0,0,0,0,0,8756.3099999999977,0,0,0]
[null,"01431","0658","201603",null,"01431","0748","201508",null,"Transp","1431/Transp/201603",{"$f":"IF(J907=0,0,+CONCATENATE(VLOOKUP(B907,Cadastro!$Q$3:$R$162,2,FALSE),\"/\",J907,\"/\",D907))","v":"80/Transp/201603"},"Transp/201603","1431/201603","1431/0658/201603","80/201603","80/0658/201603","0658/201603","RF","1431/RF/201508",{"$f":"+CONCATENATE(VLOOKUP(F907,Cadastro!$Q$3:$R$162,2,FALSE),\"/\",S907,\"/\",H907)","v":"80/RF/201508"},"RF/201508","1431/201508","1431/0748/201508","80/201508","80/0748/201508","0748/201508",0,0,0,0,0,0,1113.83,0,0,0]
[null,"01431","0658","201604",null,"01431","0748","201509",null,"Transp","1431/Transp/201604",{"$f":"IF(J908=0,0,+CONCATENATE(VLOOKUP(B908,Cadastro!$Q$3:$R$162,2,FALSE),\"/\",J908,\"/\",D908))","v":"80/Transp/201604"},"Transp/201604","1431/201604","1431/0658/201604","80/201604","80/0658/201604","0658/201604","RF","1431/RF/201509",{"$f":"+CONCATENATE(VLOOKUP(F908,Cadastro!$Q$3:$R$162,2,FALSE),\"/\",S908,\"/\",H908)","v":"80/RF/201509"},"RF/201509","1431/201509","1431/0748/201509","80/201509","80/0748/201509","0748/201509",1294988.04,0,931489.55,0,66988,0,-13995.559999999998,0,43.05,0]
[null,"01431","0658","201605",null,"01431","0748","201510",null,"Transp","1431/Transp/201605",{"$f":"IF(J909=0,0,+CONCATENATE(VLOOKUP(B909,Cadastro!$Q$3:$R$162,2,FALSE),\"/\",J909,\"/\",D909))","v":"80/Transp/201605"},"Transp/201605","1431/201605","1431/0658/201605","80/201605","80/0658/201605","0658/201605","RF","1431/RF/201510",{"$f":"+CONCATENATE(VLOOKUP(F909,Cadastro!$Q$3:$R$162,2,FALSE),\"/\",S909,\"/\",H909)","v":"80/RF/201510"},"RF/201510","1431/201510","1431/0748/201510","80/201510","80/0748/201510","0748/201510",265245.46000000002,0,172857.19,0,43522.180000000008,0,154932.69999999998,0,13.59,0]
[null,"01431","0658","201606",null,"01431","0748","201511",null,"Transp","1431/Transp/201606",{"$f":"IF(J910=0,0,+CONCATENATE(VLOOKUP(B910,Cadastro!$Q$3:$R$162,2,FALSE),\"/\",J910,\"/\",D910))","v":"80/Transp/201606"},"Transp/201606","1431/201606","1431/0658/201606","80/201606","80/0658/201606","0658/201606","RF","1431/RF/201511",{"$f":"+CONCATENATE(VLOOKUP(F910,Cadastro!$Q$3:$R$162,2,FALSE),\"/\",S910,\"/\",H910)","v":"80/RF/201511"},"RF/201511","1431/201511","1431/0748/201511","80/201511","80/0748/201511","0748/201511",71885.789999999994,0,-18608.920000000013,0,22551.209999999992,0,110030.60999999987,0,12.37,0]
[null,"01431","0658","201607",null,"01431","0748","201512",null,"Transp","1431/Transp/201607",{"$f":"IF(J911=0,0,+CONCATENATE(VLOOKUP(B911,Cadastro!$Q$3:$R$162,2,FALSE),\"/\",J911,\"/\",D911))","v":"80/Transp/201607"},"Transp/201607","1431/201607","1431/0658/201607","80/201607","80/0658/201607","0658/201607","RF","1431/RF/201512",{"$f":"+CONCATENATE(VLOOKUP(F911,Cadastro!$Q$3:$R$162,2,FALSE),\"/\",S911,\"/\",H911)","v":"80/RF/201512"},"RF/201512","1431/201512","1431/0748/201512","80/201512","80/0748/201512","0748/201512",76581.22,854000,-50701.78,854000,-10238.970000000001,0,-89908.479999999981,0,13.18,0]
[null,"01431","0658","201608",null,"01431","0749","201511",null,"Transp","1431/Transp/201608",{"$f":"IF(J912=0,0,+CONCATENATE(VLOOKUP(B912,Cadastro!$Q$3:$R$162,2,FALSE),\"/\",J912,\"/\",D912))","v":"80/Transp/201608"},"Transp/201608","1431/201608","1431/0658/201608","80/201608","80/0658/201608","0658/201608","RF","1431/RF/201511",{"$f":"+CONCATENATE(VLOOKUP(F912,Cadastro!$Q$3:$R$162,2,FALSE),\"/\",S912,\"/\",H912)","v":"80/RF/201511"},"RF/201511","1431/201511","1431/0749/201511","80/201511","80/0749/201511","0749/201511",-205872.22,0,-284067.19,0,10603.709999999992,0,-55618.660000000149,0,8.66,0]
[null,"01431","0658","201609",null,"01431","0749","201512",null,"Transp","1431/Transp/201609",{"$f":"IF(J913=0,0,+CONCATENATE(VLOOKUP(B913,Cadastro!$Q$3:$R$162,2,FALSE),\"/\",J913,\"/\",D913))","v":"80/Transp/201609"},"Transp/201609","1431/201609","1431/0658/201609","80/201609","80/0658/201609","0658/201609","RF","1431/RF/201512",{"$f":"+CONCATENATE(VLOOKUP(F913,Cadastro!$Q$3:$R$162,2,FALSE),\"/\",S913,\"/\",H913)","v":"80/RF/201512"},"RF/201512","1431/201512","1431/0749/201512","80/201512","80/0749/201512","0749/201512",-8490.6299999999992,0,-97026.450000000012,0,16472.459999999992,0,5709.0799999999581,0,10.02,0]
[null,"01431","0658","201610",null,"01431","0775","201501",null,"Transp","1431/Transp/201610",{"$f":"IF(J914=0,0,+CONCATENATE(VLOOKUP(B914,Cadastro!$Q$3:$R$162,2,FALSE),\"/\",J914,\"/\",D914))","v":"80/Transp/201610"},"Transp/201610","1431/201610","1431/0658/201610","80/201610","80/0658/201610","0658/201610","RF","1431/RF/201501",{"$f":"+CONCATENATE(VLOOKUP(F914,Cadastro!$Q$3:$R$162,2,FALSE),\"/\",S914,\"/\",H914)","v":"80/RF/201501"},"RF/201501","1431/201501","1431/0775/201501","80/201501","80/0775/201501","0775/201501",-76841.41,-0.03,-162443.15000000002,-1874420.91,16100.029999999999,-1776712.8099999998,14359.489999999991,-571.56999999999994,9.6300000000000008,17830.59]
[null,"01431","0658","201611",null,"01431","0775","201502",null,"Transp","1431/Transp/201611",{"$f":"IF(J915=0,0,+CONCATENATE(VLOOKUP(B915,Cadastro!$Q$3:$R$162,2,FALSE),\"/\",J915,\"/\",D915))","v":"80/Transp/201611"},"Transp/201611","1431/201611","1431/0658/201611","80/201611","80/0658/201611","0658/201611","RF","1431/RF/201502",{"$f":"+CONCATENATE(VLOOKUP(F915,Cadastro!$Q$3:$R$162,2,FALSE),\"/\",S915,\"/\",H915)","v":"80/RF/201502"},"RF/201502","1431/201502","1431/0775/201502","80/201502","80/0775/201502","0775/201502",-36919.39,0.03,-183133.52000000002,1731746.83,-44048.740000000005,1819999.1800000002,-59525.47000000003,-0.45,9.82,16104.95]
[null,"01431","0658","201612",null,"01431","0775","201503",null,"Transp","1431/Transp/201612",{"$f":"IF(J916=0,0,+CONCATENATE(VLOOKUP(B916,Cadastro!$Q$3:$R$162,2,FALSE),\"/\",J916,\"/\",D916))","v":"80/Transp/201612"},"Transp/201612","1431/201612","1431/0658/201612","80/201612","80/0658/201612","0658/201612","RF","1431/RF/201503",{"$f":"+CONCATENATE(VLOOKUP(F916,Cadastro!$Q$3:$R$162,2,FALSE),\"/\",S916,\"/\",H916)","v":"80/RF/201503"},"RF/201503","1431/201503","1431/0775/201503","80/201503","80/0775/201503","0775/201503",1338592.1000000001,-0.12,1241327.28,-74584.37999999999,19889.37999999999,23123.87000000001,15133.899999999907,152.42000000000002,2053.38,17830.55]
[null,"01431","0748","201601",null,"01431","0775","201504",null,"RF","1431/RF/201601",{"$f":"IF(J917=0,0,+CONCATENATE(VLOOKUP(B917,Cadastro!$Q$3:$R$162,2,FALSE),\"/\",J917,\"/\",D917))","v":"80/RF/201601"},"RF/201601","1431/201601","1431/0748/201601","80/201601","80/0748/201601","0748/201601","RF","1431/RF/201504",{"$f":"+CONCATENATE(VLOOKUP(F917,Cadastro!$Q$3:$R$162,2,FALSE),\"/\",S917,\"/\",H917)","v":"80/RF/201504"},"RF/201504","1431/201504","1431/0775/201504","80/201504","80/0775/201504","0775/201504",232894.11,0.02,187110.65999999997,-543365.62,25364.089999999997,-448809.44,0,-290.32000000000005,12450.82,17255.32]
[null,"01431","0748","201602",null,"01431","0775","201505",null,"RF","1431/RF/201602",{"$f":"IF(J918=0,0,+CONCATENATE(VLOOKUP(B918,Cadastro!$Q$3:$R$162,2,FALSE),\"/\",J918,\"/\",D918))","v":"80/RF/201602"},"RF/201602","1431/201602","1431/0748/201602","80/201602","80/0748/201602","0748/201602","RF","1431/RF/201505",{"$f":"+CONCATENATE(VLOOKUP(F918,Cadastro!$Q$3:$R$162,2,FALSE),\"/\",S918,\"/\",H918)","v":"80/RF/201505"},"RF/201505","1431/201505","1431/0775/201505","80/201505","80/0775/201505","0775/201505",-21086.61,-2132.02,-63916.28,-75277.05,23727.710000000006,22430.97,0,0,11647.54,17510.68]
[null,"01431","0748","201603",null,"01431","0775","201506",null,"RF","1431/RF/201603",{"$f":"IF(J919=0,0,+CONCATENATE(VLOOKUP(B919,Cadastro!$Q$3:$R$162,2,FALSE),\"/\",J919,\"/\",D919))","v":"80/RF/201603"},"RF/201603","1431/201603","1431/0748/201603","80/201603","80/0748/201603","0748/201603","RF","1431/RF/201506",{"$f":"+CONCATENATE(VLOOKUP(F919,Cadastro!$Q$3:$R$162,2,FALSE),\"/\",S919,\"/\",H919)","v":"80/RF/201506"},"RF/201506","1431/201506","1431/0775/201506","80/201506","80/0775/201506","0775/201506",-17383.79,0.02,-63167.22,-72419.399999999994,25364.109999999993,22136.740000000005,0,0,12450.82,17255.36]
[null,"01431","0748","201604",null,"01431","0775","201507",null,"RF","1431/RF/201604",{"$f":"IF(J920=0,0,+CONCATENATE(VLOOKUP(B920,Cadastro!$Q$3:$R$162,2,FALSE),\"/\",J920,\"/\",D920))","v":"80/RF/201604"},"RF/201604","1431/201604","1431/0748/201604","80/201604","80/0748/201604","0748/201604","RF","1431/RF/201507",{"$f":"+CONCATENATE(VLOOKUP(F920,Cadastro!$Q$3:$R$162,2,FALSE),\"/\",S920,\"/\",H920)","v":"80/RF/201507"},"RF/201507","1431/201507","1431/0775/201507","80/201507","80/0775/201507","0775/201507",-16340.74,540683.9,-60647.31,343527.59,24545.890000000007,-66522.94,0,0,12049.18,19476.849999999999]
[null,"01431","0748","201605",null,"01431","0775","201508",null,"RF","1431/RF/201605",{"$f":"IF(J921=0,0,+CONCATENATE(VLOOKUP(B921,Cadastro!$Q$3:$R$162,2,FALSE),\"/\",J921,\"/\",D921))","v":"80/RF/201605"},"RF/201605","1431/201605","1431/0748/201605","80/201605","80/0748/201605","0748/201605","RF","1431/RF/201508",{"$f":"+CONCATENATE(VLOOKUP(F921,Cadastro!$Q$3:$R$162,2,FALSE),\"/\",S921,\"/\",H921)","v":"80/RF/201508"},"RF/201508","1431/201508","1431/0775/201508","80/201508","80/0775/201508","0775/201508",-49861.55,62774.06,-89145.34,-32799.39,21763.29,12784.949999999997,0,36.11,10683.24,18347.93]
[null,"01431","0748","201606",null,"01431","0775","201509",null,"RF","1431/RF/201606",{"$f":"IF(J922=0,0,+CONCATENATE(VLOOKUP(B922,Cadastro!$Q$3:$R$162,2,FALSE),\"/\",J922,\"/\",D922))","v":"80/RF/201606"},"RF/201606","1431/201606","1431/0748/201606","80/201606","80/0748/201606","0748/201606","RF","1431/RF/201509",{"$f":"+CONCATENATE(VLOOKUP(F922,Cadastro!$Q$3:$R$162,2,FALSE),\"/\",S922,\"/\",H922)","v":"80/RF/201509"},"RF/201509","1431/201509","1431/0775/201509","80/201509","80/0775/201509","0775/201509",-24136.1,0,-66620.34,-93382.5,23536.32,11779.619999999995,0,5.8400000000000007,11553.6,17765.04]
[null,"01431","0748","201607",null,"01431","0775","201510",null,"RF","1431/RF/201607",{"$f":"IF(J923=0,0,+CONCATENATE(VLOOKUP(B923,Cadastro!$Q$3:$R$162,2,FALSE),\"/\",J923,\"/\",D923))","v":"80/RF/201607"},"RF/201607","1431/201607","1431/0748/201607","80/201607","80/0748/201607","0748/201607","RF","1431/RF/201510",{"$f":"+CONCATENATE(VLOOKUP(F923,Cadastro!$Q$3:$R$162,2,FALSE),\"/\",S923,\"/\",H923)","v":"80/RF/201510"},"RF/201510","1431/201510","1431/0775/201510","80/201510","80/0775/201510","0775/201510",-18754.16,0.04,-62654.509999999995,-88278.94,24320.890000000007,20388.440000000002,0,6.07,11938.71,18357.14]
[null,"01431","0748","201608",null,"01431","0775","201511",null,"RF","1431/RF/201608",{"$f":"IF(J924=0,0,+CONCATENATE(VLOOKUP(B924,Cadastro!$Q$3:$R$162,2,FALSE),\"/\",J924,\"/\",D924))","v":"80/RF/201608"},"RF/201608","1431/201608","1431/0748/201608","80/201608","80/0748/201608","0748/201608","RF","1431/RF/201511",{"$f":"+CONCATENATE(VLOOKUP(F924,Cadastro!$Q$3:$R$162,2,FALSE),\"/\",S924,\"/\",H924)","v":"80/RF/201511"},"RF/201511","1431/201511","1431/0775/201511","80/201511","80/0775/201511","0775/201511",-6925.34,0.01,-50825.72,-85907.430000000008,24320.860000000008,19254.699999999997,292810.96000000002,0.01,11938.72,17765.04]
[null,"01431","0748","201609",null,"01431","0775","201512",null,"RF","1431/RF/201609",{"$f":"IF(J925=0,0,+CONCATENATE(VLOOKUP(B925,Cadastro!$Q$3:$R$162,2,FALSE),\"/\",J925,\"/\",D925))","v":"80/RF/201609"},"RF/201609","1431/201609","1431/0748/201609","80/201609","80/0748/201609","0748/201609","RF","1431/RF/201512",{"$f":"+CONCATENATE(VLOOKUP(F925,Cadastro!$Q$3:$R$162,2,FALSE),\"/\",S925,\"/\",H925)","v":"80/RF/201512"},"RF/201512","1431/201512","1431/0775/201512","80/201512","80/0775/201512","0775/201512",-128298.44,1046505.75,-137906.29,894777.38,5322.76,150166.51,0,8400.3799999999992,2612.86,18357.22]
[null,"01431","0748","201610",null,"01431","0776","201501",null,"RF","1431/RF/201610",{"$f":"IF(J926=0,0,+CONCATENATE(VLOOKUP(B926,Cadastro!$Q$3:$R$162,2,FALSE),\"/\",J926,\"/\",D926))","v":"80/RF/201610"},"RF/201610","1431/201610","1431/0748/201610","80/201610","80/0748/201610","0748/201610","RF","1431/RF/201501",{"$f":"+CONCATENATE(VLOOKUP(F926,Cadastro!$Q$3:$R$162,2,FALSE),\"/\",S926,\"/\",H926)","v":"80/RF/201501"},"RF/201501","1431/201501","1431/0776/201501","80/201501","80/0776/201501","0776/201501",-38328.36,-119538.04,-70767.19,-257943.45,17971.159999999996,15041.059999999998,-18295.05,3.9600000000000004,8821.76,15.14]
[null,"01431","0748","201611",null,"01431","0776","201502",null,"RF","1431/RF/201611",{"$f":"IF(J927=0,0,+CONCATENATE(VLOOKUP(B927,Cadastro!$Q$3:$R$162,2,FALSE),\"/\",J927,\"/\",D927))","v":"80/RF/201611"},"RF/201611","1431/201611","1431/0748/201611","80/201611","80/0748/201611","0748/201611","RF","1431/RF/201502",{"$f":"+CONCATENATE(VLOOKUP(F927,Cadastro!$Q$3:$R$162,2,FALSE),\"/\",S927,\"/\",H927)","v":"80/RF/201502"},"RF/201502","1431/201502","1431/0776/201502","80/201502","80/0776/201502","0776/201502",-16260.92,134001.68,-47653.34,6638.0399999999936,17391.450000000004,29846.449999999997,-274515.90999999997,0.34,8537.17,13.62]
[null,"01431","0748","201612",null,"01431","0776","201503",null,"RF","1431/RF/201612",{"$f":"IF(J928=0,0,+CONCATENATE(VLOOKUP(B928,Cadastro!$Q$3:$R$162,2,FALSE),\"/\",J928,\"/\",D928))","v":"80/RF/201612"},"RF/201612","1431/201612","1431/0748/201612","80/201612","80/0748/201612","0748/201612","RF","1431/RF/201503",{"$f":"+CONCATENATE(VLOOKUP(F928,Cadastro!$Q$3:$R$162,2,FALSE),\"/\",S928,\"/\",H928)","v":"80/RF/201503"},"RF/201503","1431/201503","1431/0776/201503","80/201503","80/0776/201503","0776/201503",-18208.3,-477239.9,-50647.130000000005,-613237.26,17971.159999999996,-10066.37999999999,0,-0.38,8821.75,15.2]
[null,"01431","0749","201601",null,"01431","0776","201504",null,"RF","1431/RF/201601",{"$f":"IF(J929=0,0,+CONCATENATE(VLOOKUP(B929,Cadastro!$Q$3:$R$162,2,FALSE),\"/\",J929,\"/\",D929))","v":"80/RF/201601"},"RF/201601","1431/201601","1431/0749/201601","80/201601","80/0749/201601","0749/201601","RF","1431/RF/201504",{"$f":"+CONCATENATE(VLOOKUP(F929,Cadastro!$Q$3:$R$162,2,FALSE),\"/\",S929,\"/\",H929)","v":"80/RF/201504"},"RF/201504","1431/201504","1431/0776/201504","80/201504","80/0776/201504","0776/201504",0,82254.37,0,-255094.09999999998,0,-173625.98999999996,0,-225.26,0,14.66]
[null,"01431","0749","201602",null,"01431","0776","201505",null,"RF","1431/RF/201602",{"$f":"IF(J930=0,0,+CONCATENATE(VLOOKUP(B930,Cadastro!$Q$3:$R$162,2,FALSE),\"/\",J930,\"/\",D930))","v":"80/RF/201602"},"RF/201602","1431/201602","1431/0749/201602","80/201602","80/0749/201602","0749/201602","RF","1431/RF/201505",{"$f":"+CONCATENATE(VLOOKUP(F930,Cadastro!$Q$3:$R$162,2,FALSE),\"/\",S930,\"/\",H930)","v":"80/RF/201505"},"RF/201505","1431/201505","1431/0776/201505","80/201505","80/0776/201505","0776/201505",0,194553.09,0,54033.239999999991,0,37087.53,0,-1.35,0,15.1]
[null,"01431","0749","201603",null,"01431","0776","201506",null,"RF","1431/RF/201603",{"$f":"IF(J931=0,0,+CONCATENATE(VLOOKUP(B931,Cadastro!$Q$3:$R$162,2,FALSE),\"/\",J931,\"/\",D931))","v":"80/RF/201603"},"RF/201603","1431/201603","1431/0749/201603","80/201603","80/0749/201603","0749/201603","RF","1431/RF/201506",{"$f":"+CONCATENATE(VLOOKUP(F931,Cadastro!$Q$3:$R$162,2,FALSE),\"/\",S931,\"/\",H931)","v":"80/RF/201506"},"RF/201506","1431/201506","1431/0776/201506","80/201506","80/0776/201506","0776/201506",0,65242.6,0,-70157.19,0,27014.089999999997,0,16.510000000000002,0,14.71]
[null,"01431","0749","201604",null,"01431","0776","201507",null,"RF","1431/RF/201604",{"$f":"IF(J932=0,0,+CONCATENATE(VLOOKUP(B932,Cadastro!$Q$3:$R$162,2,FALSE),\"/\",J932,\"/\",D932))","v":"80/RF/201604"},"RF/201604","1431/201604","1431/0749/201604","80/201604","80/0749/201604","0749/201604","RF","1431/RF/201507",{"$f":"+CONCATENATE(VLOOKUP(F932,Cadastro!$Q$3:$R$162,2,FALSE),\"/\",S932,\"/\",H932)","v":"80/RF/201507"},"RF/201507","1431/201507","1431/0776/201507","80/201507","80/0776/201507","0776/201507",0,19157.87,0,-164457.27000000002,0,-19499.710000000021,0,-1.63,0,15.11]
[null,"01431","0749","201605",null,"01431","0776","201508",null,"RF","1431/RF/201605",{"$f":"IF(J933=0,0,+CONCATENATE(VLOOKUP(B933,Cadastro!$Q$3:$R$162,2,FALSE),\"/\",J933,\"/\",D933))","v":"80/RF/201605"},"RF/201605","1431/201605","1431/0749/201605","80/201605","80/0749/201605","0749/201605","RF","1431/RF/201508",{"$f":"+CONCATENATE(VLOOKUP(F933,Cadastro!$Q$3:$R$162,2,FALSE),\"/\",S933,\"/\",H933)","v":"80/RF/201508"},"RF/201508","1431/201508","1431/0776/201508","80/201508","80/0776/201508","0776/201508",0,15224.68,0,-131091.94,0,18556.869999999995,0,-504.85,0,74.040000000000006]
[null,"01431","0749","201606",null,"01431","0776","201509",null,"RF","1431/RF/201606",{"$f":"IF(J934=0,0,+CONCATENATE(VLOOKUP(B934,Cadastro!$Q$3:$R$162,2,FALSE),\"/\",J934,\"/\",D934))","v":"80/RF/201606"},"RF/201606","1431/201606","1431/0749/201606","80/201606","80/0749/201606","0749/201606","RF","1431/RF/201509",{"$f":"+CONCATENATE(VLOOKUP(F934,Cadastro!$Q$3:$R$162,2,FALSE),\"/\",S934,\"/\",H934)","v":"80/RF/201509"},"RF/201509","1431/201509","1431/0776/201509","80/201509","80/0776/201509","0776/201509",0,35282.120000000003,0,-106371.83000000002,0,18686.22,0,11.9,0,26.25]
[null,"01431","0749","201607",null,"01431","0776","201510",null,"RF","1431/RF/201607",{"$f":"IF(J935=0,0,+CONCATENATE(VLOOKUP(B935,Cadastro!$Q$3:$R$162,2,FALSE),\"/\",J935,\"/\",D935))","v":"80/RF/201607"},"RF/201607","1431/201607","1431/0749/201607","80/201607","80/0749/201607","0749/201607","RF","1431/RF/201510",{"$f":"+CONCATENATE(VLOOKUP(F935,Cadastro!$Q$3:$R$162,2,FALSE),\"/\",S935,\"/\",H935)","v":"80/RF/201510"},"RF/201510","1431/201510","1431/0776/201510","80/201510","80/0776/201510","0776/201510",0,95030.26,0,-43735.560000000012,0,31474.97,0,-83.429999999999978,0,30.32]
[null,"01431","0749","201608",null,"01431","0776","201511",null,"RF","1431/RF/201608",{"$f":"IF(J936=0,0,+CONCATENATE(VLOOKUP(B936,Cadastro!$Q$3:$R$162,2,FALSE),\"/\",J936,\"/\",D936))","v":"80/RF/201608"},"RF/201608","1431/201608","1431/0749/201608","80/201608","80/0749/201608","0749/201608","RF","1431/RF/201511",{"$f":"+CONCATENATE(VLOOKUP(F936,Cadastro!$Q$3:$R$162,2,FALSE),\"/\",S936,\"/\",H936)","v":"80/RF/201511"},"RF/201511","1431/201511","1431/0776/201511","80/201511","80/0776/201511","0776/201511",0,57511.97,0,-76684.23000000001,0,27634.139999999985,0,0,0,15.22]
[null,"01431","0749","201609",null,"01431","0776","201512",null,"RF","1431/RF/201609",{"$f":"IF(J937=0,0,+CONCATENATE(VLOOKUP(B937,Cadastro!$Q$3:$R$162,2,FALSE),\"/\",J937,\"/\",D937))","v":"80/RF/201609"},"RF/201609","1431/201609","1431/0749/201609","80/201609","80/0749/201609","0749/201609","RF","1431/RF/201512",{"$f":"+CONCATENATE(VLOOKUP(F937,Cadastro!$Q$3:$R$162,2,FALSE),\"/\",S937,\"/\",H937)","v":"80/RF/201512"},"RF/201512","1431/201512","1431/0776/201512","80/201512","80/0776/201512","0776/201512",0,-4607099.28,0,-1169907.4600000004,0,-236725.79000000004,0,24.14,0,-397.22]
[null,"01431","0749","201610",null,"01431","1369","201501",null,"RF","1431/RF/201610",{"$f":"IF(J938=0,0,+CONCATENATE(VLOOKUP(B938,Cadastro!$Q$3:$R$162,2,FALSE),\"/\",J938,\"/\",D938))","v":"80/RF/201610"},"RF/201610","1431/201610","1431/0749/201610","80/201610","80/0749/201610","0749/201610","Pes","1431/Pes/201501",{"$f":"+CONCATENATE(VLOOKUP(F938,Cadastro!$Q$3:$R$162,2,FALSE),\"/\",S938,\"/\",H938)","v":"80/Pes/201501"},"Pes/201501","1431/201501","1431/1369/201501","80/201501","80/1369/201501","1369/201501",0,0,0,0,0,0,0,0,0,0]
[null,"01431","0749","201611",null,"01431","1369","201502",null,"RF","1431/RF/201611",{"$f":"IF(J939=0,0,+CONCATENATE(VLOOKUP(B939,Cadastro!$Q$3:$R$162,2,FALSE),\"/\",J939,\"/\",D939))","v":"80/RF/201611"},"RF/201611","1431/201611","1431/0749/201611","80/201611","80/0749/201611","0749/201611","Pes","1431/Pes/201502",{"$f":"+CONCATENATE(VLOOKUP(F939,Cadastro!$Q$3:$R$162,2,FALSE),\"/\",S939,\"/\",H939)","v":"80/Pes/201502"},"Pes/201502","1431/201502","1431/1369/201502","80/201502","80/1369/201502","1369/201502",0,0,0,0,0,0,0,0,0,0]
[null,"01431","0749","201612",null,"01431","1369","201503",null,"RF","1431/RF/201612",{"$f":"IF(J940=0,0,+CONCATENATE(VLOOKUP(B940,Cadastro!$Q$3:$R$162,2,FALSE),\"/\",J940,\"/\",D940))","v":"80/RF/201612"},"RF/201612","1431/201612","1431/0749/201612","80/201612","80/0749/201612","0749/201612","Pes","1431/Pes/201503",{"$f":"+CONCATENATE(VLOOKUP(F940,Cadastro!$Q$3:$R$162,2,FALSE),\"/\",S940,\"/\",H940)","v":"80/Pes/201503"},"Pes/201503","1431/201503","1431/1369/201503","80/201503","80/1369/201503","1369/201503",0,0,0,0,0,0,0,0,0,0]
[null,"01431","0775","201601",null,"01431","1369","201504",null,"RF","1431/RF/201601",{"$f":"IF(J941=0,0,+CONCATENATE(VLOOKUP(B941,Cadastro!$Q$3:$R$162,2,FALSE),\"/\",J941,\"/\",D941))","v":"80/RF/201601"},"RF/201601","1431/201601","1431/0775/201601","80/201601","80/0775/201601","0775/201601","Pes","1431/Pes/201504",{"$f":"+CONCATENATE(VLOOKUP(F941,Cadastro!$Q$3:$R$162,2,FALSE),\"/\",S941,\"/\",H941)","v":"80/Pes/201504"},"Pes/201504","1431/201504","1431/1369/201504","80/201504","80/1369/201504","1369/201504",64396.800000000003,0,-108509.7,0,-52348.72,0,0,0,18357.22,0]
[null,"01431","0775","201602",null,"01431","1369","201505",null,"RF","1431/RF/201602",{"$f":"IF(J942=0,0,+CONCATENATE(VLOOKUP(B942,Cadastro!$Q$3:$R$162,2,FALSE),\"/\",J942,\"/\",D942))","v":"80/RF/201602"},"RF/201602","1431/201602","1431/0775/201602","80/201602","80/0775/201602","0775/201602","Pes","1431/Pes/201505",{"$f":"+CONCATENATE(VLOOKUP(F942,Cadastro!$Q$3:$R$162,2,FALSE),\"/\",S942,\"/\",H942)","v":"80/Pes/201505"},"Pes/201505","1431/201505","1431/1369/201505","80/201505","80/1369/201505","1369/201505",-14273.62,0,-130833.06,0,-17538.28,0,0,0,17172.830000000002,0]
[null,"01431","0775","201603",null,"01431","1369","201506",null,"RF","1431/RF/201603",{"$f":"IF(J943=0,0,+CONCATENATE(VLOOKUP(B943,Cadastro!$Q$3:$R$162,2,FALSE),\"/\",J943,\"/\",D943))","v":"80/RF/201603"},"RF/201603","1431/201603","1431/0775/201603","80/201603","80/0775/201603","0775/201603","Pes","1431/Pes/201506",{"$f":"+CONCATENATE(VLOOKUP(F943,Cadastro!$Q$3:$R$162,2,FALSE),\"/\",S943,\"/\",H943)","v":"80/Pes/201506"},"Pes/201506","1431/201506","1431/1369/201506","80/201506","80/1369/201506","1369/201506",-18665.2,0,74111.09,0,197997.4,0,-29.85,0,51052.77,0]
[null,"01431","0775","201604",null,"01431","1369","201507",null,"RF","1431/RF/201604",{"$f":"IF(J944=0,0,+CONCATENATE(VLOOKUP(B944,Cadastro!$Q$3:$R$162,2,FALSE),\"/\",J944,\"/\",D944))","v":"80/RF/201604"},"RF/201604","1431/201604","1431/0775/201604","80/201604","80/0775/201604","0775/201604","Pes","1431/Pes/201507",{"$f":"+CONCATENATE(VLOOKUP(F944,Cadastro!$Q$3:$R$162,2,FALSE),\"/\",S944,\"/\",H944)","v":"80/Pes/201507"},"Pes/201507","1431/201507","1431/1369/201507","80/201507","80/1369/201507","1369/201507",-5596.94,0,-91481,0,-108266.7,0,0,0,-267.58999999999997,0]
[null,"01431","0775","201605",null,"01431","1369","201508",null,"RF","1431/RF/201605",{"$f":"IF(J945=0,0,+CONCATENATE(VLOOKUP(B945,Cadastro!$Q$3:$R$162,2,FALSE),\"/\",J945,\"/\",D945))","v":"80/RF/201605"},"RF/201605","1431/201605","1431/0775/201605","80/201605","80/0775/201605","0775/201605","Pes","1431/Pes/201508",{"$f":"+CONCATENATE(VLOOKUP(F945,Cadastro!$Q$3:$R$162,2,FALSE),\"/\",S945,\"/\",H945)","v":"80/Pes/201508"},"Pes/201508","1431/201508","1431/1369/201508","80/201508","80/1369/201508","1369/201508",-23528.25,0,-111832.31,0,96486.63,0,574.32000000000005,0,36764.19,0]
[null,"01431","0775","201606",null,"01431","1369","201509",null,"RF","1431/RF/201606",{"$f":"IF(J946=0,0,+CONCATENATE(VLOOKUP(B946,Cadastro!$Q$3:$R$162,2,FALSE),\"/\",J946,\"/\",D946))","v":"80/RF/201606"},"RF/201606","1431/201606","1431/0775/201606","80/201606","80/0775/201606","0775/201606","Pes","1431/Pes/201509",{"$f":"+CONCATENATE(VLOOKUP(F946,Cadastro!$Q$3:$R$162,2,FALSE),\"/\",S946,\"/\",H946)","v":"80/Pes/201509"},"Pes/201509","1431/201509","1431/1369/201509","80/201509","80/1369/201509","1369/201509",-5993.35,0,-91903.560000000012,0,22684.569999999992,0,-8992.8799999999992,0,9974.7099999999991,0]
[null,"01431","0775","201607",null,"01431","1369","201510",null,"RF","1431/RF/201607",{"$f":"IF(J947=0,0,+CONCATENATE(VLOOKUP(B947,Cadastro!$Q$3:$R$162,2,FALSE),\"/\",J947,\"/\",D947))","v":"80/RF/201607"},"RF/201607","1431/201607","1431/0775/201607","80/201607","80/0775/201607","0775/201607","Pes","1431/Pes/201510",{"$f":"+CONCATENATE(VLOOKUP(F947,Cadastro!$Q$3:$R$162,2,FALSE),\"/\",S947,\"/\",H947)","v":"80/Pes/201510"},"Pes/201510","1431/201510","1431/1369/201510","80/201510","80/1369/201510","1369/201510",47757.22,0,-149219.32999999999,0,-79302.659999999989,0,113646.63000000012,0,16735,0]
[null,"01431","0775","201608",null,"01431","1369","201511",null,"RF","1431/RF/201608",{"$f":"IF(J948=0,0,+CONCATENATE(VLOOKUP(B948,Cadastro!$Q$3:$R$162,2,FALSE),\"/\",J948,\"/\",D948))","v":"80/RF/201608"},"RF/201608","1431/201608","1431/0775/201608","80/201608","80/0775/201608","0775/201608","Pes","1431/Pes/201511",{"$f":"+CONCATENATE(VLOOKUP(F948,Cadastro!$Q$3:$R$162,2,FALSE),\"/\",S948,\"/\",H948)","v":"80/Pes/201511"},"Pes/201511","1431/201511","1431/1369/201511","80/201511","80/1369/201511","1369/201511",121749.16,0,-9335.0599999999977,0,38976.070000000007,0,-113646.63000000012,0,26558.31,0]
[null,"01431","0775","201609",null,"01431","1369","201512",null,"RF","1431/RF/201609",{"$f":"IF(J949=0,0,+CONCATENATE(VLOOKUP(B949,Cadastro!$Q$3:$R$162,2,FALSE),\"/\",J949,\"/\",D949))","v":"80/RF/201609"},"RF/201609","1431/201609","1431/0775/201609","80/201609","80/0775/201609","0775/201609","Pes","1431/Pes/201512",{"$f":"+CONCATENATE(VLOOKUP(F949,Cadastro!$Q$3:$R$162,2,FALSE),\"/\",S949,\"/\",H949)","v":"80/Pes/201512"},"Pes/201512","1431/201512","1431/1369/201512","80/201512","80/1369/201512","1369/201512",-35197.67,0,-297833.82,0,-160087.23000000004,0,0,0,17228.009999999998,0]
[null,"01431","0775","201610",null,"01431","1417","201501",null,"RF","1431/RF/201610",{"$f":"IF(J950=0,0,+CONCATENATE(VLOOKUP(B950,Cadastro!$Q$3:$R$162,2,FALSE),\"/\",J950,\"/\",D950))","v":"80/RF/201610"},"RF/201610","1431/201610","1431/0775/201610","80/201610","80/0775/201610","0775/201610","Mar","1431/Mar/201501",{"$f":"+CONCATENATE(VLOOKUP(F950,Cadastro!$Q$3:$R$162,2,FALSE),\"/\",S950,\"/\",H950)","v":"80/Mar/201501"},"Mar/201501","1431/201501","1431/1417/201501","80/201501","80/1417/201501","1417/201501",62326.15,91832.55,-47360.109999999993,-133939.46999999997,14009.850000000006,-43927.119999999995,0,-1488.44,20039.61,18864.259999999998]
[null,"01431","0775","201611",null,"01431","1417","201502",null,"RF","1431/RF/201611",{"$f":"IF(J951=0,0,+CONCATENATE(VLOOKUP(B951,Cadastro!$Q$3:$R$162,2,FALSE),\"/\",J951,\"/\",D951))","v":"80/RF/201611"},"RF/201611","1431/201611","1431/0775/201611","80/201611","80/0775/201611","0775/201611","Mar","1431/Mar/201502",{"$f":"+CONCATENATE(VLOOKUP(F951,Cadastro!$Q$3:$R$162,2,FALSE),\"/\",S951,\"/\",H951)","v":"80/Mar/201502"},"Mar/201502","1431/201502","1431/1417/201502","80/201502","80/1417/201502","1417/201502",67432.06,1600663.16,-40114.850000000006,1140790.5099999998,13437.559999999998,97571.13,0,22062.459999999992,20115.77,42356.67]
[null,"01431","0775","201612",null,"01431","1417","201503",null,"RF","1431/RF/201612",{"$f":"IF(J952=0,0,+CONCATENATE(VLOOKUP(B952,Cadastro!$Q$3:$R$162,2,FALSE),\"/\",J952,\"/\",D952))","v":"80/RF/201612"},"RF/201612","1431/201612","1431/0775/201612","80/201612","80/0775/201612","0775/201612","Mar","1431/Mar/201503",{"$f":"+CONCATENATE(VLOOKUP(F952,Cadastro!$Q$3:$R$162,2,FALSE),\"/\",S952,\"/\",H952)","v":"80/Mar/201503"},"Mar/201503","1431/201503","1431/1417/201503","80/201503","80/1417/201503","1417/201503",130057.32,60711.85,16483.700000000012,-237273.44999999998,22289.020000000019,32654.290000000037,0,38194.209999999992,22705.97,28748.959999999999]
[null,"01431","0776","201601",null,"01431","1417","201504",null,"RF","1431/RF/201601",{"$f":"IF(J953=0,0,+CONCATENATE(VLOOKUP(B953,Cadastro!$Q$3:$R$162,2,FALSE),\"/\",J953,\"/\",D953))","v":"80/RF/201601"},"RF/201601","1431/201601","1431/0776/201601","80/201601","80/0776/201601","0776/201601","Mar","1431/Mar/201504",{"$f":"+CONCATENATE(VLOOKUP(F953,Cadastro!$Q$3:$R$162,2,FALSE),\"/\",S953,\"/\",H953)","v":"80/Mar/201504"},"Mar/201504","1431/201504","1431/1417/201504","80/201504","80/1417/201504","1417/201504",115948.19,204553.14,-266815.08,-81528.709999999963,-199300.45,33350.160000000033,0,71708.909999999974,15.11,28316.77]
[null,"01431","0776","201602",null,"01431","1417","201505",null,"RF","1431/RF/201602",{"$f":"IF(J954=0,0,+CONCATENATE(VLOOKUP(B954,Cadastro!$Q$3:$R$162,2,FALSE),\"/\",J954,\"/\",D954))","v":"80/RF/201602"},"RF/201602","1431/201602","1431/0776/201602","80/201602","80/0776/201602","0776/201602","Mar","1431/Mar/201505",{"$f":"+CONCATENATE(VLOOKUP(F954,Cadastro!$Q$3:$R$162,2,FALSE),\"/\",S954,\"/\",H954)","v":"80/Mar/201505"},"Mar/201505","1431/201505","1431/1417/201505","80/201505","80/1417/201505","1417/201505",114643.69,0,-158645.88,-292794.93,-56571.260000000009,48641.030000000028,-24.14,0,21.09,30805.91]
[null,"01431","0776","201603",null,"01431","1417","201506",null,"RF","1431/RF/201603",{"$f":"IF(J955=0,0,+CONCATENATE(VLOOKUP(B955,Cadastro!$Q$3:$R$162,2,FALSE),\"/\",J955,\"/\",D955))","v":"80/RF/201603"},"RF/201603","1431/201603","1431/0776/201603","80/201603","80/0776/201603","0776/201603","Mar","1431/Mar/201506",{"$f":"+CONCATENATE(VLOOKUP(F955,Cadastro!$Q$3:$R$162,2,FALSE),\"/\",S955,\"/\",H955)","v":"80/Mar/201506"},"Mar/201506","1431/201506","1431/1417/201506","80/201506","80/1417/201506","1417/201506",-6681.83,892857.4,330243.69,700410.44000000006,648684.84000000008,320531.59999999998,0,-19564.210000000003,74.510000000000005,49876.800000000003]
[null,"01431","0776","201604",null,"01431","1417","201507",null,"RF","1431/RF/201604",{"$f":"IF(J956=0,0,+CONCATENATE(VLOOKUP(B956,Cadastro!$Q$3:$R$162,2,FALSE),\"/\",J956,\"/\",D956))","v":"80/RF/201604"},"RF/201604","1431/201604","1431/0776/201604","80/201604","80/0776/201604","0776/201604","Mar","1431/Mar/201507",{"$f":"+CONCATENATE(VLOOKUP(F956,Cadastro!$Q$3:$R$162,2,FALSE),\"/\",S956,\"/\",H956)","v":"80/Mar/201507"},"Mar/201507","1431/201507","1431/1417/201507","80/201507","80/1417/201507","1417/201507",-2725.94,509062.49,-139222.65,221946.90999999997,22949.680000000022,214860.18,0,27112.960000000003,26.88,47476.44]
[null,"01431","0776","201605",null,"01431","1417","201508",null,"RF","1431/RF/201605",{"$f":"IF(J957=0,0,+CONCATENATE(VLOOKUP(B957,Cadastro!$Q$3:$R$162,2,FALSE),\"/\",J957,\"/\",D957))","v":"80/RF/201605"},"RF/201605","1431/201605","1431/0776/201605","80/201605","80/0776/201605","0776/201605","Mar","1431/Mar/201508",{"$f":"+CONCATENATE(VLOOKUP(F957,Cadastro!$Q$3:$R$162,2,FALSE),\"/\",S957,\"/\",H957)","v":"80/Mar/201508"},"Mar/201508","1431/201508","1431/1417/201508","80/201508","80/1417/201508","1417/201508",-33972.559999999998,458814.45,-174788.78,158595.47000000003,29655.559999999998,226960.80000000005,0,14143.780000000002,18.86,58026.32]
[null,"01431","0776","201606",null,"01431","1417","201509",null,"RF","1431/RF/201606",{"$f":"IF(J958=0,0,+CONCATENATE(VLOOKUP(B958,Cadastro!$Q$3:$R$162,2,FALSE),\"/\",J958,\"/\",D958))","v":"80/RF/201606"},"RF/201606","1431/201606","1431/0776/201606","80/201606","80/0776/201606","0776/201606","Mar","1431/Mar/201509",{"$f":"+CONCATENATE(VLOOKUP(F958,Cadastro!$Q$3:$R$162,2,FALSE),\"/\",S958,\"/\",H958)","v":"80/Mar/201509"},"Mar/201509","1431/201509","1431/1417/201509","80/201509","80/1417/201509","1417/201509",-2793.92,608068.88,-2721492.61,303267.69,309835.52000000002,247031.3,0,13175.8,283.52,56851.42]
[null,"01431","0776","201607",null,"01431","1417","201510",null,"RF","1431/RF/201607",{"$f":"IF(J959=0,0,+CONCATENATE(VLOOKUP(B959,Cadastro!$Q$3:$R$162,2,FALSE),\"/\",J959,\"/\",D959))","v":"80/RF/201607"},"RF/201607","1431/201607","1431/0776/201607","80/201607","80/0776/201607","0776/201607","Mar","1431/Mar/201510",{"$f":"+CONCATENATE(VLOOKUP(F959,Cadastro!$Q$3:$R$162,2,FALSE),\"/\",S959,\"/\",H959)","v":"80/Mar/201510"},"Mar/201510","1431/201510","1431/1417/201510","80/201510","80/1417/201510","1417/201510",-940451.96,567112.82999999996,-1256877.6099999999,178690.07999999996,-525527.73,325885.20999999996,292810.96000000002,304020.87,-19.38,82368.55]
[null,"01431","0776","201608",null,"01431","1417","201511",null,"RF","1431/RF/201608",{"$f":"IF(J960=0,0,+CONCATENATE(VLOOKUP(B960,Cadastro!$Q$3:$R$162,2,FALSE),\"/\",J960,\"/\",D960))","v":"80/RF/201608"},"RF/201608","1431/201608","1431/0776/201608","80/201608","80/0776/201608","0776/201608","Mar","1431/Mar/201511",{"$f":"+CONCATENATE(VLOOKUP(F960,Cadastro!$Q$3:$R$162,2,FALSE),\"/\",S960,\"/\",H960)","v":"80/Mar/201511"},"Mar/201511","1431/201511","1431/1417/201511","80/201511","80/1417/201511","1417/201511",82330.899999999994,462344.87,-41641.850000000006,195195.39,16824.570000000007,217263.2,-292810.96000000002,8052.34,7.85,56551.19]
[null,"01431","0776","201609",null,"01431","1417","201512",null,"RF","1431/RF/201609",{"$f":"IF(J961=0,0,+CONCATENATE(VLOOKUP(B961,Cadastro!$Q$3:$R$162,2,FALSE),\"/\",J961,\"/\",D961))","v":"80/RF/201609"},"RF/201609","1431/201609","1431/0776/201609","80/201609","80/0776/201609","0776/201609","Mar","1431/Mar/201512",{"$f":"+CONCATENATE(VLOOKUP(F961,Cadastro!$Q$3:$R$162,2,FALSE),\"/\",S961,\"/\",H961)","v":"80/Mar/201512"},"Mar/201512","1431/201512","1431/1417/201512","80/201512","80/1417/201512","1417/201512",-36156.050000000003,325643.92,-225561.43,179961.84,-92776.42,173844.92,0,-124236.63999999998,8.41,31024.78]
[null,"01431","0776","201610",null,"01431","1433","201512",null,"RF","1431/RF/201610",{"$f":"IF(J962=0,0,+CONCATENATE(VLOOKUP(B962,Cadastro!$Q$3:$R$162,2,FALSE),\"/\",J962,\"/\",D962))","v":"80/RF/201610"},"RF/201610","1431/201610","1431/0776/201610","80/201610","80/0776/201610","0776/201610","Mar","1431/Mar/201512",{"$f":"+CONCATENATE(VLOOKUP(F962,Cadastro!$Q$3:$R$162,2,FALSE),\"/\",S962,\"/\",H962)","v":"80/Mar/201512"},"Mar/201512","1431/201512","1431/1433/201512","80/201512","80/1433/201512","1433/201512",45634.63,800019.89,-73118.19,546335.14,9490.4899999999907,280388.46999999997,0,0,10.94,0]
[null,"01431","0776","201611",null,"01431","1528","201511",null,"RF","1431/RF/201611",{"$f":"IF(J963=0,0,+CONCATENATE(VLOOKUP(B963,Cadastro!$Q$3:$R$162,2,FALSE),\"/\",J963,\"/\",D963))","v":"80/RF/201611"},"RF/201611","1431/201611","1431/0776/201611","80/201611","80/0776/201611","0776/201611","Aero","1431/Aero/201511",{"$f":"+CONCATENATE(VLOOKUP(F963,Cadastro!$Q$3:$R$162,2,FALSE),\"/\",S963,\"/\",H963)","v":"80/Aero/201511"},"Aero/201511","1431/201511","1431/1528/201511","80/201511","80/1528/201511","1528/201511",48309.56,0,-430325.16,0,-353109.27999999997,0,0,0,11.21,0]
[null,"01431","0776","201612",null,"01431","1528","201512",null,"RF","1431/RF/201612",{"$f":"IF(J964=0,0,+CONCATENATE(VLOOKUP(B964,Cadastro!$Q$3:$R$162,2,FALSE),\"/\",J964,\"/\",D964))","v":"80/RF/201612"},"RF/201612","1431/201612","1431/0776/201612","80/201612","80/0776/201612","0776/201612","Aero","1431/Aero/201512",{"$f":"+CONCATENATE(VLOOKUP(F964,Cadastro!$Q$3:$R$162,2,FALSE),\"/\",S964,\"/\",H964)","v":"80/Aero/201512"},"Aero/201512","1431/201512","1431/1528/201512","80/201512","80/1528/201512","1528/201512",98609.17,0,-199211.78000000003,0,9086.070000000007,0,0,0,24.37,0]
[null,"01431","1369","201601",null,"01431","1535","201503",null,{"$f":"IF(C965=0,0,+VLOOKUP(C965,$AQ$4:$AR$130,2,FALSE))","v":"Pes"},{"$f":"IF(J965=0,0,+CONCATENATE(VALUE(B965),\"/\",J965,\"/\",D965))","v":"1431/Pes/201601"},{"$f":"IF(J965=0,0,+CONCATENATE(VLOOKUP(B965,Cadastro!$Q$3:$R$162,2,FALSE),\"/\",J965,\"/\",D965))","v":"80/Pes/201601"},{"$f":"IF(J965=0,0,+CONCATENATE(J965,\"/\",D965))","v":"Pes/201601"},"1431/201601","1431/1369/201601","80/201601","80/1369/201601","1369/201601",{"$f":"+VLOOKUP(G965,$AQ$4:$AR$130,2,FALSE)","v":"Aero"},{"$f":"+CONCATENATE(VALUE(F965),\"/\",S965,\"/\",H965)","v":"1431/Aero/201503"},{"$f":"+CONCATENATE(VLOOKUP(F965,Cadastro!$Q$3:$R$162,2,FALSE),\"/\",S965,\"/\",H965)","v":"80/Aero/201503"},"Aero/201503","1431/201503","1431/1535/201503","80/201503","80/1535/201503","1535/201503",0,0,0,0,0,0,0,0,0,0]
[null,"01431","1369","201602",null,"01431","1535","201504",null,"Pes","1431/Pes/201602",{"$f":"IF(J966=0,0,+CONCATENATE(VLOOKUP(B966,Cadastro!$Q$3:$R$162,2,FALSE),\"/\",J966,\"/\",D966))","v":"80/Pes/201602"},"Pes/201602","1431/201602","1431/1369/201602","80/201602","80/1369/201602","1369/201602","Aero","1431/Aero/201504",{"$f":"+CONCATENATE(VLOOKUP(F966,Cadastro!$Q$3:$R$162,2,FALSE),\"/\",S966,\"/\",H966)","v":"80/Aero/201504"},{"$f":"+CONCATENATE(S966,\"/\",H966)","v":"Aero/201504"},"1431/201504","1431/1535/201504","80/201504","80/1535/201504","1535/201504",0,0,0,0,0,0,0,0,0,0]
[null,"01431","1369","201603",null,"01431","1535","201505",null,"Pes","1431/Pes/201603",{"$f":"IF(J967=0,0,+CONCATENATE(VLOOKUP(B967,Cadastro!$Q$3:$R$162,2,FALSE),\"/\",J967,\"/\",D967))","v":"80/Pes/201603"},"Pes/201603","1431/201603","1431/1369/201603","80/201603","80/1369/201603","1369/201603","Aero","1431/Aero/201505",{"$f":"+CONCATENATE(VLOOKUP(F967,Cadastro!$Q$3:$R$162,2,FALSE),\"/\",S967,\"/\",H967)","v":"80/Aero/201505"},"Aero/201505","1431/201505","1431/1535/201505","80/201505","80/1535/201505","1535/201505",0,0,0,0,0,0,0,0,0,0]
[null,"01431","1369","201604",null,"01431","1535","201506",null,"Pes","1431/Pes/201604",{"$f":"IF(J968=0,0,+CONCATENATE(VLOOKUP(B968,Cadastro!$Q$3:$R$162,2,FALSE),\"/\",J968,\"/\",D968))","v":"80/Pes/201604"},"Pes/201604","1431/201604","1431/1369/201604","80/201604","80/1369/201604","1369/201604","Aero","1431/Aero/201506",{"$f":"+CONCATENATE(VLOOKUP(F968,Cadastro!$Q$3:$R$162,2,FALSE),\"/\",S968,\"/\",H968)","v":"80/Aero/201506"},"Aero/201506","1431/201506","1431/1535/201506","80/201506","80/1535/201506","1535/201506",0,0,0,0,0,0,0,0,0,0]
[null,"01431","1369","201605",null,"01431","1535","201507",null,"Pes","1431/Pes/201605",{"$f":"IF(J969=0,0,+CONCATENATE(VLOOKUP(B969,Cadastro!$Q$3:$R$162,2,FALSE),\"/\",J969,\"/\",D969))","v":"80/Pes/201605"},"Pes/201605","1431/201605","1431/1369/201605","80/201605","80/1369/201605","1369/201605","Aero","1431/Aero/201507",{"$f":"+CONCATENATE(VLOOKUP(F969,Cadastro!$Q$3:$R$162,2,FALSE),\"/\",S969,\"/\",H969)","v":"80/Aero/201507"},"Aero/201507","1431/201507","1431/1535/201507","80/201507","80/1535/201507","1535/201507",0,0,0,0,0,0,0,0,0,0]
[null,"01431","1369","201606",null,"01431","1535","201508",null,"Pes","1431/Pes/201606",{"$f":"IF(J970=0,0,+CONCATENATE(VLOOKUP(B970,Cadastro!$Q$3:$R$162,2,FALSE),\"/\",J970,\"/\",D970))","v":"80/Pes/201606"},"Pes/201606","1431/201606","1431/1369/201606","80/201606","80/1369/201606","1369/201606","Aero","1431/Aero/201508",{"$f":"+CONCATENATE(VLOOKUP(F970,Cadastro!$Q$3:$R$162,2,FALSE),\"/\",S970,\"/\",H970)","v":"80/Aero/201508"},"Aero/201508","1431/201508","1431/1535/201508","80/201508","80/1535/201508","1535/201508",0,0,0,0,0,0,0,0,0,0]
[null,"01431","1369","201607",null,"01431","1535","201509",null,"Pes","1431/Pes/201607",{"$f":"IF(J971=0,0,+CONCATENATE(VLOOKUP(B971,Cadastro!$Q$3:$R$162,2,FALSE),\"/\",J971,\"/\",D971))","v":"80/Pes/201607"},"Pes/201607","1431/201607","1431/1369/201607","80/201607","80/1369/201607","1369/201607","Aero","1431/Aero/201509",{"$f":"+CONCATENATE(VLOOKUP(F971,Cadastro!$Q$3:$R$162,2,FALSE),\"/\",S971,\"/\",H971)","v":"80/Aero/201509"},"Aero/201509","1431/201509","1431/1535/201509","80/201509","80/1535/201509","1535/201509",0,0,0,0,0,0,0,0,0,0]
[null,"01431","1369","201608",null,"01431","1535","201510",null,"Pes","1431/Pes/201608",{"$f":"IF(J972=0,0,+CONCATENATE(VLOOKUP(B972,Cadastro!$Q$3:$R$162,2,FALSE),\"/\",J972,\"/\",D972))","v":"80/Pes/201608"},"Pes/201608","1431/201608","1431/1369/201608","80/201608","80/1369/201608","1369/201608","Aero","1431/Aero/201510",{"$f":"+CONCATENATE(VLOOKUP(F972,Cadastro!$Q$3:$R$162,2,FALSE),\"/\",S972,\"/\",H972)","v":"80/Aero/201510"},"Aero/201510","1431/201510","1431/1535/201510","80/201510","80/1535/201510","1535/201510",0,36716278.5,0,34806049.5,0,293433.18000000017,0,0,0,787.07]
[null,"01431","1369","201609",null,"01431","1535","201511",null,"Pes","1431/Pes/201609",{"$f":"IF(J973=0,0,+CONCATENATE(VLOOKUP(B973,Cadastro!$Q$3:$R$162,2,FALSE),\"/\",J973,\"/\",D973))","v":"80/Pes/201609"},"Pes/201609","1431/201609","1431/1369/201609","80/201609","80/1369/201609","1369/201609","Aero","1431/Aero/201511",{"$f":"+CONCATENATE(VLOOKUP(F973,Cadastro!$Q$3:$R$162,2,FALSE),\"/\",S973,\"/\",H973)","v":"80/Aero/201511"},"Aero/201511","1431/201511","1431/1535/201511","80/201511","80/1535/201511","1535/201511",0,595296.53,0,-2042109.3099999998,0,412630.73,0,1382527.4400000013,0,4855.2299999999996]
[null,"01431","1369","201610",null,"01431","1535","201512",null,"Pes","1431/Pes/201610",{"$f":"IF(J974=0,0,+CONCATENATE(VLOOKUP(B974,Cadastro!$Q$3:$R$162,2,FALSE),\"/\",J974,\"/\",D974))","v":"80/Pes/201610"},"Pes/201610","1431/201610","1431/1369/201610","80/201610","80/1369/201610","1369/201610","Aero","1431/Aero/201512",{"$f":"+CONCATENATE(VLOOKUP(F974,Cadastro!$Q$3:$R$162,2,FALSE),\"/\",S974,\"/\",H974)","v":"80/Aero/201512"},"Aero/201512","1431/201512","1431/1535/201512","80/201512","80/1535/201512","1535/201512",0,8670925.0500000007,0,5439152.0200000014,0,511481.4700000002,0,-1076774.2799999993,0,8947.4]
[null,"01431","1369","201611",null,"01431","1537","201506",null,"Pes","1431/Pes/201611",{"$f":"IF(J975=0,0,+CONCATENATE(VLOOKUP(B975,Cadastro!$Q$3:$R$162,2,FALSE),\"/\",J975,\"/\",D975))","v":"80/Pes/201611"},"Pes/201611","1431/201611","1431/1369/201611","80/201611","80/1369/201611","1369/201611","Aero","1431/Aero/201506",{"$f":"+CONCATENATE(VLOOKUP(F975,Cadastro!$Q$3:$R$162,2,FALSE),\"/\",S975,\"/\",H975)","v":"80/Aero/201506"},"Aero/201506","1431/201506","1431/1537/201506","80/201506","80/1537/201506","1537/201506",0,0,0,0,0,0,0,0,0,0]
[null,"01431","1369","201612",null,"01431","1537","201507",null,"Pes","1431/Pes/201612",{"$f":"IF(J976=0,0,+CONCATENATE(VLOOKUP(B976,Cadastro!$Q$3:$R$162,2,FALSE),\"/\",J976,\"/\",D976))","v":"80/Pes/201612"},"Pes/201612","1431/201612","1431/1369/201612","80/201612","80/1369/201612","1369/201612","Aero","1431/Aero/201507",{"$f":"+CONCATENATE(VLOOKUP(F976,Cadastro!$Q$3:$R$162,2,FALSE),\"/\",S976,\"/\",H976)","v":"80/Aero/201507"},"Aero/201507","1431/201507","1431/1537/201507","80/201507","80/1537/201507","1537/201507",0,0,0,0,0,0,0,0,0,0]
[null,"01431","1417","201601",null,"01431","1537","201508",null,"Mar","1431/Mar/201601",{"$f":"IF(J977=0,0,+CONCATENATE(VLOOKUP(B977,Cadastro!$Q$3:$R$162,2,FALSE),\"/\",J977,\"/\",D977))","v":"80/Mar/201601"},"Mar/201601","1431/201601","1431/1417/201601","80/201601","80/1417/201601","1417/201601","Aero","1431/Aero/201508",{"$f":"+CONCATENATE(VLOOKUP(F977,Cadastro!$Q$3:$R$162,2,FALSE),\"/\",S977,\"/\",H977)","v":"80/Aero/201508"},"Aero/201508","1431/201508","1431/1537/201508","80/201508","80/1537/201508","1537/201508",1301553.6499999999,0,1065835.24,0,226583.41,0,-5439.9699999999993,0,72384.990000000005,0]
[null,"01431","1417","201602",null,"01431","1537","201509",null,"Mar","1431/Mar/201602",{"$f":"IF(J978=0,0,+CONCATENATE(VLOOKUP(B978,Cadastro!$Q$3:$R$162,2,FALSE),\"/\",J978,\"/\",D978))","v":"80/Mar/201602"},"Mar/201602","1431/201602","1431/1417/201602","80/201602","80/1417/201602","1417/201602","Aero","1431/Aero/201509",{"$f":"+CONCATENATE(VLOOKUP(F978,Cadastro!$Q$3:$R$162,2,FALSE),\"/\",S978,\"/\",H978)","v":"80/Aero/201509"},"Aero/201509","1431/201509","1431/1537/201509","80/201509","80/1537/201509","1537/201509",3017818.96,0,1987910.94,0,268043.76,0,479000.85,0,131449.99,0]
[null,"01431","1417","201603",null,"01431","1537","201510",null,"Mar","1431/Mar/201603",{"$f":"IF(J979=0,0,+CONCATENATE(VLOOKUP(B979,Cadastro!$Q$3:$R$162,2,FALSE),\"/\",J979,\"/\",D979))","v":"80/Mar/201603"},"Mar/201603","1431/201603","1431/1417/201603","80/201603","80/1417/201603","1417/201603","Aero","1431/Aero/201510",{"$f":"+CONCATENATE(VLOOKUP(F979,Cadastro!$Q$3:$R$162,2,FALSE),\"/\",S979,\"/\",H979)","v":"80/Aero/201510"},"Aero/201510","1431/201510","1431/1537/201510","80/201510","80/1537/201510","1537/201510",1160469.47,0.04,408015.69999999995,0.04,387842.64999999991,0,298823.53000000003,0,114505.92,0]
[null,"01431","1417","201604",null,"01431","1537","201511",null,"Mar","1431/Mar/201604",{"$f":"IF(J980=0,0,+CONCATENATE(VLOOKUP(B980,Cadastro!$Q$3:$R$162,2,FALSE),\"/\",J980,\"/\",D980))","v":"80/Mar/201604"},"Mar/201604","1431/201604","1431/1417/201604","80/201604","80/1417/201604","1417/201604","Aero","1431/Aero/201511",{"$f":"+CONCATENATE(VLOOKUP(F980,Cadastro!$Q$3:$R$162,2,FALSE),\"/\",S980,\"/\",H980)","v":"80/Aero/201511"},"Aero/201511","1431/201511","1431/1537/201511","80/201511","80/1537/201511","1537/201511",719310.43,0,7667.8699999999953,0,235132.62999999989,0,-442122.70999999996,0.01,106909.05,0]
[null,"01431","1417","201605",null,"01431","1537","201512",null,"Mar","1431/Mar/201605",{"$f":"IF(J981=0,0,+CONCATENATE(VLOOKUP(B981,Cadastro!$Q$3:$R$162,2,FALSE),\"/\",J981,\"/\",D981))","v":"80/Mar/201605"},"Mar/201605","1431/201605","1431/1417/201605","80/201605","80/1417/201605","1417/201605","Aero","1431/Aero/201512",{"$f":"+CONCATENATE(VLOOKUP(F981,Cadastro!$Q$3:$R$162,2,FALSE),\"/\",S981,\"/\",H981)","v":"80/Aero/201512"},"Aero/201512","1431/201512","1431/1537/201512","80/201512","80/1537/201512","1537/201512",3260175.56,39970.6,2370145.1,39970.6,230680.93999999994,3418.09,-29913.910000000003,0,127177.55,512.73]
[null,"01431","1417","201606",null,"01431","1597","201506",null,"Mar","1431/Mar/201606",{"$f":"IF(J982=0,0,+CONCATENATE(VLOOKUP(B982,Cadastro!$Q$3:$R$162,2,FALSE),\"/\",J982,\"/\",D982))","v":"80/Mar/201606"},"Mar/201606","1431/201606","1431/1417/201606","80/201606","80/1417/201606","1417/201606","Aero","1431/Aero/201506",{"$f":"+CONCATENATE(VLOOKUP(F982,Cadastro!$Q$3:$R$162,2,FALSE),\"/\",S982,\"/\",H982)","v":"80/Aero/201506"},"Aero/201506","1431/201506","1431/1597/201506","80/201506","80/1597/201506","1597/201506",1249874.93,0,537055.44999999995,0,285256.19000000006,0,-101972.08000000007,0,100937.78,0]
[null,"01431","1417","201607",null,"01431","1597","201507",null,"Mar","1431/Mar/201607",{"$f":"IF(J983=0,0,+CONCATENATE(VLOOKUP(B983,Cadastro!$Q$3:$R$162,2,FALSE),\"/\",J983,\"/\",D983))","v":"80/Mar/201607"},"Mar/201607","1431/201607","1431/1417/201607","80/201607","80/1417/201607","1417/201607","Aero","1431/Aero/201507",{"$f":"+CONCATENATE(VLOOKUP(F983,Cadastro!$Q$3:$R$162,2,FALSE),\"/\",S983,\"/\",H983)","v":"80/Aero/201507"},"Aero/201507","1431/201507","1431/1597/201507","80/201507","80/1597/201507","1597/201507",1020741.02,0,-56889.399999999907,0,847.4000000001397,0,3888.04,0,125171.87,0]
[null,"01431","1417","201608",null,"01431","1597","201508",null,"Mar","1431/Mar/201608",{"$f":"IF(J984=0,0,+CONCATENATE(VLOOKUP(B984,Cadastro!$Q$3:$R$162,2,FALSE),\"/\",J984,\"/\",D984))","v":"80/Mar/201608"},"Mar/201608","1431/201608","1431/1417/201608","80/201608","80/1417/201608","1417/201608","Aero","1431/Aero/201508",{"$f":"+CONCATENATE(VLOOKUP(F984,Cadastro!$Q$3:$R$162,2,FALSE),\"/\",S984,\"/\",H984)","v":"80/Aero/201508"},"Aero/201508","1431/201508","1431/1597/201508","80/201508","80/1597/201508","1597/201508",2324419.4500000002,0,967344.8600000001,0,411728.3899999999,0,47153.32,0,202686.06,0]
[null,"01431","1417","201609",null,"01431","1597","201509",null,"Mar","1431/Mar/201609",{"$f":"IF(J985=0,0,+CONCATENATE(VLOOKUP(B985,Cadastro!$Q$3:$R$162,2,FALSE),\"/\",J985,\"/\",D985))","v":"80/Mar/201609"},"Mar/201609","1431/201609","1431/1417/201609","80/201609","80/1417/201609","1417/201609","Aero","1431/Aero/201509",{"$f":"+CONCATENATE(VLOOKUP(F985,Cadastro!$Q$3:$R$162,2,FALSE),\"/\",S985,\"/\",H985)","v":"80/Aero/201509"},"Aero/201509","1431/201509","1431/1597/201509","80/201509","80/1597/201509","1597/201509",1520712.52,0,293188.12000000011,0,242420.32000000007,0,60607.080000000016,0,186378.23999999999,0]
[null,"01431","1417","201610",null,"01431","1597","201510",null,"Mar","1431/Mar/201610",{"$f":"IF(J986=0,0,+CONCATENATE(VLOOKUP(B986,Cadastro!$Q$3:$R$162,2,FALSE),\"/\",J986,\"/\",D986))","v":"80/Mar/201610"},"Mar/201610","1431/201610","1431/1417/201610","80/201610","80/1417/201610","1417/201610","Aero","1431/Aero/201510",{"$f":"+CONCATENATE(VLOOKUP(F986,Cadastro!$Q$3:$R$162,2,FALSE),\"/\",S986,\"/\",H986)","v":"80/Aero/201510"},"Aero/201510","1431/201510","1431/1597/201510","80/201510","80/1597/201510","1597/201510",759806.18,8956.4,-345424.28999999992,8956.4,292787.03000000003,1157.81,51539.56,0,186673.41,260.95999999999998]
[null,"01431","1417","201611",null,"01431","1597","201511",null,"Mar","1431/Mar/201611",{"$f":"IF(J987=0,0,+CONCATENATE(VLOOKUP(B987,Cadastro!$Q$3:$R$162,2,FALSE),\"/\",J987,\"/\",D987))","v":"80/Mar/201611"},"Mar/201611","1431/201611","1431/1417/201611","80/201611","80/1417/201611","1417/201611","Aero","1431/Aero/201511",{"$f":"+CONCATENATE(VLOOKUP(F987,Cadastro!$Q$3:$R$162,2,FALSE),\"/\",S987,\"/\",H987)","v":"80/Aero/201511"},"Aero/201511","1431/201511","1431/1597/201511","80/201511","80/1597/201511","1597/201511",1750943.2,34607.42,-64643.630000000121,34607.42,275345.23,3341.64,323081.04000000004,2534.66,226715.16,572.09]
[null,"01431","1417","201612",null,"01431","1597","201512",null,"Mar","1431/Mar/201612",{"$f":"IF(J988=0,0,+CONCATENATE(VLOOKUP(B988,Cadastro!$Q$3:$R$162,2,FALSE),\"/\",J988,\"/\",D988))","v":"80/Mar/201612"},"Mar/201612","1431/201612","1431/1417/201612","80/201612","80/1417/201612","1417/201612","Aero","1431/Aero/201512",{"$f":"+CONCATENATE(VLOOKUP(F988,Cadastro!$Q$3:$R$162,2,FALSE),\"/\",S988,\"/\",H988)","v":"80/Aero/201512"},"Aero/201512","1431/201512","1431/1597/201512","80/201512","80/1597/201512","1597/201512",582234.94999999995,117577.35,473215.06999999995,117577.35,280079,15341.59,52153.220000000671,9793.9,93290,3011.33]
[null,"01431","1433","201601",null,"01490","0114","201504",null,"Mar","1431/Mar/201601",{"$f":"IF(J989=0,0,+CONCATENATE(VLOOKUP(B989,Cadastro!$Q$3:$R$162,2,FALSE),\"/\",J989,\"/\",D989))","v":"80/Mar/201601"},"Mar/201601","1431/201601","1431/1433/201601","80/201601","80/1433/201601","1433/201601","Pat","1490/Pat/201504",{"$f":"+CONCATENATE(VLOOKUP(F989,Cadastro!$Q$3:$R$162,2,FALSE),\"/\",S989,\"/\",H989)","v":"35/Pat/201504"},"Pat/201504","1490/201504","1490/0114/201504","35/201504","35/0114/201504","0114/201504",76886.02,0,23483.33,0,59024.03,0,0,0,0,0]
[null,"01431","1433","201602",null,"01490","0114","201505",null,"Mar","1431/Mar/201602",{"$f":"IF(J990=0,0,+CONCATENATE(VLOOKUP(B990,Cadastro!$Q$3:$R$162,2,FALSE),\"/\",J990,\"/\",D990))","v":"80/Mar/201602"},"Mar/201602","1431/201602","1431/1433/201602","80/201602","80/1433/201602","1433/201602","Pat","1490/Pat/201505",{"$f":"+CONCATENATE(VLOOKUP(F990,Cadastro!$Q$3:$R$162,2,FALSE),\"/\",S990,\"/\",H990)","v":"35/Pat/201505"},"Pat/201505","1490/201505","1490/0114/201505","35/201505","35/0114/201505","0114/201505",-18625.86,0,-46100.41,0,24877.3,0,0,0,0,0]
[null,"01431","1433","201603",null,"01490","0114","201506",null,"Mar","1431/Mar/201603",{"$f":"IF(J991=0,0,+CONCATENATE(VLOOKUP(B991,Cadastro!$Q$3:$R$162,2,FALSE),\"/\",J991,\"/\",D991))","v":"80/Mar/201603"},"Mar/201603","1431/201603","1431/1433/201603","80/201603","80/1433/201603","1433/201603","Pat","1490/Pat/201506",{"$f":"+CONCATENATE(VLOOKUP(F991,Cadastro!$Q$3:$R$162,2,FALSE),\"/\",S991,\"/\",H991)","v":"35/Pat/201506"},"Pat/201506","1490/201506","1490/0114/201506","35/201506","35/0114/201506","0114/201506",-18150.05,277.17,-31930.449999999997,232.89000000000001,43208.79,92.300000000000011,0,1.0299999999999998,0,53.26]
[null,"01431","1433","201604",null,"01490","0114","201507",null,"Mar","1431/Mar/201604",{"$f":"IF(J992=0,0,+CONCATENATE(VLOOKUP(B992,Cadastro!$Q$3:$R$162,2,FALSE),\"/\",J992,\"/\",D992))","v":"80/Mar/201604"},"Mar/201604","1431/201604","1431/1433/201604","80/201604","80/1433/201604","1433/201604","Pat","1490/Pat/201507",{"$f":"+CONCATENATE(VLOOKUP(F992,Cadastro!$Q$3:$R$162,2,FALSE),\"/\",S992,\"/\",H992)","v":"35/Pat/201507"},"Pat/201507","1490/201507","1490/0114/201507","35/201507","35/0114/201507","0114/201507",-19543.939999999999,64571.43,-50175.64,52795.34,11367.280000000002,20097.97,0,205.32,0,9842.83]
[null,"01431","1433","201605",null,"01490","0114","201508",null,"Mar","1431/Mar/201605",{"$f":"IF(J993=0,0,+CONCATENATE(VLOOKUP(B993,Cadastro!$Q$3:$R$162,2,FALSE),\"/\",J993,\"/\",D993))","v":"80/Mar/201605"},"Mar/201605","1431/201605","1431/1433/201605","80/201605","80/1433/201605","1433/201605","Pat","1490/Pat/201508",{"$f":"+CONCATENATE(VLOOKUP(F993,Cadastro!$Q$3:$R$162,2,FALSE),\"/\",S993,\"/\",H993)","v":"35/Pat/201508"},"Pat/201508","1490/201508","1490/0114/201508","35/201508","35/0114/201508","0114/201508",-19897.330000000002,96.81,-21220.240000000002,-5823.16,1247.18,10117.489999999998,0,103.94999999999999,0,4988]
[null,"01431","1433","201606",null,"01490","0114","201509",null,"Mar","1431/Mar/201606",{"$f":"IF(J994=0,0,+CONCATENATE(VLOOKUP(B994,Cadastro!$Q$3:$R$162,2,FALSE),\"/\",J994,\"/\",D994))","v":"80/Mar/201606"},"Mar/201606","1431/201606","1431/1433/201606","80/201606","80/1433/201606","1433/201606","Pat","1490/Pat/201509",{"$f":"+CONCATENATE(VLOOKUP(F994,Cadastro!$Q$3:$R$162,2,FALSE),\"/\",S994,\"/\",H994)","v":"35/Pat/201509"},"Pat/201509","1490/201509","1490/0114/201509","35/201509","35/0114/201509","0114/201509",-668.84,15544.71,-381.35,9736.16,-102.67000000000002,10019.209999999999,0,103.38,0,4929.3500000000004]
[null,"01431","1433","201607",null,"01490","0114","201510",null,"Mar","1431/Mar/201607",{"$f":"IF(J995=0,0,+CONCATENATE(VLOOKUP(B995,Cadastro!$Q$3:$R$162,2,FALSE),\"/\",J995,\"/\",D995))","v":"80/Mar/201607"},"Mar/201607","1431/201607","1431/1433/201607","80/201607","80/1433/201607","1433/201607","Pat","1490/Pat/201510",{"$f":"+CONCATENATE(VLOOKUP(F995,Cadastro!$Q$3:$R$162,2,FALSE),\"/\",S995,\"/\",H995)","v":"35/Pat/201510"},"Pat/201510","1490/201510","1490/0114/201510","35/201510","35/0114/201510","0114/201510",0,17562.080000000002,0,11505.690000000002,0,10625.279999999999,0,110.44999999999999,0,5240.91]
[null,"01431","1433","201608",null,"01490","0114","201511",null,"Mar","1431/Mar/201608",{"$f":"IF(J996=0,0,+CONCATENATE(VLOOKUP(B996,Cadastro!$Q$3:$R$162,2,FALSE),\"/\",J996,\"/\",D996))","v":"80/Mar/201608"},"Mar/201608","1431/201608","1431/1433/201608","80/201608","80/1433/201608","1433/201608","Pat","1490/Pat/201511",{"$f":"+CONCATENATE(VLOOKUP(F996,Cadastro!$Q$3:$R$162,2,FALSE),\"/\",S996,\"/\",H996)","v":"35/Pat/201511"},"Pat/201511","1490/201511","1490/0114/201511","35/201511","35/0114/201511","0114/201511",0,16770.97,0,10670.300000000001,0,10717.589999999998,32000.79,111.5,0,5294.17]
[null,"01431","1433","201609",null,"01490","0114","201512",null,"Mar","1431/Mar/201609",{"$f":"IF(J997=0,0,+CONCATENATE(VLOOKUP(B997,Cadastro!$Q$3:$R$162,2,FALSE),\"/\",J997,\"/\",D997))","v":"80/Mar/201609"},"Mar/201609","1431/201609","1431/1433/201609","80/201609","80/1433/201609","1433/201609","Pat","1490/Pat/201512",{"$f":"+CONCATENATE(VLOOKUP(F997,Cadastro!$Q$3:$R$162,2,FALSE),\"/\",S997,\"/\",H997)","v":"35/Pat/201512"},"Pat/201512","1490/201512","1490/0114/201512","35/201512","35/0114/201512","0114/201512",409394.41,28128.26,269342.05,20926.539999999997,31087.75,15448.989999999998,0,173.56,0,7580.35]
[null,"01431","1433","201610",null,"01490","0118","201501",null,"Mar","1431/Mar/201610",{"$f":"IF(J998=0,0,+CONCATENATE(VLOOKUP(B998,Cadastro!$Q$3:$R$162,2,FALSE),\"/\",J998,\"/\",D998))","v":"80/Mar/201610"},"Mar/201610","1431/201610","1431/1433/201610","80/201610","80/1433/201610","1433/201610","Pat","1490/Pat/201501",{"$f":"+CONCATENATE(VLOOKUP(F998,Cadastro!$Q$3:$R$162,2,FALSE),\"/\",S998,\"/\",H998)","v":"35/Pat/201501"},"Pat/201501","1490/201501","1490/0118/201501","35/201501","35/0118/201501","0118/201501",95601.1,0,31365.950000000004,0,14257.370000000003,0,16375.78,0,0,0]
[null,"01431","1433","201611",null,"01490","0118","201502",null,"Mar","1431/Mar/201611",{"$f":"IF(J999=0,0,+CONCATENATE(VLOOKUP(B999,Cadastro!$Q$3:$R$162,2,FALSE),\"/\",J999,\"/\",D999))","v":"80/Mar/201611"},"Mar/201611","1431/201611","1431/1433/201611","80/201611","80/1433/201611","1433/201611","Pat","1490/Pat/201502",{"$f":"+CONCATENATE(VLOOKUP(F999,Cadastro!$Q$3:$R$162,2,FALSE),\"/\",S999,\"/\",H999)","v":"35/Pat/201502"},"Pat/201502","1490/201502","1490/0118/201502","35/201502","35/0118/201502","0118/201502",-5749.6,0,-44569.11,0,-7894.3700000000026,0,-48376.57,0,0,0]
[null,"01431","1433","201612",null,"01490","0118","201503",null,"Mar","1431/Mar/201612",{"$f":"IF(J1000=0,0,+CONCATENATE(VLOOKUP(B1000,Cadastro!$Q$3:$R$162,2,FALSE),\"/\",J1000,\"/\",D1000))","v":"80/Mar/201612"},"Mar/201612","1431/201612","1431/1433/201612","80/201612","80/1433/201612","1433/201612","Pat","1490/Pat/201503",{"$f":"+CONCATENATE(VLOOKUP(F1000,Cadastro!$Q$3:$R$162,2,FALSE),\"/\",S1000,\"/\",H1000)","v":"35/Pat/201503"},"Pat/201503","1490/201503","1490/0118/201503","35/201503","35/0118/201503","0118/201503",-3613.67,0,-32407.82,0,5424.5199999999968,0,12,0,0,0]
[null,"01490","0114","201610",null,"01490","0623","201501",null,"Pat","1490/Pat/201610",{"$f":"IF(J1058=0,0,+CONCATENATE(VLOOKUP(B1058,Cadastro!$Q$3:$R$162,2,FALSE),\"/\",J1058,\"/\",D1058))","v":"35/Pat/201610"},"Pat/201610","1490/201610","1490/0114/201610","35/201610","35/0114/201610","0114/201610","Transp","1490/Transp/201501",{"$f":"+CONCATENATE(VLOOKUP(F1058,Cadastro!$Q$3:$R$162,2,FALSE),\"/\",S1058,\"/\",H1058)","v":"35/Transp/201501"},"Transp/201501","1490/201501","1490/0623/201501","35/201501","35/0623/201501","0623/201501",19596.060000000001,2173751.7799999998,15220.11,1734446.5799999998,14356.23,1053141.98,51.17,199929.60000000001,8429.48,421103.99]
[null,"01490","0171","201604",null,"01490","0628","201507",null,"Pat","1490/Pat/201604",{"$f":"IF(J1076=0,0,+CONCATENATE(VLOOKUP(B1076,Cadastro!$Q$3:$R$162,2,FALSE),\"/\",J1076,\"/\",D1076))","v":"35/Pat/201604"},"Pat/201604","1490/201604","1490/0171/201604","35/201604","35/0171/201604","0171/201604","Transp","1490/Transp/201507",{"$f":"+CONCATENATE(VLOOKUP(F1076,Cadastro!$Q$3:$R$162,2,FALSE),\"/\",S1076,\"/\",H1076)","v":"35/Transp/201507"},"Transp/201507","1490/201507","1490/0628/201507","35/201507","35/0628/201507","0628/201507",-528.35,1334724.56,-4156.46,702676.68,119.03999999999996,1534027.6800000002,0,704798.35000000009,584.01,1000150.47]
[null,"01490","1061","201605",null,"01571","0112","201508",null,"Hab","1490/Hab/201605",{"$f":"IF(J1161=0,0,+CONCATENATE(VLOOKUP(B1161,Cadastro!$Q$3:$R$162,2,FALSE),\"/\",J1161,\"/\",D1161))","v":"35/Hab/201605"},"Hab/201605","1490/201605","1490/1061/201605","35/201605","35/1061/201605","1061/201605","Pat","1571/Pat/201508",{"$f":"+CONCATENATE(VLOOKUP(F1161,Cadastro!$Q$3:$R$162,2,FALSE),\"/\",S1161,\"/\",H1161)","v":"43/Pat/201508"},"Pat/201508","1571/201508","1571/0112/201508","43/201508","43/0112/201508","0112/201508",387857.97,0,265929.02999999997,0,283803.95,0,277897.65000000002,0,175938.88,0]
[null,"01571","0115","201602",null,"01571","0171","201505",null,"Pat","1571/Pat/201602",{"$f":"IF(J1242=0,0,+CONCATENATE(VLOOKUP(B1242,Cadastro!$Q$3:$R$162,2,FALSE),\"/\",J1242,\"/\",D1242))","v":"43/Pat/201602"},"Pat/201602","1571/201602","1571/0115/201602","43/201602","43/0115/201602","0115/201602","Pat","1571/Pat/201505",{"$f":"+CONCATENATE(VLOOKUP(F1242,Cadastro!$Q$3:$R$162,2,FALSE),\"/\",S1242,\"/\",H1242)","v":"43/Pat/201505"},"Pat/201505","1571/201505","1571/0171/201505","43/201505","43/0171/201505","0171/201505",0,11430.24,0,-2742.17,0,6273.9200000000019,0,1243.5,0,671.65]
[null,"01571","0173","201609",null,"01571","0274","201512",null,"Pat","1571/Pat/201609",{"$f":"IF(J1321=0,0,+CONCATENATE(VLOOKUP(B1321,Cadastro!$Q$3:$R$162,2,FALSE),\"/\",J1321,\"/\",D1321))","v":"43/Pat/201609"},"Pat/201609","1571/201609","1571/0173/201609","43/201609","43/0173/201609","0173/201609","RE","1571/RE/201512",{"$f":"+CONCATENATE(VLOOKUP(F1321,Cadastro!$Q$3:$R$162,2,FALSE),\"/\",S1321,\"/\",H1321)","v":"43/RE/201512"},"RE/201512","1571/201512","1571/0274/201512","43/201512","43/0274/201512","0274/201512",0,0,0,0,0,0,0,0,0,0]
[null,"01571","0196","201610",null,"01571","0351","201501",null,"Pat","1571/Pat/201610",{"$f":"IF(J1346=0,0,+CONCATENATE(VLOOKUP(B1346,Cadastro!$Q$3:$R$162,2,FALSE),\"/\",J1346,\"/\",D1346))","v":"43/Pat/201610"},"Pat/201610","1571/201610","1571/0196/201610","43/201610","43/0196/201610","0196/201610","Res","1571/Res/201501",{"$f":"+CONCATENATE(VLOOKUP(F1346,Cadastro!$Q$3:$R$162,2,FALSE),\"/\",S1346,\"/\",H1346)","v":"43/Res/201501"},"Res/201501","1571/201501","1571/0351/201501","43/201501","43/0351/201501","0351/201501",3444649.54,2416971.7400000002,-7826787.0799999991,1881652.1800000002,1737976.9100000001,30464.439999999944,171571.17999999993,59886.969999999987,69596.649999999994,-14999.93]
[null,"01571","0378","201607",null,"01571","0520","201510",null,"Res","1571/Res/201607",{"$f":"IF(J1427=0,0,+CONCATENATE(VLOOKUP(B1427,Cadastro!$Q$3:$R$162,2,FALSE),\"/\",J1427,\"/\",D1427))","v":"43/Res/201607"},"Res/201607","1571/201607","1571/0378/201607","43/201607","43/0378/201607","0378/201607","Aut","1571/Aut/201510",{"$f":"+CONCATENATE(VLOOKUP(F1427,Cadastro!$Q$3:$R$162,2,FALSE),\"/\",S1427,\"/\",H1427)","v":"43/Aut/201510"},"Aut/201510","1571/201510","1571/0520/201510","43/201510","43/0520/201510","0520/201510",189349.26,0,98403.98000000001,0,75604.899999999994,0,-6020.1900000000023,0,22711.15,0]
[null,"01571","0524","201608",null,"01571","0544","201511",null,"Aut","1571/Aut/201608",{"$f":"IF(J1512=0,0,+CONCATENATE(VLOOKUP(B1512,Cadastro!$Q$3:$R$162,2,FALSE),\"/\",J1512,\"/\",D1512))","v":"43/Aut/201608"},"Aut/201608","1571/201608","1571/0524/201608","43/201608","43/0524/201608","0524/201608","Aut","1571/Aut/201511",{"$f":"+CONCATENATE(VLOOKUP(F1512,Cadastro!$Q$3:$R$162,2,FALSE),\"/\",S1512,\"/\",H1512)","v":"43/Aut/201511"},"Aut/201511","1571/201511","1571/0544/201511","43/201511","43/0544/201511","0544/201511",0,0,0,0,0,0,0,0,0,0]
[null,"01571","0525","201604",null,"01571","0553","201507",null,"Aut","1571/Aut/201604",{"$f":"IF(J1520=0,0,+CONCATENATE(VLOOKUP(B1520,Cadastro!$Q$3:$R$162,2,FALSE),\"/\",J1520,\"/\",D1520))","v":"43/Aut/201604"},"Aut/201604","1571/201604","1571/0525/201604","43/201604","43/0525/201604","0525/201604","Aut","1571/Aut/201507",{"$f":"+CONCATENATE(VLOOKUP(F1520,Cadastro!$Q$3:$R$162,2,FALSE),\"/\",S1520,\"/\",H1520)","v":"43/Aut/201507"},"Aut/201507","1571/201507","1571/0553/201507","43/201507","43/0553/201507","0553/201507",0,0,0,0,0,0,0,0,0,0]
[null,"01571","0589","201612",null,"01571","0632","201503",null,"Dpvat","1571/Dpvat/201612",{"$f":"IF(J1612=0,0,+CONCATENATE(VLOOKUP(B1612,Cadastro!$Q$3:$R$162,2,FALSE),\"/\",J1612,\"/\",D1612))","v":"43/Dpvat/201612"},"Dpvat/201612","1571/201612","1571/0589/201612","43/201612","43/0589/201612","0589/201612","Transp","1571/Transp/201503",{"$f":"+CONCATENATE(VLOOKUP(F1612,Cadastro!$Q$3:$R$162,2,FALSE),\"/\",S1612,\"/\",H1612)","v":"43/Transp/201503"},"Transp/201503","1571/201503","1571/0632/201503","43/201503","43/0632/201503","0632/201503",0,0,0,-8.7100000000000009,0,-8.7100000000000009,0,0,0,0]
[null,"01571","0644","201601",null,"01571","0658","201504",null,"Transp","1571/Transp/201601",{"$f":"IF(J1697=0,0,+CONCATENATE(VLOOKUP(B1697,Cadastro!$Q$3:$R$162,2,FALSE),\"/\",J1697,\"/\",D1697))","v":"43/Transp/201601"},"Transp/201601","1571/201601","1571/0644/201601","43/201601","43/0644/201601","0644/201601","Transp","1571/Transp/201504",{"$f":"+CONCATENATE(VLOOKUP(F1697,Cadastro!$Q$3:$R$162,2,FALSE),\"/\",S1697,\"/\",H1697)","v":"43/Transp/201504"},"Transp/201504","1571/201504","1571/0658/201504","43/201504","43/0658/201504","0658/201504",0,0,0,0,0,0,0,0,0,0]
[null,"01571","0652","201605",null,"01571","0739","201508",null,"Transp","1571/Transp/201605",{"$f":"IF(J1713=0,0,+CONCATENATE(VLOOKUP(B1713,Cadastro!$Q$3:$R$162,2,FALSE),\"/\",J1713,\"/\",D1713))","v":"43/Transp/201605"},"Transp/201605","1571/201605","1571/0652/201605","43/201605","43/0652/201605","0652/201605","RF","1571/RF/201508",{"$f":"+CONCATENATE(VLOOKUP(F1713,Cadastro!$Q$3:$R$162,2,FALSE),\"/\",S1713,\"/\",H1713)","v":"43/RF/201508"},"RF/201508","1571/201508","1571/0739/201508","43/201508","43/0739/201508","0739/201508",-4846.1000000000004,0,-9820.1,0,-6683.28,0,-35713.78,0,-1522.11,0]
[null,"01571","0740","201603",null,"01571","0748","201506",null,"RF","1571/RF/201603",{"$f":"IF(J1783=0,0,+CONCATENATE(VLOOKUP(B1783,Cadastro!$Q$3:$R$162,2,FALSE),\"/\",J1783,\"/\",D1783))","v":"43/RF/201603"},"RF/201603","1571/201603","1571/0740/201603","43/201603","43/0740/201603","0740/201603","RF","1571/RF/201506",{"$f":"+CONCATENATE(VLOOKUP(F1783,Cadastro!$Q$3:$R$162,2,FALSE),\"/\",S1783,\"/\",H1783)","v":"43/RF/201506"},"RF/201506","1571/201506","1571/0748/201506","43/201506","43/0748/201506","0748/201506",0,0,0,0,0,0,0,0,0,0]
[null,"01571","0775","201606",null,"01571","0870","201509",null,"RF","1571/RF/201606",{"$f":"IF(J1882=0,0,+CONCATENATE(VLOOKUP(B1882,Cadastro!$Q$3:$R$162,2,FALSE),\"/\",J1882,\"/\",D1882))","v":"43/RF/201606"},"RF/201606","1571/201606","1571/0775/201606","43/201606","43/0775/201606","0775/201606","RF","1571/RF/201509",{"$f":"+CONCATENATE(VLOOKUP(F1882,Cadastro!$Q$3:$R$162,2,FALSE),\"/\",S1882,\"/\",H1882)","v":"43/RF/201509"},"RF/201509","1571/201509","1571/0870/201509","43/201509","43/0870/201509","0870/201509",0,0,0,0,0,0,0,0,0,0]
[null,"01571","0936","201603",null,"01571","0982","201506",null,"Pes","1571/Pes/201603",{"$f":"IF(J1963=0,0,+CONCATENATE(VLOOKUP(B1963,Cadastro!$Q$3:$R$162,2,FALSE),\"/\",J1963,\"/\",D1963))","v":"43/Pes/201603"},"Pes/201603","1571/201603","1571/0936/201603","43/201603","43/0936/201603","0936/201603","Pes","1571/Pes/201506",{"$f":"+CONCATENATE(VLOOKUP(F1963,Cadastro!$Q$3:$R$162,2,FALSE),\"/\",S1963,\"/\",H1963)","v":"43/Pes/201506"},"Pes/201506","1571/201506","1571/0982/201506","43/201506","43/0982/201506","0982/201506",0,0,0,0,0,0,0,0,0,0]
[null,"01571","0969","201611",null,"01571","0984","201502",null,"Pes","1571/Pes/201611",{"$f":"IF(J1983=0,0,+CONCATENATE(VLOOKUP(B1983,Cadastro!$Q$3:$R$162,2,FALSE),\"/\",J1983,\"/\",D1983))","v":"43/Pes/201611"},"Pes/201611","1571/201611","1571/0969/201611","43/201611","43/0969/201611","0969/201611","Pes","1571/Pes/201502",{"$f":"+CONCATENATE(VLOOKUP(F1983,Cadastro!$Q$3:$R$162,2,FALSE),\"/\",S1983,\"/\",H1983)","v":"43/Pes/201502"},"Pes/201502","1571/201502","1571/0984/201502","43/201502","43/0984/201502","0984/201502",0,0,0,0,0,0,0,0,0,0]
[null,"01571","0984","201602",null,"01571","0992","201505",null,"Pes","1571/Pes/201602",{"$f":"IF(J2046=0,0,+CONCATENATE(VLOOKUP(B2046,Cadastro!$Q$3:$R$162,2,FALSE),\"/\",J2046,\"/\",D2046))","v":"43/Pes/201602"},"Pes/201602","1571/201602","1571/0984/201602","43/201602","43/0984/201602","0984/201602","VGBL","1571/VGBL/201505",{"$f":"+CONCATENATE(VLOOKUP(F2046,Cadastro!$Q$3:$R$162,2,FALSE),\"/\",S2046,\"/\",H2046)","v":"43/VGBL/201505"},"VGBL/201505","1571/201505","1571/0992/201505","43/201505","43/0992/201505","0992/201505",0,0,0,0,0,0,0,0,0,0]
[null,"01571","1061","201608",null,"01571","1102","201511",null,"Hab","1571/Hab/201608",{"$f":"IF(J2148=0,0,+CONCATENATE(VLOOKUP(B2148,Cadastro!$Q$3:$R$162,2,FALSE),\"/\",J2148,\"/\",D2148))","v":"43/Hab/201608"},"Hab/201608","1571/201608","1571/1061/201608","43/201608","43/1061/201608","1061/201608","Rur","1571/Rur/201511",{"$f":"+CONCATENATE(VLOOKUP(F2148,Cadastro!$Q$3:$R$162,2,FALSE),\"/\",S2148,\"/\",H2148)","v":"43/Rur/201511"},"Rur/201511","1571/201511","1571/1102/201511","43/201511","43/1102/201511","1102/201511",0,0,0,0,0,0,0,0,0,0]
[null,"01571","1066","201604",null,"01571","1104","201507",null,"Hab","1571/Hab/201604",{"$f":"IF(J2168=0,0,+CONCATENATE(VLOOKUP(B2168,Cadastro!$Q$3:$R$162,2,FALSE),\"/\",J2168,\"/\",D2168))","v":"43/Hab/201604"},"Hab/201604","1571/201604","1571/1066/201604","43/201604","43/1066/201604","1066/201604","Rur","1571/Rur/201507",{"$f":"+CONCATENATE(VLOOKUP(F2168,Cadastro!$Q$3:$R$162,2,FALSE),\"/\",S2168,\"/\",H2168)","v":"43/Rur/201507"},"Rur/201507","1571/201507","1571/1104/201507","43/201507","43/1104/201507","1104/201507",0,0,0,0,0,0,0,0,0,0]
[null,"01571","1106","201601",null,"01571","1162","201504",null,"Rur","1571/Rur/201601",{"$f":"IF(J2249=0,0,+CONCATENATE(VLOOKUP(B2249,Cadastro!$Q$3:$R$162,2,FALSE),\"/\",J2249,\"/\",D2249))","v":"43/Rur/201601"},"Rur/201601","1571/201601","1571/1106/201601","43/201601","43/1106/201601","1106/201601","Rur","1571/Rur/201504",{"$f":"+CONCATENATE(VLOOKUP(F2249,Cadastro!$Q$3:$R$162,2,FALSE),\"/\",S2249,\"/\",H2249)","v":"43/Rur/201504"},"Rur/201504","1571/201504","1571/1162/201504","43/201504","43/1162/201504","1162/201504",0,0,0,0,0,0,0,0,0,0]
[null,"01571","1162","201601",null,"01571","1285","201504",null,{"$f":"IF(C2309=0,0,+VLOOKUP(C2309,$AQ$4:$AR$130,2,FALSE))","v":"Rur"},{"$f":"IF(J2309=0,0,+CONCATENATE(VALUE(B2309),\"/\",J2309,\"/\",D2309))","v":"1571/Rur/201601"},{"$f":"IF(J2309=0,0,+CONCATENATE(VLOOKUP(B2309,Cadastro!$Q$3:$R$162,2,FALSE),\"/\",J2309,\"/\",D2309))","v":"43/Rur/201601"},{"$f":"IF(J2309=0,0,+CONCATENATE(J2309,\"/\",D2309))","v":"Rur/201601"},"1571/201601","1571/1162/201601","43/201601","43/1162/201601","1162/201601",{"$f":"+VLOOKUP(G2309,$AQ$4:$AR$130,2,FALSE)","v":{"$error":"#N/A"}},{"$f":"+CONCATENATE(VALUE(F2309),\"/\",S2309,\"/\",H2309)","v":{"$error":"#N/A"}},{"$f":"+CONCATENATE(VLOOKUP(F2309,Cadastro!$Q$3:$R$162,2,FALSE),\"/\",S2309,\"/\",H2309)","v":{"$error":"#N/A"}},{"$error":"#N/A"},"1571/201504","1571/1285/201504","43/201504","43/1285/201504","1285/201504",0,0,0,0,0,0,0,0,0,0]
[null,"01571","1336","201610",null,"01571","1384","201501",null,"Pes","1571/Pes/201610",{"$f":"IF(J2414=0,0,+CONCATENATE(VLOOKUP(B2414,Cadastro!$Q$3:$R$162,2,FALSE),\"/\",J2414,\"/\",D2414))","v":"43/Pes/201610"},"Pes/201610","1571/201610","1571/1336/201610","43/201610","43/1336/201610","1336/201610","Pes","1571/Pes/201501",{"$f":"+CONCATENATE(VLOOKUP(F2414,Cadastro!$Q$3:$R$162,2,FALSE),\"/\",S2414,\"/\",H2414)","v":"43/Pes/201501"},"Pes/201501","1571/201501","1571/1384/201501","43/201501","43/1384/201501","1384/201501",0,0,0,0,0,0,0,0,0,0]
[null,"01571","1377","201606",null,"01571","1386","201509",null,"Pes","1571/Pes/201606",{"$f":"IF(J2434=0,0,+CONCATENATE(VLOOKUP(B2434,Cadastro!$Q$3:$R$162,2,FALSE),\"/\",J2434,\"/\",D2434))","v":"43/Pes/201606"},"Pes/201606","1571/201606","1571/1377/201606","43/201606","43/1377/201606","1377/201606","Pes","1571/Pes/201509",{"$f":"+CONCATENATE(VLOOKUP(F2434,Cadastro!$Q$3:$R$162,2,FALSE),\"/\",S2434,\"/\",H2434)","v":"43/Pes/201509"},"Pes/201509","1571/201509","1571/1386/201509","43/201509","43/1386/201509","1386/201509",0,0,0,0,0,0,0,0,0,0]
[null,"01571","1390","201607",null,"01571","1433","201510",null,"Pes","1571/Pes/201607",{"$f":"IF(J2519=0,0,+CONCATENATE(VLOOKUP(B2519,Cadastro!$Q$3:$R$162,2,FALSE),\"/\",J2519,\"/\",D2519))","v":"43/Pes/201607"},"Pes/201607","1571/201607","1571/1390/201607","43/201607","43/1390/201607","1390/201607","Mar","1571/Mar/201510",{"$f":"+CONCATENATE(VLOOKUP(F2519,Cadastro!$Q$3:$R$162,2,FALSE),\"/\",S2519,\"/\",H2519)","v":"43/Mar/201510"},"Mar/201510","1571/201510","1571/1433/201510","43/201510","43/1433/201510","1433/201510",0,0,0,0,0,0,0,0,0,0]
[null,"01571","1428","201612",null,"01571","1597","201503",null,"Mar","1571/Mar/201612",{"$f":"IF(J2572=0,0,+CONCATENATE(VLOOKUP(B2572,Cadastro!$Q$3:$R$162,2,FALSE),\"/\",J2572,\"/\",D2572))","v":"43/Mar/201612"},"Mar/201612","1571/201612","1571/1428/201612","43/201612","43/1428/201612","1428/201612","Aero","1571/Aero/201503",{"$f":"+CONCATENATE(VLOOKUP(F2572,Cadastro!$Q$3:$R$162,2,FALSE),\"/\",S2572,\"/\",H2572)","v":"43/Aero/201503"},"Aero/201503","1571/201503","1571/1597/201503","43/201503","43/1597/201503","1597/201503",0,0,0,0,0,0,0,0,0,0]
[null,"01571","1535","201611",null,"01627","0115","201502",null,"Aero","1571/Aero/201611",{"$f":"IF(J2619=0,0,+CONCATENATE(VLOOKUP(B2619,Cadastro!$Q$3:$R$162,2,FALSE),\"/\",J2619,\"/\",D2619))","v":"43/Aero/201611"},"Aero/201611","1571/201611","1571/1535/201611","43/201611","43/1535/201611","1535/201611","Pat","1627/Pat/201502",{"$f":"+CONCATENATE(VLOOKUP(F2619,Cadastro!$Q$3:$R$162,2,FALSE),\"/\",S2619,\"/\",H2619)","v":"65/Pat/201502"},"Pat/201502","1627/201502","1627/0115/201502","65/201502","65/0115/201502","0115/201502",0,0,0,0,0,0,0,0,0,0]
[null,"01627","0116","201612",null,"01627","0234","201503",null,"Pat","1627/Pat/201612",{"$f":"IF(J2704=0,0,+CONCATENATE(VLOOKUP(B2704,Cadastro!$Q$3:$R$162,2,FALSE),\"/\",J2704,\"/\",D2704))","v":"65/Pat/201612"},"Pat/201612","1627/201612","1627/0116/201612","65/201612","65/0116/201612","0116/201612","RE","1627/RE/201503",{"$f":"+CONCATENATE(VLOOKUP(F2704,Cadastro!$Q$3:$R$162,2,FALSE),\"/\",S2704,\"/\",H2704)","v":"65/RE/201503"},"RE/201503","1627/201503","1627/0234/201503","65/201503","65/0234/201503","0234/201503",0,0,0,0,0,0,0,0,0,0]
[null,"01627","0310","201609",null,"01627","0553","201506",null,"Res","1627/Res/201609",{"$f":"IF(J2785=0,0,+CONCATENATE(VLOOKUP(B2785,Cadastro!$Q$3:$R$162,2,FALSE),\"/\",J2785,\"/\",D2785))","v":"65/Res/201609"},"Res/201609","1627/201609","1627/0310/201609","65/201609","65/0310/201609","0310/201609","Aut","1627/Aut/201506",{"$f":"+CONCATENATE(VLOOKUP(F2785,Cadastro!$Q$3:$R$162,2,FALSE),\"/\",S2785,\"/\",H2785)","v":"65/Aut/201506"},"Aut/201506","1627/201506","1627/0553/201506","65/201506","65/0553/201506","0553/201506",1016264.71,0,1012116.88,0,128694.43999999999,0,18934.23,0,27233.27,0]
[null,"01627","0435","201611",null,"01627","0622","201508",null,"Aero","1627/Aero/201611",{"$f":"IF(J2835=0,0,+CONCATENATE(VLOOKUP(B2835,Cadastro!$Q$3:$R$162,2,FALSE),\"/\",J2835,\"/\",D2835))","v":"65/Aero/201611"},"Aero/201611","1627/201611","1627/0435/201611","65/201611","65/0435/201611","0435/201611","Transp","1627/Transp/201508",{"$f":"+CONCATENATE(VLOOKUP(F2835,Cadastro!$Q$3:$R$162,2,FALSE),\"/\",S2835,\"/\",H2835)","v":"65/Transp/201508"},"Transp/201508","1627/201508","1627/0622/201508","65/201508","65/0622/201508","0622/201508",0,0,0,0,0,0,0,-0.06,0,0]
[null,"01627","0589","201601",null,"01627","0740","201510",null,{"$f":"IF(C2885=0,0,+VLOOKUP(C2885,$AQ$4:$AR$130,2,FALSE))","v":"Dpvat"},{"$f":"IF(J2885=0,0,+CONCATENATE(VALUE(B2885),\"/\",J2885,\"/\",D2885))","v":"1627/Dpvat/201601"},{"$f":"IF(J2885=0,0,+CONCATENATE(VLOOKUP(B2885,Cadastro!$Q$3:$R$162,2,FALSE),\"/\",J2885,\"/\",D2885))","v":"65/Dpvat/201601"},{"$f":"IF(J2885=0,0,+CONCATENATE(J2885,\"/\",D2885))","v":"Dpvat/201601"},"1627/201601","1627/0589/201601","65/201601","65/0589/201601","0589/201601",{"$f":"+VLOOKUP(G2885,$AQ$4:$AR$130,2,FALSE)","v":"RF"},{"$f":"+CONCATENATE(VALUE(F2885),\"/\",S2885,\"/\",H2885)","v":"1627/RF/201510"},{"$f":"+CONCATENATE(VLOOKUP(F2885,Cadastro!$Q$3:$R$162,2,FALSE),\"/\",S2885,\"/\",H2885)","v":"65/RF/201510"},"RF/201510","1627/201510","1627/0740/201510","65/201510","65/0740/201510","0740/201510",0,0,0,0,0,0,0,0,0,0]
[null,"01627","0745","201602",null,"01627","0819","201511",null,"RF","1627/RF/201602",{"$f":"IF(J2970=0,0,+CONCATENATE(VLOOKUP(B2970,Cadastro!$Q$3:$R$162,2,FALSE),\"/\",J2970,\"/\",D2970))","v":"65/RF/201602"},"RF/201602","1627/201602","1627/0745/201602","65/201602","65/0745/201602","0745/201602","RF","1627/RF/201511",{"$f":"+CONCATENATE(VLOOKUP(F2970,Cadastro!$Q$3:$R$162,2,FALSE),\"/\",S2970,\"/\",H2970)","v":"65/RF/201511"},"RF/201511","1627/201511","1627/0819/201511","65/201511","65/0819/201511","0819/201511",0,0,0,0,0,0,0,0,0,0]
[null,"01627","0860","201603",null,"01627","1162","201512",null,"RF","1627/RF/201603",{"$f":"IF(J3055=0,0,+CONCATENATE(VLOOKUP(B3055,Cadastro!$Q$3:$R$162,2,FALSE),\"/\",J3055,\"/\",D3055))","v":"65/RF/201603"},"RF/201603","1627/201603","1627/0860/201603","65/201603","65/0860/201603","0860/201603","Rur","1627/Rur/201512",{"$f":"+CONCATENATE(VLOOKUP(F3055,Cadastro!$Q$3:$R$162,2,FALSE),\"/\",S3055,\"/\",H3055)","v":"65/Rur/201512"},"Rur/201512","1627/201512","1627/1162/201512","65/201512","65/1162/201512","1162/201512",0,0,0,0,0,0,0,0,0,0]
[null,"01627","1107","201604",null,"01627","1433","201507",null,"Rur","1627/Rur/201604",{"$f":"IF(J3098=0,0,+CONCATENATE(VLOOKUP(B3098,Cadastro!$Q$3:$R$162,2,FALSE),\"/\",J3098,\"/\",D3098))","v":"65/Rur/201604"},"Rur/201604","1627/201604","1627/1107/201604","65/201604","65/1107/201604","1107/201604","Mar","1627/Mar/201507",{"$f":"+CONCATENATE(VLOOKUP(F3098,Cadastro!$Q$3:$R$162,2,FALSE),\"/\",S3098,\"/\",H3098)","v":"65/Mar/201507"},"Mar/201507","1627/201507","1627/1433/201507","65/201507","65/1433/201507","1433/201507",0,0,0,0,0,0,0,0,0,0]
[null,"01627","1279","201601",null,"01775","0115","201505",null,"Out","1627/Out/201601",{"$f":"IF(J3155=0,0,+CONCATENATE(VLOOKUP(B3155,Cadastro!$Q$3:$R$162,2,FALSE),\"/\",J3155,\"/\",D3155))","v":"65/Out/201601"},"Out/201601","1627/201601","1627/1279/201601","65/201601","65/1279/201601","1279/201601","Pat","1775/Pat/201505",{"$f":"+CONCATENATE(VLOOKUP(F3155,Cadastro!$Q$3:$R$162,2,FALSE),\"/\",S3155,\"/\",H3155)","v":"1/Pat/201505"},"Pat/201505","1775/201505","1775/0115/201505","1/201505","1/0115/201505","0115/201505",0,624839.88,0,390354.95999999996,0,180908.46,0,-1389.27,0,4273.49]
[null,"01970","0118","201611",null,"01775","0195","201506",null,"Pat","1970/Pat/201611",{"$f":"IF(J3240=0,0,+CONCATENATE(VLOOKUP(B3240,Cadastro!$Q$3:$R$162,2,FALSE),\"/\",J3240,\"/\",D3240))","v":"77/Pat/201611"},"Pat/201611","1970/201611","1970/0118/201611","77/201611","77/0118/201611","0118/201611","Pat","1775/Pat/201506",{"$f":"+CONCATENATE(VLOOKUP(F3240,Cadastro!$Q$3:$R$162,2,FALSE),\"/\",S3240,\"/\",H3240)","v":"1/Pat/201506"},"Pat/201506","1775/201506","1775/0195/201506","1/201506","1/0195/201506","0195/201506",135759.89000000001,0,92449.760000000009,0,49658.310000000005,0,8143.0800000000017,0,21071.759999999998,0]
[null,"02020","0749","201608",null,"01775","0351","201503",null,"RF","2020/RF/201608",{"$f":"IF(J3321=0,0,+CONCATENATE(VLOOKUP(B3321,Cadastro!$Q$3:$R$162,2,FALSE),\"/\",J3321,\"/\",D3321))","v":"32/RF/201608"},"RF/201608","2020/201608","2020/0749/201608","32/201608","32/0749/201608","0749/201608","Res","1775/Res/201503",{"$f":"+CONCATENATE(VLOOKUP(F3321,Cadastro!$Q$3:$R$162,2,FALSE),\"/\",S3321,\"/\",H3321)","v":"1/Res/201503"},"Res/201503","1775/201503","1775/0351/201503","1/201503","1/0351/201503","0351/201503",-33660.639999999999,5195391.74,-87384.76999999999,2567670.4900000002,29371.239999999998,3232134.5999999996,10851.090000000026,419604.99,6083.43,548312.78]
[null,"02062","0195","201612",null,"01775","0435","201507",null,"Pat","2062/Pat/201612",{"$f":"IF(J3361=0,0,+CONCATENATE(VLOOKUP(B3361,Cadastro!$Q$3:$R$162,2,FALSE),\"/\",J3361,\"/\",D3361))","v":"25/Pat/201612"},"Pat/201612","2062/201612","2062/0195/201612","25/201612","25/0195/201612","0195/201612","Aero","1775/Aero/201507",{"$f":"+CONCATENATE(VLOOKUP(F3361,Cadastro!$Q$3:$R$162,2,FALSE),\"/\",S3361,\"/\",H3361)","v":"1/Aero/201507"},"Aero/201507","1775/201507","1775/0435/201507","1/201507","1/0435/201507","0435/201507",35687497.140000001,0,35687497.140000001,0,33730778.369999997,0,5215249.29,-958.90999999991618,23817913.219999999,0]
[null,"02101","0981","201612",null,"01775","0524","201507",null,"Pes","2101/Pes/201612",{"$f":"IF(J3421=0,0,+CONCATENATE(VLOOKUP(B3421,Cadastro!$Q$3:$R$162,2,FALSE),\"/\",J3421,\"/\",D3421))","v":"52/Pes/201612"},"Pes/201612","2101/201612","2101/0981/201612","52/201612","52/0981/201612","0981/201612","Aut","1775/Aut/201507",{"$f":"+CONCATENATE(VLOOKUP(F3421,Cadastro!$Q$3:$R$162,2,FALSE),\"/\",S3421,\"/\",H3421)","v":"1/Aut/201507"},"Aut/201507","1775/201507","1775/0524/201507","1/201507","1/0524/201507","0524/201507",0,0,0,0,0,0,0,0,0,0]
[null,"02101","1061","201601",null,"01775","0589","201508",null,"Hab","2101/Hab/201601",{"$f":"IF(J3506=0,0,+CONCATENATE(VLOOKUP(B3506,Cadastro!$Q$3:$R$162,2,FALSE),\"/\",J3506,\"/\",D3506))","v":"52/Hab/201601"},"Hab/201601","2101/201601","2101/1061/201601","52/201601","52/1061/201601","1061/201601","Dpvat","1775/Dpvat/201508",{"$f":"+CONCATENATE(VLOOKUP(F3506,Cadastro!$Q$3:$R$162,2,FALSE),\"/\",S3506,\"/\",H3506)","v":"1/Dpvat/201508"},"Dpvat/201508","1775/201508","1775/0589/201508","1/201508","1/0589/201508","0589/201508",0,0,-1296.2962,0,-1296.2962,0,199816.26,0,0,0]
[null,"02101","1198","201609",null,"01775","0622","201504",null,"Rur","2101/Rur/201609",{"$f":"IF(J3526=0,0,+CONCATENATE(VLOOKUP(B3526,Cadastro!$Q$3:$R$162,2,FALSE),\"/\",J3526,\"/\",D3526))","v":"52/Rur/201609"},"Rur/201609","2101/201609","2101/1198/201609","52/201609","52/1198/201609","1198/201609","Transp","1775/Transp/201504",{"$f":"+CONCATENATE(VLOOKUP(F3526,Cadastro!$Q$3:$R$162,2,FALSE),\"/\",S3526,\"/\",H3526)","v":"1/Transp/201504"},{"$f":"+CONCATENATE(S3526,\"/\",H3526)","v":"Transp/201504"},"1775/201504","1775/0622/201504","1/201504","1/0622/201504","0622/201504",973933.89159999997,1109732.42,951810.94829999993,281545.1399999999,936568.6682999999,1976359.03,344601.55290000001,955975.87,310724.46000000002,771542.49]
[null,"02101","1392","201611",null,"01775","0654","201506",null,"VGBL","2101/VGBL/201611",{"$f":"IF(J3624=0,0,+CONCATENATE(VLOOKUP(B3624,Cadastro!$Q$3:$R$162,2,FALSE),\"/\",J3624,\"/\",D3624))","v":"52/VGBL/201611"},"VGBL/201611","2101/201611","2101/1392/201611","52/201611","52/1392/201611","1392/201611","Transp","1775/Transp/201506",{"$f":"+CONCATENATE(VLOOKUP(F3624,Cadastro!$Q$3:$R$162,2,FALSE),\"/\",S3624,\"/\",H3624)","v":"1/Transp/201506"},"Transp/201506","1775/201506","1775/0654/201506","1/201506","1/0654/201506","0654/201506",1809617.97,3746598.26,1809617.97,3697751.7199999997,0,2675233.39,0,3365352.21,26550.39,520299.66]
[null,"02143","0542","201603",null,"01775","0743","201501",null,"Aut","2143/Aut/201603",{"$f":"IF(J3691=0,0,+CONCATENATE(VLOOKUP(B3691,Cadastro!$Q$3:$R$162,2,FALSE),\"/\",J3691,\"/\",D3691))","v":"11/Aut/201603"},"Aut/201603","2143/201603","2143/0542/201603","11/201603","11/0542/201603","0542/201603","RF","1775/RF/201501",{"$f":"+CONCATENATE(VLOOKUP(F3691,Cadastro!$Q$3:$R$162,2,FALSE),\"/\",S3691,\"/\",H3691)","v":"1/RF/201501"},"RF/201501","1775/201501","1775/0743/201501","1/201501","1/0743/201501","0743/201501",334200.03000000003,0,334200.03000000003,0,250761.59,0,150964.98000000001,0,91325.07,0]
[null,"02143","0990","201612",null,"01775","0750","201510",null,"Pes","2143/Pes/201612",{"$f":"IF(J3772=0,0,+CONCATENATE(VLOOKUP(B3772,Cadastro!$Q$3:$R$162,2,FALSE),\"/\",J3772,\"/\",D3772))","v":"11/Pes/201612"},"Pes/201612","2143/201612","2143/0990/201612","11/201612","11/0990/201612","0990/201612","RF","1775/RF/201510",{"$f":"+CONCATENATE(VLOOKUP(F3772,Cadastro!$Q$3:$R$162,2,FALSE),\"/\",S3772,\"/\",H3772)","v":"1/RF/201510"},"RF/201510","1775/201510","1775/0750/201510","1/201510","1/0750/201510","0750/201510",613.5,0,613.5,0,488.6,0,-50,0,80.680000000000007,0]
[null,"02143","1329","201608",null,"01775","0776","201506",null,"Pes","2143/Pes/201608",{"$f":"IF(J3792=0,0,+CONCATENATE(VLOOKUP(B3792,Cadastro!$Q$3:$R$162,2,FALSE),\"/\",J3792,\"/\",D3792))","v":"11/Pes/201608"},"Pes/201608","2143/201608","2143/1329/201608","11/201608","11/1329/201608","1329/201608","RF","1775/RF/201506",{"$f":"+CONCATENATE(VLOOKUP(F3792,Cadastro!$Q$3:$R$162,2,FALSE),\"/\",S3792,\"/\",H3792)","v":"1/RF/201506"},"RF/201506","1775/201506","1775/0776/201506","1/201506","1/0776/201506","0776/201506",21574.44,2011352.27,21574.44,1677093.6600000001,27882.6,445478.92000000004,10943.44,-1213699.8999999999,17305.46,139750.48000000001]
[null,"02461","0196","201603",null,"01775","0977","201505",null,"Pat","2461/Pat/201603",{"$f":"IF(J3887=0,0,+CONCATENATE(VLOOKUP(B3887,Cadastro!$Q$3:$R$162,2,FALSE),\"/\",J3887,\"/\",D3887))","v":"12/Pat/201603"},"Pat/201603","2461/201603","2461/0196/201603","12/201603","12/0196/201603","0196/201603","Pes","1775/Pes/201505",{"$f":"+CONCATENATE(VLOOKUP(F3887,Cadastro!$Q$3:$R$162,2,FALSE),\"/\",S3887,\"/\",H3887)","v":"1/Pes/201505"},"Pes/201505","1775/201505","1775/0977/201505","1/201505","1/0977/201505","0977/201505",1870278.49,0,1157198.54,0,148129.74,0,26484.860000000015,0,35525.35,0]
[null,"02461","0745","201601",null,"01775","0986","201503",null,"RF","2461/RF/201601",{"$f":"IF(J3957=0,0,+CONCATENATE(VLOOKUP(B3957,Cadastro!$Q$3:$R$162,2,FALSE),\"/\",J3957,\"/\",D3957))","v":"12/RF/201601"},"RF/201601","2461/201601","2461/0745/201601","12/201601","12/0745/201601","0745/201601","Pes","1775/Pes/201503",{"$f":"+CONCATENATE(VLOOKUP(F3957,Cadastro!$Q$3:$R$162,2,FALSE),\"/\",S3957,\"/\",H3957)","v":"1/Pes/201503"},"Pes/201503","1775/201503","1775/0986/201503","1/201503","1/0986/201503","0986/201503",0,0,0,0,0,0,0,0,0,0]
[null,"02542","0588","201602",null,"01775","1068","201504",null,"Dpvat","2542/Dpvat/201602",{"$f":"IF(J4042=0,0,+CONCATENATE(VLOOKUP(B4042,Cadastro!$Q$3:$R$162,2,FALSE),\"/\",J4042,\"/\",D4042))","v":"55/Dpvat/201602"},"Dpvat/201602","2542/201602","2542/0588/201602","55/201602","55/0588/201602","0588/201602","Hab","1775/Hab/201504",{"$f":"+CONCATENATE(VLOOKUP(F4042,Cadastro!$Q$3:$R$162,2,FALSE),\"/\",S4042,\"/\",H4042)","v":"1/Hab/201504"},"Hab/201504","1775/201504","1775/1068/201504","1/201504","1/1068/201504","1068/201504",3412341.66,0,3412341.66,0,3373278.79,0,2904378.65,0,47780.59,0]
[null,"02542","0929","201610",null,"01775","1101","201512",null,"Pes","2542/Pes/201610",{"$f":"IF(J4062=0,0,+CONCATENATE(VLOOKUP(B4062,Cadastro!$Q$3:$R$162,2,FALSE),\"/\",J4062,\"/\",D4062))","v":"55/Pes/201610"},"Pes/201610","2542/201610","2542/0929/201610","55/201610","55/0929/201610","0929/201610","Rur","1775/Rur/201512",{"$f":"+CONCATENATE(VLOOKUP(F4062,Cadastro!$Q$3:$R$162,2,FALSE),\"/\",S4062,\"/\",H4062)","v":"1/Rur/201512"},"Rur/201512","1775/201512","1775/1101/201512","1/201512","1/1101/201512","1101/201512",0,-0.79,0,-1.52,0,-0.79,0,0,0,-0.02]
[null,"02542","1391","201601",null,"01775","1109","201504",null,"Pes","2542/Pes/201601",{"$f":"IF(J4150=0,0,+CONCATENATE(VLOOKUP(B4150,Cadastro!$Q$3:$R$162,2,FALSE),\"/\",J4150,\"/\",D4150))","v":"55/Pes/201601"},"Pes/201601","2542/201601","2542/1391/201601","55/201601","55/1391/201601","1391/201601","Rur","1775/Rur/201504",{"$f":"+CONCATENATE(VLOOKUP(F4150,Cadastro!$Q$3:$R$162,2,FALSE),\"/\",S4150,\"/\",H4150)","v":"1/Rur/201504"},"Rur/201504","1775/201504","1775/1109/201504","1/201504","1/1109/201504","1109/201504",0,0,0,0,0,0,0,0,0,0]
[null,"02798","0171","201606",null,"01775","1299","201509",null,"Pat","2798/Pat/201606",{"$f":"IF(J4227=0,0,+CONCATENATE(VLOOKUP(B4227,Cadastro!$Q$3:$R$162,2,FALSE),\"/\",J4227,\"/\",D4227))","v":"9/Pat/201606"},"Pat/201606","2798/201606","2798/0171/201606","9/201606","9/0171/201606","0171/201606","Out","1775/Out/201509",{"$f":"+CONCATENATE(VLOOKUP(F4227,Cadastro!$Q$3:$R$162,2,FALSE),\"/\",S4227,\"/\",H4227)","v":"1/Out/201509"},"Out/201509","1775/201509","1775/1299/201509","1/201509","1/1299/201509","1299/201509",508639.33,0,509697.66000000003,0,339367.3,0,494162.13,0,-22901.91,0]
[null,"02798","0196","201610",null,"01775","1336","201501",null,"Pat","2798/Pat/201610",{"$f":"IF(J4243=0,0,+CONCATENATE(VLOOKUP(B4243,Cadastro!$Q$3:$R$162,2,FALSE),\"/\",J4243,\"/\",D4243))","v":"9/Pat/201610"},"Pat/201610","2798/201610","2798/0196/201610","9/201610","9/0196/201610","0196/201610","Pes","1775/Pes/201501",{"$f":"+CONCATENATE(VLOOKUP(F4243,Cadastro!$Q$3:$R$162,2,FALSE),\"/\",S4243,\"/\",H4243)","v":"1/Pes/201501"},"Pes/201501","1775/201501","1775/1336/201501","1/201501","1/1336/201501","1336/201501",77.34,0,-190928.02,0,71099.350000000006,0,-65527.670000000006,0,24608.2,0]
[null,"02798","0632","201601",null,"01775","1386","201502",null,"Transp","2798/Transp/201601",{"$f":"IF(J4328=0,0,+CONCATENATE(VLOOKUP(B4328,Cadastro!$Q$3:$R$162,2,FALSE),\"/\",J4328,\"/\",D4328))","v":"9/Transp/201601"},"Transp/201601","2798/201601","2798/0632/201601","9/201601","9/0632/201601","0632/201601","Pes","1775/Pes/201502",{"$f":"+CONCATENATE(VLOOKUP(F4328,Cadastro!$Q$3:$R$162,2,FALSE),\"/\",S4328,\"/\",H4328)","v":"1/Pes/201502"},"Pes/201502","1775/201502","1775/1386/201502","1/201502","1/1386/201502","1386/201502",0,0,-7.24,0,-7.24,0,0,0,0,0]
[null,"02801","0588","201602",null,"01775","1433","201503",null,"Dpvat","2801/Dpvat/201602",{"$f":"IF(J4413=0,0,+CONCATENATE(VLOOKUP(B4413,Cadastro!$Q$3:$R$162,2,FALSE),\"/\",J4413,\"/\",D4413))","v":"76/Dpvat/201602"},"Dpvat/201602","2801/201602","2801/0588/201602","76/201602","76/0588/201602","0588/201602","Mar","1775/Mar/201503",{"$f":"+CONCATENATE(VLOOKUP(F4413,Cadastro!$Q$3:$R$162,2,FALSE),\"/\",S4413,\"/\",H4413)","v":"1/Mar/201503"},"Mar/201503","1775/201503","1775/1433/201503","1/201503","1/1433/201503","1433/201503",639624.93999999994,12327003.390000001,639624.93999999994,10761289.34,632302.81999999995,2259181.0499999998,544410.44999999995,-709924.37,8956.2199999999993,204737.69]
[null,"02801","1329","201610",null,"01970","0114","201511",null,"Pes","2801/Pes/201610",{"$f":"IF(J4493=0,0,+CONCATENATE(VLOOKUP(B4493,Cadastro!$Q$3:$R$162,2,FALSE),\"/\",J4493,\"/\",D4493))","v":"76/Pes/201610"},"Pes/201610","2801/201610","2801/1329/201610","76/201610","76/1329/201610","1329/201610","Pat","1970/Pat/201511",{"$f":"+CONCATENATE(VLOOKUP(F4493,Cadastro!$Q$3:$R$162,2,FALSE),\"/\",S4493,\"/\",H4493)","v":"77/Pat/201511"},"Pat/201511","1970/201511","1970/0114/201511","77/201511","77/0114/201511","0114/201511",0,16834.439999999999,0,16496.12,0,2477.71,0,3204.1400000000003,0,214.09]
[null,"02801","1387","201606",null,"01970","0310","201504",null,"Pes","2801/Pes/201606",{"$f":"IF(J4513=0,0,+CONCATENATE(VLOOKUP(B4513,Cadastro!$Q$3:$R$162,2,FALSE),\"/\",J4513,\"/\",D4513))","v":"76/Pes/201606"},"Pes/201606","2801/201606","2801/1387/201606","76/201606","76/1387/201606","1387/201606","Res","1970/Res/201504",{"$f":"+CONCATENATE(VLOOKUP(F4513,Cadastro!$Q$3:$R$162,2,FALSE),\"/\",S4513,\"/\",H4513)","v":"77/Res/201504"},"Res/201504","1970/201504","1970/0310/201504","77/201504","77/0310/201504","0310/201504",0,80519.850000000006,0,17069.120000000003,0,39588.169999999991,0,339.4,0,15307.78]
[null,"02852","0167","201603",null,"02020","0860","201510",null,"Pat","2852/Pat/201603",{"$f":"IF(J4594=0,0,+CONCATENATE(VLOOKUP(B4594,Cadastro!$Q$3:$R$162,2,FALSE),\"/\",J4594,\"/\",D4594))","v":"13/Pat/201603"},"Pat/201603","2852/201603","2852/0167/201603","13/201603","13/0167/201603","0167/201603","RF","2020/RF/201510",{"$f":"+CONCATENATE(VLOOKUP(F4594,Cadastro!$Q$3:$R$162,2,FALSE),\"/\",S4594,\"/\",H4594)","v":"32/RF/201510"},"RF/201510","2020/201510","2020/0860/201510","32/201510","32/0860/201510","0860/201510",580352.53,0,352831.86,0,278717.16000000003,0,7705.6900000000005,-8.1599999999999966,53444.82,0]
[null,"02852","0313","201601",null,"02101","0982","201508",null,"Res","2852/Res/201601",{"$f":"IF(J4676=0,0,+CONCATENATE(VLOOKUP(B4676,Cadastro!$Q$3:$R$162,2,FALSE),\"/\",J4676,\"/\",D4676))","v":"13/Res/201601"},"Res/201601","2852/201601","2852/0313/201601","13/201601","13/0313/201601","0313/201601","Pes","2101/Pes/201508",{"$f":"+CONCATENATE(VLOOKUP(F4676,Cadastro!$Q$3:$R$162,2,FALSE),\"/\",S4676,\"/\",H4676)","v":"52/Pes/201508"},"Pes/201508","2101/201508","2101/0982/201508","52/201508","52/0982/201508","0982/201508",0,5844260.3899999997,0,5757850.8877999997,0,5754953.9495999999,0,1181393.7437,0,891989.17]
[null,"02852","0351","201611",null,"02101","0984","201506",null,"Res","2852/Res/201611",{"$f":"IF(J4698=0,0,+CONCATENATE(VLOOKUP(B4698,Cadastro!$Q$3:$R$162,2,FALSE),\"/\",J4698,\"/\",D4698))","v":"13/Res/201611"},"Res/201611","2852/201611","2852/0351/201611","13/201611","13/0351/201611","0351/201611","Pes","2101/Pes/201506",{"$f":"+CONCATENATE(VLOOKUP(F4698,Cadastro!$Q$3:$R$162,2,FALSE),\"/\",S4698,\"/\",H4698)","v":"52/Pes/201506"},"Pes/201506","2101/201506","2101/0984/201506","52/201506","52/0984/201506","0984/201506",2059102.09,311669.28999999998,1972996.2200000002,281856.84080000001,1182272.8900000001,273108.6202,242415.22,39496.94,282020.94,80470.070000000007]
[null,"02852","0632","201608",null,"02101","1329","201503",null,"Transp","2852/Transp/201608",{"$f":"IF(J4779=0,0,+CONCATENATE(VLOOKUP(B4779,Cadastro!$Q$3:$R$162,2,FALSE),\"/\",J4779,\"/\",D4779))","v":"13/Transp/201608"},"Transp/201608","2852/201608","2852/0632/201608","13/201608","13/0632/201608","0632/201608","Pes","2101/Pes/201503",{"$f":"+CONCATENATE(VLOOKUP(F4779,Cadastro!$Q$3:$R$162,2,FALSE),\"/\",S4779,\"/\",H4779)","v":"52/Pes/201503"},"Pes/201503","2101/201503","2101/1329/201503","52/201503","52/1329/201503","1329/201503",0,445283.81,0,445284.49,0,460398.86,0,50792.79,0,76589.78]
[null,"02852","0776","201609",null,"02101","1392","201504",null,"RF","2852/RF/201609",{"$f":"IF(J4864=0,0,+CONCATENATE(VLOOKUP(B4864,Cadastro!$Q$3:$R$162,2,FALSE),\"/\",J4864,\"/\",D4864))","v":"13/RF/201609"},"RF/201609","2852/201609","2852/0776/201609","13/201609","13/0776/201609","0776/201609","VGBL","2101/VGBL/201504",{"$f":"+CONCATENATE(VLOOKUP(F4864,Cadastro!$Q$3:$R$162,2,FALSE),\"/\",S4864,\"/\",H4864)","v":"52/VGBL/201504"},"VGBL/201504","2101/201504","2101/1392/201504","52/201504","52/1392/201504","1392/201504",-15509.82,1898805.94,-8218.09,1898805.94,28714.13,0,-518.28,0,50156.59,47196.85]
[null,"02852","0984","201612",null,"02143","0542","201507",null,"Pes","2852/Pes/201612",{"$f":"IF(J4939=0,0,+CONCATENATE(VLOOKUP(B4939,Cadastro!$Q$3:$R$162,2,FALSE),\"/\",J4939,\"/\",D4939))","v":"13/Pes/201612"},"Pes/201612","2852/201612","2852/0984/201612","13/201612","13/0984/201612","0984/201612","Aut","2143/Aut/201507",{"$f":"+CONCATENATE(VLOOKUP(F4939,Cadastro!$Q$3:$R$162,2,FALSE),\"/\",S4939,\"/\",H4939)","v":"11/Aut/201507"},"Aut/201507","2143/201507","2143/0542/201507","11/201507","11/0542/201507","0542/201507",0,287175.90999999997,0,287175.90999999997,0,41816.32,0,-114.87,0,11800.67]
[null,"02852","0993","201601",null,"02143","0977","201508",null,"Pes","2852/Pes/201601",{"$f":"IF(J4964=0,0,+CONCATENATE(VLOOKUP(B4964,Cadastro!$Q$3:$R$162,2,FALSE),\"/\",J4964,\"/\",D4964))","v":"13/Pes/201601"},"Pes/201601","2852/201601","2852/0993/201601","13/201601","13/0993/201601","0993/201601","Pes","2143/Pes/201508",{"$f":"+CONCATENATE(VLOOKUP(F4964,Cadastro!$Q$3:$R$162,2,FALSE),\"/\",S4964,\"/\",H4964)","v":"11/Pes/201508"},"Pes/201508","2143/201508","2143/0977/201508","11/201508","11/0977/201508","0977/201508",722195.7,1204953.1499999999,711437.6,1204953.1499999999,713034.79,1388951.7,1146192.17,67835.02,232641.95,921944.6]
[null,"02852","1381","201602",null,"02143","1377","201509",null,"Pes","2852/Pes/201602",{"$f":"IF(J5049=0,0,+CONCATENATE(VLOOKUP(B5049,Cadastro!$Q$3:$R$162,2,FALSE),\"/\",J5049,\"/\",D5049))","v":"13/Pes/201602"},"Pes/201602","2852/201602","2852/1381/201602","13/201602","13/1381/201602","1381/201602","Pes","2143/Pes/201509",{"$f":"+CONCATENATE(VLOOKUP(F5049,Cadastro!$Q$3:$R$162,2,FALSE),\"/\",S5049,\"/\",H5049)","v":"11/Pes/201509"},"Pes/201509","2143/201509","2143/1377/201509","11/201509","11/1377/201509","1377/201509",0,2818927.42,0,2818927.42,0,2967178.98,0,72688.84,0,1763129.94]
[null,"02852","1537","201602",null,"02461","0234","201506",null,"Aero","2852/Aero/201602",{"$f":"IF(J5130=0,0,+CONCATENATE(VLOOKUP(B5130,Cadastro!$Q$3:$R$162,2,FALSE),\"/\",J5130,\"/\",D5130))","v":"13/Aero/201602"},"Aero/201602","2852/201602","2852/1537/201602","13/201602","13/1537/201602","1537/201602","RE","2461/RE/201506",{"$f":"+CONCATENATE(VLOOKUP(F5130,Cadastro!$Q$3:$R$162,2,FALSE),\"/\",S5130,\"/\",H5130)","v":"12/RE/201506"},"RE/201506","2461/201506","2461/0234/201506","12/201506","12/0234/201506","0234/201506",0,-3016969.67,0,-7510251.9100000001,0,572778.87000000011,0,-19105.409999999996,0,119580.9]
[null,"02895","0977","201602",null,"02461","0746","201506",null,"Pes","2895/Pes/201602",{"$f":"IF(J5202=0,0,+CONCATENATE(VLOOKUP(B5202,Cadastro!$Q$3:$R$162,2,FALSE),\"/\",J5202,\"/\",D5202))","v":"3/Pes/201602"},"Pes/201602","2895/201602","2895/0977/201602","3/201602","3/0977/201602","0977/201602","RF","2461/RF/201506",{"$f":"+CONCATENATE(VLOOKUP(F5202,Cadastro!$Q$3:$R$162,2,FALSE),\"/\",S5202,\"/\",H5202)","v":"12/RF/201506"},"RF/201506","2461/201506","2461/0746/201506","12/201506","12/0746/201506","0746/201506",693593.2,-1394.3,683730.96,-17108.009999999998,583896.06000000006,34087.340000000004,44123.63,151.97,168573.56,15778.46]
[null,"02895","0982","201610",null,"02461","0775","201502",null,"Pes","2895/Pes/201610",{"$f":"IF(J5234=0,0,+CONCATENATE(VLOOKUP(B5234,Cadastro!$Q$3:$R$162,2,FALSE),\"/\",J5234,\"/\",D5234))","v":"3/Pes/201610"},"Pes/201610","2895/201610","2895/0982/201610","3/201610","3/0982/201610","0982/201610","RF","2461/RF/201502",{"$f":"+CONCATENATE(VLOOKUP(F5234,Cadastro!$Q$3:$R$162,2,FALSE),\"/\",S5234,\"/\",H5234)","v":"12/RF/201502"},"RF/201502","2461/201502","2461/0775/201502","12/201502","12/0775/201502","0775/201502",390982.97,4938725.55,389462.29,2963317.65,443870.29,1942736.46,89019.58,-57832.740000000005,148630.97,580063.05000000005]
[null,"02895","1381","201603",null,"02798","0111","201510",null,"Pes","2895/Pes/201603",{"$f":"IF(J5315=0,0,+CONCATENATE(VLOOKUP(B5315,Cadastro!$Q$3:$R$162,2,FALSE),\"/\",J5315,\"/\",D5315))","v":"3/Pes/201603"},"Pes/201603","2895/201603","2895/1381/201603","3/201603","3/1381/201603","1381/201603","Pat","2798/Pat/201510",{"$f":"+CONCATENATE(VLOOKUP(F5315,Cadastro!$Q$3:$R$162,2,FALSE),\"/\",S5315,\"/\",H5315)","v":"9/Pat/201510"},"Pat/201510","2798/201510","2798/0111/201510","9/201510","9/0111/201510","0111/201510",41483.49,0,41830.229999999996,0,37184.869999999995,0,56960.63,0,11178.12,0]
[null,"02933","0171","201604",null,"02798","0173","201503",null,"Pat","2933/Pat/201604",{"$f":"IF(J5400=0,0,+CONCATENATE(VLOOKUP(B5400,Cadastro!$Q$3:$R$162,2,FALSE),\"/\",J5400,\"/\",D5400))","v":"25/Pat/201604"},"Pat/201604","2933/201604","2933/0171/201604","25/201604","25/0171/201604","0171/201604","Pat","2798/Pat/201503",{"$f":"+CONCATENATE(VLOOKUP(F5400,Cadastro!$Q$3:$R$162,2,FALSE),\"/\",S5400,\"/\",H5400)","v":"9/Pat/201503"},"Pat/201503","2798/201503","2798/0173/201503","9/201503","9/0173/201503","0173/201503",18514342.010000002,0,18514342.010000002,0,16247936.75,0,944433.12,0,9583240.3000000007,0]
[null,"02933","0588","201609",null,"02798","0351","201511",null,"Dpvat","2933/Dpvat/201609",{"$f":"IF(J5465=0,0,+CONCATENATE(VLOOKUP(B5465,Cadastro!$Q$3:$R$162,2,FALSE),\"/\",J5465,\"/\",D5465))","v":"25/Dpvat/201609"},"Dpvat/201609","2933/201609","2933/0588/201609","25/201609","25/0588/201609","0588/201609","Res","2798/Res/201511",{"$f":"+CONCATENATE(VLOOKUP(F5465,Cadastro!$Q$3:$R$162,2,FALSE),\"/\",S5465,\"/\",H5465)","v":"9/Res/201511"},"Res/201511","2798/201511","2798/0351/201511","9/201511","9/0351/201511","0351/201511",2420836.15,641440.79,2420836.15,546143.71000000008,2415568.7599999998,651172.05000000005,2060657.45,233562.13,33900.339999999997,144625.17000000001]
[null,"02950","0116","201608",null,"02798","0621","201510",null,"Pat","2950/Pat/201608",{"$f":"IF(J5500=0,0,+CONCATENATE(VLOOKUP(B5500,Cadastro!$Q$3:$R$162,2,FALSE),\"/\",J5500,\"/\",D5500))","v":"66/Pat/201608"},"Pat/201608","2950/201608","2950/0116/201608","66/201608","66/0116/201608","0116/201608","Transp","2798/Transp/201510",{"$f":"+CONCATENATE(VLOOKUP(F5500,Cadastro!$Q$3:$R$162,2,FALSE),\"/\",S5500,\"/\",H5500)","v":"9/Transp/201510"},"Transp/201510","2798/201510","2798/0621/201510","9/201510","9/0621/201510","0621/201510",6468.09,278311.63,3941.52,198152.27000000002,722.31999999999971,1527225.97,-51220.650000000009,775409.15999999922,865.22,520329.45]
[null,"02950","0531","201611",null,"02798","0652","201504",null,"Aut","2950/Aut/201611",{"$f":"IF(J5585=0,0,+CONCATENATE(VLOOKUP(B5585,Cadastro!$Q$3:$R$162,2,FALSE),\"/\",J5585,\"/\",D5585))","v":"66/Aut/201611"},"Aut/201611","2950/201611","2950/0531/201611","66/201611","66/0531/201611","0531/201611","Transp","2798/Transp/201504",{"$f":"+CONCATENATE(VLOOKUP(F5585,Cadastro!$Q$3:$R$162,2,FALSE),\"/\",S5585,\"/\",H5585)","v":"9/Transp/201504"},"Transp/201504","2798/201504","2798/0652/201504","9/201504","9/0652/201504","0652/201504",6707805.0800000001,152146.19,6671752.0499999998,187430.93,3889410.43,180080.69999999998,2514028.58,1240260.0699999998,924173.76,35678.06]
[null,"02950","0588","201603",null,"02798","0654","201508",null,"Dpvat","2950/Dpvat/201603",{"$f":"IF(J5601=0,0,+CONCATENATE(VLOOKUP(B5601,Cadastro!$Q$3:$R$162,2,FALSE),\"/\",J5601,\"/\",D5601))","v":"66/Dpvat/201603"},"Dpvat/201603","2950/201603","2950/0588/201603","66/201603","66/0588/201603","0588/201603","Transp","2798/Transp/201508",{"$f":"+CONCATENATE(VLOOKUP(F5601,Cadastro!$Q$3:$R$162,2,FALSE),\"/\",S5601,\"/\",H5601)","v":"9/Transp/201508"},"Transp/201508","2798/201508","2798/0654/201508","9/201508","9/0654/201508","0654/201508",2391450.87,2222040,2391450.87,2126766.5499999998,2343166.75,2238326.13,2035629.48,617731.6,33488.61,401794.47]
[null,"02950","1101","201606",null,"02798","0776","201512",null,"Rur","2950/Rur/201606",{"$f":"IF(J5664=0,0,+CONCATENATE(VLOOKUP(B5664,Cadastro!$Q$3:$R$162,2,FALSE),\"/\",J5664,\"/\",D5664))","v":"66/Rur/201606"},"Rur/201606","2950/201606","2950/1101/201606","66/201606","66/1101/201606","1101/201606","RF","2798/RF/201512",{"$f":"+CONCATENATE(VLOOKUP(F5664,Cadastro!$Q$3:$R$162,2,FALSE),\"/\",S5664,\"/\",H5664)","v":"9/RF/201512"},"RF/201512","2798/201512","2798/0776/201512","9/201512","9/0776/201512","0776/201512",2514303.29,-106465.65,1371342.03,-204054.41999999998,1615820.66,473950.22,999621.99000000022,-666475.54,517333.95,31776.38]
[null,"03069","0740","201604",null,"02801","0987","201503",null,"RF","3069/RF/201604",{"$f":"IF(J5770=0,0,+CONCATENATE(VLOOKUP(B5770,Cadastro!$Q$3:$R$162,2,FALSE),\"/\",J5770,\"/\",D5770))","v":"57/RF/201604"},"RF/201604","3069/201604","3069/0740/201604","57/201604","57/0740/201604","0740/201604","Pes","2801/Pes/201503",{"$f":"+CONCATENATE(VLOOKUP(F5770,Cadastro!$Q$3:$R$162,2,FALSE),\"/\",S5770,\"/\",H5770)","v":"76/Pes/201503"},"Pes/201503","2801/201503","2801/0987/201503","76/201503","76/0987/201503","0987/201503",0,0,0,0,0,0,0,0,0,0]
[null,"03182","0115","201601",null,"02852","0115","201504",null,"Pat","3182/Pat/201601",{"$f":"IF(J5851=0,0,+CONCATENATE(VLOOKUP(B5851,Cadastro!$Q$3:$R$162,2,FALSE),\"/\",J5851,\"/\",D5851))","v":"56/Pat/201601"},"Pat/201601","3182/201601","3182/0115/201601","56/201601","56/0115/201601","0115/201601","Pat","2852/Pat/201504",{"$f":"+CONCATENATE(VLOOKUP(F5851,Cadastro!$Q$3:$R$162,2,FALSE),\"/\",S5851,\"/\",H5851)","v":"13/Pat/201504"},"Pat/201504","2852/201504","2852/0115/201504","13/201504","13/0115/201504","0115/201504",0,0,0,-9274.15,0,-9274.15,0,0,0,0]
[null,"03182","0116","201609",null,"02852","0116","201512",null,"Pat","3182/Pat/201609",{"$f":"IF(J5871=0,0,+CONCATENATE(VLOOKUP(B5871,Cadastro!$Q$3:$R$162,2,FALSE),\"/\",J5871,\"/\",D5871))","v":"56/Pat/201609"},"Pat/201609","3182/201609","3182/0116/201609","56/201609","56/0116/201609","0116/201609","Pat","2852/Pat/201512",{"$f":"+CONCATENATE(VLOOKUP(F5871,Cadastro!$Q$3:$R$162,2,FALSE),\"/\",S5871,\"/\",H5871)","v":"13/Pat/201512"},"Pat/201512","2852/201512","2852/0116/201512","13/201512","13/0116/201512","0116/201512",0,0,0,-23829.48,0,-23829.48,0,0,0,0]
[null,"03182","0173","201605",null,"02852","0195","201508",null,"Pat","3182/Pat/201605",{"$f":"IF(J5927=0,0,+CONCATENATE(VLOOKUP(B5927,Cadastro!$Q$3:$R$162,2,FALSE),\"/\",J5927,\"/\",D5927))","v":"56/Pat/201605"},"Pat/201605","3182/201605","3182/0173/201605","56/201605","56/0173/201605","0173/201605","Pat","2852/Pat/201508",{"$f":"+CONCATENATE(VLOOKUP(F5927,Cadastro!$Q$3:$R$162,2,FALSE),\"/\",S5927,\"/\",H5927)","v":"13/Pat/201508"},"Pat/201508","2852/201508","2852/0195/201508","13/201508","13/0195/201508","0195/201508",0,0,0,0,0,0,0,0,0,0]
[null,"03182","0433","201606",null,"02852","0628","201506",null,"Mar","3182/Mar/201606",{"$f":"IF(J6036=0,0,+CONCATENATE(VLOOKUP(B6036,Cadastro!$Q$3:$R$162,2,FALSE),\"/\",J6036,\"/\",D6036))","v":"56/Mar/201606"},"Mar/201606","3182/201606","3182/0433/201606","56/201606","56/0433/201606","0433/201606","Transp","2852/Transp/201506",{"$f":"+CONCATENATE(VLOOKUP(F6036,Cadastro!$Q$3:$R$162,2,FALSE),\"/\",S6036,\"/\",H6036)","v":"13/Transp/201506"},"Transp/201506","2852/201506","2852/0628/201506","13/201506","13/0628/201506","0628/201506",0,0,0,0,0,0,0,0,0,0]
[null,"03182","0437","201602",null,"02852","0652","201502",null,"Aero","3182/Aero/201602",{"$f":"IF(J6056=0,0,+CONCATENATE(VLOOKUP(B6056,Cadastro!$Q$3:$R$162,2,FALSE),\"/\",J6056,\"/\",D6056))","v":"56/Aero/201602"},"Aero/201602","3182/201602","3182/0437/201602","56/201602","56/0437/201602","0437/201602","Transp","2852/Transp/201502",{"$f":"+CONCATENATE(VLOOKUP(F6056,Cadastro!$Q$3:$R$162,2,FALSE),\"/\",S6056,\"/\",H6056)","v":"13/Transp/201502"},"Transp/201502","2852/201502","2852/0652/201502","13/201502","13/0652/201502","0652/201502",0,0,0,0,0,0,0,0,0,0]
[null,"03182","0531","201611",null,"02852","0929","201508",null,"Aut","3182/Aut/201611",{"$f":"IF(J6137=0,0,+CONCATENATE(VLOOKUP(B6137,Cadastro!$Q$3:$R$162,2,FALSE),\"/\",J6137,\"/\",D6137))","v":"56/Aut/201611"},"Aut/201611","3182/201611","3182/0531/201611","56/201611","56/0531/201611","0531/201611","Pes","2852/Pes/201508",{"$f":"+CONCATENATE(VLOOKUP(F6137,Cadastro!$Q$3:$R$162,2,FALSE),\"/\",S6137,\"/\",H6137)","v":"13/Pes/201508"},"Pes/201508","2852/201508","2852/0929/201508","13/201508","13/0929/201508","0929/201508",73978057.469999999,0,73978057.469999999,0,121497841.19,0,75030901.269999996,0,20286294.260000002,0]
[null,"03182","0621","201604",null,"02852","0984","201501",null,"Transp","3182/Transp/201604",{"$f":"IF(J6190=0,0,+CONCATENATE(VLOOKUP(B6190,Cadastro!$Q$3:$R$162,2,FALSE),\"/\",J6190,\"/\",D6190))","v":"56/Transp/201604"},"Transp/201604","3182/201604","3182/0621/201604","56/201604","56/0621/201604","0621/201604","Pes","2852/Pes/201501",{"$f":"+CONCATENATE(VLOOKUP(F6190,Cadastro!$Q$3:$R$162,2,FALSE),\"/\",S6190,\"/\",H6190)","v":"13/Pes/201501"},"Pes/201501","2852/201501","2852/0984/201501","13/201501","13/0984/201501","0984/201501",0,0,0,0,0,0,0,0,0,0]
[null,"03182","0656","201612",null,"02852","1380","201509",null,"Transp","3182/Transp/201612",{"$f":"IF(J6306=0,0,+CONCATENATE(VLOOKUP(B6306,Cadastro!$Q$3:$R$162,2,FALSE),\"/\",J6306,\"/\",D6306))","v":"56/Transp/201612"},"Transp/201612","3182/201612","3182/0656/201612","56/201612","56/0656/201612","0656/201612","Pes","2852/Pes/201509",{"$f":"+CONCATENATE(VLOOKUP(F6306,Cadastro!$Q$3:$R$162,2,FALSE),\"/\",S6306,\"/\",H6306)","v":"13/Pes/201509"},"Pes/201509","2852/201509","2852/1380/201509","13/201509","13/1380/201509","1380/201509",0,0,0,0,0,0,0,0,0,0]
[null,"03182","0739","201604",null,"02852","1384","201501",null,"RF","3182/RF/201604",{"$f":"IF(J6322=0,0,+CONCATENATE(VLOOKUP(B6322,Cadastro!$Q$3:$R$162,2,FALSE),\"/\",J6322,\"/\",D6322))","v":"56/RF/201604"},"RF/201604","3182/201604","3182/0739/201604","56/201604","56/0739/201604","0739/201604","Pes","2852/Pes/201501",{"$f":"+CONCATENATE(VLOOKUP(F6322,Cadastro!$Q$3:$R$162,2,FALSE),\"/\",S6322,\"/\",H6322)","v":"13/Pes/201501"},"Pes/201501","2852/201501","2852/1384/201501","13/201501","13/1384/201501","1384/201501",0,0,0,0,0,0,0,0,0,0]
[null,"03182","0859","201605",null,"02895","0929","201502",null,"RF","3182/RF/201605",{"$f":"IF(J6407=0,0,+CONCATENATE(VLOOKUP(B6407,Cadastro!$Q$3:$R$162,2,FALSE),\"/\",J6407,\"/\",D6407))","v":"56/RF/201605"},"RF/201605","3182/201605","3182/0859/201605","56/201605","56/0859/201605","0859/201605","Pes","2895/Pes/201502",{"$f":"+CONCATENATE(VLOOKUP(F6407,Cadastro!$Q$3:$R$162,2,FALSE),\"/\",S6407,\"/\",H6407)","v":"3/Pes/201502"},"Pes/201502","2895/201502","2895/0929/201502","3/201502","3/0929/201502","0929/201502",0,235368.73,0,234837.78,0,231803.49,0,-89743.13,0,74780.19]
[null,"03182","0969","201603",null,"02895","0982","201501",null,"Pes","3182/Pes/201603",{"$f":"IF(J6453=0,0,+CONCATENATE(VLOOKUP(B6453,Cadastro!$Q$3:$R$162,2,FALSE),\"/\",J6453,\"/\",D6453))","v":"56/Pes/201603"},"Pes/201603","3182/201603","3182/0969/201603","56/201603","56/0969/201603","0969/201603","Pes","2895/Pes/201501",{"$f":"+CONCATENATE(VLOOKUP(F6453,Cadastro!$Q$3:$R$162,2,FALSE),\"/\",S6453,\"/\",H6453)","v":"3/Pes/201501"},"Pes/201501","2895/201501","2895/0982/201501","3/201501","3/0982/201501","0982/201501",0,645735.43000000005,0,644788.02,0,637861.36,0,41663.019999999997,0,185964.48]
[null,"03182","0982","201609",null,"02895","0994","201507",null,"Pes","3182/Pes/201609",{"$f":"IF(J6507=0,0,+CONCATENATE(VLOOKUP(B6507,Cadastro!$Q$3:$R$162,2,FALSE),\"/\",J6507,\"/\",D6507))","v":"56/Pes/201609"},"Pes/201609","3182/201609","3182/0982/201609","56/201609","56/0982/201609","0982/201609","VGBL","2895/VGBL/201507",{"$f":"+CONCATENATE(VLOOKUP(F6507,Cadastro!$Q$3:$R$162,2,FALSE),\"/\",S6507,\"/\",H6507)","v":"3/VGBL/201507"},"VGBL/201507","2895/201507","2895/0994/201507","3/201507","3/0994/201507","0994/201507",0,28584.7,0,28584.7,0,0,0,0,0,0]
[null,"03182","1068","201610",null,"02933","0114","201508",null,"Hab","3182/Hab/201610",{"$f":"IF(J6592=0,0,+CONCATENATE(VLOOKUP(B6592,Cadastro!$Q$3:$R$162,2,FALSE),\"/\",J6592,\"/\",D6592))","v":"56/Hab/201610"},"Hab/201610","3182/201610","3182/1068/201610","56/201610","56/1068/201610","1068/201610","Pat","2933/Pat/201508",{"$f":"+CONCATENATE(VLOOKUP(F6592,Cadastro!$Q$3:$R$162,2,FALSE),\"/\",S6592,\"/\",H6592)","v":"25/Pat/201508"},"Pat/201508","2933/201508","2933/0114/201508","25/201508","25/0114/201508","0114/201508",0,666881.63,0,666881.63,0,667767.27,0,678880.86,0,265885.61]
[null,"03182","1107","201607",null,"02933","0531","201505",null,"Rur","3182/Rur/201607",{"$f":"IF(J6673=0,0,+CONCATENATE(VLOOKUP(B6673,Cadastro!$Q$3:$R$162,2,FALSE),\"/\",J6673,\"/\",D6673))","v":"56/Rur/201607"},"Rur/201607","3182/201607","3182/1107/201607","56/201607","56/1107/201607","1107/201607","Aut","2933/Aut/201505",{"$f":"+CONCATENATE(VLOOKUP(F6673,Cadastro!$Q$3:$R$162,2,FALSE),\"/\",S6673,\"/\",H6673)","v":"25/Aut/201505"},"Aut/201505","2933/201505","2933/0531/201505","25/201505","25/0531/201505","0531/201505",0,2509073.61,0,2509073.61,0,3199533.74,0,1143846.9099999999,0,469669.04]
[null,"03182","1162","201602",null,"02950","0114","201512",null,"Rur","3182/Rur/201602",{"$f":"IF(J6716=0,0,+CONCATENATE(VLOOKUP(B6716,Cadastro!$Q$3:$R$162,2,FALSE),\"/\",J6716,\"/\",D6716))","v":"56/Rur/201602"},"Rur/201602","3182/201602","3182/1162/201602","56/201602","56/1162/201602","1162/201602","Pat","2950/Pat/201512",{"$f":"+CONCATENATE(VLOOKUP(F6716,Cadastro!$Q$3:$R$162,2,FALSE),\"/\",S6716,\"/\",H6716)","v":"66/Pat/201512"},"Pat/201512","2950/201512","2950/0114/201512","66/201512","66/0114/201512","0114/201512",0,806185.72,0,731986.76,0,351105.38999999996,0,670630.24,0,72342.539999999994]
[null,"03182","1336","201603",null,"02950","0531","201501",null,"Pes","3182/Pes/201603",{"$f":"IF(J6777=0,0,+CONCATENATE(VLOOKUP(B6777,Cadastro!$Q$3:$R$162,2,FALSE),\"/\",J6777,\"/\",D6777))","v":"56/Pes/201603"},"Pes/201603","3182/201603","3182/1336/201603","56/201603","56/1336/201603","1336/201603","Aut","2950/Aut/201501",{"$f":"+CONCATENATE(VLOOKUP(F6777,Cadastro!$Q$3:$R$162,2,FALSE),\"/\",S6777,\"/\",H6777)","v":"66/Aut/201501"},"Aut/201501","2950/201501","2950/0531/201501","66/201501","66/0531/201501","0531/201501",0,315990.51,0,285544.49,0,56485.11,0,72455.75,0,15427.12]
[null,"03182","1390","201612",null,"02950","0993","201510",null,"Pes","3182/Pes/201612",{"$f":"IF(J6858=0,0,+CONCATENATE(VLOOKUP(B6858,Cadastro!$Q$3:$R$162,2,FALSE),\"/\",J6858,\"/\",D6858))","v":"56/Pes/201612"},"Pes/201612","3182/201612","3182/1390/201612","56/201612","56/1390/201612","1390/201612","Pes","2950/Pes/201510",{"$f":"+CONCATENATE(VLOOKUP(F6858,Cadastro!$Q$3:$R$162,2,FALSE),\"/\",S6858,\"/\",H6858)","v":"66/Pes/201510"},"Pes/201510","2950/201510","2950/0993/201510","66/201510","66/0993/201510","0993/201510",0,721280.29,0,658203.22000000009,0,474620.42,0,210339.97,0,131663.32999999999]
[null,"03298","0991","201601",null,"03069","0167","201511",null,"Pes","3298/Pes/201601",{"$f":"IF(J6943=0,0,+CONCATENATE(VLOOKUP(B6943,Cadastro!$Q$3:$R$162,2,FALSE),\"/\",J6943,\"/\",D6943))","v":"16/Pes/201601"},"Pes/201601","3298/201601","3298/0991/201601","16/201601","16/0991/201601","0991/201601","Pat","3069/Pat/201511",{"$f":"+CONCATENATE(VLOOKUP(F6943,Cadastro!$Q$3:$R$162,2,FALSE),\"/\",S6943,\"/\",H6943)","v":"57/Pat/201511"},"Pat/201511","3069/201511","3069/0167/201511","57/201511","57/0167/201511","0167/201511",0,41639.410000000003,0,-11368.719999999994,0,41706.04,0,-2479.15,0,15930.27]
[null,"03298","1383","201601",null,"03069","0740","201511",null,"Pes","3298/Pes/201601",{"$f":"IF(J6979=0,0,+CONCATENATE(VLOOKUP(B6979,Cadastro!$Q$3:$R$162,2,FALSE),\"/\",J6979,\"/\",D6979))","v":"16/Pes/201601"},"Pes/201601","3298/201601","3298/1383/201601","16/201601","16/1383/201601","1383/201601","RF","3069/RF/201511",{"$f":"+CONCATENATE(VLOOKUP(F6979,Cadastro!$Q$3:$R$162,2,FALSE),\"/\",S6979,\"/\",H6979)","v":"57/RF/201511"},"RF/201511","3069/201511","3069/0740/201511","57/201511","57/0740/201511","0740/201511",2681570.7599999998,0,2681570.7599999998,-373.98,0,244.67999999999995,4193.76,0,364466.1,46.03]
[null,"03328","0860","201605",null,"03182","0114","201503",null,"RF","3328/RF/201605",{"$f":"IF(J7043=0,0,+CONCATENATE(VLOOKUP(B7043,Cadastro!$Q$3:$R$162,2,FALSE),\"/\",J7043,\"/\",D7043))","v":"28/RF/201605"},"RF/201605","3328/201605","3328/0860/201605","28/201605","28/0860/201605","0860/201605","Pat","3182/Pat/201503",{"$f":"+CONCATENATE(VLOOKUP(F7043,Cadastro!$Q$3:$R$162,2,FALSE),\"/\",S7043,\"/\",H7043)","v":"56/Pat/201503"},"Pat/201503","3182/201503","3182/0114/201503","56/201503","56/0114/201503","0114/201503",0,37952535.710000001,0,37892012.82,0,40804891.5,-144.80999999999767,14867487.039999999,302.2,12640050.92]
[null,"03671","0531","201603",null,"03182","0173","201504",null,"Aut","3671/Aut/201603",{"$f":"IF(J7128=0,0,+CONCATENATE(VLOOKUP(B7128,Cadastro!$Q$3:$R$162,2,FALSE),\"/\",J7128,\"/\",D7128))","v":"78/Aut/201603"},"Aut/201603","3671/201603","3671/0531/201603","78/201603","78/0531/201603","0531/201603","Pat","3182/Pat/201504",{"$f":"+CONCATENATE(VLOOKUP(F7128,Cadastro!$Q$3:$R$162,2,FALSE),\"/\",S7128,\"/\",H7128)","v":"56/Pat/201504"},"Pat/201504","3182/201504","3182/0173/201504","56/201504","56/0173/201504","0173/201504",337533.66,0,337533.66,0,181108.26,0,124822.6,0,2797.54,0]
[null,"03671","0990","201612",null,"03182","0351","201501",null,"Pes","3671/Pes/201612",{"$f":"IF(J7209=0,0,+CONCATENATE(VLOOKUP(B7209,Cadastro!$Q$3:$R$162,2,FALSE),\"/\",J7209,\"/\",D7209))","v":"78/Pes/201612"},"Pes/201612","3671/201612","3671/0990/201612","78/201612","78/0990/201612","0990/201612","Res","3182/Res/201501",{"$f":"+CONCATENATE(VLOOKUP(F7209,Cadastro!$Q$3:$R$162,2,FALSE),\"/\",S7209,\"/\",H7209)","v":"56/Res/201501"},"Res/201501","3182/201501","3182/0351/201501","56/201501","56/0351/201501","0351/201501",3387.18,0,3387.18,0,3866.75,0,182.56,0,339.46,0]
[null,"03671","1065","201609",null,"03182","0433","201510",null,"Hab","3671/Hab/201609",{"$f":"IF(J7242=0,0,+CONCATENATE(VLOOKUP(B7242,Cadastro!$Q$3:$R$162,2,FALSE),\"/\",J7242,\"/\",D7242))","v":"78/Hab/201609"},"Hab/201609","3671/201609","3671/1065/201609","78/201609","78/1065/201609","1065/201609","Mar","3182/Mar/201510",{"$f":"+CONCATENATE(VLOOKUP(F7242,Cadastro!$Q$3:$R$162,2,FALSE),\"/\",S7242,\"/\",H7242)","v":"56/Mar/201510"},"Mar/201510","3182/201510","3182/0433/201510","56/201510","56/0433/201510","0433/201510",418221.59,0,382486.12,0,374546.81999999995,0,32771.160000000003,0,221459.87,0]
[null,"03727","0115","201612",null,"03182","0524","201505",null,"Pat","3727/Pat/201612",{"$f":"IF(J7309=0,0,+CONCATENATE(VLOOKUP(B7309,Cadastro!$Q$3:$R$162,2,FALSE),\"/\",J7309,\"/\",D7309))","v":"75/Pat/201612"},"Pat/201612","3727/201612","3727/0115/201612","75/201612","75/0115/201612","0115/201612","Aut","3182/Aut/201505",{"$f":"+CONCATENATE(VLOOKUP(F7309,Cadastro!$Q$3:$R$162,2,FALSE),\"/\",S7309,\"/\",H7309)","v":"56/Aut/201505"},"Aut/201505","3182/201505","3182/0524/201505","56/201505","56/0524/201505","0524/201505",0,0,0,0,0,1403.28,0,0,0,701.62]
[null,"03727","0351","201601",null,"03182","0621","201506",null,"Res","3727/Res/201601",{"$f":"IF(J7394=0,0,+CONCATENATE(VLOOKUP(B7394,Cadastro!$Q$3:$R$162,2,FALSE),\"/\",J7394,\"/\",D7394))","v":"75/Res/201601"},"Res/201601","3727/201601","3727/0351/201601","75/201601","75/0351/201601","0351/201601","Transp","3182/Transp/201506",{"$f":"+CONCATENATE(VLOOKUP(F7394,Cadastro!$Q$3:$R$162,2,FALSE),\"/\",S7394,\"/\",H7394)","v":"56/Transp/201506"},"Transp/201506","3182/201506","3182/0621/201506","56/201506","56/0621/201506","0621/201506",1003037.88,0,879494.47,0,802924.86,0,146586.22,0,175091.65,0]
[null,"03727","0378","201609",null,"03182","0627","201502",null,"Res","3727/Res/201609",{"$f":"IF(J7414=0,0,+CONCATENATE(VLOOKUP(B7414,Cadastro!$Q$3:$R$162,2,FALSE),\"/\",J7414,\"/\",D7414))","v":"75/Res/201609"},"Res/201609","3727/201609","3727/0378/201609","75/201609","75/0378/201609","0378/201609","Transp","3182/Transp/201502",{"$f":"+CONCATENATE(VLOOKUP(F7414,Cadastro!$Q$3:$R$162,2,FALSE),\"/\",S7414,\"/\",H7414)","v":"56/Transp/201502"},"Transp/201502","3182/201502","3182/0627/201502","56/201502","56/0627/201502","0627/201502",368534.96,0,399255.83,0,317729.75,0,165389.14000000001,0,55535.13,0]
[null,"03794","0588","201604",null,"03182","0656","201509",null,"Dpvat","3794/Dpvat/201604",{"$f":"IF(J7505=0,0,+CONCATENATE(VLOOKUP(B7505,Cadastro!$Q$3:$R$162,2,FALSE),\"/\",J7505,\"/\",D7505))","v":"60/Dpvat/201604"},"Dpvat/201604","3794/201604","3794/0588/201604","60/201604","60/0588/201604","0588/201604","Transp","3182/Transp/201509",{"$f":"+CONCATENATE(VLOOKUP(F7505,Cadastro!$Q$3:$R$162,2,FALSE),\"/\",S7505,\"/\",H7505)","v":"56/Transp/201509"},"Transp/201509","3182/201509","3182/0656/201509","56/201509","56/0656/201509","0656/201509",3082936.54,0,3082936.54,0,3031361.49,0,2624226.0499999998,0,43172.63,0]
[null,"04251","0984","201606",null,"03182","0747","201511",null,"Pes","4251/Pes/201606",{"$f":"IF(J7579=0,0,+CONCATENATE(VLOOKUP(B7579,Cadastro!$Q$3:$R$162,2,FALSE),\"/\",J7579,\"/\",D7579))","v":"23/Pes/201606"},"Pes/201606","4251/201606","4251/0984/201606","23/201606","23/0984/201606","0984/201606","RF","3182/RF/201511",{"$f":"+CONCATENATE(VLOOKUP(F7579,Cadastro!$Q$3:$R$162,2,FALSE),\"/\",S7579,\"/\",H7579)","v":"56/RF/201511"},"RF/201511","3182/201511","3182/0747/201511","56/201511","56/0747/201511","0747/201511",390461.39,0,390461.39,0,390849.79,0,123572.94,0,118359.57,0]
[null,"04251","1392","201607",null,"03182","0969","201512",null,"VGBL","4251/VGBL/201607",{"$f":"IF(J7664=0,0,+CONCATENATE(VLOOKUP(B7664,Cadastro!$Q$3:$R$162,2,FALSE),\"/\",J7664,\"/\",D7664))","v":"23/VGBL/201607"},"VGBL/201607","4251/201607","4251/1392/201607","23/201607","23/1392/201607","1392/201607","Pes","3182/Pes/201512",{"$f":"+CONCATENATE(VLOOKUP(F7664,Cadastro!$Q$3:$R$162,2,FALSE),\"/\",S7664,\"/\",H7664)","v":"56/Pes/201512"},"Pes/201512","3182/201512","3182/0969/201512","56/201512","56/0969/201512","0969/201512",0,0,0,0,0,0,0,0,0,0]
[null,"04359","0748","201611",null,"03182","0980","201504",null,"RF","4359/RF/201611",{"$f":"IF(J7680=0,0,+CONCATENATE(VLOOKUP(B7680,Cadastro!$Q$3:$R$162,2,FALSE),\"/\",J7680,\"/\",D7680))","v":"36/RF/201611"},"RF/201611","4359/201611","4359/0748/201611","36/201611","36/0748/201611","0748/201611","Pes","3182/Pes/201504",{"$f":"+CONCATENATE(VLOOKUP(F7680,Cadastro!$Q$3:$R$162,2,FALSE),\"/\",S7680,\"/\",H7680)","v":"56/Pes/201504"},"Pes/201504","3182/201504","3182/0980/201504","56/201504","56/0980/201504","0980/201504",4912013,0,2567540.15,0,1171105.9099999997,0,-218064.89000000013,0,439170.61,0]
[null,"04367","1387","201611",null,"03182","0994","201508",null,"Pes","4367/Pes/201611",{"$f":"IF(J7768=0,0,+CONCATENATE(VLOOKUP(B7768,Cadastro!$Q$3:$R$162,2,FALSE),\"/\",J7768,\"/\",D7768))","v":"46/Pes/201611"},"Pes/201611","4367/201611","4367/1387/201611","46/201611","46/1387/201611","1387/201611","VGBL","3182/VGBL/201508",{"$f":"+CONCATENATE(VLOOKUP(F7768,Cadastro!$Q$3:$R$162,2,FALSE),\"/\",S7768,\"/\",H7768)","v":"56/VGBL/201508"},"VGBL/201508","3182/201508","3182/0994/201508","56/201508","56/0994/201508","0994/201508",0,0,0,0,0,0,0,0,0,0]
[null,"04634","1381","201609",null,"03182","1105","201501",null,"Pes","4634/Pes/201609",{"$f":"IF(J7845=0,0,+CONCATENATE(VLOOKUP(B7845,Cadastro!$Q$3:$R$162,2,FALSE),\"/\",J7845,\"/\",D7845))","v":"67/Pes/201609"},"Pes/201609","4634/201609","4634/1381/201609","67/201609","67/1381/201609","1381/201609","Rur","3182/Rur/201501",{"$f":"+CONCATENATE(VLOOKUP(F7845,Cadastro!$Q$3:$R$162,2,FALSE),\"/\",S7845,\"/\",H7845)","v":"56/Rur/201501"},"Rur/201501","3182/201501","3182/1105/201501","56/201501","56/1105/201501","1105/201501",0,0,0,0,0,0,0,0,0,0]
[null,"04634","1390","201609",null,"03182","1106","201509",null,"Pes","4634/Pes/201609",{"$f":"IF(J7865=0,0,+CONCATENATE(VLOOKUP(B7865,Cadastro!$Q$3:$R$162,2,FALSE),\"/\",J7865,\"/\",D7865))","v":"67/Pes/201609"},"Pes/201609","4634/201609","4634/1390/201609","67/201609","67/1390/201609","1390/201609","Rur","3182/Rur/201509",{"$f":"+CONCATENATE(VLOOKUP(F7865,Cadastro!$Q$3:$R$162,2,FALSE),\"/\",S7865,\"/\",H7865)","v":"56/Rur/201509"},"Rur/201509","3182/201509","3182/1106/201509","56/201509","56/1106/201509","1106/201509",0,0,0,0,0,0,0,0,0,0]
[null,"04669","0141","201612",null,"03182","1164","201510",null,"Pat","4669/Pat/201612",{"$f":"IF(J7950=0,0,+CONCATENATE(VLOOKUP(B7950,Cadastro!$Q$3:$R$162,2,FALSE),\"/\",J7950,\"/\",D7950))","v":"38/Pat/201612"},"Pat/201612","4669/201612","4669/0141/201612","38/201612","38/0141/201612","0141/201612","Rur","3182/Rur/201510",{"$f":"+CONCATENATE(VLOOKUP(F7950,Cadastro!$Q$3:$R$162,2,FALSE),\"/\",S7950,\"/\",H7950)","v":"56/Rur/201510"},"Rur/201510","3182/201510","3182/1164/201510","56/201510","56/1164/201510","1164/201510",0,0,0,0,0,0,0,0,0,0]
[null,"04669","0274","201609",null,"03182","1381","201507",null,"RE","4669/RE/201609",{"$f":"IF(J8031=0,0,+CONCATENATE(VLOOKUP(B8031,Cadastro!$Q$3:$R$162,2,FALSE),\"/\",J8031,\"/\",D8031))","v":"38/RE/201609"},"RE/201609","4669/201609","4669/0274/201609","38/201609","38/0274/201609","0274/201609","Pes","3182/Pes/201507",{"$f":"+CONCATENATE(VLOOKUP(F8031,Cadastro!$Q$3:$R$162,2,FALSE),\"/\",S8031,\"/\",H8031)","v":"56/Pes/201507"},"Pes/201507","3182/201507","3182/1381/201507","56/201507","56/1381/201507","1381/201507",0,0,0,0,0,0,0,0,0,0]
[null,"04669","0437","201609",null,"03298","0589","201507",null,"Aero","4669/Aero/201609",{"$f":"IF(J8115=0,0,+CONCATENATE(VLOOKUP(B8115,Cadastro!$Q$3:$R$162,2,FALSE),\"/\",J8115,\"/\",D8115))","v":"38/Aero/201609"},"Aero/201609","4669/201609","4669/0437/201609","38/201609","38/0437/201609","0437/201609","Dpvat","3298/Dpvat/201507",{"$f":"+CONCATENATE(VLOOKUP(F8115,Cadastro!$Q$3:$R$162,2,FALSE),\"/\",S8115,\"/\",H8115)","v":"16/Dpvat/201507"},"Dpvat/201507","3298/201507","3298/0589/201507","16/201507","16/0589/201507","0589/201507",0,0,0,0,0,0,0,0,0,0]
[null,"04669","0520","201601",null,"03298","0983","201511",null,"Aut","4669/Aut/201601",{"$f":"IF(J8131=0,0,+CONCATENATE(VLOOKUP(B8131,Cadastro!$Q$3:$R$162,2,FALSE),\"/\",J8131,\"/\",D8131))","v":"38/Aut/201601"},"Aut/201601","4669/201601","4669/0520/201601","38/201601","38/0520/201601","0520/201601","Pes","3298/Pes/201511",{"$f":"+CONCATENATE(VLOOKUP(F8131,Cadastro!$Q$3:$R$162,2,FALSE),\"/\",S8131,\"/\",H8131)","v":"16/Pes/201511"},"Pes/201511","3298/201511","3298/0983/201511","16/201511","16/0983/201511","0983/201511",0,0,0,0,0,0,0,0,0,0]
[null,"04669","0553","201602",null,"03298","1391","201512",null,"Aut","4669/Aut/201602",{"$f":"IF(J8216=0,0,+CONCATENATE(VLOOKUP(B8216,Cadastro!$Q$3:$R$162,2,FALSE),\"/\",J8216,\"/\",D8216))","v":"38/Aut/201602"},"Aut/201602","4669/201602","4669/0553/201602","38/201602","38/0553/201602","0553/201602","Pes","3298/Pes/201512",{"$f":"+CONCATENATE(VLOOKUP(F8216,Cadastro!$Q$3:$R$162,2,FALSE),\"/\",S8216,\"/\",H8216)","v":"16/Pes/201512"},"Pes/201512","3298/201512","3298/1391/201512","16/201512","16/1391/201512","1391/201512",0,0,0,0,0,0,0,-23.62,0,156833.59]
[null,"04669","0632","201608",null,"03387","0993","201508",null,"Transp","4669/Transp/201608",{"$f":"IF(J8294=0,0,+CONCATENATE(VLOOKUP(B8294,Cadastro!$Q$3:$R$162,2,FALSE),\"/\",J8294,\"/\",D8294))","v":"38/Transp/201608"},"Transp/201608","4669/201608","4669/0632/201608","38/201608","38/0632/201608","0632/201608","Pes","3387/Pes/201508",{"$f":"+CONCATENATE(VLOOKUP(F8294,Cadastro!$Q$3:$R$162,2,FALSE),\"/\",S8294,\"/\",H8294)","v":"8/Pes/201508"},"Pes/201508","3387/201508","3387/0993/201508","8/201508","8/0993/201508","0993/201508",0,0,0,0,0,0,0,0,0,0]
[null,"04669","0739","201611",null,"03671","0588","201508",null,"RF","4669/RF/201611",{"$f":"IF(J8381=0,0,+CONCATENATE(VLOOKUP(B8381,Cadastro!$Q$3:$R$162,2,FALSE),\"/\",J8381,\"/\",D8381))","v":"38/RF/201611"},"RF/201611","4669/201611","4669/0739/201611","38/201611","38/0739/201611","0739/201611","Dpvat","3671/Dpvat/201508",{"$f":"+CONCATENATE(VLOOKUP(F8381,Cadastro!$Q$3:$R$162,2,FALSE),\"/\",S8381,\"/\",H8381)","v":"78/Dpvat/201508"},"Dpvat/201508","3671/201508","3671/0588/201508","78/201508","78/0588/201508","0588/201508",0,2379530.89,0,2379530.89,0,2409855.58,0,2059629.06,0,33471.61]
[null,"04669","0743","201607",null,"03671","0655","201507",null,"RF","4669/RF/201607",{"$f":"IF(J8401=0,0,+CONCATENATE(VLOOKUP(B8401,Cadastro!$Q$3:$R$162,2,FALSE),\"/\",J8401,\"/\",D8401))","v":"38/RF/201607"},"RF/201607","4669/201607","4669/0743/201607","38/201607","38/0743/201607","0743/201607","Transp","3671/Transp/201507",{"$f":"+CONCATENATE(VLOOKUP(F8401,Cadastro!$Q$3:$R$162,2,FALSE),\"/\",S8401,\"/\",H8401)","v":"78/Transp/201507"},"Transp/201507","3671/201507","3671/0655/201507","78/201507","78/0655/201507","0655/201507",192025.31,0,59223.630000000005,0,55959.81,129.41,0,-40.08,44026.48,0]
[null,"04669","0819","201608",null,"03671","1601","201504",null,"RF","4669/RF/201608",{"$f":"IF(J8486=0,0,+CONCATENATE(VLOOKUP(B8486,Cadastro!$Q$3:$R$162,2,FALSE),\"/\",J8486,\"/\",D8486))","v":"38/RF/201608"},"RF/201608","4669/201608","4669/0819/201608","38/201608","38/0819/201608","0819/201608","Mpes","3671/Mpes/201504",{"$f":"+CONCATENATE(VLOOKUP(F8486,Cadastro!$Q$3:$R$162,2,FALSE),\"/\",S8486,\"/\",H8486)","v":"78/Mpes/201504"},"Mpes/201504","3671/201504","3671/1601/201504","78/201504","78/1601/201504","1601/201504",0,0,0,0,0,0,0,0,0,0]
[null,"04669","0982","201607",null,"03727","0171","201503",null,"Pes","4669/Pes/201607",{"$f":"IF(J8557=0,0,+CONCATENATE(VLOOKUP(B8557,Cadastro!$Q$3:$R$162,2,FALSE),\"/\",J8557,\"/\",D8557))","v":"38/Pes/201607"},"Pes/201607","4669/201607","4669/0982/201607","38/201607","38/0982/201607","0982/201607","Pat","3727/Pat/201503",{"$f":"+CONCATENATE(VLOOKUP(F8557,Cadastro!$Q$3:$R$162,2,FALSE),\"/\",S8557,\"/\",H8557)","v":"75/Pat/201503"},"Pat/201503","3727/201503","3727/0171/201503","75/201503","75/0171/201503","0171/201503",0,44694.06,0,-12972.5,0,40521.67,0,-15338.5,0,17713.63]
[null,"04669","0990","201612",null,"03727","0310","201508",null,"Pes","4669/Pes/201612",{"$f":"IF(J8586=0,0,+CONCATENATE(VLOOKUP(B8586,Cadastro!$Q$3:$R$162,2,FALSE),\"/\",J8586,\"/\",D8586))","v":"38/Pes/201612"},"Pes/201612","4669/201612","4669/0990/201612","38/201612","38/0990/201612","0990/201612","Res","3727/Res/201508",{"$f":"+CONCATENATE(VLOOKUP(F8586,Cadastro!$Q$3:$R$162,2,FALSE),\"/\",S8586,\"/\",H8586)","v":"75/Res/201508"},"Res/201508","3727/201508","3727/0310/201508","75/201508","75/0310/201508","0310/201508",0,247217.28,0,146674.47999999998,0,158995.97999999998,0,-19302.29,0,49202.67]
[null,"04669","1102","201609",null,"03727","0632","201512",null,"Rur","4669/Rur/201609",{"$f":"IF(J8667=0,0,+CONCATENATE(VLOOKUP(B8667,Cadastro!$Q$3:$R$162,2,FALSE),\"/\",J8667,\"/\",D8667))","v":"38/Rur/201609"},"Rur/201609","4669/201609","4669/1102/201609","38/201609","38/1102/201609","1102/201609","Transp","3727/Transp/201512",{"$f":"+CONCATENATE(VLOOKUP(F8667,Cadastro!$Q$3:$R$162,2,FALSE),\"/\",S8667,\"/\",H8667)","v":"75/Transp/201512"},"Transp/201512","3727/201512","3727/0632/201512","75/201512","75/0632/201512","0632/201512",0,0,0,0,0,0,0,0,0,0]
[null,"04669","1109","201610",null,"04251","0981","201501",null,"Rur","4669/Rur/201610",{"$f":"IF(J8752=0,0,+CONCATENATE(VLOOKUP(B8752,Cadastro!$Q$3:$R$162,2,FALSE),\"/\",J8752,\"/\",D8752))","v":"38/Rur/201610"},"Rur/201610","4669/201610","4669/1109/201610","38/201610","38/1109/201610","1109/201610","Pes","4251/Pes/201501",{"$f":"+CONCATENATE(VLOOKUP(F8752,Cadastro!$Q$3:$R$162,2,FALSE),\"/\",S8752,\"/\",H8752)","v":"23/Pes/201501"},"Pes/201501","4251/201501","4251/0981/201501","23/201501","23/0981/201501","0981/201501",0,0,0,0,0,0,0,0,0,0]
[null,"04669","1369","201606",null,"04251","0992","201509",null,"Pes","4669/Pes/201606",{"$f":"IF(J8820=0,0,+CONCATENATE(VLOOKUP(B8820,Cadastro!$Q$3:$R$162,2,FALSE),\"/\",J8820,\"/\",D8820))","v":"38/Pes/201606"},"Pes/201606","4669/201606","4669/1369/201606","38/201606","38/1369/201606","1369/201606","VGBL","4251/VGBL/201509",{"$f":"+CONCATENATE(VLOOKUP(F8820,Cadastro!$Q$3:$R$162,2,FALSE),\"/\",S8820,\"/\",H8820)","v":"23/VGBL/201509"},"VGBL/201509","4251/201509","4251/0992/201509","23/201509","23/0992/201509","0992/201509",0,0,0,0,0,0,0,0,0,0]
[null,"04669","1433","201602",null,"04251","1381","201505",null,"Mar","4669/Mar/201602",{"$f":"IF(J8852=0,0,+CONCATENATE(VLOOKUP(B8852,Cadastro!$Q$3:$R$162,2,FALSE),\"/\",J8852,\"/\",D8852))","v":"38/Mar/201602"},"Mar/201602","4669/201602","4669/1433/201602","38/201602","38/1433/201602","1433/201602","Pes","4251/Pes/201505",{"$f":"+CONCATENATE(VLOOKUP(F8852,Cadastro!$Q$3:$R$162,2,FALSE),\"/\",S8852,\"/\",H8852)","v":"23/Pes/201505"},"Pes/201505","4251/201505","4251/1381/201505","23/201505","23/1381/201505","1381/201505",214804.53,50127.96,-110455.69999999998,50127.96,404530.80000000005,-58914.02,429191.86999999988,8026.76,109340.07,13560.29]
[null,"04740","0936","201603",null,"04669","0112","201506",null,"Pes","4740/Pes/201603",{"$f":"IF(J8937=0,0,+CONCATENATE(VLOOKUP(B8937,Cadastro!$Q$3:$R$162,2,FALSE),\"/\",J8937,\"/\",D8937))","v":"20/Pes/201603"},"Pes/201603","4740/201603","4740/0936/201603","20/201603","20/0936/201603","0936/201603","Pat","4669/Pat/201506",{"$f":"+CONCATENATE(VLOOKUP(F8937,Cadastro!$Q$3:$R$162,2,FALSE),\"/\",S8937,\"/\",H8937)","v":"38/Pat/201506"},"Pat/201506","4669/201506","4669/0112/201506","38/201506","38/0112/201506","0112/201506",0,0,0,0,0,0,0,0,0,0]
[null,"04740","0991","201604",null,"04669","0171","201507",null,"Pes","4740/Pes/201604",{"$f":"IF(J9022=0,0,+CONCATENATE(VLOOKUP(B9022,Cadastro!$Q$3:$R$162,2,FALSE),\"/\",J9022,\"/\",D9022))","v":"20/Pes/201604"},"Pes/201604","4740/201604","4740/0991/201604","20/201604","20/0991/201604","0991/201604","Pat","4669/Pat/201507",{"$f":"+CONCATENATE(VLOOKUP(F9022,Cadastro!$Q$3:$R$162,2,FALSE),\"/\",S9022,\"/\",H9022)","v":"38/Pat/201507"},"Pat/201507","4669/201507","4669/0171/201507","38/201507","38/0171/201507","0171/201507",0,107011.22,0,-366303.52,0,286947.39,0,33631.72,0,190941.81]
[null,"04740","0992","201608",null,"04669","0173","201511",null,"VGBL","4740/VGBL/201608",{"$f":"IF(J9038=0,0,+CONCATENATE(VLOOKUP(B9038,Cadastro!$Q$3:$R$162,2,FALSE),\"/\",J9038,\"/\",D9038))","v":"20/VGBL/201608"},"VGBL/201608","4740/201608","4740/0992/201608","20/201608","20/0992/201608","0992/201608","Pat","4669/Pat/201511",{"$f":"+CONCATENATE(VLOOKUP(F9038,Cadastro!$Q$3:$R$162,2,FALSE),\"/\",S9038,\"/\",H9038)","v":"38/Pat/201511"},"Pat/201511","4669/201511","4669/0173/201511","38/201511","38/0173/201511","0173/201511",0,0,0,-2307.38,0,3374.4399999999996,0,-418.5,0,681.82]
[null,"04740","1390","201607",null,"04669","0378","201510",null,"Pes","4740/Pes/201607",{"$f":"IF(J9133=0,0,+CONCATENATE(VLOOKUP(B9133,Cadastro!$Q$3:$R$162,2,FALSE),\"/\",J9133,\"/\",D9133))","v":"20/Pes/201607"},"Pes/201607","4740/201607","4740/1390/201607","20/201607","20/1390/201607","1390/201607","Res","4669/Res/201510",{"$f":"+CONCATENATE(VLOOKUP(F9133,Cadastro!$Q$3:$R$162,2,FALSE),\"/\",S9133,\"/\",H9133)","v":"38/Res/201510"},"Res/201510","4669/201510","4669/0378/201510","38/201510","38/0378/201510","0378/201510",0,61371.62,0,-77783.950000000012,0,219206.39,0,435497.89,0,67062.5]
[null,"04928","0196","201605",null,"04669","0523","201508",null,"Pat","4928/Pat/201605",{"$f":"IF(J9203=0,0,+CONCATENATE(VLOOKUP(B9203,Cadastro!$Q$3:$R$162,2,FALSE),\"/\",J9203,\"/\",D9203))","v":"69/Pat/201605"},"Pat/201605","4928/201605","4928/0196/201605","69/201605","69/0196/201605","0196/201605","Transp","4669/Transp/201508",{"$f":"+CONCATENATE(VLOOKUP(F9203,Cadastro!$Q$3:$R$162,2,FALSE),\"/\",S9203,\"/\",H9203)","v":"38/Transp/201508"},"Transp/201508","4669/201508","4669/0523/201508","38/201508","38/0523/201508","0523/201508",0,0,0,0,0,0,0,0,-0.93,0]
[null,"04928","0969","201606",null,"04669","0588","201509",null,"Pes","4928/Pes/201606",{"$f":"IF(J9288=0,0,+CONCATENATE(VLOOKUP(B9288,Cadastro!$Q$3:$R$162,2,FALSE),\"/\",J9288,\"/\",D9288))","v":"69/Pes/201606"},"Pes/201606","4928/201606","4928/0969/201606","69/201606","69/0969/201606","0969/201606","Dpvat","4669/Dpvat/201509",{"$f":"+CONCATENATE(VLOOKUP(F9288,Cadastro!$Q$3:$R$162,2,FALSE),\"/\",S9288,\"/\",H9288)","v":"38/Dpvat/201509"},"Dpvat/201509","4669/201509","4669/0588/201509","38/201509","38/0588/201509","0588/201509",1051850.08,2441706.25,1051850.08,2441706.25,961179.36,2442076.63,-232215.01,2113828.5,248382.33,34699.279999999999]
[null,"04928","0990","201602",null,"04669","0622","201505",null,"Pes","4928/Pes/201602",{"$f":"IF(J9308=0,0,+CONCATENATE(VLOOKUP(B9308,Cadastro!$Q$3:$R$162,2,FALSE),\"/\",J9308,\"/\",D9308))","v":"69/Pes/201602"},"Pes/201602","4928/201602","4928/0990/201602","69/201602","69/0990/201602","0990/201602","Transp","4669/Transp/201505",{"$f":"+CONCATENATE(VLOOKUP(F9308,Cadastro!$Q$3:$R$162,2,FALSE),\"/\",S9308,\"/\",H9308)","v":"38/Transp/201505"},"Transp/201505","4669/201505","4669/0622/201505","38/201505","38/0622/201505","0622/201505",0,498392.12,0,326419.19,0,306408.36,0,564082.30000000005,0,84395.53]
[null,"05011","0111","201610",null,"04669","0655","201509",null,"Pat","5011/Pat/201610",{"$f":"IF(J9396=0,0,+CONCATENATE(VLOOKUP(B9396,Cadastro!$Q$3:$R$162,2,FALSE),\"/\",J9396,\"/\",D9396))","v":"1/Pat/201610"},"Pat/201610","5011/201610","5011/0111/201610","1/201610","1/0111/201610","0111/201610","Transp","4669/Transp/201509",{"$f":"+CONCATENATE(VLOOKUP(F9396,Cadastro!$Q$3:$R$162,2,FALSE),\"/\",S9396,\"/\",H9396)","v":"38/Transp/201509"},"Transp/201509","4669/201509","4669/0655/201509","38/201509","38/0655/201509","0655/201509",0,213480,0,194409.05,0,194377.96,0,168532.1,0,51378.79]
[null,"05011","0167","201603",null,"04669","0746","201502",null,"Pat","5011/Pat/201603",{"$f":"IF(J9473=0,0,+CONCATENATE(VLOOKUP(B9473,Cadastro!$Q$3:$R$162,2,FALSE),\"/\",J9473,\"/\",D9473))","v":"1/Pat/201603"},"Pat/201603","5011/201603","5011/0167/201603","1/201603","1/0167/201603","0167/201603","RF","4669/RF/201502",{"$f":"+CONCATENATE(VLOOKUP(F9473,Cadastro!$Q$3:$R$162,2,FALSE),\"/\",S9473,\"/\",H9473)","v":"38/RF/201502"},"RF/201502","4669/201502","4669/0746/201502","38/201502","38/0746/201502","0746/201502",80902.289999999994,11691.28,49594.649999999994,11644.220000000001,87825.58,9207.16,-33133.56,703.59,20883.189999999999,708.75]
[null,"05011","0171","201607",null,"04669","0747","201506",null,"Pat","5011/Pat/201607",{"$f":"IF(J9489=0,0,+CONCATENATE(VLOOKUP(B9489,Cadastro!$Q$3:$R$162,2,FALSE),\"/\",J9489,\"/\",D9489))","v":"1/Pat/201607"},"Pat/201607","5011/201607","5011/0171/201607","1/201607","1/0171/201607","0171/201607","RF","4669/RF/201506",{"$f":"+CONCATENATE(VLOOKUP(F9489,Cadastro!$Q$3:$R$162,2,FALSE),\"/\",S9489,\"/\",H9489)","v":"38/RF/201506"},"RF/201506","4669/201506","4669/0747/201506","38/201506","38/0747/201506","0747/201506",2723551.54,0,2660154.79,0,2638581.37,0,291266.39,0,688437.98,0]
[null,"05011","0310","201608",null,"04669","0969","201507",null,"Res","5011/Res/201608",{"$f":"IF(J9574=0,0,+CONCATENATE(VLOOKUP(B9574,Cadastro!$Q$3:$R$162,2,FALSE),\"/\",J9574,\"/\",D9574))","v":"1/Res/201608"},"Res/201608","5011/201608","5011/0310/201608","1/201608","1/0310/201608","0310/201608","Pes","4669/Pes/201507",{"$f":"+CONCATENATE(VLOOKUP(F9574,Cadastro!$Q$3:$R$162,2,FALSE),\"/\",S9574,\"/\",H9574)","v":"38/Pes/201507"},"Pes/201507","4669/201507","4669/0969/201507","38/201507","38/0969/201507","0969/201507",492330.7,0,391632.95,0,1010466.73,0,-126168.64000000001,0,178438.94,0]
[null,"05011","0457","201609",null,"04669","1065","201507",null,"Mar","5011/Mar/201609",{"$f":"IF(J9659=0,0,+CONCATENATE(VLOOKUP(B9659,Cadastro!$Q$3:$R$162,2,FALSE),\"/\",J9659,\"/\",D9659))","v":"1/Mar/201609"},"Mar/201609","5011/201609","5011/0457/201609","1/201609","1/0457/201609","0457/201609","Hab","4669/Hab/201507",{"$f":"+CONCATENATE(VLOOKUP(F9659,Cadastro!$Q$3:$R$162,2,FALSE),\"/\",S9659,\"/\",H9659)","v":"38/Hab/201507"},"Hab/201507","4669/201507","4669/1065/201507","38/201507","38/1065/201507","1065/201507",0,0,0,0,0,0,0,0,0,0]
[null,"05011","0542","201605",null,"04669","1105","201503",null,"Aut","5011/Aut/201605",{"$f":"IF(J9739=0,0,+CONCATENATE(VLOOKUP(B9739,Cadastro!$Q$3:$R$162,2,FALSE),\"/\",J9739,\"/\",D9739))","v":"1/Aut/201605"},"Aut/201605","5011/201605","5011/0542/201605","1/201605","1/0542/201605","0542/201605","Rur","4669/Rur/201503",{"$f":"+CONCATENATE(VLOOKUP(F9739,Cadastro!$Q$3:$R$162,2,FALSE),\"/\",S9739,\"/\",H9739)","v":"38/Rur/201503"},"Rur/201503","4669/201503","4669/1105/201503","38/201503","38/1105/201503","1105/201503",1290380.19,0,1283325.94,0,2096214.6,0,1610072.61,0,337545.46,0]
[null,"05011","0553","201601",null,"04669","1106","201511",null,"Aut","5011/Aut/201601",{"$f":"IF(J9759=0,0,+CONCATENATE(VLOOKUP(B9759,Cadastro!$Q$3:$R$162,2,FALSE),\"/\",J9759,\"/\",D9759))","v":"1/Aut/201601"},"Aut/201601","5011/201601","5011/0553/201601","1/201601","1/0553/201601","0553/201601","Rur","4669/Rur/201511",{"$f":"+CONCATENATE(VLOOKUP(F9759,Cadastro!$Q$3:$R$162,2,FALSE),\"/\",S9759,\"/\",H9759)","v":"38/Rur/201511"},"Rur/201511","4669/201511","4669/1106/201511","38/201511","38/1106/201511","1106/201511",1902526.99,0,1870251.03,0,2412303.98,0,1288474.28,0,397316.95,0]
[null,"05011","0638","201602",null,"04669","1164","201512",null,"Transp","5011/Transp/201602",{"$f":"IF(J9844=0,0,+CONCATENATE(VLOOKUP(B9844,Cadastro!$Q$3:$R$162,2,FALSE),\"/\",J9844,\"/\",D9844))","v":"1/Transp/201602"},"Transp/201602","5011/201602","5011/0638/201602","1/201602","1/0638/201602","0638/201602","Rur","4669/Rur/201512",{"$f":"+CONCATENATE(VLOOKUP(F9844,Cadastro!$Q$3:$R$162,2,FALSE),\"/\",S9844,\"/\",H9844)","v":"38/Rur/201512"},"Rur/201512","4669/201512","4669/1164/201512","38/201512","38/1164/201512","1164/201512",0,567925.63,0,350781.83999999997,0,529957.56999999995,0,385150.30000000005,0,170406.57]
[null,"05011","0658","201608",null,"04669","1537","201502",null,"Transp","5011/Transp/201608",{"$f":"IF(J9922=0,0,+CONCATENATE(VLOOKUP(B9922,Cadastro!$Q$3:$R$162,2,FALSE),\"/\",J9922,\"/\",D9922))","v":"1/Transp/201608"},"Transp/201608","5011/201608","5011/0658/201608","1/201608","1/0658/201608","0658/201608","Aero","4669/Aero/201502",{"$f":"+CONCATENATE(VLOOKUP(F9922,Cadastro!$Q$3:$R$162,2,FALSE),\"/\",S9922,\"/\",H9922)","v":"38/Aero/201502"},"Aero/201502","4669/201502","4669/1537/201502","38/201502","38/1537/201502","1537/201502",0,0,0,0,0,0,0,0,0,0]
[null,"05011","0740","201606",null,"04669","1597","201512",null,"RF","5011/RF/201606",{"$f":"IF(J9944=0,0,+CONCATENATE(VLOOKUP(B9944,Cadastro!$Q$3:$R$162,2,FALSE),\"/\",J9944,\"/\",D9944))","v":"1/RF/201606"},"RF/201606","5011/201606","5011/0740/201606","1/201606","1/0740/201606","0740/201606","Aero","4669/Aero/201512",{"$f":"+CONCATENATE(VLOOKUP(F9944,Cadastro!$Q$3:$R$162,2,FALSE),\"/\",S9944,\"/\",H9944)","v":"38/Aero/201512"},"Aero/201512","4669/201512","4669/1597/201512","38/201512","38/1597/201512","1597/201512",-5,157736.4,-8.92,139484.53,1.7400000000000002,144214.58000000002,17.380000000000109,-49467.830000000016,0,27605.06]
[null,"05011","0776","201603",null,"04740","0982","201509",null,"RF","5011/RF/201603",{"$f":"IF(J10025=0,0,+CONCATENATE(VLOOKUP(B10025,Cadastro!$Q$3:$R$162,2,FALSE),\"/\",J10025,\"/\",D10025))","v":"1/RF/201603"},"RF/201603","5011/201603","5011/0776/201603","1/201603","1/0776/201603","0776/201603","Pes","4740/Pes/201509",{"$f":"+CONCATENATE(VLOOKUP(F10025,Cadastro!$Q$3:$R$162,2,FALSE),\"/\",S10025,\"/\",H10025)","v":"20/Pes/201509"},"Pes/201509","4740/201509","4740/0982/201509","20/201509","20/0982/201509","0982/201509",-883,0,-151842.25,0,72961.41,0,-225.24,37937.94,15228.77,0]
[null,"05011","0969","201604",null,"04740","1369","201510",null,"Pes","5011/Pes/201604",{"$f":"IF(J10110=0,0,+CONCATENATE(VLOOKUP(B10110,Cadastro!$Q$3:$R$162,2,FALSE),\"/\",J10110,\"/\",D10110))","v":"1/Pes/201604"},"Pes/201604","5011/201604","5011/0969/201604","1/201604","1/0969/201604","0969/201604","Pes","4740/Pes/201510",{"$f":"+CONCATENATE(VLOOKUP(F10110,Cadastro!$Q$3:$R$162,2,FALSE),\"/\",S10110,\"/\",H10110)","v":"20/Pes/201510"},"Pes/201510","4740/201510","4740/1369/201510","20/201510","20/1369/201510","1369/201510",120262.2,0,120262.2,0,106547.66,0,-436.03,0,33422.129999999997,0]
[null,"05011","0984","201607",null,"04740","1597","201501",null,"Pes","5011/Pes/201607",{"$f":"IF(J10185=0,0,+CONCATENATE(VLOOKUP(B10185,Cadastro!$Q$3:$R$162,2,FALSE),\"/\",J10185,\"/\",D10185))","v":"1/Pes/201607"},"Pes/201607","5011/201607","5011/0984/201607","1/201607","1/0984/201607","0984/201607","Aero","4740/Aero/201501",{"$f":"+CONCATENATE(VLOOKUP(F10185,Cadastro!$Q$3:$R$162,2,FALSE),\"/\",S10185,\"/\",H10185)","v":"20/Aero/201501"},"Aero/201501","4740/201501","4740/1597/201501","20/201501","20/1597/201501","1597/201501",11255.86,0,11255.86,0,11255.86,0,-55509.21,0,2017.4,0]
[null,"05011","0987","201608",null,"04928","0195","201502",null,"Pes","5011/Pes/201608",{"$f":"IF(J10210=0,0,+CONCATENATE(VLOOKUP(B10210,Cadastro!$Q$3:$R$162,2,FALSE),\"/\",J10210,\"/\",D10210))","v":"1/Pes/201608"},"Pes/201608","5011/201608","5011/0987/201608","1/201608","1/0987/201608","0987/201608","Pat","4928/Pat/201502",{"$f":"+CONCATENATE(VLOOKUP(F10210,Cadastro!$Q$3:$R$162,2,FALSE),\"/\",S10210,\"/\",H10210)","v":"69/Pat/201502"},"Pat/201502","4928/201502","4928/0195/201502","69/201502","69/0195/201502","0195/201502",186399.94,-0.02,186399.94,-0.02,-12181.58,1.49,3497.6,0,21057.47,0.15]
[null,"05011","1065","201609",null,"04928","0969","201506",null,"Hab","5011/Hab/201609",{"$f":"IF(J10295=0,0,+CONCATENATE(VLOOKUP(B10295,Cadastro!$Q$3:$R$162,2,FALSE),\"/\",J10295,\"/\",D10295))","v":"1/Hab/201609"},"Hab/201609","5011/201609","5011/1065/201609","1/201609","1/1065/201609","1065/201609","Pes","4928/Pes/201506",{"$f":"+CONCATENATE(VLOOKUP(F10295,Cadastro!$Q$3:$R$162,2,FALSE),\"/\",S10295,\"/\",H10295)","v":"69/Pes/201506"},"Pes/201506","4928/201506","4928/0969/201506","69/201506","69/0969/201506","0969/201506",0,760871.22,0,760871.22,0,675499.22,0,135028.68,0,139360.51999999999]
[null,"05011","1105","201606",null,"04952","0588","201502",null,"Rur","5011/Rur/201606",{"$f":"IF(J10376=0,0,+CONCATENATE(VLOOKUP(B10376,Cadastro!$Q$3:$R$162,2,FALSE),\"/\",J10376,\"/\",D10376))","v":"1/Rur/201606"},"Rur/201606","5011/201606","5011/1105/201606","1/201606","1/1105/201606","1105/201606","Dpvat","4952/Dpvat/201502",{"$f":"+CONCATENATE(VLOOKUP(F10376,Cadastro!$Q$3:$R$162,2,FALSE),\"/\",S10376,\"/\",H10376)","v":"70/Dpvat/201502"},"Dpvat/201502","4952/201502","4952/0588/201502","70/201502","70/0588/201502","0588/201502",0,1423871.28,0,1423871.28,0,1402219.25,0,1230980.42,0,21358.29]
[null,"05011","1162","201606",null,"05011","0118","201502",null,"Rur","5011/Rur/201606",{"$f":"IF(J10448=0,0,+CONCATENATE(VLOOKUP(B10448,Cadastro!$Q$3:$R$162,2,FALSE),\"/\",J10448,\"/\",D10448))","v":"1/Rur/201606"},"Rur/201606","5011/201606","5011/1162/201606","1/201606","1/1162/201606","1162/201606","Pat","5011/Pat/201502",{"$f":"+CONCATENATE(VLOOKUP(F10448,Cadastro!$Q$3:$R$162,2,FALSE),\"/\",S10448,\"/\",H10448)","v":"1/Pat/201502"},"Pat/201502","5011/201502","5011/0118/201502","1/201502","1/0118/201502","0118/201502",-50.29,1720583.81,-2155.88,1400434.54,-1478.98,1274355.5900000001,-466.21000000000004,479483.94,213.72,410371.6]
[null,"05011","1279","201602",null,"05011","0167","201510",null,"Out","5011/Out/201602",{"$f":"IF(J10480=0,0,+CONCATENATE(VLOOKUP(B10480,Cadastro!$Q$3:$R$162,2,FALSE),\"/\",J10480,\"/\",D10480))","v":"1/Out/201602"},"Out/201602","5011/201602","5011/1279/201602","1/201602","1/1279/201602","1279/201602","Pat","5011/Pat/201510",{"$f":"+CONCATENATE(VLOOKUP(F10480,Cadastro!$Q$3:$R$162,2,FALSE),\"/\",S10480,\"/\",H10480)","v":"1/Pat/201510"},"Pat/201510","5011/201510","5011/0167/201510","1/201510","1/0167/201510","0167/201510",0,3611.03,0,-25934.41,0,140027.82999999999,0,-7186.17,0,36861.800000000003]
[null,"05011","1528","201611",null,"05011","0274","201507",null,"Aero","5011/Aero/201611",{"$f":"IF(J10561=0,0,+CONCATENATE(VLOOKUP(B10561,Cadastro!$Q$3:$R$162,2,FALSE),\"/\",J10561,\"/\",D10561))","v":"1/Aero/201611"},"Aero/201611","5011/201611","5011/1528/201611","1/201611","1/1528/201611","1528/201611","RE","5011/RE/201507",{"$f":"+CONCATENATE(VLOOKUP(F10561,Cadastro!$Q$3:$R$162,2,FALSE),\"/\",S10561,\"/\",H10561)","v":"1/RE/201507"},"RE/201507","5011/201507","5011/0274/201507","1/201507","1/0274/201507","0274/201507",0,0,0,0,0,0,6060.31,0,0,0]
[null,"05045","0111","201612",null,"05011","0437","201508",null,"Pat","5045/Pat/201612",{"$f":"IF(J10646=0,0,+CONCATENATE(VLOOKUP(B10646,Cadastro!$Q$3:$R$162,2,FALSE),\"/\",J10646,\"/\",D10646))","v":"4/Pat/201612"},"Pat/201612","5045/201612","5045/0111/201612","4/201612","4/0111/201612","0111/201612","Aero","5011/Aero/201508",{"$f":"+CONCATENATE(VLOOKUP(F10646,Cadastro!$Q$3:$R$162,2,FALSE),\"/\",S10646,\"/\",H10646)","v":"1/Aero/201508"},"Aero/201508","5011/201508","5011/0437/201508","1/201508","1/0437/201508","0437/201508",0,0,0,0,0,0,6689.8499999999995,388.33,0,0]
[null,"05045","0167","201605",null,"05011","0526","201501",null,"Pat","5045/Pat/201605",{"$f":"IF(J10711=0,0,+CONCATENATE(VLOOKUP(B10711,Cadastro!$Q$3:$R$162,2,FALSE),\"/\",J10711,\"/\",D10711))","v":"4/Pat/201605"},"Pat/201605","5045/201605","5045/0167/201605","4/201605","4/0167/201605","0167/201605","Aut","5011/Aut/201501",{"$f":"+CONCATENATE(VLOOKUP(F10711,Cadastro!$Q$3:$R$162,2,FALSE),\"/\",S10711,\"/\",H10711)","v":"1/Aut/201501"},"Aut/201501","5011/201501","5011/0526/201501","1/201501","1/0526/201501","0526/201501",0,0,0,0,0,0,2293.8999999999942,0,0,0]
[null,"05045","0196","201604",null,"05011","0542","201512",null,"Pat","5045/Pat/201604",{"$f":"IF(J10746=0,0,+CONCATENATE(VLOOKUP(B10746,Cadastro!$Q$3:$R$162,2,FALSE),\"/\",J10746,\"/\",D10746))","v":"4/Pat/201604"},"Pat/201604","5045/201604","5045/0196/201604","4/201604","4/0196/201604","0196/201604","Aut","5011/Aut/201512",{"$f":"+CONCATENATE(VLOOKUP(F10746,Cadastro!$Q$3:$R$162,2,FALSE),\"/\",S10746,\"/\",H10746)","v":"1/Aut/201512"},"Aut/201512","5011/201512","5011/0542/201512","1/201512","1/0542/201512","0542/201512",0,2689988.07,0,2679688.5999999996,0,2712688.5799999996,-1.6400000000000006,1924586.93,0,437479.67999999999]
[null,"05045","0520","201605",null,"05011","0632","201501",null,"Aut","5045/Aut/201605",{"$f":"IF(J10831=0,0,+CONCATENATE(VLOOKUP(B10831,Cadastro!$Q$3:$R$162,2,FALSE),\"/\",J10831,\"/\",D10831))","v":"4/Aut/201605"},"Aut/201605","5045/201605","5045/0520/201605","4/201605","4/0520/201605","0520/201605","Transp","5011/Transp/201501",{"$f":"+CONCATENATE(VLOOKUP(F10831,Cadastro!$Q$3:$R$162,2,FALSE),\"/\",S10831,\"/\",H10831)","v":"1/Transp/201501"},"Transp/201501","5011/201501","5011/0632/201501","1/201501","1/0632/201501","0632/201501",0,0,0,0,0,0,0.01,0,0,0]
[null,"05045","0523","201609",null,"05011","0638","201505",null,"Transp","5045/Transp/201609",{"$f":"IF(J10847=0,0,+CONCATENATE(VLOOKUP(B10847,Cadastro!$Q$3:$R$162,2,FALSE),\"/\",J10847,\"/\",D10847))","v":"4/Transp/201609"},"Transp/201609","5045/201609","5045/0523/201609","4/201609","4/0523/201609","0523/201609","Transp","5011/Transp/201505",{"$f":"+CONCATENATE(VLOOKUP(F10847,Cadastro!$Q$3:$R$162,2,FALSE),\"/\",S10847,\"/\",H10847)","v":"1/Transp/201505"},"Transp/201505","5011/201505","5011/0638/201505","1/201505","1/0638/201505","0638/201505",0,0,0,0,0,0,3360.6199999999953,0,0,0]
[null,"05045","0621","201605",null,"05011","0656","201508",null,"Transp","5045/Transp/201605",{"$f":"IF(J10910=0,0,+CONCATENATE(VLOOKUP(B10910,Cadastro!$Q$3:$R$162,2,FALSE),\"/\",J10910,\"/\",D10910))","v":"4/Transp/201605"},"Transp/201605","5045/201605","5045/0621/201605","4/201605","4/0621/201605","0621/201605","Transp","5011/Transp/201508",{"$f":"+CONCATENATE(VLOOKUP(F10910,Cadastro!$Q$3:$R$162,2,FALSE),\"/\",S10910,\"/\",H10910)","v":"1/Transp/201508"},"Transp/201508","5011/201508","5011/0656/201508","1/201508","1/0656/201508","0656/201508",0,0,0,0,0,0,0.02,0,0,0]
[null,"05045","0656","201603",null,"05011","0775","201506",null,"Transp","5045/Transp/201603",{"$f":"IF(J11016=0,0,+CONCATENATE(VLOOKUP(B11016,Cadastro!$Q$3:$R$162,2,FALSE),\"/\",J11016,\"/\",D11016))","v":"4/Transp/201603"},"Transp/201603","5045/201603","5045/0656/201603","4/201603","4/0656/201603","0656/201603","RF","5011/RF/201506",{"$f":"+CONCATENATE(VLOOKUP(F11016,Cadastro!$Q$3:$R$162,2,FALSE),\"/\",S11016,\"/\",H11016)","v":"1/RF/201506"},"RF/201506","5011/201506","5011/0775/201506","1/201506","1/0775/201506","0775/201506",0,1243787.45,0,558966.77999999991,0,312726.0199999999,0,-154590.32999999999,0,147028.62]
[null,"05045","0750","201612",null,"05011","0936","201503",null,"RF","5045/RF/201612",{"$f":"IF(J11097=0,0,+CONCATENATE(VLOOKUP(B11097,Cadastro!$Q$3:$R$162,2,FALSE),\"/\",J11097,\"/\",D11097))","v":"4/RF/201612"},"RF/201612","5045/201612","5045/0750/201612","4/201612","4/0750/201612","0750/201612","Pes","5011/Pes/201503",{"$f":"+CONCATENATE(VLOOKUP(F11097,Cadastro!$Q$3:$R$162,2,FALSE),\"/\",S11097,\"/\",H11097)","v":"1/Pes/201503"},"Pes/201503","5011/201503","5011/0936/201503","1/201503","1/0936/201503","0936/201503",0,0,0,0,0,0,0.04,0,0,0]
[null,"05045","0776","201608",null,"05011","0969","201511",null,"RF","5045/RF/201608",{"$f":"IF(J11117=0,0,+CONCATENATE(VLOOKUP(B11117,Cadastro!$Q$3:$R$162,2,FALSE),\"/\",J11117,\"/\",D11117))","v":"4/RF/201608"},"RF/201608","5045/201608","5045/0776/201608","4/201608","4/0776/201608","0776/201608","Pes","5011/Pes/201511",{"$f":"+CONCATENATE(VLOOKUP(F11117,Cadastro!$Q$3:$R$162,2,FALSE),\"/\",S11117,\"/\",H11117)","v":"1/Pes/201511"},"Pes/201511","5011/201511","5011/0969/201511","1/201511","1/0969/201511","0969/201511",0,98459.74,0,98459.74,0,112085.29,0,-3950.49,0,35857.410000000003]
[null,"05045","0977","201604",null,"05011","0983","201507",null,"Pes","5045/Pes/201604",{"$f":"IF(J11173=0,0,+CONCATENATE(VLOOKUP(B11173,Cadastro!$Q$3:$R$162,2,FALSE),\"/\",J11173,\"/\",D11173))","v":"4/Pes/201604"},"Pes/201604","5045/201604","5045/0977/201604","4/201604","4/0977/201604","0977/201604","Pes","5011/Pes/201507",{"$f":"+CONCATENATE(VLOOKUP(F11173,Cadastro!$Q$3:$R$162,2,FALSE),\"/\",S11173,\"/\",H11173)","v":"1/Pes/201507"},"Pes/201507","5011/201507","5011/0983/201507","1/201507","1/0983/201507","0983/201507",0,0,0,0,0,0,58667.9,0,0,0]
[null,"05045","1102","201605",null,"05011","1061","201508",null,"Rur","5045/Rur/201605",{"$f":"IF(J11282=0,0,+CONCATENATE(VLOOKUP(B11282,Cadastro!$Q$3:$R$162,2,FALSE),\"/\",J11282,\"/\",D11282))","v":"4/Rur/201605"},"Rur/201605","5045/201605","5045/1102/201605","4/201605","4/1102/201605","1102/201605","Hab","5011/Hab/201508",{"$f":"+CONCATENATE(VLOOKUP(F11282,Cadastro!$Q$3:$R$162,2,FALSE),\"/\",S11282,\"/\",H11282)","v":"1/Hab/201508"},"Hab/201508","5011/201508","5011/1061/201508","1/201508","1/1061/201508","1061/201508",0,0,0,0,0,0,0,0,0,0]
[null,"05045","1108","201601",null,"05011","1066","201504",null,"Rur","5045/Rur/201601",{"$f":"IF(J11302=0,0,+CONCATENATE(VLOOKUP(B11302,Cadastro!$Q$3:$R$162,2,FALSE),\"/\",J11302,\"/\",D11302))","v":"4/Rur/201601"},"Rur/201601","5045/201601","5045/1108/201601","4/201601","4/1108/201601","1108/201601","Hab","5011/Hab/201504",{"$f":"+CONCATENATE(VLOOKUP(F11302,Cadastro!$Q$3:$R$162,2,FALSE),\"/\",S11302,\"/\",H11302)","v":"1/Hab/201504"},"Hab/201504","5011/201504","5011/1066/201504","1/201504","1/1066/201504","1066/201504",0,0,0,0,0,0,0,0,0,0]
[null,"05045","1377","201610",null,"05011","1106","201501",null,"Pes","5045/Pes/201610",{"$f":"IF(J11383=0,0,+CONCATENATE(VLOOKUP(B11383,Cadastro!$Q$3:$R$162,2,FALSE),\"/\",J11383,\"/\",D11383))","v":"4/Pes/201610"},"Pes/201610","5045/201610","5045/1377/201610","4/201610","4/1377/201610","1377/201610","Rur","5011/Rur/201501",{"$f":"+CONCATENATE(VLOOKUP(F11383,Cadastro!$Q$3:$R$162,2,FALSE),\"/\",S11383,\"/\",H11383)","v":"1/Rur/201501"},"Rur/201501","5011/201501","5011/1106/201501","1/201501","1/1106/201501","1106/201501",0,0,0,0,0,0,0,0,0,0]
[null,"05070","0588","201603",null,"05011","1130","201506",null,"Dpvat","5070/Dpvat/201603",{"$f":"IF(J11436=0,0,+CONCATENATE(VLOOKUP(B11436,Cadastro!$Q$3:$R$162,2,FALSE),\"/\",J11436,\"/\",D11436))","v":"70/Dpvat/201603"},"Dpvat/201603","5070/201603","5070/0588/201603","70/201603","70/0588/201603","0588/201603","Rur","5011/Rur/201506",{"$f":"+CONCATENATE(VLOOKUP(F11436,Cadastro!$Q$3:$R$162,2,FALSE),\"/\",S11436,\"/\",H11436)","v":"1/Rur/201506"},"Rur/201506","5011/201506","5011/1130/201506","1/201506","1/1130/201506","1130/201506",17962911.899999999,1064.79,17962911.899999999,-1558.1999999999998,17600235.309999999,4086.71,15290223.01,-13459.710000000001,251543.04000000001,2415.11]
[null,"05070","0990","201611",null,"05011","1528","201502",null,"Pes","5070/Pes/201611",{"$f":"IF(J11552=0,0,+CONCATENATE(VLOOKUP(B11552,Cadastro!$Q$3:$R$162,2,FALSE),\"/\",J11552,\"/\",D11552))","v":"70/Pes/201611"},"Pes/201611","5070/201611","5070/0990/201611","70/201611","70/0990/201611","0990/201611","Aero","5011/Aero/201502",{"$f":"+CONCATENATE(VLOOKUP(F11552,Cadastro!$Q$3:$R$162,2,FALSE),\"/\",S11552,\"/\",H11552)","v":"1/Aero/201502"},"Aero/201502","5011/201502","5011/1528/201502","1/201502","1/1528/201502","1528/201502",1144925.3700000001,0,1144925.3700000001,0,1049438.58,0,-91162.45,2180.1600000000003,478971.14,0]
[null,"05070","0993","201603",null,"05011","1535","201506",null,"Pes","5070/Pes/201603",{"$f":"IF(J11568=0,0,+CONCATENATE(VLOOKUP(B11568,Cadastro!$Q$3:$R$162,2,FALSE),\"/\",J11568,\"/\",D11568))","v":"70/Pes/201603"},"Pes/201603","5070/201603","5070/0993/201603","70/201603","70/0993/201603","0993/201603","Aero","5011/Aero/201506",{"$f":"+CONCATENATE(VLOOKUP(F11568,Cadastro!$Q$3:$R$162,2,FALSE),\"/\",S11568,\"/\",H11568)","v":"1/Aero/201506"},"Aero/201506","5011/201506","5011/1535/201506","1/201506","1/1535/201506","1535/201506",79768000.439999998,0,79591073.769999996,0,73103200.920000002,0,23007209.460000001,-23704.639999999999,41526973.409999996,0]
[null,"05070","1392","201601",null,"05045","0114","201507",null,{"$f":"IF(C11653=0,0,+VLOOKUP(C11653,$AQ$4:$AR$130,2,FALSE))","v":"VGBL"},{"$f":"IF(J11653=0,0,+CONCATENATE(VALUE(B11653),\"/\",J11653,\"/\",D11653))","v":"5070/VGBL/201601"},{"$f":"IF(J11653=0,0,+CONCATENATE(VLOOKUP(B11653,Cadastro!$Q$3:$R$162,2,FALSE),\"/\",J11653,\"/\",D11653))","v":"70/VGBL/201601"},{"$f":"IF(J11653=0,0,+CONCATENATE(J11653,\"/\",D11653))","v":"VGBL/201601"},"5070/201601","5070/1392/201601","70/201601","70/1392/201601","1392/201601",{"$f":"+VLOOKUP(G11653,$AQ$4:$AR$130,2,FALSE)","v":"Pat"},{"$f":"+CONCATENATE(VALUE(F11653),\"/\",S11653,\"/\",H11653)","v":"5045/Pat/201507"},{"$f":"+CONCATENATE(VLOOKUP(F11653,Cadastro!$Q$3:$R$162,2,FALSE),\"/\",S11653,\"/\",H11653)","v":"4/Pat/201507"},"Pat/201507","5045/201507","5045/0114/201507","4/201507","4/0114/201507","0114/201507",337232866.33999997,0,337232866.33999997,0,0,0,0,0.04,1780386.17,0]
[null,"05096","0115","201611",null,"05045","0141","201505",null,"Pat","5096/Pat/201611",{"$f":"IF(J11699=0,0,+CONCATENATE(VLOOKUP(B11699,Cadastro!$Q$3:$R$162,2,FALSE),\"/\",J11699,\"/\",D11699))","v":"46/Pat/201611"},"Pat/201611","5096/201611","5096/0115/201611","46/201611","46/0115/201611","0115/201611","Pat","5045/Pat/201505",{"$f":"+CONCATENATE(VLOOKUP(F11699,Cadastro!$Q$3:$R$162,2,FALSE),\"/\",S11699,\"/\",H11699)","v":"4/Pat/201505"},"Pat/201505","5045/201505","5045/0141/201505","4/201505","4/0141/201505","0141/201505",0,0,0,0,0,0,0,0,0,0]
[null,"05096","0171","201605",null,"05045","0196","201511",null,"Pat","5096/Pat/201605",{"$f":"IF(J11753=0,0,+CONCATENATE(VLOOKUP(B11753,Cadastro!$Q$3:$R$162,2,FALSE),\"/\",J11753,\"/\",D11753))","v":"46/Pat/201605"},"Pat/201605","5096/201605","5096/0171/201605","46/201605","46/0171/201605","0171/201605","Pat","5045/Pat/201511",{"$f":"+CONCATENATE(VLOOKUP(F11753,Cadastro!$Q$3:$R$162,2,FALSE),\"/\",S11753,\"/\",H11753)","v":"4/Pat/201511"},"Pat/201511","5045/201511","5045/0196/201511","4/201511","4/0196/201511","0196/201511",0,0,0,0,0,0,0,302.6899999999996,0,0]
[null,"05096","0351","201606",null,"05045","0520","201512",null,"Res","5096/Res/201606",{"$f":"IF(J11838=0,0,+CONCATENATE(VLOOKUP(B11838,Cadastro!$Q$3:$R$162,2,FALSE),\"/\",J11838,\"/\",D11838))","v":"46/Res/201606"},"Res/201606","5096/201606","5096/0351/201606","46/201606","46/0351/201606","0351/201606","Aut","5045/Aut/201512",{"$f":"+CONCATENATE(VLOOKUP(F11838,Cadastro!$Q$3:$R$162,2,FALSE),\"/\",S11838,\"/\",H11838)","v":"4/Aut/201512"},"Aut/201512","5045/201512","5045/0520/201512","4/201512","4/0520/201512","0520/201512",0,0,0,0,0,0,0,0.03,0,0]
[null,"05096","0523","201603",null,"05045","0622","201509",null,"Transp","5096/Transp/201603",{"$f":"IF(J11919=0,0,+CONCATENATE(VLOOKUP(B11919,Cadastro!$Q$3:$R$162,2,FALSE),\"/\",J11919,\"/\",D11919))","v":"46/Transp/201603"},"Transp/201603","5096/201603","5096/0523/201603","46/201603","46/0523/201603","0523/201603","Transp","5045/Transp/201509",{"$f":"+CONCATENATE(VLOOKUP(F11919,Cadastro!$Q$3:$R$162,2,FALSE),\"/\",S11919,\"/\",H11919)","v":"4/Transp/201509"},"Transp/201509","5045/201509","5045/0622/201509","4/201509","4/0622/201509","0622/201509",0,0,0,0,0,0,0,405.5,0,0]
[null,"05096","0531","201610",null,"05045","0638","201504",null,"Aut","5096/Aut/201610",{"$f":"IF(J11962=0,0,+CONCATENATE(VLOOKUP(B11962,Cadastro!$Q$3:$R$162,2,FALSE),\"/\",J11962,\"/\",D11962))","v":"46/Aut/201610"},"Aut/201610","5096/201610","5096/0531/201610","46/201610","46/0531/201610","0531/201610","Transp","5045/Transp/201504",{"$f":"+CONCATENATE(VLOOKUP(F11962,Cadastro!$Q$3:$R$162,2,FALSE),\"/\",S11962,\"/\",H11962)","v":"4/Transp/201504"},"Transp/201504","5045/201504","5045/0638/201504","4/201504","4/0638/201504","0638/201504",0,0,0,0,0,0,0,0,0,0]
[null,"05096","0621","201611",null,"05045","0739","201505",null,"Transp","5096/Transp/201611",{"$f":"IF(J12023=0,0,+CONCATENATE(VLOOKUP(B12023,Cadastro!$Q$3:$R$162,2,FALSE),\"/\",J12023,\"/\",D12023))","v":"46/Transp/201611"},"Transp/201611","5096/201611","5096/0621/201611","46/201611","46/0621/201611","0621/201611","RF","5045/RF/201505",{"$f":"+CONCATENATE(VLOOKUP(F12023,Cadastro!$Q$3:$R$162,2,FALSE),\"/\",S12023,\"/\",H12023)","v":"4/RF/201505"},"RF/201505","5045/201505","5045/0739/201505","4/201505","4/0739/201505","0739/201505",0,0,0,0,0,0,0,0,0,0]
[null,"05096","0655","201608",null,"05045","0776","201502",null,"Transp","5096/Transp/201608",{"$f":"IF(J12104=0,0,+CONCATENATE(VLOOKUP(B12104,Cadastro!$Q$3:$R$162,2,FALSE),\"/\",J12104,\"/\",D12104))","v":"46/Transp/201608"},"Transp/201608","5096/201608","5096/0655/201608","46/201608","46/0655/201608","0655/201608","RF","5045/RF/201502",{"$f":"+CONCATENATE(VLOOKUP(F12104,Cadastro!$Q$3:$R$162,2,FALSE),\"/\",S12104,\"/\",H12104)","v":"4/RF/201502"},"RF/201502","5045/201502","5045/0776/201502","4/201502","4/0776/201502","0776/201502",0,0,0,0,0,0,0,0,0,0]
[null,"05096","0747","201609",null,"05045","0982","201503",null,"RF","5096/RF/201609",{"$f":"IF(J12189=0,0,+CONCATENATE(VLOOKUP(B12189,Cadastro!$Q$3:$R$162,2,FALSE),\"/\",J12189,\"/\",D12189))","v":"46/RF/201609"},"RF/201609","5096/201609","5096/0747/201609","46/201609","46/0747/201609","0747/201609","Pes","5045/Pes/201503",{"$f":"+CONCATENATE(VLOOKUP(F12189,Cadastro!$Q$3:$R$162,2,FALSE),\"/\",S12189,\"/\",H12189)","v":"4/Pes/201503"},"Pes/201503","5045/201503","5045/0982/201503","4/201503","4/0982/201503","0982/201503",0,167754.47,0,167754.47,0,167754.47,0,9.1300000000000008,0,260230.6]
[null,"05096","0859","201609",null,"05045","1065","201503",null,"RF","5096/RF/201609",{"$f":"IF(J12225=0,0,+CONCATENATE(VLOOKUP(B12225,Cadastro!$Q$3:$R$162,2,FALSE),\"/\",J12225,\"/\",D12225))","v":"46/RF/201609"},"RF/201609","5096/201609","5096/0859/201609","46/201609","46/0859/201609","0859/201609","Hab","5045/Hab/201503",{"$f":"+CONCATENATE(VLOOKUP(F12225,Cadastro!$Q$3:$R$162,2,FALSE),\"/\",S12225,\"/\",H12225)","v":"4/Hab/201503"},"Hab/201503","5045/201503","5045/1065/201503","4/201503","4/1065/201503","1065/201503",0,0,0,0,0,0,0,0,0,0]
[null,"05096","0977","201601",null,"05045","1107","201507",null,"Pes","5096/Pes/201601",{"$f":"IF(J12289=0,0,+CONCATENATE(VLOOKUP(B12289,Cadastro!$Q$3:$R$162,2,FALSE),\"/\",J12289,\"/\",D12289))","v":"46/Pes/201601"},"Pes/201601","5096/201601","5096/0977/201601","46/201601","46/0977/201601","0977/201601","Rur","5045/Rur/201507",{"$f":"+CONCATENATE(VLOOKUP(F12289,Cadastro!$Q$3:$R$162,2,FALSE),\"/\",S12289,\"/\",H12289)","v":"4/Rur/201507"},"Rur/201507","5045/201507","5045/1107/201507","4/201507","4/1107/201507","1107/201507",6259.86,0,6259.86,0,10745.76,0,-999,0,3.1,0]
[null,"05096","0993","201602",null,"05045","1377","201508",null,"Pes","5096/Pes/201602",{"$f":"IF(J12374=0,0,+CONCATENATE(VLOOKUP(B12374,Cadastro!$Q$3:$R$162,2,FALSE),\"/\",J12374,\"/\",D12374))","v":"46/Pes/201602"},"Pes/201602","5096/201602","5096/0993/201602","46/201602","46/0993/201602","0993/201602","Pes","5045/Pes/201508",{"$f":"+CONCATENATE(VLOOKUP(F12374,Cadastro!$Q$3:$R$162,2,FALSE),\"/\",S12374,\"/\",H12374)","v":"4/Pes/201508"},"Pes/201508","5045/201508","5045/1377/201508","4/201508","4/1377/201508","1377/201508",34691607.560000002,0,34502518.850000001,0,35066316.18,0,12391848.779999999,0,3770808.72,0]
[null,"05096","1103","201611",null,"05070","0929","201505",null,"Rur","5096/Rur/201611",{"$f":"IF(J12455=0,0,+CONCATENATE(VLOOKUP(B12455,Cadastro!$Q$3:$R$162,2,FALSE),\"/\",J12455,\"/\",D12455))","v":"46/Rur/201611"},"Rur/201611","5096/201611","5096/1103/201611","46/201611","46/1103/201611","1103/201611","Pes","5070/Pes/201505",{"$f":"+CONCATENATE(VLOOKUP(F12455,Cadastro!$Q$3:$R$162,2,FALSE),\"/\",S12455,\"/\",H12455)","v":"70/Pes/201505"},"Pes/201505","5070/201505","5070/0929/201505","70/201505","70/0929/201505","0929/201505",0,9406790.2300000004,0,9406790.2300000004,0,6732013.9100000001,0,506741.64,0,3162304.37]
[null,"05096","1106","201608",null,"05070","0981","201502",null,"Rur","5096/Rur/201608",{"$f":"IF(J12488=0,0,+CONCATENATE(VLOOKUP(B12488,Cadastro!$Q$3:$R$162,2,FALSE),\"/\",J12488,\"/\",D12488))","v":"46/Rur/201608"},"Rur/201608","5096/201608","5096/1106/201608","46/201608","46/1106/201608","1106/201608","Pes","5070/Pes/201502",{"$f":"+CONCATENATE(VLOOKUP(F12488,Cadastro!$Q$3:$R$162,2,FALSE),\"/\",S12488,\"/\",H12488)","v":"70/Pes/201502"},"Pes/201502","5070/201502","5070/0981/201502","70/201502","70/0981/201502","0981/201502",0,0,0,0,0,0,0,-2495.64,0,0]
[null,"05096","1163","201607",null,"05070","0993","201507",null,"Rur","5096/Rur/201607",{"$f":"IF(J12559=0,0,+CONCATENATE(VLOOKUP(B12559,Cadastro!$Q$3:$R$162,2,FALSE),\"/\",J12559,\"/\",D12559))","v":"46/Rur/201607"},"Rur/201607","5096/201607","5096/1163/201607","46/201607","46/1163/201607","1163/201607","Pes","5070/Pes/201507",{"$f":"+CONCATENATE(VLOOKUP(F12559,Cadastro!$Q$3:$R$162,2,FALSE),\"/\",S12559,\"/\",H12559)","v":"70/Pes/201507"},"Pes/201507","5070/201507","5070/0993/201507","70/201507","70/0993/201507","0993/201507",0,46015158.810000002,0,45929853.480000004,0,89808027.890000001,0,22870689.920000002,0,36208499.57]
[null,"05096","1381","201604",null,"05096","0115","201508",null,"Pes","5096/Pes/201604",{"$f":"IF(J12640=0,0,+CONCATENATE(VLOOKUP(B12640,Cadastro!$Q$3:$R$162,2,FALSE),\"/\",J12640,\"/\",D12640))","v":"46/Pes/201604"},"Pes/201604","5096/201604","5096/1381/201604","46/201604","46/1381/201604","1381/201604","Pat","5096/Pat/201508",{"$f":"+CONCATENATE(VLOOKUP(F12640,Cadastro!$Q$3:$R$162,2,FALSE),\"/\",S12640,\"/\",H12640)","v":"46/Pat/201508"},"Pat/201508","5096/201508","5096/0115/201508","46/201508","46/0115/201508","0115/201508",1204258.32,0,1199137.03,0,796452.97,0,5521.93,0,80364.7,0]
[null,"05096","1384","201612",null,"05096","0118","201504",null,"Pes","5096/Pes/201612",{"$f":"IF(J12660=0,0,+CONCATENATE(VLOOKUP(B12660,Cadastro!$Q$3:$R$162,2,FALSE),\"/\",J12660,\"/\",D12660))","v":"46/Pes/201612"},"Pes/201612","5096/201612","5096/1384/201612","46/201612","46/1384/201612","1384/201612","Pat","5096/Pat/201504",{"$f":"+CONCATENATE(VLOOKUP(F12660,Cadastro!$Q$3:$R$162,2,FALSE),\"/\",S12660,\"/\",H12660)","v":"46/Pat/201504"},"Pat/201504","5096/201504","5096/0118/201504","46/201504","46/0118/201504","0118/201504",0,0,0,0,0,0,0,0,0,0]
[null,"05118","0118","201607",null,"05096","0272","201511",null,"Pat","5118/Pat/201607",{"$f":"IF(J12751=0,0,+CONCATENATE(VLOOKUP(B12751,Cadastro!$Q$3:$R$162,2,FALSE),\"/\",J12751,\"/\",D12751))","v":"71/Pat/201607"},"Pat/201607","5118/201607","5118/0118/201607","71/201607","71/0118/201607","0118/201607","RE","5096/RE/201511",{"$f":"+CONCATENATE(VLOOKUP(F12751,Cadastro!$Q$3:$R$162,2,FALSE),\"/\",S12751,\"/\",H12751)","v":"46/RE/201511"},"RE/201511","5096/201511","5096/0272/201511","46/201511","46/0272/201511","0272/201511",3551697.11,0,3145719.3499999996,0,2947578.9299999997,0,3467832.82,0,1221761.75,0]
[null,"05118","0234","201609",null,"05096","0437","201501",null,"RE","5118/RE/201609",{"$f":"IF(J12825=0,0,+CONCATENATE(VLOOKUP(B12825,Cadastro!$Q$3:$R$162,2,FALSE),\"/\",J12825,\"/\",D12825))","v":"71/RE/201609"},"RE/201609","5118/201609","5118/0234/201609","71/201609","71/0234/201609","0234/201609","Aero","5096/Aero/201501",{"$f":"+CONCATENATE(VLOOKUP(F12825,Cadastro!$Q$3:$R$162,2,FALSE),\"/\",S12825,\"/\",H12825)","v":"46/Aero/201501"},"Aero/201501","5096/201501","5096/0437/201501","46/201501","46/0437/201501","0437/201501",0,0,0,0,0,0,0,0,0,0]
[null,"05118","0433","201610",null,"05096","0544","201502",null,"Mar","5118/Mar/201610",{"$f":"IF(J12910=0,0,+CONCATENATE(VLOOKUP(B12910,Cadastro!$Q$3:$R$162,2,FALSE),\"/\",J12910,\"/\",D12910))","v":"71/Mar/201610"},"Mar/201610","5118/201610","5118/0433/201610","71/201610","71/0433/201610","0433/201610","Aut","5096/Aut/201502",{"$f":"+CONCATENATE(VLOOKUP(F12910,Cadastro!$Q$3:$R$162,2,FALSE),\"/\",S12910,\"/\",H12910)","v":"46/Aut/201502"},"Aut/201502","5096/201502","5096/0544/201502","46/201502","46/0544/201502","0544/201502",0,0,0,0,0,0,0,0,0,0]
[null,"05118","0437","201602",null,"05096","0553","201506",null,"Aero","5118/Aero/201602",{"$f":"IF(J12926=0,0,+CONCATENATE(VLOOKUP(B12926,Cadastro!$Q$3:$R$162,2,FALSE),\"/\",J12926,\"/\",D12926))","v":"71/Aero/201602"},"Aero/201602","5118/201602","5118/0437/201602","71/201602","71/0437/201602","0437/201602","Aut","5096/Aut/201506",{"$f":"+CONCATENATE(VLOOKUP(F12926,Cadastro!$Q$3:$R$162,2,FALSE),\"/\",S12926,\"/\",H12926)","v":"46/Aut/201506"},"Aut/201506","5096/201506","5096/0553/201506","46/201506","46/0553/201506","0553/201506",0,0,0,0,0,0,0,0,0,0]
[null,"05118","0531","201606",null,"05096","0638","201510",null,"Aut","5118/Aut/201606",{"$f":"IF(J13014=0,0,+CONCATENATE(VLOOKUP(B13014,Cadastro!$Q$3:$R$162,2,FALSE),\"/\",J13014,\"/\",D13014))","v":"71/Aut/201606"},"Aut/201606","5118/201606","5118/0531/201606","71/201606","71/0531/201606","0531/201606","Transp","5096/Transp/201510",{"$f":"+CONCATENATE(VLOOKUP(F13014,Cadastro!$Q$3:$R$162,2,FALSE),\"/\",S13014,\"/\",H13014)","v":"46/Transp/201510"},"Transp/201510","5096/201510","5096/0638/201510","46/201510","46/0638/201510","0638/201510",190603447.13,0,190597631.54999998,0,173886709.42999998,0,130552202.20999999,0,39801219.020000003,0]
[null,"05118","0621","201611",null,"05096","0740","201503",null,"Transp","5118/Transp/201611",{"$f":"IF(J13091=0,0,+CONCATENATE(VLOOKUP(B13091,Cadastro!$Q$3:$R$162,2,FALSE),\"/\",J13091,\"/\",D13091))","v":"71/Transp/201611"},"Transp/201611","5118/201611","5118/0621/201611","71/201611","71/0621/201611","0621/201611","RF","5096/RF/201503",{"$f":"+CONCATENATE(VLOOKUP(F13091,Cadastro!$Q$3:$R$162,2,FALSE),\"/\",S13091,\"/\",H13091)","v":"46/RF/201503"},"RF/201503","5096/201503","5096/0740/201503","46/201503","46/0740/201503","0740/201503",0,0,0,0,0,0,0,0,0,0]
[null,"05118","0623","201607",null,"05096","0745","201511",null,"Transp","5118/Transp/201607",{"$f":"IF(J13111=0,0,+CONCATENATE(VLOOKUP(B13111,Cadastro!$Q$3:$R$162,2,FALSE),\"/\",J13111,\"/\",D13111))","v":"71/Transp/201607"},"Transp/201607","5118/201607","5118/0623/201607","71/201607","71/0623/201607","0623/201607","RF","5096/RF/201511",{"$f":"+CONCATENATE(VLOOKUP(F13111,Cadastro!$Q$3:$R$162,2,FALSE),\"/\",S13111,\"/\",H13111)","v":"46/RF/201511"},"RF/201511","5096/201511","5096/0745/201511","46/201511","46/0745/201511","0745/201511",0,0,0,0,0,0,0,0,0,0]
[null,"05118","0655","201608",null,"05096","0870","201512",null,"Transp","5118/Transp/201608",{"$f":"IF(J13196=0,0,+CONCATENATE(VLOOKUP(B13196,Cadastro!$Q$3:$R$162,2,FALSE),\"/\",J13196,\"/\",D13196))","v":"71/Transp/201608"},"Transp/201608","5118/201608","5118/0655/201608","71/201608","71/0655/201608","0655/201608","RF","5096/RF/201512",{"$f":"+CONCATENATE(VLOOKUP(F13196,Cadastro!$Q$3:$R$162,2,FALSE),\"/\",S13196,\"/\",H13196)","v":"46/RF/201512"},"RF/201512","5096/201512","5096/0870/201512","46/201512","46/0870/201512","0870/201512",0,0,0,0,0,0,0,0,0,0]
[null,"05118","0746","201605",null,"05096","0982","201509",null,"RF","5118/RF/201605",{"$f":"IF(J13277=0,0,+CONCATENATE(VLOOKUP(B13277,Cadastro!$Q$3:$R$162,2,FALSE),\"/\",J13277,\"/\",D13277))","v":"71/RF/201605"},"RF/201605","5118/201605","5118/0746/201605","71/201605","71/0746/201605","0746/201605","Pes","5096/Pes/201509",{"$f":"+CONCATENATE(VLOOKUP(F13277,Cadastro!$Q$3:$R$162,2,FALSE),\"/\",S13277,\"/\",H13277)","v":"46/Pes/201509"},"Pes/201509","5096/201509","5096/0982/201509","46/201509","46/0982/201509","0982/201509",0,11151343.439999999,0,11089665.059999999,0,10043751.5,-47571,2194083.54,0,984720.28]
[null,"05118","0819","201605",null,"05096","1068","201509",null,"RF","5118/RF/201605",{"$f":"IF(J13361=0,0,+CONCATENATE(VLOOKUP(B13361,Cadastro!$Q$3:$R$162,2,FALSE),\"/\",J13361,\"/\",D13361))","v":"71/RF/201605"},"RF/201605","5118/201605","5118/0819/201605","71/201605","71/0819/201605","0819/201605","Hab","5096/Hab/201509",{"$f":"+CONCATENATE(VLOOKUP(F13361,Cadastro!$Q$3:$R$162,2,FALSE),\"/\",S13361,\"/\",H13361)","v":"46/Hab/201509"},"Hab/201509","5096/201509","5096/1068/201509","46/201509","46/1068/201509","1068/201509",0,0,0,0,0,0,0,0,0,0]
[null,"05118","0860","201601",null,"05096","1102","201505",null,{"$f":"IF(C13381=0,0,+VLOOKUP(C13381,$AQ$4:$AR$130,2,FALSE))","v":"RF"},{"$f":"IF(J13381=0,0,+CONCATENATE(VALUE(B13381),\"/\",J13381,\"/\",D13381))","v":"5118/RF/201601"},{"$f":"IF(J13381=0,0,+CONCATENATE(VLOOKUP(B13381,Cadastro!$Q$3:$R$162,2,FALSE),\"/\",J13381,\"/\",D13381))","v":"71/RF/201601"},{"$f":"IF(J13381=0,0,+CONCATENATE(J13381,\"/\",D13381))","v":"RF/201601"},"5118/201601","5118/0860/201601","71/201601","71/0860/201601","0860/201601",{"$f":"+VLOOKUP(G13381,$AQ$4:$AR$130,2,FALSE)","v":"Rur"},{"$f":"+CONCATENATE(VALUE(F13381),\"/\",S13381,\"/\",H13381)","v":"5096/Rur/201505"},{"$f":"+CONCATENATE(VLOOKUP(F13381,Cadastro!$Q$3:$R$162,2,FALSE),\"/\",S13381,\"/\",H13381)","v":"46/Rur/201505"},"Rur/201505","5096/201505","5096/1102/201505","46/201505","46/1102/201505","1102/201505",0,0,0,0,0,0,-11339.840000000026,0,0,0]
[null,"05118","0980","201610",null,"05096","1109","201502",null,"Pes","5118/Pes/201610",{"$f":"IF(J13462=0,0,+CONCATENATE(VLOOKUP(B13462,Cadastro!$Q$3:$R$162,2,FALSE),\"/\",J13462,\"/\",D13462))","v":"71/Pes/201610"},"Pes/201610","5118/201610","5118/0980/201610","71/201610","71/0980/201610","0980/201610","Rur","5096/Rur/201502",{"$f":"+CONCATENATE(VLOOKUP(F13462,Cadastro!$Q$3:$R$162,2,FALSE),\"/\",S13462,\"/\",H13462)","v":"46/Rur/201502"},"Rur/201502","5096/201502","5096/1109/201502","46/201502","46/1109/201502","1109/201502",0,0,0,0,0,0,0,0,0,0]
[null,"05118","0990","201604",null,"05096","1329","201508",null,"Pes","5118/Pes/201604",{"$f":"IF(J13540=0,0,+CONCATENATE(VLOOKUP(B13540,Cadastro!$Q$3:$R$162,2,FALSE),\"/\",J13540,\"/\",D13540))","v":"71/Pes/201604"},"Pes/201604","5118/201604","5118/0990/201604","71/201604","71/0990/201604","0990/201604","Pes","5096/Pes/201508",{"$f":"+CONCATENATE(VLOOKUP(F13540,Cadastro!$Q$3:$R$162,2,FALSE),\"/\",S13540,\"/\",H13540)","v":"46/Pes/201508"},"Pes/201508","5096/201508","5096/1329/201508","46/201508","46/1329/201508","1329/201508",0,154773.44,0,154773.29999999999,0,101015.51,0,76181.41,0,9994.83]
[null,"05118","0992","201602",null,"05096","1369","201506",null,"VGBL","5118/VGBL/201602",{"$f":"IF(J13562=0,0,+CONCATENATE(VLOOKUP(B13562,Cadastro!$Q$3:$R$162,2,FALSE),\"/\",J13562,\"/\",D13562))","v":"71/VGBL/201602"},"VGBL/201602","5118/201602","5118/0992/201602","71/201602","71/0992/201602","0992/201602","Pes","5096/Pes/201506",{"$f":"+CONCATENATE(VLOOKUP(F13562,Cadastro!$Q$3:$R$162,2,FALSE),\"/\",S13562,\"/\",H13562)","v":"46/Pes/201506"},"Pes/201506","5096/201506","5096/1369/201506","46/201506","46/1369/201506","1369/201506",0,0,0,0,0,0,0,0,0,0]
[null,"05118","1101","201603",null,"05118","0111","201507",null,"Rur","5118/Rur/201603",{"$f":"IF(J13647=0,0,+CONCATENATE(VLOOKUP(B13647,Cadastro!$Q$3:$R$162,2,FALSE),\"/\",J13647,\"/\",D13647))","v":"71/Rur/201603"},"Rur/201603","5118/201603","5118/1101/201603","71/201603","71/1101/201603","1101/201603","Pat","5118/Pat/201507",{"$f":"+CONCATENATE(VLOOKUP(F13647,Cadastro!$Q$3:$R$162,2,FALSE),\"/\",S13647,\"/\",H13647)","v":"71/Pat/201507"},"Pat/201507","5118/201507","5118/0111/201507","71/201507","71/0111/201507","0111/201507",0,0,0,-2.02,0,15.21,0,-263534.84000000003,0,41509.64]
[null,"05118","1108","201604",null,"05118","0171","201508",null,"Rur","5118/Rur/201604",{"$f":"IF(J13732=0,0,+CONCATENATE(VLOOKUP(B13732,Cadastro!$Q$3:$R$162,2,FALSE),\"/\",J13732,\"/\",D13732))","v":"71/Rur/201604"},"Rur/201604","5118/201604","5118/1108/201604","71/201604","71/1108/201604","1108/201604","Pat","5118/Pat/201508",{"$f":"+CONCATENATE(VLOOKUP(F13732,Cadastro!$Q$3:$R$162,2,FALSE),\"/\",S13732,\"/\",H13732)","v":"71/Pat/201508"},"Pat/201508","5118/201508","5118/0171/201508","71/201508","71/0171/201508","0171/201508",0,430794.87,0,265871.5,0,484378.36,0,-57871.580000000075,0,173545.25]
[null,"05118","1198","201603",null,"05118","0310","201507",null,"Rur","5118/Rur/201603",{"$f":"IF(J13803=0,0,+CONCATENATE(VLOOKUP(B13803,Cadastro!$Q$3:$R$162,2,FALSE),\"/\",J13803,\"/\",D13803))","v":"71/Rur/201603"},"Rur/201603","5118/201603","5118/1198/201603","71/201603","71/1198/201603","1198/201603","Res","5118/Res/201507",{"$f":"+CONCATENATE(VLOOKUP(F13803,Cadastro!$Q$3:$R$162,2,FALSE),\"/\",S13803,\"/\",H13803)","v":"71/Res/201507"},"Res/201507","5118/201507","5118/0310/201507","71/201507","71/0310/201507","0310/201507",0,0,0,0,0,0,0,-40,0,0]
[null,"05118","1299","201608",null,"05118","0351","201512",null,"Out","5118/Out/201608",{"$f":"IF(J13832=0,0,+CONCATENATE(VLOOKUP(B13832,Cadastro!$Q$3:$R$162,2,FALSE),\"/\",J13832,\"/\",D13832))","v":"71/Out/201608"},"Out/201608","5118/201608","5118/1299/201608","71/201608","71/1299/201608","1299/201608","Res","5118/Res/201512",{"$f":"+CONCATENATE(VLOOKUP(F13832,Cadastro!$Q$3:$R$162,2,FALSE),\"/\",S13832,\"/\",H13832)","v":"71/Res/201512"},"Res/201512","5118/201512","5118/0351/201512","71/201512","71/0351/201512","0351/201512",0,557373.72,0,506076.51999999996,0,531312.84000000008,0,109801.09000000001,0,176944.08]
[null,"05118","1384","201605",null,"05118","0523","201509",null,"Pes","5118/Pes/201605",{"$f":"IF(J13913=0,0,+CONCATENATE(VLOOKUP(B13913,Cadastro!$Q$3:$R$162,2,FALSE),\"/\",J13913,\"/\",D13913))","v":"71/Pes/201605"},"Pes/201605","5118/201605","5118/1384/201605","71/201605","71/1384/201605","1384/201605","Transp","5118/Transp/201509",{"$f":"+CONCATENATE(VLOOKUP(F13913,Cadastro!$Q$3:$R$162,2,FALSE),\"/\",S13913,\"/\",H13913)","v":"71/Transp/201509"},"Transp/201509","5118/201509","5118/0523/201509","71/201509","71/0523/201509","0523/201509",0,0,0,0,0,0,0,1322.34,0,0]
[null,"05118","1433","201606",null,"05118","0553","201510",null,"Mar","5118/Mar/201606",{"$f":"IF(J13998=0,0,+CONCATENATE(VLOOKUP(B13998,Cadastro!$Q$3:$R$162,2,FALSE),\"/\",J13998,\"/\",D13998))","v":"71/Mar/201606"},"Mar/201606","5118/201606","5118/1433/201606","71/201606","71/1433/201606","1433/201606","Aut","5118/Aut/201510",{"$f":"+CONCATENATE(VLOOKUP(F13998,Cadastro!$Q$3:$R$162,2,FALSE),\"/\",S13998,\"/\",H13998)","v":"71/Aut/201510"},"Aut/201510","5118/201510","5118/0553/201510","71/201510","71/0553/201510","0553/201510",0,48366616.229999997,0,48363174.369999997,0,53778970.590000004,0,15770835.890000001,0,10150793.82]
[null,"05142","0929","201607",null,"05118","0627","201506",null,"Pes","5142/Pes/201607",{"$f":"IF(J14066=0,0,+CONCATENATE(VLOOKUP(B14066,Cadastro!$Q$3:$R$162,2,FALSE),\"/\",J14066,\"/\",D14066))","v":"44/Pes/201607"},"Pes/201607","5142/201607","5142/0929/201607","44/201607","44/0929/201607","0929/201607","Transp","5118/Transp/201506",{"$f":"+CONCATENATE(VLOOKUP(F14066,Cadastro!$Q$3:$R$162,2,FALSE),\"/\",S14066,\"/\",H14066)","v":"71/Transp/201506"},"Transp/201506","5118/201506","5118/0627/201506","71/201506","71/0627/201506","0627/201506",319156.69,0,319156.69,0,845322.52,0,-46.27,0,14015.35,0]
[null,"05142","0982","201603",null,"05118","0644","201502",null,"Pes","5142/Pes/201603",{"$f":"IF(J14098=0,0,+CONCATENATE(VLOOKUP(B14098,Cadastro!$Q$3:$R$162,2,FALSE),\"/\",J14098,\"/\",D14098))","v":"44/Pes/201603"},"Pes/201603","5142/201603","5142/0982/201603","44/201603","44/0982/201603","0982/201603","Transp","5118/Transp/201502",{"$f":"+CONCATENATE(VLOOKUP(F14098,Cadastro!$Q$3:$R$162,2,FALSE),\"/\",S14098,\"/\",H14098)","v":"71/Transp/201502"},"Transp/201502","5118/201502","5118/0644/201502","71/201502","71/0644/201502","0644/201502",3164748.74,4915.75,2997750.5700000003,4915.75,4596643.41,25600.86,144972.78,-11891.04,1337049.02,3761.49]
[null,"05142","1198","201604",null,"05118","0740","201503",null,"Rur","5142/Rur/201604",{"$f":"IF(J14183=0,0,+CONCATENATE(VLOOKUP(B14183,Cadastro!$Q$3:$R$162,2,FALSE),\"/\",J14183,\"/\",D14183))","v":"44/Rur/201604"},"Rur/201604","5142/201604","5142/1198/201604","44/201604","44/1198/201604","1198/201604","RF","5118/RF/201503",{"$f":"+CONCATENATE(VLOOKUP(F14183,Cadastro!$Q$3:$R$162,2,FALSE),\"/\",S14183,\"/\",H14183)","v":"71/RF/201503"},"RF/201503","5118/201503","5118/0740/201503","71/201503","71/0740/201503","0740/201503",0,0,0,0,29358.22,0,84406.42,0,14561.2,0]
[null,"05142","1391","201605",null,"05118","0750","201504",null,"Pes","5142/Pes/201605",{"$f":"IF(J14268=0,0,+CONCATENATE(VLOOKUP(B14268,Cadastro!$Q$3:$R$162,2,FALSE),\"/\",J14268,\"/\",D14268))","v":"44/Pes/201605"},"Pes/201605","5142/201605","5142/1391/201605","44/201605","44/1391/201605","1391/201605","RF","5118/RF/201504",{"$f":"+CONCATENATE(VLOOKUP(F14268,Cadastro!$Q$3:$R$162,2,FALSE),\"/\",S14268,\"/\",H14268)","v":"71/RF/201504"},"RF/201504","5118/201504","5118/0750/201504","71/201504","71/0750/201504","0750/201504",3071546.99,0,2881401.8600000003,0,2764398.95,0,824592.66,0,547238.38,0]
[null,"05177","0115","201606",null,"05118","0860","201505",null,"Pat","5177/Pat/201606",{"$f":"IF(J14329=0,0,+CONCATENATE(VLOOKUP(B14329,Cadastro!$Q$3:$R$162,2,FALSE),\"/\",J14329,\"/\",D14329))","v":"5/Pat/201606"},"Pat/201606","5177/201606","5177/0115/201606","5/201606","5/0115/201606","0115/201606","RF","5118/RF/201505",{"$f":"+CONCATENATE(VLOOKUP(F14329,Cadastro!$Q$3:$R$162,2,FALSE),\"/\",S14329,\"/\",H14329)","v":"71/RF/201505"},"RF/201505","5118/201505","5118/0860/201505","71/201505","71/0860/201505","0860/201505",2889646.45,0,2596440.06,0,2816139.78,0,1106831.72,0,818254.94,0]
[null,"05177","0141","201609",null,"05118","0936","201508",null,"Pat","5177/Pat/201609",{"$f":"IF(J14368=0,0,+CONCATENATE(VLOOKUP(B14368,Cadastro!$Q$3:$R$162,2,FALSE),\"/\",J14368,\"/\",D14368))","v":"5/Pat/201609"},"Pat/201609","5177/201609","5177/0141/201609","5/201609","5/0141/201609","0141/201609","Pes","5118/Pes/201508",{"$f":"+CONCATENATE(VLOOKUP(F14368,Cadastro!$Q$3:$R$162,2,FALSE),\"/\",S14368,\"/\",H14368)","v":"71/Pes/201508"},"Pes/201508","5118/201508","5118/0936/201508","71/201508","71/0936/201508","0936/201508",452158.88,0,646455.26,0,665255.89,0,321260.45999999996,0,131415.79999999999,0]
[null,"05177","0274","201606",null,"05118","0984","201505",null,"RE","5177/RE/201606",{"$f":"IF(J14449=0,0,+CONCATENATE(VLOOKUP(B14449,Cadastro!$Q$3:$R$162,2,FALSE),\"/\",J14449,\"/\",D14449))","v":"5/RE/201606"},"RE/201606","5177/201606","5177/0274/201606","5/201606","5/0274/201606","0274/201606","Pes","5118/Pes/201505",{"$f":"+CONCATENATE(VLOOKUP(F14449,Cadastro!$Q$3:$R$162,2,FALSE),\"/\",S14449,\"/\",H14449)","v":"71/Pes/201505"},"Pes/201505","5118/201505","5118/0984/201505","71/201505","71/0984/201505","0984/201505",0,90892.72,0,90892.72,0,90892.72,0,0,0,0]
[null,"05177","0351","201602",null,"05118","0987","201501",null,{"$f":"IF(C14469=0,0,+VLOOKUP(C14469,$AQ$4:$AR$130,2,FALSE))","v":"Res"},{"$f":"IF(J14469=0,0,+CONCATENATE(VALUE(B14469),\"/\",J14469,\"/\",D14469))","v":"5177/Res/201602"},{"$f":"IF(J14469=0,0,+CONCATENATE(VLOOKUP(B14469,Cadastro!$Q$3:$R$162,2,FALSE),\"/\",J14469,\"/\",D14469))","v":"5/Res/201602"},{"$f":"IF(J14469=0,0,+CONCATENATE(J14469,\"/\",D14469))","v":"Res/201602"},"5177/201602","5177/0351/201602","5/201602","5/0351/201602","0351/201602",{"$f":"+VLOOKUP(G14469,$AQ$4:$AR$130,2,FALSE)","v":"Pes"},{"$f":"+CONCATENATE(VALUE(F14469),\"/\",S14469,\"/\",H14469)","v":"5118/Pes/201501"},{"$f":"+CONCATENATE(VLOOKUP(F14469,Cadastro!$Q$3:$R$162,2,FALSE),\"/\",S14469,\"/\",H14469)","v":"71/Pes/201501"},"Pes/201501","5118/201501","5118/0987/201501","71/201501","71/0987/201501","0987/201501",9128674.25,0,9173633.4000000004,0,10721128.390000001,0,5872795.8799999952,0,1959821.53,0]
[null,"05177","0526","201605",null,"05118","1101","201504",null,"Aut","5177/Aut/201605",{"$f":"IF(J14592=0,0,+CONCATENATE(VLOOKUP(B14592,Cadastro!$Q$3:$R$162,2,FALSE),\"/\",J14592,\"/\",D14592))","v":"5/Aut/201605"},"Aut/201605","5177/201605","5177/0526/201605","5/201605","5/0526/201605","0526/201605","Rur","5118/Rur/201504",{"$f":"+CONCATENATE(VLOOKUP(F14592,Cadastro!$Q$3:$R$162,2,FALSE),\"/\",S14592,\"/\",H14592)","v":"71/Rur/201504"},"Rur/201504","5118/201504","5118/1101/201504","71/201504","71/1101/201504","1101/201504",0,0,0,0,0,0,0,0,0,0]
[null,"05177","0544","201611",null,"05118","1104","201510",null,"Aut","5177/Aut/201611",{"$f":"IF(J14634=0,0,+CONCATENATE(VLOOKUP(B14634,Cadastro!$Q$3:$R$162,2,FALSE),\"/\",J14634,\"/\",D14634))","v":"5/Aut/201611"},"Aut/201611","5177/201611","5177/0544/201611","5/201611","5/0544/201611","0544/201611","Rur","5118/Rur/201510",{"$f":"+CONCATENATE(VLOOKUP(F14634,Cadastro!$Q$3:$R$162,2,FALSE),\"/\",S14634,\"/\",H14634)","v":"71/Rur/201510"},"Rur/201510","5118/201510","5118/1104/201510","71/201510","71/1104/201510","1104/201510",0,0,0,0,0,0,0,0,0,0]
[null,"05177","0632","201612",null,"05118","1162","201511",null,"Transp","5177/Transp/201612",{"$f":"IF(J14719=0,0,+CONCATENATE(VLOOKUP(B14719,Cadastro!$Q$3:$R$162,2,FALSE),\"/\",J14719,\"/\",D14719))","v":"5/Transp/201612"},"Transp/201612","5177/201612","5177/0632/201612","5/201612","5/0632/201612","0632/201612","Rur","5118/Rur/201511",{"$f":"+CONCATENATE(VLOOKUP(F14719,Cadastro!$Q$3:$R$162,2,FALSE),\"/\",S14719,\"/\",H14719)","v":"71/Rur/201511"},"Rur/201511","5118/201511","5118/1162/201511","71/201511","71/1162/201511","1162/201511",1260312.5,0,1135924.6499999999,-191.71,412279.58999999997,-191.71,216299.38,0,148337.15,0]
[null,"05177","0644","201608",null,"05118","1164","201507",null,"Transp","5177/Transp/201608",{"$f":"IF(J14739=0,0,+CONCATENATE(VLOOKUP(B14739,Cadastro!$Q$3:$R$162,2,FALSE),\"/\",J14739,\"/\",D14739))","v":"5/Transp/201608"},"Transp/201608","5177/201608","5177/0644/201608","5/201608","5/0644/201608","0644/201608","Rur","5118/Rur/201507",{"$f":"+CONCATENATE(VLOOKUP(F14739,Cadastro!$Q$3:$R$162,2,FALSE),\"/\",S14739,\"/\",H14739)","v":"71/Rur/201507"},"Rur/201507","5118/201507","5118/1164/201507","71/201507","71/1164/201507","1164/201507",0,0,0,0,0,0,16236.09,0,0,0]
[null,"05177","0747","201604",null,"05118","1384","201503",null,"RF","5177/RF/201604",{"$f":"IF(J14855=0,0,+CONCATENATE(VLOOKUP(B14855,Cadastro!$Q$3:$R$162,2,FALSE),\"/\",J14855,\"/\",D14855))","v":"5/RF/201604"},"RF/201604","5177/201604","5177/0747/201604","5/201604","5/0747/201604","0747/201604","Pes","5118/Pes/201503",{"$f":"+CONCATENATE(VLOOKUP(F14855,Cadastro!$Q$3:$R$162,2,FALSE),\"/\",S14855,\"/\",H14855)","v":"71/Pes/201503"},"Pes/201503","5118/201503","5118/1384/201503","71/201503","71/1384/201503","1384/201503",0,0,0,0,0,0,0,0,0,0]
[null,"05177","0819","201605",null,"05118","1391","201504",null,"RF","5177/RF/201605",{"$f":"IF(J14904=0,0,+CONCATENATE(VLOOKUP(B14904,Cadastro!$Q$3:$R$162,2,FALSE),\"/\",J14904,\"/\",D14904))","v":"5/RF/201605"},"RF/201605","5177/201605","5177/0819/201605","5/201605","5/0819/201605","0819/201605","Pes","5118/Pes/201504",{"$f":"+CONCATENATE(VLOOKUP(F14904,Cadastro!$Q$3:$R$162,2,FALSE),\"/\",S14904,\"/\",H14904)","v":"71/Pes/201504"},"Pes/201504","5118/201504","5118/1391/201504","71/201504","71/1391/201504","1391/201504",0,0,0,0,0,0,0,0,0,0]
[null,"05177","0977","201602",null,"05142","0654","201510",null,"Pes","5177/Pes/201602",{"$f":"IF(J14985=0,0,+CONCATENATE(VLOOKUP(B14985,Cadastro!$Q$3:$R$162,2,FALSE),\"/\",J14985,\"/\",D14985))","v":"5/Pes/201602"},"Pes/201602","5177/201602","5177/0977/201602","5/201602","5/0977/201602","0977/201602","Transp","5142/Transp/201510",{"$f":"+CONCATENATE(VLOOKUP(F14985,Cadastro!$Q$3:$R$162,2,FALSE),\"/\",S14985,\"/\",H14985)","v":"44/Transp/201510"},"Transp/201510","5142/201510","5142/0654/201510","44/201510","44/0654/201510","0654/201510",4496827.71,0,4450821.12,0,1538815.03,0,0,0,579636.74,0]
[null,"05177","0980","201610",null,"05142","0977","201506",null,"Pes","5177/Pes/201610",{"$f":"IF(J15005=0,0,+CONCATENATE(VLOOKUP(B15005,Cadastro!$Q$3:$R$162,2,FALSE),\"/\",J15005,\"/\",D15005))","v":"5/Pes/201610"},"Pes/201610","5177/201610","5177/0980/201610","5/201610","5/0980/201610","0980/201610","Pes","5142/Pes/201506",{"$f":"+CONCATENATE(VLOOKUP(F15005,Cadastro!$Q$3:$R$162,2,FALSE),\"/\",S15005,\"/\",H15005)","v":"44/Pes/201506"},"Pes/201506","5142/201506","5142/0977/201506","44/201506","44/0977/201506","0977/201506",0,33807646.859999999,0,33798689.479999997,0,27006096.760000002,0,7085344.2599999998,0,12639999.35]
[null,"05177","0991","201611",null,"05142","0987","201509",null,"Pes","5177/Pes/201611",{"$f":"IF(J15054=0,0,+CONCATENATE(VLOOKUP(B15054,Cadastro!$Q$3:$R$162,2,FALSE),\"/\",J15054,\"/\",D15054))","v":"5/Pes/201611"},"Pes/201611","5177/201611","5177/0991/201611","5/201611","5/0991/201611","0991/201611","Pes","5142/Pes/201509",{"$f":"+CONCATENATE(VLOOKUP(F15054,Cadastro!$Q$3:$R$162,2,FALSE),\"/\",S15054,\"/\",H15054)","v":"44/Pes/201509"},"Pes/201509","5142/201509","5142/0987/201509","44/201509","44/0987/201509","0987/201509",0,0,0,0,0,0,0,9000,0,0]
[null,"05177","1103","201607",null,"05142","1384","201505",null,"Rur","5177/Rur/201607",{"$f":"IF(J15170=0,0,+CONCATENATE(VLOOKUP(B15170,Cadastro!$Q$3:$R$162,2,FALSE),\"/\",J15170,\"/\",D15170))","v":"5/Rur/201607"},"Rur/201607","5177/201607","5177/1103/201607","5/201607","5/1103/201607","1103/201607","Pes","5142/Pes/201505",{"$f":"+CONCATENATE(VLOOKUP(F15170,Cadastro!$Q$3:$R$162,2,FALSE),\"/\",S15170,\"/\",H15170)","v":"44/Pes/201505"},"Pes/201505","5142/201505","5142/1384/201505","44/201505","44/1384/201505","1384/201505",0,0,0,0,0,0,0,0,0,0]
[null,"05177","1105","201603",null,"05142","1391","201501",null,"Rur","5177/Rur/201603",{"$f":"IF(J15190=0,0,+CONCATENATE(VLOOKUP(B15190,Cadastro!$Q$3:$R$162,2,FALSE),\"/\",J15190,\"/\",D15190))","v":"5/Rur/201603"},"Rur/201603","5177/201603","5177/1105/201603","5/201603","5/1105/201603","1105/201603","Pes","5142/Pes/201501",{"$f":"+CONCATENATE(VLOOKUP(F15190,Cadastro!$Q$3:$R$162,2,FALSE),\"/\",S15190,\"/\",H15190)","v":"44/Pes/201501"},"Pes/201501","5142/201501","5142/1391/201501","44/201501","44/1391/201501","1391/201501",0,3290806.65,0,2961353.34,0,3248436.15,0,232787.25,0,583158.74]
[null,"05177","1162","201612",null,"05177","0116","201510",null,"Rur","5177/Rur/201612",{"$f":"IF(J15271=0,0,+CONCATENATE(VLOOKUP(B15271,Cadastro!$Q$3:$R$162,2,FALSE),\"/\",J15271,\"/\",D15271))","v":"5/Rur/201612"},"Rur/201612","5177/201612","5177/1162/201612","5/201612","5/1162/201612","1162/201612","Pat","5177/Pat/201510",{"$f":"+CONCATENATE(VLOOKUP(F15271,Cadastro!$Q$3:$R$162,2,FALSE),\"/\",S15271,\"/\",H15271)","v":"5/Pat/201510"},"Pat/201510","5177/201510","5177/0116/201510","5/201510","5/0116/201510","0116/201510",-85008.5,5175457.54,-170118.41,4248304.84,1563054.6300000001,3552778.1399999997,4870389.25,2464368.52,682289.35,1582447.69]
[null,"05177","1329","201610",null,"05177","0171","201508",null,"Pes","5177/Pes/201610",{"$f":"IF(J15317=0,0,+CONCATENATE(VLOOKUP(B15317,Cadastro!$Q$3:$R$162,2,FALSE),\"/\",J15317,\"/\",D15317))","v":"5/Pes/201610"},"Pes/201610","5177/201610","5177/1329/201610","5/201610","5/1329/201610","1329/201610","Pat","5177/Pat/201508",{"$f":"+CONCATENATE(VLOOKUP(F15317,Cadastro!$Q$3:$R$162,2,FALSE),\"/\",S15317,\"/\",H15317)","v":"5/Pat/201508"},"Pat/201508","5177/201508","5177/0171/201508","5/201508","5/0171/201508","0171/201508",0,6395951.1500000004,0,3131207.9600000004,0,1924735.8400000003,0,4164902.4600000009,0,1145324.76]
[null,"05177","1383","201608",null,"05177","0274","201506",null,"Pes","5177/Pes/201608",{"$f":"IF(J15375=0,0,+CONCATENATE(VLOOKUP(B15375,Cadastro!$Q$3:$R$162,2,FALSE),\"/\",J15375,\"/\",D15375))","v":"5/Pes/201608"},"Pes/201608","5177/201608","5177/1383/201608","5/201608","5/1383/201608","1383/201608","RE","5177/RE/201506",{"$f":"+CONCATENATE(VLOOKUP(F15375,Cadastro!$Q$3:$R$162,2,FALSE),\"/\",S15375,\"/\",H15375)","v":"5/RE/201506"},"RE/201506","5177/201506","5177/0274/201506","5/201506","5/0274/201506","0274/201506",0,0,0,0,0,0,0,0,0,0.01]
[null,"05177","1528","201605",null,"05177","0457","201503",null,"Aero","5177/Aero/201605",{"$f":"IF(J15456=0,0,+CONCATENATE(VLOOKUP(B15456,Cadastro!$Q$3:$R$162,2,FALSE),\"/\",J15456,\"/\",D15456))","v":"5/Aero/201605"},"Aero/201605","5177/201605","5177/1528/201605","5/201605","5/1528/201605","1528/201605","Mar","5177/Mar/201503",{"$f":"+CONCATENATE(VLOOKUP(F15456,Cadastro!$Q$3:$R$162,2,FALSE),\"/\",S15456,\"/\",H15456)","v":"5/Mar/201503"},"Mar/201503","5177/201503","5177/0457/201503","5/201503","5/0457/201503","0457/201503",100930.73,0,55298.03,0,13626.380000000005,0,0,0,6865.82,0]
[null,"05185","0115","201606",null,"05177","0542","201504",null,"Pat","5185/Pat/201606",{"$f":"IF(J15541=0,0,+CONCATENATE(VLOOKUP(B15541,Cadastro!$Q$3:$R$162,2,FALSE),\"/\",J15541,\"/\",D15541))","v":"47/Pat/201606"},"Pat/201606","5185/201606","5185/0115/201606","47/201606","47/0115/201606","0115/201606","Aut","5177/Aut/201504",{"$f":"+CONCATENATE(VLOOKUP(F15541,Cadastro!$Q$3:$R$162,2,FALSE),\"/\",S15541,\"/\",H15541)","v":"5/Aut/201504"},"Aut/201504","5177/201504","5177/0542/201504","5/201504","5/0542/201504","0542/201504",0,914906.53,0,914803.89,0,1037089.44,0,180320.57,0,187343.83]
[null,"05185","0141","201609",null,"05177","0588","201507",null,"Pat","5185/Pat/201609",{"$f":"IF(J15580=0,0,+CONCATENATE(VLOOKUP(B15580,Cadastro!$Q$3:$R$162,2,FALSE),\"/\",J15580,\"/\",D15580))","v":"47/Pat/201609"},"Pat/201609","5185/201609","5185/0141/201609","47/201609","47/0141/201609","0141/201609","Dpvat","5177/Dpvat/201507",{"$f":"+CONCATENATE(VLOOKUP(F15580,Cadastro!$Q$3:$R$162,2,FALSE),\"/\",S15580,\"/\",H15580)","v":"5/Dpvat/201507"},"Dpvat/201507","5177/201507","5177/0588/201507","5/201507","5/0588/201507","0588/201507",159327.56,0,148152.62,0,69670.759999999995,0,31094.59,0,16629.2,0]
[null,"05185","0196","201610",null,"05177","0632","201508",null,"Pat","5185/Pat/201610",{"$f":"IF(J15641=0,0,+CONCATENATE(VLOOKUP(B15641,Cadastro!$Q$3:$R$162,2,FALSE),\"/\",J15641,\"/\",D15641))","v":"47/Pat/201610"},"Pat/201610","5185/201610","5185/0196/201610","47/201610","47/0196/201610","0196/201610","Transp","5177/Transp/201508",{"$f":"+CONCATENATE(VLOOKUP(F15641,Cadastro!$Q$3:$R$162,2,FALSE),\"/\",S15641,\"/\",H15641)","v":"5/Transp/201508"},"Transp/201508","5177/201508","5177/0632/201508","5/201508","5/0632/201508","0632/201508",-1850,609636.46,-28511.18,-66380.570000000065,9427.6500000000015,583138.09999999986,-576629.88000000012,31281.93,3671.62,311228.56]
[null,"05185","0378","201611",null,"05177","0658","201509",null,"Res","5185/Res/201611",{"$f":"IF(J15726=0,0,+CONCATENATE(VLOOKUP(B15726,Cadastro!$Q$3:$R$162,2,FALSE),\"/\",J15726,\"/\",D15726))","v":"47/Res/201611"},"Res/201611","5185/201611","5185/0378/201611","47/201611","47/0378/201611","0378/201611","Transp","5177/Transp/201509",{"$f":"+CONCATENATE(VLOOKUP(F15726,Cadastro!$Q$3:$R$162,2,FALSE),\"/\",S15726,\"/\",H15726)","v":"5/Transp/201509"},"Transp/201509","5177/201509","5177/0658/201509","5/201509","5/0658/201509","0658/201509",935563.25,0,908136.88,0,540864.03,0,174948.47,0,118122.99,0]
[null,"05185","0524","201608",null,"05177","0775","201506",null,"Aut","5185/Aut/201608",{"$f":"IF(J15807=0,0,+CONCATENATE(VLOOKUP(B15807,Cadastro!$Q$3:$R$162,2,FALSE),\"/\",J15807,\"/\",D15807))","v":"47/Aut/201608"},"Aut/201608","5185/201608","5185/0524/201608","47/201608","47/0524/201608","0524/201608","RF","5177/RF/201506",{"$f":"+CONCATENATE(VLOOKUP(F15807,Cadastro!$Q$3:$R$162,2,FALSE),\"/\",S15807,\"/\",H15807)","v":"5/RF/201506"},"RF/201506","5177/201506","5177/0775/201506","5/201506","5/0775/201506","0775/201506",0,-2196634.42,0,-2453275.4699999997,0,193837.76,0,56499.540000000008,0,86377.49]
[null,"05185","0531","201608",null,"05177","0859","201506",null,"Aut","5185/Aut/201608",{"$f":"IF(J15843=0,0,+CONCATENATE(VLOOKUP(B15843,Cadastro!$Q$3:$R$162,2,FALSE),\"/\",J15843,\"/\",D15843))","v":"47/Aut/201608"},"Aut/201608","5185/201608","5185/0531/201608","47/201608","47/0531/201608","0531/201608","RF","5177/RF/201506",{"$f":"+CONCATENATE(VLOOKUP(F15843,Cadastro!$Q$3:$R$162,2,FALSE),\"/\",S15843,\"/\",H15843)","v":"5/RF/201506"},"RF/201506","5177/201506","5177/0859/201506","5/201506","5/0859/201506","0859/201506",104727302.06,0,104727302.06,0,98747538.269999996,0,83260894.909999996,0,20092707.940000001,0]
[null,"05185","0621","201604",null,"05177","0977","201502",null,"Transp","5185/Transp/201604",{"$f":"IF(J15911=0,0,+CONCATENATE(VLOOKUP(B15911,Cadastro!$Q$3:$R$162,2,FALSE),\"/\",J15911,\"/\",D15911))","v":"47/Transp/201604"},"Transp/201604","5185/201604","5185/0621/201604","47/201604","47/0621/201604","0621/201604","Pes","5177/Pes/201502",{"$f":"+CONCATENATE(VLOOKUP(F15911,Cadastro!$Q$3:$R$162,2,FALSE),\"/\",S15911,\"/\",H15911)","v":"5/Pes/201502"},"Pes/201502","5177/201502","5177/0977/201502","5/201502","5/0977/201502","0977/201502",687806.91,5501.5,643965.5,5501.5,604259.52999999991,208840.07,237852.19999999998,127016.48,156317.42000000001,179667.47]
[null,"05185","0644","201601",null,"05177","0992","201511",null,"Transp","5185/Transp/201601",{"$f":"IF(J15992=0,0,+CONCATENATE(VLOOKUP(B15992,Cadastro!$Q$3:$R$162,2,FALSE),\"/\",J15992,\"/\",D15992))","v":"47/Transp/201601"},"Transp/201601","5185/201601","5185/0644/201601","47/201601","47/0644/201601","0644/201601","VGBL","5177/VGBL/201511",{"$f":"+CONCATENATE(VLOOKUP(F15992,Cadastro!$Q$3:$R$162,2,FALSE),\"/\",S15992,\"/\",H15992)","v":"5/VGBL/201511"},"VGBL/201511","5177/201511","5177/0992/201511","5/201511","5/0992/201511","0992/201511",0,0,0,0,0,0,0,0,0,0]
[null,"05185","0740","201602",null,"05177","1103","201512",null,"RF","5185/RF/201602",{"$f":"IF(J16077=0,0,+CONCATENATE(VLOOKUP(B16077,Cadastro!$Q$3:$R$162,2,FALSE),\"/\",J16077,\"/\",D16077))","v":"47/RF/201602"},"RF/201602","5185/201602","5185/0740/201602","47/201602","47/0740/201602","0740/201602","Rur","5177/Rur/201512",{"$f":"+CONCATENATE(VLOOKUP(F16077,Cadastro!$Q$3:$R$162,2,FALSE),\"/\",S16077,\"/\",H16077)","v":"5/Rur/201512"},"Rur/201512","5177/201512","5177/1103/201512","5/201512","5/1103/201512","1103/201512",0,0,0,0,0,0,0,0,0,0]
[null,"05185","0745","201607",null,"05177","1106","201505",null,"RF","5185/RF/201607",{"$f":"IF(J16106=0,0,+CONCATENATE(VLOOKUP(B16106,Cadastro!$Q$3:$R$162,2,FALSE),\"/\",J16106,\"/\",D16106))","v":"47/RF/201607"},"RF/201607","5185/201607","5185/0745/201607","47/201607","47/0745/201607","0745/201607","Rur","5177/Rur/201505",{"$f":"+CONCATENATE(VLOOKUP(F16106,Cadastro!$Q$3:$R$162,2,FALSE),\"/\",S16106,\"/\",H16106)","v":"5/Rur/201505"},"Rur/201505","5177/201505","5177/1106/201505","5/201505","5/1106/201505","1106/201505",0,0,0,0,0,0,0,0,0,0]
[null,"05185","0775","201606",null,"05177","1163","201504",null,"RF","5185/RF/201606",{"$f":"IF(J16177=0,0,+CONCATENATE(VLOOKUP(B16177,Cadastro!$Q$3:$R$162,2,FALSE),\"/\",J16177,\"/\",D16177))","v":"47/RF/201606"},"RF/201606","5185/201606","5185/0775/201606","47/201606","47/0775/201606","0775/201606","Rur","5177/Rur/201504",{"$f":"+CONCATENATE(VLOOKUP(F16177,Cadastro!$Q$3:$R$162,2,FALSE),\"/\",S16177,\"/\",H16177)","v":"5/Rur/201504"},"Rur/201504","5177/201504","5177/1163/201504","5/201504","5/1163/201504","1163/201504",688039.8,0,-128645.23999999999,0,466786.15999999992,0,0,0,-10949.07,0]
[null,"05185","0936","201607",null,"05177","1381","201505",null,"Pes","5185/Pes/201607",{"$f":"IF(J16262=0,0,+CONCATENATE(VLOOKUP(B16262,Cadastro!$Q$3:$R$162,2,FALSE),\"/\",J16262,\"/\",D16262))","v":"47/Pes/201607"},"Pes/201607","5185/201607","5185/0936/201607","47/201607","47/0936/201607","0936/201607","Pes","5177/Pes/201505",{"$f":"+CONCATENATE(VLOOKUP(F16262,Cadastro!$Q$3:$R$162,2,FALSE),\"/\",S16262,\"/\",H16262)","v":"5/Pes/201505"},{"$f":"+CONCATENATE(S16262,\"/\",H16262)","v":"Pes/201505"},"5177/201505","5177/1381/201505","5/201505","5/1381/201505","1381/201505",0,-266805.5,0,-270347.65000000002,0,-38684.17,0,287331.87000000005,0,-7963.95]
[null,"05185","0984","201604",null,"05177","1457","201502",null,"Pes","5185/Pes/201604",{"$f":"IF(J16343=0,0,+CONCATENATE(VLOOKUP(B16343,Cadastro!$Q$3:$R$162,2,FALSE),\"/\",J16343,\"/\",D16343))","v":"47/Pes/201604"},"Pes/201604","5185/201604","5185/0984/201604","47/201604","47/0984/201604","0984/201604","Mar","5177/Mar/201502",{"$f":"+CONCATENATE(VLOOKUP(F16343,Cadastro!$Q$3:$R$162,2,FALSE),\"/\",S16343,\"/\",H16343)","v":"5/Mar/201502"},"Mar/201502","5177/201502","5177/1457/201502","5/201502","5/1457/201502","1457/201502",69697.33,0,60766.69,0,44520.18,0,5335.5599999999995,0,12792.54,0]
[null,"05185","0987","201606",null,"05177","1535","201504",null,"Pes","5185/Pes/201606",{"$f":"IF(J16369=0,0,+CONCATENATE(VLOOKUP(B16369,Cadastro!$Q$3:$R$162,2,FALSE),\"/\",J16369,\"/\",D16369))","v":"47/Pes/201606"},"Pes/201606","5185/201606","5185/0987/201606","47/201606","47/0987/201606","0987/201606","Aero","5177/Aero/201504",{"$f":"+CONCATENATE(VLOOKUP(F16369,Cadastro!$Q$3:$R$162,2,FALSE),\"/\",S16369,\"/\",H16369)","v":"5/Aero/201504"},"Aero/201504","5177/201504","5177/1535/201504","5/201504","5/1535/201504","1535/201504",0,42651.73,0,45758.97,0,204514.08,0,68049.349999999977,0,9282.08]
[null,"05185","1061","201612",null,"05185","0115","201510",null,"Hab","5185/Hab/201612",{"$f":"IF(J16447=0,0,+CONCATENATE(VLOOKUP(B16447,Cadastro!$Q$3:$R$162,2,FALSE),\"/\",J16447,\"/\",D16447))","v":"47/Hab/201612"},"Hab/201612","5185/201612","5185/1061/201612","47/201612","47/1061/201612","1061/201612","Pat","5185/Pat/201510",{"$f":"+CONCATENATE(VLOOKUP(F16447,Cadastro!$Q$3:$R$162,2,FALSE),\"/\",S16447,\"/\",H16447)","v":"47/Pat/201510"},"Pat/201510","5185/201510","5185/0115/201510","47/201510","47/0115/201510","0115/201510",0,0,0,0,0,0,0,0,0,0]
[null,"05185","1104","201609",null,"05185","0195","201507",null,"Rur","5185/Rur/201609",{"$f":"IF(J16528=0,0,+CONCATENATE(VLOOKUP(B16528,Cadastro!$Q$3:$R$162,2,FALSE),\"/\",J16528,\"/\",D16528))","v":"47/Rur/201609"},"Rur/201609","5185/201609","5185/1104/201609","47/201609","47/1104/201609","1104/201609","Pat","5185/Pat/201507",{"$f":"+CONCATENATE(VLOOKUP(F16528,Cadastro!$Q$3:$R$162,2,FALSE),\"/\",S16528,\"/\",H16528)","v":"47/Pat/201507"},"Pat/201507","5185/201507","5185/0195/201507","47/201507","47/0195/201507","0195/201507",0,0,0,0,0,0,0,0,0,0]
[null,"05185","1106","201605",null,"05185","0234","201503",null,"Rur","5185/Rur/201605",{"$f":"IF(J16548=0,0,+CONCATENATE(VLOOKUP(B16548,Cadastro!$Q$3:$R$162,2,FALSE),\"/\",J16548,\"/\",D16548))","v":"47/Rur/201605"},"Rur/201605","5185/201605","5185/1106/201605","47/201605","47/1106/201605","1106/201605","RE","5185/RE/201503",{"$f":"+CONCATENATE(VLOOKUP(F16548,Cadastro!$Q$3:$R$162,2,FALSE),\"/\",S16548,\"/\",H16548)","v":"47/RE/201503"},"RE/201503","5185/201503","5185/0234/201503","47/201503","47/0234/201503","0234/201503",0,0,0,-49543.1,0,4031.8199999999997,0,0,0,0]
[null,"05185","1164","201605",null,"05185","0433","201503",null,"Rur","5185/Rur/201605",{"$f":"IF(J16632=0,0,+CONCATENATE(VLOOKUP(B16632,Cadastro!$Q$3:$R$162,2,FALSE),\"/\",J16632,\"/\",D16632))","v":"47/Rur/201605"},"Rur/201605","5185/201605","5185/1164/201605","47/201605","47/1164/201605","1164/201605","Mar","5185/Mar/201503",{"$f":"+CONCATENATE(VLOOKUP(F16632,Cadastro!$Q$3:$R$162,2,FALSE),\"/\",S16632,\"/\",H16632)","v":"47/Mar/201503"},"Mar/201503","5185/201503","5185/0433/201503","47/201503","47/0433/201503","0433/201503",0,0,0,0,0,0,0,0,0,0]
[null,"05185","1380","201602",null,"05185","0524","201512",null,"Pes","5185/Pes/201602",{"$f":"IF(J16713=0,0,+CONCATENATE(VLOOKUP(B16713,Cadastro!$Q$3:$R$162,2,FALSE),\"/\",J16713,\"/\",D16713))","v":"47/Pes/201602"},"Pes/201602","5185/201602","5185/1380/201602","47/201602","47/1380/201602","1380/201602","Aut","5185/Aut/201512",{"$f":"+CONCATENATE(VLOOKUP(F16713,Cadastro!$Q$3:$R$162,2,FALSE),\"/\",S16713,\"/\",H16713)","v":"47/Aut/201512"},"Aut/201512","5185/201512","5185/0524/201512","47/201512","47/0524/201512","0524/201512",0,0,0,0,0,0,0,0,0,0]
[null,"05185","1391","201603",null,"05185","0589","201501",null,"Pes","5185/Pes/201603",{"$f":"IF(J16798=0,0,+CONCATENATE(VLOOKUP(B16798,Cadastro!$Q$3:$R$162,2,FALSE),\"/\",J16798,\"/\",D16798))","v":"47/Pes/201603"},"Pes/201603","5185/201603","5185/1391/201603","47/201603","47/1391/201603","1391/201603","Dpvat","5185/Dpvat/201501",{"$f":"+CONCATENATE(VLOOKUP(F16798,Cadastro!$Q$3:$R$162,2,FALSE),\"/\",S16798,\"/\",H16798)","v":"47/Dpvat/201501"},"Dpvat/201501","5185/201501","5185/0589/201501","47/201501","47/0589/201501","0589/201501",0,0,0,0,0,0,0,-108.12,0,0]
[null,"05185","1392","201607",null,"05185","0621","201505",null,"VGBL","5185/VGBL/201607",{"$f":"IF(J16814=0,0,+CONCATENATE(VLOOKUP(B16814,Cadastro!$Q$3:$R$162,2,FALSE),\"/\",J16814,\"/\",D16814))","v":"47/VGBL/201607"},"VGBL/201607","5185/201607","5185/1392/201607","47/201607","47/1392/201607","1392/201607","Transp","5185/Transp/201505",{"$f":"+CONCATENATE(VLOOKUP(F16814,Cadastro!$Q$3:$R$162,2,FALSE),\"/\",S16814,\"/\",H16814)","v":"47/Transp/201505"},"Transp/201505","5185/201505","5185/0621/201505","47/201505","47/0621/201505","0621/201505",0,927079.66,0,908519.63,0,874431.76,0,1258210.94,0,219387.59]
[null,"05185","1537","201604",null,"05185","0644","201502",null,"Aero","5185/Aero/201604",{"$f":"IF(J16895=0,0,+CONCATENATE(VLOOKUP(B16895,Cadastro!$Q$3:$R$162,2,FALSE),\"/\",J16895,\"/\",D16895))","v":"47/Aero/201604"},"Aero/201604","5185/201604","5185/1537/201604","47/201604","47/1537/201604","1537/201604","Transp","5185/Transp/201502",{"$f":"+CONCATENATE(VLOOKUP(F16895,Cadastro!$Q$3:$R$162,2,FALSE),\"/\",S16895,\"/\",H16895)","v":"47/Transp/201502"},"Transp/201502","5185/201502","5185/0644/201502","47/201502","47/0644/201502","0644/201502",0,0,0,0,0,0,0,0,0,0]
[null,"05193","0141","201608",null,"05185","0740","201506",null,"Pat","5193/Pat/201608",{"$f":"IF(J16983=0,0,+CONCATENATE(VLOOKUP(B16983,Cadastro!$Q$3:$R$162,2,FALSE),\"/\",J16983,\"/\",D16983))","v":"59/Pat/201608"},"Pat/201608","5193/201608","5193/0141/201608","59/201608","59/0141/201608","0141/201608","RF","5185/RF/201506",{"$f":"+CONCATENATE(VLOOKUP(F16983,Cadastro!$Q$3:$R$162,2,FALSE),\"/\",S16983,\"/\",H16983)","v":"47/RF/201506"},"RF/201506","5185/201506","5185/0740/201506","47/201506","47/0740/201506","0740/201506",0,0,0,0,0,0,0,0,0,0]
[null,"05193","0167","201612",null,"05185","0743","201510",null,"Pat","5193/Pat/201612",{"$f":"IF(J16999=0,0,+CONCATENATE(VLOOKUP(B16999,Cadastro!$Q$3:$R$162,2,FALSE),\"/\",J16999,\"/\",D16999))","v":"59/Pat/201612"},"Pat/201612","5193/201612","5193/0167/201612","59/201612","59/0167/201612","0167/201612","RF","5185/RF/201510",{"$f":"+CONCATENATE(VLOOKUP(F16999,Cadastro!$Q$3:$R$162,2,FALSE),\"/\",S16999,\"/\",H16999)","v":"47/RF/201510"},"RF/201510","5185/201510","5185/0743/201510","47/201510","47/0743/201510","0743/201510",0,0,0,0,0,0,0,0,0,0]
[null,"05193","0435","201601",null,"05185","0775","201511",null,"Aero","5193/Aero/201601",{"$f":"IF(J17084=0,0,+CONCATENATE(VLOOKUP(B17084,Cadastro!$Q$3:$R$162,2,FALSE),\"/\",J17084,\"/\",D17084))","v":"59/Aero/201601"},"Aero/201601","5193/201601","5193/0435/201601","59/201601","59/0435/201601","0435/201601","RF","5185/RF/201511",{"$f":"+CONCATENATE(VLOOKUP(F17084,Cadastro!$Q$3:$R$162,2,FALSE),\"/\",S17084,\"/\",H17084)","v":"47/RF/201511"},"RF/201511","5185/201511","5185/0775/201511","47/201511","47/0775/201511","0775/201511",0,258176.31,0,-399258.26999999996,0,521325.80999999994,0,0,0,130519.65]
[null,"05193","0588","201607",null,"05185","0936","201508",null,"Dpvat","5193/Dpvat/201607",{"$f":"IF(J17165=0,0,+CONCATENATE(VLOOKUP(B17165,Cadastro!$Q$3:$R$162,2,FALSE),\"/\",J17165,\"/\",D17165))","v":"59/Dpvat/201607"},"Dpvat/201607","5193/201607","5193/0588/201607","59/201607","59/0588/201607","0588/201607","Pes","5185/Pes/201508",{"$f":"+CONCATENATE(VLOOKUP(F17165,Cadastro!$Q$3:$R$162,2,FALSE),\"/\",S17165,\"/\",H17165)","v":"47/Pes/201508"},"Pes/201508","5185/201508","5185/0936/201508","47/201508","47/0936/201508","0936/201508",2546057.31,0,2546057.31,0,2563167.2000000002,0,2166972.39,0,35649.35,0]
[null,"05193","0654","201602",null,"05185","0981","201503",null,"Transp","5193/Transp/201602",{"$f":"IF(J17208=0,0,+CONCATENATE(VLOOKUP(B17208,Cadastro!$Q$3:$R$162,2,FALSE),\"/\",J17208,\"/\",D17208))","v":"59/Transp/201602"},"Transp/201602","5193/201602","5193/0654/201602","59/201602","59/0654/201602","0654/201602","Pes","5185/Pes/201503",{"$f":"+CONCATENATE(VLOOKUP(F17208,Cadastro!$Q$3:$R$162,2,FALSE),\"/\",S17208,\"/\",H17208)","v":"47/Pes/201503"},"Pes/201503","5185/201503","5185/0981/201503","47/201503","47/0981/201503","0981/201503",0,0,0,0,0,0,0,0,0,0]
[null,"05193","0819","201603",null,"05185","0987","201504",null,"RF","5193/RF/201603",{"$f":"IF(J17269=0,0,+CONCATENATE(VLOOKUP(B17269,Cadastro!$Q$3:$R$162,2,FALSE),\"/\",J17269,\"/\",D17269))","v":"59/RF/201603"},"RF/201603","5193/201603","5193/0819/201603","59/201603","59/0819/201603","0819/201603","Pes","5185/Pes/201504",{"$f":"+CONCATENATE(VLOOKUP(F17269,Cadastro!$Q$3:$R$162,2,FALSE),\"/\",S17269,\"/\",H17269)","v":"47/Pes/201504"},"Pes/201504","5185/201504","5185/0987/201504","47/201504","47/0987/201504","0987/201504",0,0,0,0,0,0,0,0,0,0]
[null,"05193","0981","201612",null,"05185","1065","201501",null,"Pes","5193/Pes/201612",{"$f":"IF(J17350=0,0,+CONCATENATE(VLOOKUP(B17350,Cadastro!$Q$3:$R$162,2,FALSE),\"/\",J17350,\"/\",D17350))","v":"59/Pes/201612"},"Pes/201612","5193/201612","5193/0981/201612","59/201612","59/0981/201612","0981/201612","Hab","5185/Hab/201501",{"$f":"+CONCATENATE(VLOOKUP(F17350,Cadastro!$Q$3:$R$162,2,FALSE),\"/\",S17350,\"/\",H17350)","v":"47/Hab/201501"},{"$f":"+CONCATENATE(S17350,\"/\",H17350)","v":"Hab/201501"},"5185/201501","5185/1065/201501","47/201501","47/1065/201501","1065/201501",0,0,0,0,0,0,0,0,0,0]
[null,"05193","1101","201601",null,"05185","1105","201502",null,"Rur","5193/Rur/201601",{"$f":"IF(J17435=0,0,+CONCATENATE(VLOOKUP(B17435,Cadastro!$Q$3:$R$162,2,FALSE),\"/\",J17435,\"/\",D17435))","v":"59/Rur/201601"},"Rur/201601","5193/201601","5193/1101/201601","59/201601","59/1101/201601","1101/201601","Rur","5185/Rur/201502",{"$f":"+CONCATENATE(VLOOKUP(F17435,Cadastro!$Q$3:$R$162,2,FALSE),\"/\",S17435,\"/\",H17435)","v":"47/Rur/201502"},"Rur/201502","5185/201502","5185/1105/201502","47/201502","47/1105/201502","1105/201502",0,0,0,0,0,0,0,0,0,0]
[null,"05193","1163","201601",null,"05185","1108","201502",null,"Rur","5193/Rur/201601",{"$f":"IF(J17471=0,0,+CONCATENATE(VLOOKUP(B17471,Cadastro!$Q$3:$R$162,2,FALSE),\"/\",J17471,\"/\",D17471))","v":"59/Rur/201601"},"Rur/201601","5193/201601","5193/1163/201601","59/201601","59/1163/201601","1163/201601","Rur","5185/Rur/201502",{"$f":"+CONCATENATE(VLOOKUP(F17471,Cadastro!$Q$3:$R$162,2,FALSE),\"/\",S17471,\"/\",H17471)","v":"47/Rur/201502"},"Rur/201502","5185/201502","5185/1108/201502","47/201502","47/1108/201502","1108/201502",0,0,0,0,0,0,0,0,0,0]
[null,"05231","0588","201605",null,"05185","1164","201506",null,"Dpvat","5231/Dpvat/201605",{"$f":"IF(J17535=0,0,+CONCATENATE(VLOOKUP(B17535,Cadastro!$Q$3:$R$162,2,FALSE),\"/\",J17535,\"/\",D17535))","v":"18/Dpvat/201605"},"Dpvat/201605","5231/201605","5231/0588/201605","18/201605","18/0588/201605","0588/201605","Rur","5185/Rur/201506",{"$f":"+CONCATENATE(VLOOKUP(F17535,Cadastro!$Q$3:$R$162,2,FALSE),\"/\",S17535,\"/\",H17535)","v":"47/Rur/201506"},"Rur/201506","5185/201506","5185/1164/201506","47/201506","47/1164/201506","1164/201506",0,0,0,0,0,0,0,0,0,0]
[null,"05274","0167","201608",null,"05185","1380","201507",null,"Pat","5274/Pat/201608",{"$f":"IF(J17620=0,0,+CONCATENATE(VLOOKUP(B17620,Cadastro!$Q$3:$R$162,2,FALSE),\"/\",J17620,\"/\",D17620))","v":"14/Pat/201608"},"Pat/201608","5274/201608","5274/0167/201608","14/201608","14/0167/201608","0167/201608","Pes","5185/Pes/201507",{"$f":"+CONCATENATE(VLOOKUP(F17620,Cadastro!$Q$3:$R$162,2,FALSE),\"/\",S17620,\"/\",H17620)","v":"47/Pes/201507"},"Pes/201507","5185/201507","5185/1380/201507","47/201507","47/1380/201507","1380/201507",0,0,0,0,0,0,0,0,0,0]
[null,"05274","0435","201605",null,"05185","1391","201504",null,"Aero","5274/Aero/201605",{"$f":"IF(J17701=0,0,+CONCATENATE(VLOOKUP(B17701,Cadastro!$Q$3:$R$162,2,FALSE),\"/\",J17701,\"/\",D17701))","v":"14/Aero/201605"},"Aero/201605","5274/201605","5274/0435/201605","14/201605","14/0435/201605","0435/201605","Pes","5185/Pes/201504",{"$f":"+CONCATENATE(VLOOKUP(F17701,Cadastro!$Q$3:$R$162,2,FALSE),\"/\",S17701,\"/\",H17701)","v":"47/Pes/201504"},"Pes/201504","5185/201504","5185/1391/201504","47/201504","47/1391/201504","1391/201504",0,0,0,0,0,0,0,0,0,0]
[null,"05274","0524","201602",null,"05185","1428","201501",null,"Aut","5274/Aut/201602",{"$f":"IF(J17734=0,0,+CONCATENATE(VLOOKUP(B17734,Cadastro!$Q$3:$R$162,2,FALSE),\"/\",J17734,\"/\",D17734))","v":"14/Aut/201602"},"Aut/201602","5274/201602","5274/0524/201602","14/201602","14/0524/201602","0524/201602","Mar","5185/Mar/201501",{"$f":"+CONCATENATE(VLOOKUP(F17734,Cadastro!$Q$3:$R$162,2,FALSE),\"/\",S17734,\"/\",H17734)","v":"47/Mar/201501"},{"$f":"+CONCATENATE(S17734,\"/\",H17734)","v":"Mar/201501"},"5185/201501","5185/1428/201501","47/201501","47/1428/201501","1428/201501",0,0,0,0,0,0,0,0,0,0]
[null,"05274","0621","201601",null,"05185","1537","201512",null,"Transp","5274/Transp/201601",{"$f":"IF(J17805=0,0,+CONCATENATE(VLOOKUP(B17805,Cadastro!$Q$3:$R$162,2,FALSE),\"/\",J17805,\"/\",D17805))","v":"14/Transp/201601"},"Transp/201601","5274/201601","5274/0621/201601","14/201601","14/0621/201601","0621/201601","Aero","5185/Aero/201512",{"$f":"+CONCATENATE(VLOOKUP(F17805,Cadastro!$Q$3:$R$162,2,FALSE),\"/\",S17805,\"/\",H17805)","v":"47/Aero/201512"},"Aero/201512","5185/201512","5185/1537/201512","47/201512","47/1537/201512","1537/201512",0,0,0,0,0,0,0,0,0,0]
[null,"05274","0746","201610",null,"05193","0141","201509",null,"RF","5274/RF/201610",{"$f":"IF(J17886=0,0,+CONCATENATE(VLOOKUP(B17886,Cadastro!$Q$3:$R$162,2,FALSE),\"/\",J17886,\"/\",D17886))","v":"14/RF/201610"},"RF/201610","5274/201610","5274/0746/201610","14/201610","14/0746/201610","0746/201610","Pat","5193/Pat/201509",{"$f":"+CONCATENATE(VLOOKUP(F17886,Cadastro!$Q$3:$R$162,2,FALSE),\"/\",S17886,\"/\",H17886)","v":"59/Pat/201509"},"Pat/201509","5193/201509","5193/0141/201509","59/201509","59/0141/201509","0141/201509",0,0,0,0,0,0,0,0,0,0]
[null,"05274","0860","201606",null,"05193","0171","201505",null,"RF","5274/RF/201606",{"$f":"IF(J17906=0,0,+CONCATENATE(VLOOKUP(B17906,Cadastro!$Q$3:$R$162,2,FALSE),\"/\",J17906,\"/\",D17906))","v":"14/RF/201606"},"RF/201606","5274/201606","5274/0860/201606","14/201606","14/0860/201606","0860/201606","Pat","5193/Pat/201505",{"$f":"+CONCATENATE(VLOOKUP(F17906,Cadastro!$Q$3:$R$162,2,FALSE),\"/\",S17906,\"/\",H17906)","v":"59/Pat/201505"},"Pat/201505","5193/201505","5193/0171/201505","59/201505","59/0171/201505","0171/201505",0,0,0,0,0,0,0,0,0,0]
[null,"05274","0991","201601",null,"05193","0435","201512",null,"Pes","5274/Pes/201601",{"$f":"IF(J17997=0,0,+CONCATENATE(VLOOKUP(B17997,Cadastro!$Q$3:$R$162,2,FALSE),\"/\",J17997,\"/\",D17997))","v":"14/Pes/201601"},"Pes/201601","5274/201601","5274/0991/201601","14/201601","14/0991/201601","0991/201601","Aero","5193/Aero/201512",{"$f":"+CONCATENATE(VLOOKUP(F17997,Cadastro!$Q$3:$R$162,2,FALSE),\"/\",S17997,\"/\",H17997)","v":"59/Aero/201512"},"Aero/201512","5193/201512","5193/0435/201512","59/201512","59/0435/201512","0435/201512",0,0,0,0,0,0,0,0,0,0]
[null,"05274","1068","201603",null,"05193","0589","201502",null,"Hab","5274/Hab/201603",{"$f":"IF(J18071=0,0,+CONCATENATE(VLOOKUP(B18071,Cadastro!$Q$3:$R$162,2,FALSE),\"/\",J18071,\"/\",D18071))","v":"14/Hab/201603"},"Hab/201603","5274/201603","5274/1068/201603","14/201603","14/1068/201603","1068/201603","Dpvat","5193/Dpvat/201502",{"$f":"+CONCATENATE(VLOOKUP(F18071,Cadastro!$Q$3:$R$162,2,FALSE),\"/\",S18071,\"/\",H18071)","v":"59/Dpvat/201502"},"Dpvat/201502","5193/201502","5193/0589/201502","59/201502","59/0589/201502","0589/201502",0,0,0,0,0,0,0,0,0,0]
[null,"05274","1392","201604",null,"05193","0748","201503",null,"VGBL","5274/VGBL/201604",{"$f":"IF(J18156=0,0,+CONCATENATE(VLOOKUP(B18156,Cadastro!$Q$3:$R$162,2,FALSE),\"/\",J18156,\"/\",D18156))","v":"14/VGBL/201604"},"VGBL/201604","5274/201604","5274/1392/201604","14/201604","14/1392/201604","1392/201604","RF","5193/RF/201503",{"$f":"+CONCATENATE(VLOOKUP(F18156,Cadastro!$Q$3:$R$162,2,FALSE),\"/\",S18156,\"/\",H18156)","v":"59/RF/201503"},"RF/201503","5193/201503","5193/0748/201503","59/201503","59/0748/201503","0748/201503",1338739,55473.1,1338739,55473.1,0,55473.1,0,0,2784.37,0]
[null,"05274","1433","201608",null,"05193","0819","201507",null,"Mar","5274/Mar/201608",{"$f":"IF(J18172=0,0,+CONCATENATE(VLOOKUP(B18172,Cadastro!$Q$3:$R$162,2,FALSE),\"/\",J18172,\"/\",D18172))","v":"14/Mar/201608"},"Mar/201608","5274/201608","5274/1433/201608","14/201608","14/1433/201608","1433/201608","RF","5193/RF/201507",{"$f":"+CONCATENATE(VLOOKUP(F18172,Cadastro!$Q$3:$R$162,2,FALSE),\"/\",S18172,\"/\",H18172)","v":"59/RF/201507"},"RF/201507","5193/201507","5193/0819/201507","59/201507","59/0819/201507","0819/201507",0,0,0,0,0,0,0,0,0,0]
[null,"05282","0167","201604",null,"05193","0982","201511",null,"Pat","5282/Pat/201604",{"$f":"IF(J18260=0,0,+CONCATENATE(VLOOKUP(B18260,Cadastro!$Q$3:$R$162,2,FALSE),\"/\",J18260,\"/\",D18260))","v":"61/Pat/201604"},"Pat/201604","5282/201604","5282/0167/201604","61/201604","61/0167/201604","0167/201604","Pes","5193/Pes/201511",{"$f":"+CONCATENATE(VLOOKUP(F18260,Cadastro!$Q$3:$R$162,2,FALSE),\"/\",S18260,\"/\",H18260)","v":"59/Pes/201511"},"Pes/201511","5193/201511","5193/0982/201511","59/201511","59/0982/201511","0982/201511",0,2906009.18,0,2889735.27,0,2792652.76,0,927481.42999999993,0,467260.36]
[null,"05282","0378","201609",null,"05193","1101","201508",null,"Res","5282/Res/201609",{"$f":"IF(J18341=0,0,+CONCATENATE(VLOOKUP(B18341,Cadastro!$Q$3:$R$162,2,FALSE),\"/\",J18341,\"/\",D18341))","v":"61/Res/201609"},"Res/201609","5282/201609","5282/0378/201609","61/201609","61/0378/201609","0378/201609","Rur","5193/Rur/201508",{"$f":"+CONCATENATE(VLOOKUP(F18341,Cadastro!$Q$3:$R$162,2,FALSE),\"/\",S18341,\"/\",H18341)","v":"59/Rur/201508"},"Rur/201508","5193/201508","5193/1101/201508","59/201508","59/1101/201508","1101/201508",0,0,0,0,0,0,0,0,0,0]
[null,"05282","0435","201601",null,"05193","1107","201512",null,"Aero","5282/Aero/201601",{"$f":"IF(J18357=0,0,+CONCATENATE(VLOOKUP(B18357,Cadastro!$Q$3:$R$162,2,FALSE),\"/\",J18357,\"/\",D18357))","v":"61/Aero/201601"},"Aero/201601","5282/201601","5282/0435/201601","61/201601","61/0435/201601","0435/201601","Rur","5193/Rur/201512",{"$f":"+CONCATENATE(VLOOKUP(F18357,Cadastro!$Q$3:$R$162,2,FALSE),\"/\",S18357,\"/\",H18357)","v":"59/Rur/201512"},"Rur/201512","5193/201512","5193/1107/201512","59/201512","59/1107/201512","1107/201512",0,0,0,0,0,0,0,0,0,0]
[null,"05282","0628","201610",null,"05274","0111","201501",null,"Transp","5282/Transp/201610",{"$f":"IF(J18442=0,0,+CONCATENATE(VLOOKUP(B18442,Cadastro!$Q$3:$R$162,2,FALSE),\"/\",J18442,\"/\",D18442))","v":"61/Transp/201610"},"Transp/201610","5282/201610","5282/0628/201610","61/201610","61/0628/201610","0628/201610","Pat","5274/Pat/201501",{"$f":"+CONCATENATE(VLOOKUP(F18442,Cadastro!$Q$3:$R$162,2,FALSE),\"/\",S18442,\"/\",H18442)","v":"14/Pat/201501"},"Pat/201501","5274/201501","5274/0111/201501","14/201501","14/0111/201501","0111/201501",0,0,0,0,0,0,0,-9798.16,0,0]
[null,"05282","0776","201607",null,"05274","0167","201510",null,"RF","5282/RF/201607",{"$f":"IF(J18523=0,0,+CONCATENATE(VLOOKUP(B18523,Cadastro!$Q$3:$R$162,2,FALSE),\"/\",J18523,\"/\",D18523))","v":"61/RF/201607"},"RF/201607","5282/201607","5282/0776/201607","61/201607","61/0776/201607","0776/201607","Pat","5274/Pat/201510",{"$f":"+CONCATENATE(VLOOKUP(F18523,Cadastro!$Q$3:$R$162,2,FALSE),\"/\",S18523,\"/\",H18523)","v":"14/Pat/201510"},"Pat/201510","5274/201510","5274/0167/201510","14/201510","14/0167/201510","0167/201510",0,0,0,0,0,0,0,0,0,0]
[null,"05282","0991","201607",null,"05274","0435","201510",null,"Pes","5282/Pes/201607",{"$f":"IF(J18607=0,0,+CONCATENATE(VLOOKUP(B18607,Cadastro!$Q$3:$R$162,2,FALSE),\"/\",J18607,\"/\",D18607))","v":"61/Pes/201607"},"Pes/201607","5282/201607","5282/0991/201607","61/201607","61/0991/201607","0991/201607","Aero","5274/Aero/201510",{"$f":"+CONCATENATE(VLOOKUP(F18607,Cadastro!$Q$3:$R$162,2,FALSE),\"/\",S18607,\"/\",H18607)","v":"14/Aero/201510"},"Aero/201510","5274/201510","5274/0435/201510","14/201510","14/0435/201510","0435/201510",0,0,0,0,0,0,0,-544.21,0,0]
[null,"05282","0994","201603",null,"05274","0520","201506",null,"VGBL","5282/VGBL/201603",{"$f":"IF(J18627=0,0,+CONCATENATE(VLOOKUP(B18627,Cadastro!$Q$3:$R$162,2,FALSE),\"/\",J18627,\"/\",D18627))","v":"61/VGBL/201603"},"VGBL/201603","5282/201603","5282/0994/201603","61/201603","61/0994/201603","0994/201603","Aut","5274/Aut/201506",{"$f":"+CONCATENATE(VLOOKUP(F18627,Cadastro!$Q$3:$R$162,2,FALSE),\"/\",S18627,\"/\",H18627)","v":"14/Aut/201506"},"Aut/201506","5274/201506","5274/0520/201506","14/201506","14/0520/201506","0520/201506",0,103832.65,0,103832.65,0,157747.04,0,10948.29,0,31441.94]
[null,"05282","1384","201612",null,"05274","0621","201503",null,"Pes","5282/Pes/201612",{"$f":"IF(J18708=0,0,+CONCATENATE(VLOOKUP(B18708,Cadastro!$Q$3:$R$162,2,FALSE),\"/\",J18708,\"/\",D18708))","v":"61/Pes/201612"},"Pes/201612","5282/201612","5282/1384/201612","61/201612","61/1384/201612","1384/201612","Transp","5274/Transp/201503",{"$f":"+CONCATENATE(VLOOKUP(F18708,Cadastro!$Q$3:$R$162,2,FALSE),\"/\",S18708,\"/\",H18708)","v":"14/Transp/201503"},"Transp/201503","5274/201503","5274/0621/201503","14/201503","14/0621/201503","0621/201503",8982830.5500000007,0,8982830.5500000007,0,0,0,2911066.04,0,1006861.77,0]
[null,"05312","0112","201604",null,"05274","0746","201509",null,"Pat","5312/Pat/201604",{"$f":"IF(J18786=0,0,+CONCATENATE(VLOOKUP(B18786,Cadastro!$Q$3:$R$162,2,FALSE),\"/\",J18786,\"/\",D18786))","v":"20/Pat/201604"},"Pat/201604","5312/201604","5312/0112/201604","20/201604","20/0112/201604","0112/201604","RF","5274/RF/201509",{"$f":"+CONCATENATE(VLOOKUP(F18786,Cadastro!$Q$3:$R$162,2,FALSE),\"/\",S18786,\"/\",H18786)","v":"14/RF/201509"},"RF/201509","5274/201509","5274/0746/201509","14/201509","14/0746/201509","0746/201509",0,0,0,0,0,0,0,0,0,0]
[null,"05312","0115","201602",null,"05274","0860","201507",null,"Pat","5312/Pat/201602",{"$f":"IF(J18808=0,0,+CONCATENATE(VLOOKUP(B18808,Cadastro!$Q$3:$R$162,2,FALSE),\"/\",J18808,\"/\",D18808))","v":"20/Pat/201602"},"Pat/201602","5312/201602","5312/0115/201602","20/201602","20/0115/201602","0115/201602","RF","5274/RF/201507",{"$f":"+CONCATENATE(VLOOKUP(F18808,Cadastro!$Q$3:$R$162,2,FALSE),\"/\",S18808,\"/\",H18808)","v":"14/RF/201507"},"RF/201507","5274/201507","5274/0860/201507","14/201507","14/0860/201507","0860/201507",-2063.0700000000002,0,-2063.0700000000002,0,11527.17,0,21682.86,0,2398,0]
[null,"05312","0195","201603",null,"05274","0990","201508",null,"Pat","5312/Pat/201603",{"$f":"IF(J18893=0,0,+CONCATENATE(VLOOKUP(B18893,Cadastro!$Q$3:$R$162,2,FALSE),\"/\",J18893,\"/\",D18893))","v":"20/Pat/201603"},"Pat/201603","5312/201603","5312/0195/201603","20/201603","20/0195/201603","0195/201603","Pes","5274/Pes/201508",{"$f":"+CONCATENATE(VLOOKUP(F18893,Cadastro!$Q$3:$R$162,2,FALSE),\"/\",S18893,\"/\",H18893)","v":"14/Pes/201508"},"Pes/201508","5274/201508","5274/0990/201508","14/201508","14/0990/201508","0990/201508",2663446.11,0,2663446.11,0,3005602.06,0,1746435.72,7366.83,1472019.68,0]
[null,"05312","0378","201604",null,"05274","1068","201509",null,"Res","5312/Res/201604",{"$f":"IF(J18978=0,0,+CONCATENATE(VLOOKUP(B18978,Cadastro!$Q$3:$R$162,2,FALSE),\"/\",J18978,\"/\",D18978))","v":"20/Res/201604"},"Res/201604","5312/201604","5312/0378/201604","20/201604","20/0378/201604","0378/201604","Hab","5274/Hab/201509",{"$f":"+CONCATENATE(VLOOKUP(F18978,Cadastro!$Q$3:$R$162,2,FALSE),\"/\",S18978,\"/\",H18978)","v":"14/Hab/201509"},"Hab/201509","5274/201509","5274/1068/201509","14/201509","14/1068/201509","1068/201509",0,0,0,0,0,0,-30568.5,0,0,0]
[null,"05312","0523","201603",null,"05274","1390","201508",null,"Transp","5312/Transp/201603",{"$f":"IF(J19049=0,0,+CONCATENATE(VLOOKUP(B19049,Cadastro!$Q$3:$R$162,2,FALSE),\"/\",J19049,\"/\",D19049))","v":"20/Transp/201603"},"Transp/201603","5312/201603","5312/0523/201603","20/201603","20/0523/201603","0523/201603","Pes","5274/Pes/201508",{"$f":"+CONCATENATE(VLOOKUP(F19049,Cadastro!$Q$3:$R$162,2,FALSE),\"/\",S19049,\"/\",H19049)","v":"14/Pes/201508"},"Pes/201508","5274/201508","5274/1390/201508","14/201508","14/1390/201508","1390/201508",0,33824.99,0,33824.99,0,36572.57,0,4899.17,0,17906.400000000001]
[null,"05312","0525","201608",null,"05274","1528","201501",null,"Aut","5312/Aut/201608",{"$f":"IF(J19078=0,0,+CONCATENATE(VLOOKUP(B19078,Cadastro!$Q$3:$R$162,2,FALSE),\"/\",J19078,\"/\",D19078))","v":"20/Aut/201608"},"Aut/201608","5312/201608","5312/0525/201608","20/201608","20/0525/201608","0525/201608","Aero","5274/Aero/201501",{"$f":"+CONCATENATE(VLOOKUP(F19078,Cadastro!$Q$3:$R$162,2,FALSE),\"/\",S19078,\"/\",H19078)","v":"14/Aero/201501"},{"$f":"+CONCATENATE(S19078,\"/\",H19078)","v":"Aero/201501"},"5274/201501","5274/1528/201501","14/201501","14/1528/201501","1528/201501",1143.82,0,1143.82,0,2136.3200000000002,0,-85.02,0,-101563.48,0]
[null,"05312","0621","201609",null,"05282","0171","201502",null,"Transp","5312/Transp/201609",{"$f":"IF(J19163=0,0,+CONCATENATE(VLOOKUP(B19163,Cadastro!$Q$3:$R$162,2,FALSE),\"/\",J19163,\"/\",D19163))","v":"20/Transp/201609"},"Transp/201609","5312/201609","5312/0621/201609","20/201609","20/0621/201609","0621/201609","Pat","5282/Pat/201502",{"$f":"+CONCATENATE(VLOOKUP(F19163,Cadastro!$Q$3:$R$162,2,FALSE),\"/\",S19163,\"/\",H19163)","v":"61/Pat/201502"},"Pat/201502","5282/201502","5282/0171/201502","61/201502","61/0171/201502","0171/201502",3476356.68,0,3334028.25,0,3196427.86,0,4124003.9499999997,0,774847.52,0]
[null,"05312","0644","201606",null,"05282","0435","201511",null,"Transp","5312/Transp/201606",{"$f":"IF(J19244=0,0,+CONCATENATE(VLOOKUP(B19244,Cadastro!$Q$3:$R$162,2,FALSE),\"/\",J19244,\"/\",D19244))","v":"20/Transp/201606"},"Transp/201606","5312/201606","5312/0644/201606","20/201606","20/0644/201606","0644/201606","Aero","5282/Aero/201511",{"$f":"+CONCATENATE(VLOOKUP(F19244,Cadastro!$Q$3:$R$162,2,FALSE),\"/\",S19244,\"/\",H19244)","v":"61/Aero/201511"},"Aero/201511","5282/201511","5282/0435/201511","61/201511","61/0435/201511","0435/201511",0,0,0,0,0,0,0,0,0,0]
[null,"05312","0739","201602",null,"05282","0739","201507",null,"RF","5312/RF/201602",{"$f":"IF(J19312=0,0,+CONCATENATE(VLOOKUP(B19312,Cadastro!$Q$3:$R$162,2,FALSE),\"/\",J19312,\"/\",D19312))","v":"20/RF/201602"},"RF/201602","5312/201602","5312/0739/201602","20/201602","20/0739/201602","0739/201602","RF","5282/RF/201507",{"$f":"+CONCATENATE(VLOOKUP(F19312,Cadastro!$Q$3:$R$162,2,FALSE),\"/\",S19312,\"/\",H19312)","v":"61/RF/201507"},"RF/201507","5282/201507","5282/0739/201507","61/201507","61/0739/201507","0739/201507",0,0,0,0,0,0,0,0,0,0]
[null,"05312","0743","201610",null,"05282","0748","201503",null,"RF","5312/RF/201610",{"$f":"IF(J19344=0,0,+CONCATENATE(VLOOKUP(B19344,Cadastro!$Q$3:$R$162,2,FALSE),\"/\",J19344,\"/\",D19344))","v":"20/RF/201610"},"RF/201610","5312/201610","5312/0743/201610","20/201610","20/0743/201610","0743/201610","RF","5282/RF/201503",{"$f":"+CONCATENATE(VLOOKUP(F19344,Cadastro!$Q$3:$R$162,2,FALSE),\"/\",S19344,\"/\",H19344)","v":"61/RF/201503"},"RF/201503","5282/201503","5282/0748/201503","61/201503","61/0748/201503","0748/201503",0,0,0,0,0,0,0,0,0,0]
[null,"05312","0775","201611",null,"05282","0981","201504",null,"RF","5312/RF/201611",{"$f":"IF(J19429=0,0,+CONCATENATE(VLOOKUP(B19429,Cadastro!$Q$3:$R$162,2,FALSE),\"/\",J19429,\"/\",D19429))","v":"20/RF/201611"},"RF/201611","5312/201611","5312/0775/201611","20/201611","20/0775/201611","0775/201611","Pes","5282/Pes/201504",{"$f":"+CONCATENATE(VLOOKUP(F19429,Cadastro!$Q$3:$R$162,2,FALSE),\"/\",S19429,\"/\",H19429)","v":"61/Pes/201504"},"Pes/201504","5282/201504","5282/0981/201504","61/201504","61/0981/201504","0981/201504",0,0,0,0,0,0,0,0,0,0]
[null,"05312","0977","201612",null,"05282","1162","201505",null,"Pes","5312/Pes/201612",{"$f":"IF(J19514=0,0,+CONCATENATE(VLOOKUP(B19514,Cadastro!$Q$3:$R$162,2,FALSE),\"/\",J19514,\"/\",D19514))","v":"20/Pes/201612"},"Pes/201612","5312/201612","5312/0977/201612","20/201612","20/0977/201612","0977/201612","Rur","5282/Rur/201505",{"$f":"+CONCATENATE(VLOOKUP(F19514,Cadastro!$Q$3:$R$162,2,FALSE),\"/\",S19514,\"/\",H19514)","v":"61/Rur/201505"},"Rur/201505","5282/201505","5282/1162/201505","61/201505","61/1162/201505","1162/201505",0,0,0,0,0,0,0,0,0,0]
[null,"05312","0993","201601",null,"05282","1386","201506",null,"Pes","5312/Pes/201601",{"$f":"IF(J19575=0,0,+CONCATENATE(VLOOKUP(B19575,Cadastro!$Q$3:$R$162,2,FALSE),\"/\",J19575,\"/\",D19575))","v":"20/Pes/201601"},"Pes/201601","5312/201601","5312/0993/201601","20/201601","20/0993/201601","0993/201601","Pes","5282/Pes/201506",{"$f":"+CONCATENATE(VLOOKUP(F19575,Cadastro!$Q$3:$R$162,2,FALSE),\"/\",S19575,\"/\",H19575)","v":"61/Pes/201506"},"Pes/201506","5282/201506","5282/1386/201506","61/201506","61/1386/201506","1386/201506",0,1242820.27,0,1242820.27,0,0,0,0,0,118660]
[null,"05312","1066","201604",null,"05282","1417","201509",null,"Hab","5312/Hab/201604",{"$f":"IF(J19614=0,0,+CONCATENATE(VLOOKUP(B19614,Cadastro!$Q$3:$R$162,2,FALSE),\"/\",J19614,\"/\",D19614))","v":"20/Hab/201604"},"Hab/201604","5312/201604","5312/1066/201604","20/201604","20/1066/201604","1066/201604","Mar","5282/Mar/201509",{"$f":"+CONCATENATE(VLOOKUP(F19614,Cadastro!$Q$3:$R$162,2,FALSE),\"/\",S19614,\"/\",H19614)","v":"61/Mar/201509"},"Mar/201509","5282/201509","5282/1417/201509","61/201509","61/1417/201509","1417/201509",0,0,0,0,0,0,0,0,0,0]
[null,"05312","1106","201601",null,"05312","0118","201506",null,"Rur","5312/Rur/201601",{"$f":"IF(J19695=0,0,+CONCATENATE(VLOOKUP(B19695,Cadastro!$Q$3:$R$162,2,FALSE),\"/\",J19695,\"/\",D19695))","v":"20/Rur/201601"},"Rur/201601","5312/201601","5312/1106/201601","20/201601","20/1106/201601","1106/201601","Pat","5312/Pat/201506",{"$f":"+CONCATENATE(VLOOKUP(F19695,Cadastro!$Q$3:$R$162,2,FALSE),\"/\",S19695,\"/\",H19695)","v":"20/Pat/201506"},"Pat/201506","5312/201506","5312/0118/201506","20/201506","20/0118/201506","0118/201506",0,8300698.6200000001,0,7808022.8399999999,0,7317120.1200000001,0,-2086505.17,0,3738104.63]
[null,"05312","1107","201609",null,"05312","0167","201502",null,"Rur","5312/Rur/201609",{"$f":"IF(J19715=0,0,+CONCATENATE(VLOOKUP(B19715,Cadastro!$Q$3:$R$162,2,FALSE),\"/\",J19715,\"/\",D19715))","v":"20/Rur/201609"},"Rur/201609","5312/201609","5312/1107/201609","20/201609","20/1107/201609","1107/201609","Pat","5312/Pat/201502",{"$f":"+CONCATENATE(VLOOKUP(F19715,Cadastro!$Q$3:$R$162,2,FALSE),\"/\",S19715,\"/\",H19715)","v":"20/Pat/201502"},"Pat/201502","5312/201502","5312/0167/201502","20/201502","20/0167/201502","0167/201502",-944.96,296456.63,-4258.26,-188098.71000000002,2148.4700000000003,171500.08000000002,37.089999999999996,91682.799999999988,-0.31,83451.09]
[null,"05312","1417","201612",null,"05312","0378","201505",null,"Mar","5312/Mar/201612",{"$f":"IF(J19838=0,0,+CONCATENATE(VLOOKUP(B19838,Cadastro!$Q$3:$R$162,2,FALSE),\"/\",J19838,\"/\",D19838))","v":"20/Mar/201612"},"Mar/201612","5312/201612","5312/1417/201612","20/201612","20/1417/201612","1417/201612","Res","5312/Res/201505",{"$f":"+CONCATENATE(VLOOKUP(F19838,Cadastro!$Q$3:$R$162,2,FALSE),\"/\",S19838,\"/\",H19838)","v":"20/Res/201505"},"Res/201505","5312/201505","5312/0378/201505","20/201505","20/0378/201505","0378/201505",0,0,0,0,0,0,-56.789999999999992,0,0,0]
[null,"05312","1528","201606",null,"05312","0437","201511",null,"Aero","5312/Aero/201606",{"$f":"IF(J19880=0,0,+CONCATENATE(VLOOKUP(B19880,Cadastro!$Q$3:$R$162,2,FALSE),\"/\",J19880,\"/\",D19880))","v":"20/Aero/201606"},"Aero/201606","5312/201606","5312/1528/201606","20/201606","20/1528/201606","1528/201606","Aero","5312/Aero/201511",{"$f":"+CONCATENATE(VLOOKUP(F19880,Cadastro!$Q$3:$R$162,2,FALSE),\"/\",S19880,\"/\",H19880)","v":"20/Aero/201511"},"Aero/201511","5312/201511","5312/0437/201511","20/201511","20/0437/201511","0437/201511",1708990.48,0,923694.79,0,338624.68999999994,0,-76045.5,0,135881.20000000001,0]
[null,"05321","0114","201607",null,"05312","0542","201512",null,"Pat","5321/Pat/201607",{"$f":"IF(J19965=0,0,+CONCATENATE(VLOOKUP(B19965,Cadastro!$Q$3:$R$162,2,FALSE),\"/\",J19965,\"/\",D19965))","v":"46/Pat/201607"},"Pat/201607","5321/201607","5321/0114/201607","46/201607","46/0114/201607","0114/201607","Aut","5312/Aut/201512",{"$f":"+CONCATENATE(VLOOKUP(F19965,Cadastro!$Q$3:$R$162,2,FALSE),\"/\",S19965,\"/\",H19965)","v":"20/Aut/201512"},"Aut/201512","5312/201512","5312/0542/201512","20/201512","20/0542/201512","0542/201512",0,4700771.47,0,4700771.47,0,4390680.4800000004,0,1256367.57,0,628737.78]
[null,"05321","0116","201603",null,"05312","0553","201508",null,"Pat","5321/Pat/201603",{"$f":"IF(J19985=0,0,+CONCATENATE(VLOOKUP(B19985,Cadastro!$Q$3:$R$162,2,FALSE),\"/\",J19985,\"/\",D19985))","v":"46/Pat/201603"},"Pat/201603","5321/201603","5321/0116/201603","46/201603","46/0116/201603","0116/201603","Aut","5312/Aut/201508",{"$f":"+CONCATENATE(VLOOKUP(F19985,Cadastro!$Q$3:$R$162,2,FALSE),\"/\",S19985,\"/\",H19985)","v":"20/Aut/201508"},"Aut/201508","5312/201508","5312/0553/201508","20/201508","20/0553/201508","0553/201508",0,77023014.409999996,0,77023014.409999996,0,81948047.390000001,8959.32,69491256.060000002,0,11967637.17]
[null,"05321","0272","201611",null,"05312","0644","201504",null,{"$f":"IF(C20101=0,0,+VLOOKUP(C20101,$AQ$4:$AR$130,2,FALSE))","v":"RE"},{"$f":"IF(J20101=0,0,+CONCATENATE(VALUE(B20101),\"/\",J20101,\"/\",D20101))","v":"5321/RE/201611"},{"$f":"IF(J20101=0,0,+CONCATENATE(VLOOKUP(B20101,Cadastro!$Q$3:$R$162,2,FALSE),\"/\",J20101,\"/\",D20101))","v":"46/RE/201611"},{"$f":"IF(J20101=0,0,+CONCATENATE(J20101,\"/\",D20101))","v":"RE/201611"},"5321/201611","5321/0272/201611","46/201611","46/0272/201611","0272/201611",{"$f":"+VLOOKUP(G20101,$AQ$4:$AR$130,2,FALSE)","v":"Transp"},{"$f":"+CONCATENATE(VALUE(F20101),\"/\",S20101,\"/\",H20101)","v":"5312/Transp/201504"},{"$f":"+CONCATENATE(VLOOKUP(F20101,Cadastro!$Q$3:$R$162,2,FALSE),\"/\",S20101,\"/\",H20101)","v":"20/Transp/201504"},"Transp/201504","5312/201504","5312/0644/201504","20/201504","20/0644/201504","0644/201504",0,0,0,0,0,0,0,0,0,0]
[null,"05321","0351","201612",null,"05312","0656","201505",null,"Res","5321/Res/201612",{"$f":"IF(J20150=0,0,+CONCATENATE(VLOOKUP(B20150,Cadastro!$Q$3:$R$162,2,FALSE),\"/\",J20150,\"/\",D20150))","v":"46/Res/201612"},"Res/201612","5321/201612","5321/0351/201612","46/201612","46/0351/201612","0351/201612","Transp","5312/Transp/201505",{"$f":"+CONCATENATE(VLOOKUP(F20150,Cadastro!$Q$3:$R$162,2,FALSE),\"/\",S20150,\"/\",H20150)","v":"20/Transp/201505"},"Transp/201505","5312/201505","5312/0656/201505","20/201505","20/0656/201505","0656/201505",393769.97,185541.68,393759.02999999997,169289.9,551897.29,170022.18,-191065.81,1679743.3900000001,105126.04,12921.22]
[null,"05321","0523","201609",null,"05312","0747","201502",null,"Transp","5321/Transp/201609",{"$f":"IF(J20231=0,0,+CONCATENATE(VLOOKUP(B20231,Cadastro!$Q$3:$R$162,2,FALSE),\"/\",J20231,\"/\",D20231))","v":"46/Transp/201609"},"Transp/201609","5321/201609","5321/0523/201609","46/201609","46/0523/201609","0523/201609","RF","5312/RF/201502",{"$f":"+CONCATENATE(VLOOKUP(F20231,Cadastro!$Q$3:$R$162,2,FALSE),\"/\",S20231,\"/\",H20231)","v":"20/RF/201502"},"RF/201502","5312/201502","5312/0747/201502","20/201502","20/0747/201502","0747/201502",0,0,0,0,0,0,0,0,0,0]
[null,"05321","0525","201605",null,"05312","0748","201510",null,"Aut","5321/Aut/201605",{"$f":"IF(J20251=0,0,+CONCATENATE(VLOOKUP(B20251,Cadastro!$Q$3:$R$162,2,FALSE),\"/\",J20251,\"/\",D20251))","v":"46/Aut/201605"},"Aut/201605","5321/201605","5321/0525/201605","46/201605","46/0525/201605","0525/201605","RF","5312/RF/201510",{"$f":"+CONCATENATE(VLOOKUP(F20251,Cadastro!$Q$3:$R$162,2,FALSE),\"/\",S20251,\"/\",H20251)","v":"20/RF/201510"},"RF/201510","5312/201510","5312/0748/201510","20/201510","20/0748/201510","0748/201510",0,5472160.2699999996,0,5471178.8599999994,0,5300572.7,0,9329073.5999999996,0,595.72]
[null,"05321","0553","201606",null,"05312","0776","201511",null,"Aut","5321/Aut/201606",{"$f":"IF(J20300=0,0,+CONCATENATE(VLOOKUP(B20300,Cadastro!$Q$3:$R$162,2,FALSE),\"/\",J20300,\"/\",D20300))","v":"46/Aut/201606"},"Aut/201606","5321/201606","5321/0553/201606","46/201606","46/0553/201606","0553/201606","RF","5312/RF/201511",{"$f":"+CONCATENATE(VLOOKUP(F20300,Cadastro!$Q$3:$R$162,2,FALSE),\"/\",S20300,\"/\",H20300)","v":"20/RF/201511"},"RF/201511","5312/201511","5312/0776/201511","20/201511","20/0776/201511","0776/201511",0,0,0,0,0,0,-49213.5,0,0,0]
[null,"05321","0644","201602",null,"05312","0990","201507",null,"Transp","5321/Transp/201602",{"$f":"IF(J20416=0,0,+CONCATENATE(VLOOKUP(B20416,Cadastro!$Q$3:$R$162,2,FALSE),\"/\",J20416,\"/\",D20416))","v":"46/Transp/201602"},"Transp/201602","5321/201602","5321/0644/201602","46/201602","46/0644/201602","0644/201602","Pes","5312/Pes/201507",{"$f":"+CONCATENATE(VLOOKUP(F20416,Cadastro!$Q$3:$R$162,2,FALSE),\"/\",S20416,\"/\",H20416)","v":"20/Pes/201507"},"Pes/201507","5312/201507","5312/0990/201507","20/201507","20/0990/201507","0990/201507",0,0,0,0,0,0,0,0,0,0]
[null,"05321","0652","201610",null,"05312","0993","201503",null,"Transp","5321/Transp/201610",{"$f":"IF(J20436=0,0,+CONCATENATE(VLOOKUP(B20436,Cadastro!$Q$3:$R$162,2,FALSE),\"/\",J20436,\"/\",D20436))","v":"46/Transp/201610"},"Transp/201610","5321/201610","5321/0652/201610","46/201610","46/0652/201610","0652/201610","Pes","5312/Pes/201503",{"$f":"+CONCATENATE(VLOOKUP(F20436,Cadastro!$Q$3:$R$162,2,FALSE),\"/\",S20436,\"/\",H20436)","v":"20/Pes/201503"},"Pes/201503","5312/201503","5312/0993/201503","20/201503","20/0993/201503","0993/201503",0,0,0,0,0,0,0,0,0,0]
[null,"05321","0743","201611",null,"05312","1103","201504",null,"RF","5321/RF/201611",{"$f":"IF(J20521=0,0,+CONCATENATE(VLOOKUP(B20521,Cadastro!$Q$3:$R$162,2,FALSE),\"/\",J20521,\"/\",D20521))","v":"46/RF/201611"},"RF/201611","5321/201611","5321/0743/201611","46/201611","46/0743/201611","0743/201611","Rur","5312/Rur/201504",{"$f":"+CONCATENATE(VLOOKUP(F20521,Cadastro!$Q$3:$R$162,2,FALSE),\"/\",S20521,\"/\",H20521)","v":"20/Rur/201504"},"Rur/201504","5312/201504","5312/1103/201504","20/201504","20/1103/201504","1103/201504",0,0,0,0,0,0,0,0,0,0]
[null,"05321","0748","201605",null,"05312","1106","201510",null,"RF","5321/RF/201605",{"$f":"IF(J20563=0,0,+CONCATENATE(VLOOKUP(B20563,Cadastro!$Q$3:$R$162,2,FALSE),\"/\",J20563,\"/\",D20563))","v":"46/RF/201605"},"RF/201605","5321/201605","5321/0748/201605","46/201605","46/0748/201605","0748/201605","Rur","5312/Rur/201510",{"$f":"+CONCATENATE(VLOOKUP(F20563,Cadastro!$Q$3:$R$162,2,FALSE),\"/\",S20563,\"/\",H20563)","v":"20/Rur/201510"},"Rur/201510","5312/201510","5312/1106/201510","20/201510","20/1106/201510","1106/201510",5373880.7999999998,0,5373880.7999999998,0,5227736.7300000004,0,14016118.66,0,66505.33,0]
[null,"05321","0819","201603",null,"05312","1162","201508",null,"RF","5321/RF/201603",{"$f":"IF(J20621=0,0,+CONCATENATE(VLOOKUP(B20621,Cadastro!$Q$3:$R$162,2,FALSE),\"/\",J20621,\"/\",D20621))","v":"46/RF/201603"},"RF/201603","5321/201603","5321/0819/201603","46/201603","46/0819/201603","0819/201603","Rur","5312/Rur/201508",{"$f":"+CONCATENATE(VLOOKUP(F20621,Cadastro!$Q$3:$R$162,2,FALSE),\"/\",S20621,\"/\",H20621)","v":"20/Rur/201508"},"Rur/201508","5312/201508","5312/1162/201508","20/201508","20/1162/201508","1162/201508",0,5887620.5800000001,0,5365838.3499999996,0,5220618.5,0,2899991.8000000003,0,1600481.9]
[null,"05321","0969","201612",null,"05312","1428","201505",null,"Pes","5321/Pes/201612",{"$f":"IF(J20702=0,0,+CONCATENATE(VLOOKUP(B20702,Cadastro!$Q$3:$R$162,2,FALSE),\"/\",J20702,\"/\",D20702))","v":"46/Pes/201612"},"Pes/201612","5321/201612","5321/0969/201612","46/201612","46/0969/201612","0969/201612","Mar","5312/Mar/201505",{"$f":"+CONCATENATE(VLOOKUP(F20702,Cadastro!$Q$3:$R$162,2,FALSE),\"/\",S20702,\"/\",H20702)","v":"20/Mar/201505"},"Mar/201505","5312/201505","5312/1428/201505","20/201505","20/1428/201505","1428/201505",-2741.05,77253.69,-2741.05,13658.279999999999,0,68272.44,-528551.11,-174.49,4.09,14000.29]
[null,"05321","0987","201601",null,"05312","1602","201506",null,"Pes","5321/Pes/201601",{"$f":"IF(J20787=0,0,+CONCATENATE(VLOOKUP(B20787,Cadastro!$Q$3:$R$162,2,FALSE),\"/\",J20787,\"/\",D20787))","v":"46/Pes/201601"},"Pes/201601","5321/201601","5321/0987/201601","46/201601","46/0987/201601","0987/201601","Mger","5312/Mger/201506",{"$f":"+CONCATENATE(VLOOKUP(F20787,Cadastro!$Q$3:$R$162,2,FALSE),\"/\",S20787,\"/\",H20787)","v":"20/Mger/201506"},"Mger/201506","5312/201506","5312/1602/201506","20/201506","20/1602/201506","1602/201506",0,1225.47,0,1225.47,38.659999999999997,1115.6400000000001,0,0,6.92,5.17]
[null,"05321","0992","201604",null,"05321","0114","201509",null,"VGBL","5321/VGBL/201604",{"$f":"IF(J20826=0,0,+CONCATENATE(VLOOKUP(B20826,Cadastro!$Q$3:$R$162,2,FALSE),\"/\",J20826,\"/\",D20826))","v":"46/VGBL/201604"},"VGBL/201604","5321/201604","5321/0992/201604","46/201604","46/0992/201604","0992/201604","Pat","5321/Pat/201509",{"$f":"+CONCATENATE(VLOOKUP(F20826,Cadastro!$Q$3:$R$162,2,FALSE),\"/\",S20826,\"/\",H20826)","v":"46/Pat/201509"},"Pat/201509","5321/201509","5321/0114/201509","46/201509","46/0114/201509","0114/201509",0,0,0,0,0,0,0,0,0,0]
[null,"05321","1066","201605",null,"05321","0167","201510",null,"Hab","5321/Hab/201605",{"$f":"IF(J20887=0,0,+CONCATENATE(VLOOKUP(B20887,Cadastro!$Q$3:$R$162,2,FALSE),\"/\",J20887,\"/\",D20887))","v":"46/Hab/201605"},"Hab/201605","5321/201605","5321/1066/201605","46/201605","46/1066/201605","1066/201605","Pat","5321/Pat/201510",{"$f":"+CONCATENATE(VLOOKUP(F20887,Cadastro!$Q$3:$R$162,2,FALSE),\"/\",S20887,\"/\",H20887)","v":"46/Pat/201510"},"Pat/201510","5321/201510","5321/0167/201510","46/201510","46/0167/201510","0167/201510",0,-114076.65,0,-124176.26,0,19267.259999999998,-8957.83,3000.04,0,2580.33]
[null,"05321","1106","201606",null,"05321","0274","201511",null,"Rur","5321/Rur/201606",{"$f":"IF(J20972=0,0,+CONCATENATE(VLOOKUP(B20972,Cadastro!$Q$3:$R$162,2,FALSE),\"/\",J20972,\"/\",D20972))","v":"46/Rur/201606"},"Rur/201606","5321/201606","5321/1106/201606","46/201606","46/1106/201606","1106/201606","RE","5321/RE/201511",{"$f":"+CONCATENATE(VLOOKUP(F20972,Cadastro!$Q$3:$R$162,2,FALSE),\"/\",S20972,\"/\",H20972)","v":"46/RE/201511"},"RE/201511","5321/201511","5321/0274/201511","46/201511","46/0274/201511","0274/201511",0,0,0,0,0,0,0,0,0,0]
[null,"05321","1164","201603",null,"05321","0437","201508",null,"Rur","5321/Rur/201603",{"$f":"IF(J21053=0,0,+CONCATENATE(VLOOKUP(B21053,Cadastro!$Q$3:$R$162,2,FALSE),\"/\",J21053,\"/\",D21053))","v":"46/Rur/201603"},"Rur/201603","5321/201603","5321/1164/201603","46/201603","46/1164/201603","1164/201603","Aero","5321/Aero/201508",{"$f":"+CONCATENATE(VLOOKUP(F21053,Cadastro!$Q$3:$R$162,2,FALSE),\"/\",S21053,\"/\",H21053)","v":"46/Aero/201508"},"Aero/201508","5321/201508","5321/0437/201508","46/201508","46/0437/201508","0437/201508",0,0,0,0,0,0,0,0,0,0]
[null,"05321","1299","201603",null,"05321","0523","201508",null,"Out","5321/Out/201603",{"$f":"IF(J21089=0,0,+CONCATENATE(VLOOKUP(B21089,Cadastro!$Q$3:$R$162,2,FALSE),\"/\",J21089,\"/\",D21089))","v":"46/Out/201603"},"Out/201603","5321/201603","5321/1299/201603","46/201603","46/1299/201603","1299/201603","Transp","5321/Transp/201508",{"$f":"+CONCATENATE(VLOOKUP(F21089,Cadastro!$Q$3:$R$162,2,FALSE),\"/\",S21089,\"/\",H21089)","v":"46/Transp/201508"},"Transp/201508","5321/201508","5321/0523/201508","46/201508","46/0523/201508","0523/201508",0,0,0,0,0,0,0,0,0,0]
[null,"05321","1380","201611",null,"05321","0553","201504",null,"Pes","5321/Pes/201611",{"$f":"IF(J21157=0,0,+CONCATENATE(VLOOKUP(B21157,Cadastro!$Q$3:$R$162,2,FALSE),\"/\",J21157,\"/\",D21157))","v":"46/Pes/201611"},"Pes/201611","5321/201611","5321/1380/201611","46/201611","46/1380/201611","1380/201611","Aut","5321/Aut/201504",{"$f":"+CONCATENATE(VLOOKUP(F21157,Cadastro!$Q$3:$R$162,2,FALSE),\"/\",S21157,\"/\",H21157)","v":"46/Aut/201504"},"Aut/201504","5321/201504","5321/0553/201504","46/201504","46/0553/201504","0553/201504",0,0,0,0,0,0,0,155440.16,0,0]
[null,"05321","1391","201608",null,"05321","0628","201501",null,"Pes","5321/Pes/201608",{"$f":"IF(J21238=0,0,+CONCATENATE(VLOOKUP(B21238,Cadastro!$Q$3:$R$162,2,FALSE),\"/\",J21238,\"/\",D21238))","v":"46/Pes/201608"},"Pes/201608","5321/201608","5321/1391/201608","46/201608","46/1391/201608","1391/201608","Transp","5321/Transp/201501",{"$f":"+CONCATENATE(VLOOKUP(F21238,Cadastro!$Q$3:$R$162,2,FALSE),\"/\",S21238,\"/\",H21238)","v":"46/Transp/201501"},"Transp/201501","5321/201501","5321/0628/201501","46/201501","46/0628/201501","0628/201501",1031095.66,0,1031095.66,0,991112.94,0,1558.81,0,0,0]
[null,"05321","1535","201609",null,"05321","0656","201502",null,"Aero","5321/Aero/201609",{"$f":"IF(J21323=0,0,+CONCATENATE(VLOOKUP(B21323,Cadastro!$Q$3:$R$162,2,FALSE),\"/\",J21323,\"/\",D21323))","v":"46/Aero/201609"},"Aero/201609","5321/201609","5321/1535/201609","46/201609","46/1535/201609","1535/201609","Transp","5321/Transp/201502",{"$f":"+CONCATENATE(VLOOKUP(F21323,Cadastro!$Q$3:$R$162,2,FALSE),\"/\",S21323,\"/\",H21323)","v":"46/Transp/201502"},"Transp/201502","5321/201502","5321/0656/201502","46/201502","46/0656/201502","0656/201502",0,0,0,0,0,0,0,0,0,0]
[null,"05355","0111","201602",null,"05321","0739","201507",null,"Pat","5355/Pat/201602",{"$f":"IF(J21352=0,0,+CONCATENATE(VLOOKUP(B21352,Cadastro!$Q$3:$R$162,2,FALSE),\"/\",J21352,\"/\",D21352))","v":"56/Pat/201602"},"Pat/201602","5355/201602","5355/0111/201602","56/201602","56/0111/201602","0111/201602","RF","5321/RF/201507",{"$f":"+CONCATENATE(VLOOKUP(F21352,Cadastro!$Q$3:$R$162,2,FALSE),\"/\",S21352,\"/\",H21352)","v":"46/RF/201507"},"RF/201507","5321/201507","5321/0739/201507","46/201507","46/0739/201507","0739/201507",0,0,0,0,-13.13,0,304.95999999999998,0,0,0]
[null,"05355","0167","201602",null,"05321","0748","201506",null,"Pat","5355/Pat/201602",{"$f":"IF(J21423=0,0,+CONCATENATE(VLOOKUP(B21423,Cadastro!$Q$3:$R$162,2,FALSE),\"/\",J21423,\"/\",D21423))","v":"56/Pat/201602"},"Pat/201602","5355/201602","5355/0167/201602","56/201602","56/0167/201602","0167/201602","RF","5321/RF/201506",{"$f":"+CONCATENATE(VLOOKUP(F21423,Cadastro!$Q$3:$R$162,2,FALSE),\"/\",S21423,\"/\",H21423)","v":"46/RF/201506"},"RF/201506","5321/201506","5321/0748/201506","46/201506","46/0748/201506","0748/201506",0,10510109.029999999,0,10510109.029999999,-1.51,6394279.5999999996,35.229999999999997,11446166.800000001,0,1175266.98]
[null,"05355","0433","201606",null,"05321","0860","201507",null,"Mar","5355/Mar/201606",{"$f":"IF(J21508=0,0,+CONCATENATE(VLOOKUP(B21508,Cadastro!$Q$3:$R$162,2,FALSE),\"/\",J21508,\"/\",D21508))","v":"56/Mar/201606"},"Mar/201606","5355/201606","5355/0433/201606","56/201606","56/0433/201606","0433/201606","RF","5321/RF/201507",{"$f":"+CONCATENATE(VLOOKUP(F21508,Cadastro!$Q$3:$R$162,2,FALSE),\"/\",S21508,\"/\",H21508)","v":"46/RF/201507"},"RF/201507","5321/201507","5321/0860/201507","46/201507","46/0860/201507","0860/201507",0,0,0,0,0,0,0,0,0,0]
[null,"05355","0553","201607",null,"05321","0981","201504",null,"Aut","5355/Aut/201607",{"$f":"IF(J21589=0,0,+CONCATENATE(VLOOKUP(B21589,Cadastro!$Q$3:$R$162,2,FALSE),\"/\",J21589,\"/\",D21589))","v":"56/Aut/201607"},"Aut/201607","5355/201607","5355/0553/201607","56/201607","56/0553/201607","0553/201607","Pes","5321/Pes/201504",{"$f":"+CONCATENATE(VLOOKUP(F21589,Cadastro!$Q$3:$R$162,2,FALSE),\"/\",S21589,\"/\",H21589)","v":"46/Pes/201504"},"Pes/201504","5321/201504","5321/0981/201504","46/201504","46/0981/201504","0981/201504",42598653.060000002,0,42598653.060000002,0,45959492.990000002,0,30268338.550000001,-713420.19,8282808.6600000001,0]
[null,"05355","0589","201609",null,"05321","0983","201506",null,"Dpvat","5355/Dpvat/201609",{"$f":"IF(J21615=0,0,+CONCATENATE(VLOOKUP(B21615,Cadastro!$Q$3:$R$162,2,FALSE),\"/\",J21615,\"/\",D21615))","v":"56/Dpvat/201609"},"Dpvat/201609","5355/201609","5355/0589/201609","56/201609","56/0589/201609","0589/201609","Pes","5321/Pes/201506",{"$f":"+CONCATENATE(VLOOKUP(F21615,Cadastro!$Q$3:$R$162,2,FALSE),\"/\",S21615,\"/\",H21615)","v":"46/Pes/201506"},"Pes/201506","5321/201506","5321/0983/201506","46/201506","46/0983/201506","0983/201506",0,0,0,0,0,0,0,0,0,0]
[null,"05355","0745","201605",null,"05321","0992","201512",null,"RF","5355/RF/201605",{"$f":"IF(J21693=0,0,+CONCATENATE(VLOOKUP(B21693,Cadastro!$Q$3:$R$162,2,FALSE),\"/\",J21693,\"/\",D21693))","v":"56/RF/201605"},"RF/201605","5355/201605","5355/0745/201605","56/201605","56/0745/201605","0745/201605","VGBL","5321/VGBL/201512",{"$f":"+CONCATENATE(VLOOKUP(F21693,Cadastro!$Q$3:$R$162,2,FALSE),\"/\",S21693,\"/\",H21693)","v":"46/VGBL/201512"},"VGBL/201512","5321/201512","5321/0992/201512","46/201512","46/0992/201512","0992/201512",0,0,0,0,0,0,-24840.83,0,0,0]
[null,"05355","0981","201607",null,"05321","1101","201509",null,"Pes","5355/Pes/201607",{"$f":"IF(J21774=0,0,+CONCATENATE(VLOOKUP(B21774,Cadastro!$Q$3:$R$162,2,FALSE),\"/\",J21774,\"/\",D21774))","v":"56/Pes/201607"},"Pes/201607","5355/201607","5355/0981/201607","56/201607","56/0981/201607","0981/201607","Rur","5321/Rur/201509",{"$f":"+CONCATENATE(VLOOKUP(F21774,Cadastro!$Q$3:$R$162,2,FALSE),\"/\",S21774,\"/\",H21774)","v":"46/Rur/201509"},"Rur/201509","5321/201509","5321/1101/201509","46/201509","46/1101/201509","1101/201509",0,0,0,0,0,0,0,0,0,0]
[null,"05355","0991","201609",null,"05321","1103","201505",null,"Pes","5355/Pes/201609",{"$f":"IF(J21794=0,0,+CONCATENATE(VLOOKUP(B21794,Cadastro!$Q$3:$R$162,2,FALSE),\"/\",J21794,\"/\",D21794))","v":"56/Pes/201609"},"Pes/201609","5355/201609","5355/0991/201609","56/201609","56/0991/201609","0991/201609","Rur","5321/Rur/201505",{"$f":"+CONCATENATE(VLOOKUP(F21794,Cadastro!$Q$3:$R$162,2,FALSE),\"/\",S21794,\"/\",H21794)","v":"46/Rur/201505"},"Rur/201505","5321/201505","5321/1103/201505","46/201505","46/1103/201505","1103/201505",0,0,0,0,0,0,0,0,0,0]
[null,"05355","1381","201608",null,"05321","1130","201505",null,"Pes","5355/Pes/201608",{"$f":"IF(J21878=0,0,+CONCATENATE(VLOOKUP(B21878,Cadastro!$Q$3:$R$162,2,FALSE),\"/\",J21878,\"/\",D21878))","v":"56/Pes/201608"},"Pes/201608","5355/201608","5355/1381/201608","56/201608","56/1381/201608","1381/201608","Rur","5321/Rur/201505",{"$f":"+CONCATENATE(VLOOKUP(F21878,Cadastro!$Q$3:$R$162,2,FALSE),\"/\",S21878,\"/\",H21878)","v":"46/Rur/201505"},"Rur/201505","5321/201505","5321/1130/201505","46/201505","46/1130/201505","1130/201505",34991.279999999999,0,34991.279999999999,-1277.55,44390.84,2890.95,0,0,8668.66,339.13]
[null,"05401","0531","201604",null,"05321","1329","201502",null,"Aut","5401/Aut/201604",{"$f":"IF(J21959=0,0,+CONCATENATE(VLOOKUP(B21959,Cadastro!$Q$3:$R$162,2,FALSE),\"/\",J21959,\"/\",D21959))","v":"58/Aut/201604"},"Aut/201604","5401/201604","5401/0531/201604","58/201604","58/0531/201604","0531/201604","Pes","5321/Pes/201502",{"$f":"+CONCATENATE(VLOOKUP(F21959,Cadastro!$Q$3:$R$162,2,FALSE),\"/\",S21959,\"/\",H21959)","v":"46/Pes/201502"},"Pes/201502","5321/201502","5321/1329/201502","46/201502","46/1329/201502","1329/201502",0,0,0,0,0,0,0,0,0,0]
[null,"05401","0993","201605",null,"05321","1384","201503",null,"Pes","5401/Pes/201605",{"$f":"IF(J22044=0,0,+CONCATENATE(VLOOKUP(B22044,Cadastro!$Q$3:$R$162,2,FALSE),\"/\",J22044,\"/\",D22044))","v":"58/Pes/201605"},"Pes/201605","5401/201605","5401/0993/201605","58/201605","58/0993/201605","0993/201605","Pes","5321/Pes/201503",{"$f":"+CONCATENATE(VLOOKUP(F22044,Cadastro!$Q$3:$R$162,2,FALSE),\"/\",S22044,\"/\",H22044)","v":"46/Pes/201503"},"Pes/201503","5321/201503","5321/1384/201503","46/201503","46/1384/201503","1384/201503",0,0,0,0,0,0,0,0,0,0]
[null,"05436","0111","201609",null,"05321","1386","201507",null,"Pat","5436/Pat/201609",{"$f":"IF(J22060=0,0,+CONCATENATE(VLOOKUP(B22060,Cadastro!$Q$3:$R$162,2,FALSE),\"/\",J22060,\"/\",D22060))","v":"75/Pat/201609"},"Pat/201609","5436/201609","5436/0111/201609","75/201609","75/0111/201609","0111/201609","Pes","5321/Pes/201507",{"$f":"+CONCATENATE(VLOOKUP(F22060,Cadastro!$Q$3:$R$162,2,FALSE),\"/\",S22060,\"/\",H22060)","v":"46/Pes/201507"},"Pes/201507","5321/201507","5321/1386/201507","46/201507","46/1386/201507","1386/201507",0,0,0,0,0,0,0,0,0,0]
[null,"05436","0351","201606",null,"05321","1433","201504",null,"Res","5436/Res/201606",{"$f":"IF(J22141=0,0,+CONCATENATE(VLOOKUP(B22141,Cadastro!$Q$3:$R$162,2,FALSE),\"/\",J22141,\"/\",D22141))","v":"75/Res/201606"},"Res/201606","5436/201606","5436/0351/201606","75/201606","75/0351/201606","0351/201606","Mar","5321/Mar/201504",{"$f":"+CONCATENATE(VLOOKUP(F22141,Cadastro!$Q$3:$R$162,2,FALSE),\"/\",S22141,\"/\",H22141)","v":"46/Mar/201504"},"Mar/201504","5321/201504","5321/1433/201504","46/201504","46/1433/201504","1433/201504",0,0,0,0,0,0,0,0,0,0]
[null,"05436","0621","201610",null,"05355","0114","201508",null,"Transp","5436/Transp/201610",{"$f":"IF(J22229=0,0,+CONCATENATE(VLOOKUP(B22229,Cadastro!$Q$3:$R$162,2,FALSE),\"/\",J22229,\"/\",D22229))","v":"75/Transp/201610"},"Transp/201610","5436/201610","5436/0621/201610","75/201610","75/0621/201610","0621/201610","Pat","5355/Pat/201508",{"$f":"+CONCATENATE(VLOOKUP(F22229,Cadastro!$Q$3:$R$162,2,FALSE),\"/\",S22229,\"/\",H22229)","v":"56/Pat/201508"},"Pat/201508","5355/201508","5355/0114/201508","56/201508","56/0114/201508","0114/201508",0,140852.5,0,140852.5,0,169300.29,0,34465.35,0,69499.77]
[null,"05436","0739","201602",null,"05355","0115","201512",null,"RF","5436/RF/201602",{"$f":"IF(J22245=0,0,+CONCATENATE(VLOOKUP(B22245,Cadastro!$Q$3:$R$162,2,FALSE),\"/\",J22245,\"/\",D22245))","v":"75/RF/201602"},"RF/201602","5436/201602","5436/0739/201602","75/201602","75/0739/201602","0739/201602","Pat","5355/Pat/201512",{"$f":"+CONCATENATE(VLOOKUP(F22245,Cadastro!$Q$3:$R$162,2,FALSE),\"/\",S22245,\"/\",H22245)","v":"56/Pat/201512"},"Pat/201512","5355/201512","5355/0115/201512","56/201512","56/0115/201512","0115/201512",0,0,0,0,0,0,0,0,0,0]
[null,"05436","0776","201603",null,"05355","0234","201501",null,"RF","5436/RF/201603",{"$f":"IF(J22330=0,0,+CONCATENATE(VLOOKUP(B22330,Cadastro!$Q$3:$R$162,2,FALSE),\"/\",J22330,\"/\",D22330))","v":"75/RF/201603"},"RF/201603","5436/201603","5436/0776/201603","75/201603","75/0776/201603","0776/201603","RE","5355/RE/201501",{"$f":"+CONCATENATE(VLOOKUP(F22330,Cadastro!$Q$3:$R$162,2,FALSE),\"/\",S22330,\"/\",H22330)","v":"56/RE/201501"},"RE/201501","5355/201501","5355/0234/201501","56/201501","56/0234/201501","0234/201501",783986.61,0,-446233.26000000013,0,1911099.56,0,1168418.98,0,439064.97,0]
[null,"05444","0111","201605",null,"05355","0520","201503",null,"Pat","5444/Pat/201605",{"$f":"IF(J22404=0,0,+CONCATENATE(VLOOKUP(B22404,Cadastro!$Q$3:$R$162,2,FALSE),\"/\",J22404,\"/\",D22404))","v":"20/Pat/201605"},"Pat/201605","5444/201605","5444/0111/201605","20/201605","20/0111/201605","0111/201605","Aut","5355/Aut/201503",{"$f":"+CONCATENATE(VLOOKUP(F22404,Cadastro!$Q$3:$R$162,2,FALSE),\"/\",S22404,\"/\",H22404)","v":"56/Aut/201503"},"Aut/201503","5355/201503","5355/0520/201503","56/201503","56/0520/201503","0520/201503",0,1722851.68,0,1722851.68,0,1690737.12,0,52465.56,0,300244.32]
[null,"05444","0171","201612",null,"05355","0621","201510",null,"Pat","5444/Pat/201612",{"$f":"IF(J22495=0,0,+CONCATENATE(VLOOKUP(B22495,Cadastro!$Q$3:$R$162,2,FALSE),\"/\",J22495,\"/\",D22495))","v":"20/Pat/201612"},"Pat/201612","5444/201612","5444/0171/201612","20/201612","20/0171/201612","0171/201612","Transp","5355/Transp/201510",{"$f":"+CONCATENATE(VLOOKUP(F22495,Cadastro!$Q$3:$R$162,2,FALSE),\"/\",S22495,\"/\",H22495)","v":"56/Transp/201510"},"Transp/201510","5355/201510","5355/0621/201510","56/201510","56/0621/201510","0621/201510",0,0,0,0,0,-2.78,0,-273.85000000000002,0,0]
[null,"05444","0195","201608",null,"05355","0654","201506",null,"Pat","5444/Pat/201608",{"$f":"IF(J22515=0,0,+CONCATENATE(VLOOKUP(B22515,Cadastro!$Q$3:$R$162,2,FALSE),\"/\",J22515,\"/\",D22515))","v":"20/Pat/201608"},"Pat/201608","5444/201608","5444/0195/201608","20/201608","20/0195/201608","0195/201608","Transp","5355/Transp/201506",{"$f":"+CONCATENATE(VLOOKUP(F22515,Cadastro!$Q$3:$R$162,2,FALSE),\"/\",S22515,\"/\",H22515)","v":"56/Transp/201506"},"Transp/201506","5355/201506","5355/0654/201506","56/201506","56/0654/201506","0654/201506",0,0,0,0,0,0,0,0,0,0]
[null,"05444","0378","201605",null,"05355","0747","201503",null,"Res","5444/Res/201605",{"$f":"IF(J22596=0,0,+CONCATENATE(VLOOKUP(B22596,Cadastro!$Q$3:$R$162,2,FALSE),\"/\",J22596,\"/\",D22596))","v":"20/Res/201605"},"Res/201605","5444/201605","5444/0378/201605","20/201605","20/0378/201605","0378/201605","RF","5355/RF/201503",{"$f":"+CONCATENATE(VLOOKUP(F22596,Cadastro!$Q$3:$R$162,2,FALSE),\"/\",S22596,\"/\",H22596)","v":"56/RF/201503"},"RF/201503","5355/201503","5355/0747/201503","56/201503","56/0747/201503","0747/201503",0,0,0,0,0,0,0,0,0,0]
[null,"05444","0524","201604",null,"05355","0981","201502",null,"Aut","5444/Aut/201604",{"$f":"IF(J22667=0,0,+CONCATENATE(VLOOKUP(B22667,Cadastro!$Q$3:$R$162,2,FALSE),\"/\",J22667,\"/\",D22667))","v":"20/Aut/201604"},"Aut/201604","5444/201604","5444/0524/201604","20/201604","20/0524/201604","0524/201604","Pes","5355/Pes/201502",{"$f":"+CONCATENATE(VLOOKUP(F22667,Cadastro!$Q$3:$R$162,2,FALSE),\"/\",S22667,\"/\",H22667)","v":"56/Pes/201502"},"Pes/201502","5355/201502","5355/0981/201502","56/201502","56/0981/201502","0981/201502",0,0,0,0,0,0,0,0,0,0]
[null,"05444","0544","201601",null,"05355","0991","201511",null,"Aut","5444/Aut/201601",{"$f":"IF(J22700=0,0,+CONCATENATE(VLOOKUP(B22700,Cadastro!$Q$3:$R$162,2,FALSE),\"/\",J22700,\"/\",D22700))","v":"20/Aut/201601"},"Aut/201601","5444/201601","5444/0544/201601","20/201601","20/0544/201601","0544/201601","Pes","5355/Pes/201511",{"$f":"+CONCATENATE(VLOOKUP(F22700,Cadastro!$Q$3:$R$162,2,FALSE),\"/\",S22700,\"/\",H22700)","v":"56/Pes/201511"},"Pes/201511","5355/201511","5355/0991/201511","56/201511","56/0991/201511","0991/201511",0,0,0,0,0,0,0,0,0,0]
[null,"05444","0627","201610",null,"05355","1163","201508",null,"Transp","5444/Transp/201610",{"$f":"IF(J22781=0,0,+CONCATENATE(VLOOKUP(B22781,Cadastro!$Q$3:$R$162,2,FALSE),\"/\",J22781,\"/\",D22781))","v":"20/Transp/201610"},"Transp/201610","5444/201610","5444/0627/201610","20/201610","20/0627/201610","0627/201610","Rur","5355/Rur/201508",{"$f":"+CONCATENATE(VLOOKUP(F22781,Cadastro!$Q$3:$R$162,2,FALSE),\"/\",S22781,\"/\",H22781)","v":"56/Rur/201508"},"Rur/201508","5355/201508","5355/1163/201508","56/201508","56/1163/201508","1163/201508",0,0,0,0,0,0,0,0,0,0]
[null,"05444","0658","201611",null,"05401","0351","201510",null,"Transp",{"$f":"IF(J22866=0,0,+CONCATENATE(VALUE(B22866),\"/\",J22866,\"/\",D22866))","v":"5444/Transp/201611"},{"$f":"IF(J22866=0,0,+CONCATENATE(VLOOKUP(B22866,Cadastro!$Q$3:$R$162,2,FALSE),\"/\",J22866,\"/\",D22866))","v":"20/Transp/201611"},"Transp/201611","5444/201611","5444/0658/201611","20/201611","20/0658/201611","0658/201611","Res","5401/Res/201510",{"$f":"+CONCATENATE(VLOOKUP(F22866,Cadastro!$Q$3:$R$162,2,FALSE),\"/\",S22866,\"/\",H22866)","v":"58/Res/201510"},"Res/201510","5401/201510","5401/0351/201510","58/201510","58/0351/201510","0351/201510",0,0,0,0,0,0,0,29850.61,0,0]
[null,"05444","0750","201603",null,"05401","0621","201502",null,"RF",{"$f":"IF(J22930=0,0,+CONCATENATE(VALUE(B22930),\"/\",J22930,\"/\",D22930))","v":"5444/RF/201603"},{"$f":"IF(J22930=0,0,+CONCATENATE(VLOOKUP(B22930,Cadastro!$Q$3:$R$162,2,FALSE),\"/\",J22930,\"/\",D22930))","v":"20/RF/201603"},"RF/201603","5444/201603","5444/0750/201603","20/201603","20/0750/201603","0750/201603","Transp","5401/Transp/201502",{"$f":"+CONCATENATE(VLOOKUP(F22930,Cadastro!$Q$3:$R$162,2,FALSE),\"/\",S22930,\"/\",H22930)","v":"58/Transp/201502"},"Transp/201502","5401/201502","5401/0621/201502","58/201502","58/0621/201502","0621/201502",0,0,0,0,0,0,0,0,0,0]
[null,"05444","0870","201603",null,"05401","0993","201502",null,"RF","5444/RF/201603",{"$f":"IF(J22966=0,0,+CONCATENATE(VLOOKUP(B22966,Cadastro!$Q$3:$R$162,2,FALSE),\"/\",J22966,\"/\",D22966))","v":"20/RF/201603"},"RF/201603","5444/201603","5444/0870/201603","20/201603","20/0870/201603","0870/201603","Pes","5401/Pes/201502",{"$f":"+CONCATENATE(VLOOKUP(F22966,Cadastro!$Q$3:$R$162,2,FALSE),\"/\",S22966,\"/\",H22966)","v":"58/Pes/201502"},"Pes/201502","5401/201502","5401/0993/201502","58/201502","58/0993/201502","0993/201502",0,0,0,0,0,0,0,0,0,0]
[null,"05444","0991","201604",null,"05436","0234","201503",null,"Pes","5444/Pes/201604",{"$f":"IF(J23051=0,0,+CONCATENATE(VLOOKUP(B23051,Cadastro!$Q$3:$R$162,2,FALSE),\"/\",J23051,\"/\",D23051))","v":"20/Pes/201604"},"Pes/201604","5444/201604","5444/0991/201604","20/201604","20/0991/201604","0991/201604","RE","5436/RE/201503",{"$f":"+CONCATENATE(VLOOKUP(F23051,Cadastro!$Q$3:$R$162,2,FALSE),\"/\",S23051,\"/\",H23051)","v":"75/RE/201503"},"RE/201503","5436/201503","5436/0234/201503","75/201503","75/0234/201503","0234/201503",0,0,0,0,0,0,0,0,0,0]
[null,"05444","1104","201601",null,"05436","0588","201512",null,"Rur","5444/Rur/201601",{"$f":"IF(J23132=0,0,+CONCATENATE(VLOOKUP(B23132,Cadastro!$Q$3:$R$162,2,FALSE),\"/\",J23132,\"/\",D23132))","v":"20/Rur/201601"},"Rur/201601","5444/201601","5444/1104/201601","20/201601","20/1104/201601","1104/201601","Dpvat","5436/Dpvat/201512",{"$f":"+CONCATENATE(VLOOKUP(F23132,Cadastro!$Q$3:$R$162,2,FALSE),\"/\",S23132,\"/\",H23132)","v":"75/Dpvat/201512"},"Dpvat/201512","5436/201512","5436/0588/201512","75/201512","75/0588/201512","0588/201512",0,2966394.58,0,2966394.58,0,3249027.66,0,2571716,0,39459.78]
[null,"05444","1109","201602",null,"05436","0745","201501",null,"Rur","5444/Rur/201602",{"$f":"IF(J23193=0,0,+CONCATENATE(VLOOKUP(B23193,Cadastro!$Q$3:$R$162,2,FALSE),\"/\",J23193,\"/\",D23193))","v":"20/Rur/201602"},"Rur/201602","5444/201602","5444/1109/201602","20/201602","20/1109/201602","1109/201602","RF","5436/RF/201501",{"$f":"+CONCATENATE(VLOOKUP(F23193,Cadastro!$Q$3:$R$162,2,FALSE),\"/\",S23193,\"/\",H23193)","v":"75/RF/201501"},"RF/201501","5436/201501","5436/0745/201501","75/201501","75/0745/201501","0745/201501",0,34522.74,0,-303064.69,0,345907.44,0,85603.239999999991,0,61832.04]
[null,"05444","1163","201605",null,"05436","0750","201504",null,"Rur","5444/Rur/201605",{"$f":"IF(J23232=0,0,+CONCATENATE(VLOOKUP(B23232,Cadastro!$Q$3:$R$162,2,FALSE),\"/\",J23232,\"/\",D23232))","v":"20/Rur/201605"},"Rur/201605","5444/201605","5444/1163/201605","20/201605","20/1163/201605","1163/201605","RF","5436/RF/201504",{"$f":"+CONCATENATE(VLOOKUP(F23232,Cadastro!$Q$3:$R$162,2,FALSE),\"/\",S23232,\"/\",H23232)","v":"75/RF/201504"},"RF/201504","5436/201504","5436/0750/201504","75/201504","75/0750/201504","0750/201504",0,-16124.61,0,-109356.01,0,93584.260000000009,0,0,0,18504.419999999998]
[null,"05495","0112","201606",null,"05436","1162","201505",null,"Pat","5495/Pat/201606",{"$f":"IF(J23317=0,0,+CONCATENATE(VLOOKUP(B23317,Cadastro!$Q$3:$R$162,2,FALSE),\"/\",J23317,\"/\",D23317))","v":"70/Pat/201606"},"Pat/201606","5495/201606","5495/0112/201606","70/201606","70/0112/201606","0112/201606","Rur","5436/Rur/201505",{"$f":"+CONCATENATE(VLOOKUP(F23317,Cadastro!$Q$3:$R$162,2,FALSE),\"/\",S23317,\"/\",H23317)","v":"75/Rur/201505"},"Rur/201505","5436/201505","5436/1162/201505","75/201505","75/1162/201505","1162/201505",2274.16,0,2274.16,0,3035.83,0,-421.40999999999997,0,829.83,0]
[null,"05495","0171","201607",null,"05444","0167","201506",null,"Pat","5495/Pat/201607",{"$f":"IF(J23402=0,0,+CONCATENATE(VLOOKUP(B23402,Cadastro!$Q$3:$R$162,2,FALSE),\"/\",J23402,\"/\",D23402))","v":"70/Pat/201607"},"Pat/201607","5495/201607","5495/0171/201607","70/201607","70/0171/201607","0171/201607","Pat","5444/Pat/201506",{"$f":"+CONCATENATE(VLOOKUP(F23402,Cadastro!$Q$3:$R$162,2,FALSE),\"/\",S23402,\"/\",H23402)","v":"20/Pat/201506"},"Pat/201506","5444/201506","5444/0167/201506","20/201506","20/0167/201506","0167/201506",8678990.2200000007,0,8572118.6800000016,0,7120730.3499999996,0,1945745.33,0,3458700.31,0]
[null,"05495","0272","201601",null,"05444","0196","201512",null,"RE","5495/RE/201601",{"$f":"IF(J23456=0,0,+CONCATENATE(VLOOKUP(B23456,Cadastro!$Q$3:$R$162,2,FALSE),\"/\",J23456,\"/\",D23456))","v":"70/RE/201601"},"RE/201601","5495/201601","5495/0272/201601","70/201601","70/0272/201601","0272/201601","Pat","5444/Pat/201512",{"$f":"+CONCATENATE(VLOOKUP(F23456,Cadastro!$Q$3:$R$162,2,FALSE),\"/\",S23456,\"/\",H23456)","v":"20/Pat/201512"},"Pat/201512","5444/201512","5444/0196/201512","20/201512","20/0196/201512","0196/201512",0,0,0,0,0,0,0,0,0,37800]
[null,"05495","0313","201611",null,"05444","0310","201510",null,"Res","5495/Res/201611",{"$f":"IF(J23502=0,0,+CONCATENATE(VLOOKUP(B23502,Cadastro!$Q$3:$R$162,2,FALSE),\"/\",J23502,\"/\",D23502))","v":"70/Res/201611"},"Res/201611","5495/201611","5495/0313/201611","70/201611","70/0313/201611","0313/201611","Res","5444/Res/201510",{"$f":"+CONCATENATE(VLOOKUP(F23502,Cadastro!$Q$3:$R$162,2,FALSE),\"/\",S23502,\"/\",H23502)","v":"20/Res/201510"},"Res/201510","5444/201510","5444/0310/201510","20/201510","20/0310/201510","0310/201510",0,0,0,0,0,0,0,0,0,0]
[null,"05495","0520","201612",null,"05444","0520","201511",null,"Aut","5495/Aut/201612",{"$f":"IF(J23587=0,0,+CONCATENATE(VLOOKUP(B23587,Cadastro!$Q$3:$R$162,2,FALSE),\"/\",J23587,\"/\",D23587))","v":"70/Aut/201612"},"Aut/201612","5495/201612","5495/0520/201612","70/201612","70/0520/201612","0520/201612","Aut","5444/Aut/201511",{"$f":"+CONCATENATE(VLOOKUP(F23587,Cadastro!$Q$3:$R$162,2,FALSE),\"/\",S23587,\"/\",H23587)","v":"20/Aut/201511"},"Aut/201511","5444/201511","5444/0520/201511","20/201511","20/0520/201511","0520/201511",461398.22,0,91864.829999999958,0,184387.56999999995,0,132325.79,0,84672.56,0]
[null,"05495","0524","201604",null,"05444","0525","201503",null,"Aut","5495/Aut/201604",{"$f":"IF(J23603=0,0,+CONCATENATE(VLOOKUP(B23603,Cadastro!$Q$3:$R$162,2,FALSE),\"/\",J23603,\"/\",D23603))","v":"70/Aut/201604"},"Aut/201604","5495/201604","5495/0524/201604","70/201604","70/0524/201604","0524/201604","Aut","5444/Aut/201503",{"$f":"+CONCATENATE(VLOOKUP(F23603,Cadastro!$Q$3:$R$162,2,FALSE),\"/\",S23603,\"/\",H23603)","v":"20/Aut/201503"},"Aut/201503","5444/201503","5444/0525/201503","20/201503","20/0525/201503","0525/201503",0,0,0,0,0,0,0,0,0,0]
[null,"05495","0621","201612",null,"05444","0632","201511",null,"Transp","5495/Transp/201612",{"$f":"IF(J23719=0,0,+CONCATENATE(VLOOKUP(B23719,Cadastro!$Q$3:$R$162,2,FALSE),\"/\",J23719,\"/\",D23719))","v":"70/Transp/201612"},"Transp/201612","5495/201612","5495/0621/201612","70/201612","70/0621/201612","0621/201612","Transp","5444/Transp/201511",{"$f":"+CONCATENATE(VLOOKUP(F23719,Cadastro!$Q$3:$R$162,2,FALSE),\"/\",S23719,\"/\",H23719)","v":"20/Transp/201511"},"Transp/201511","5444/201511","5444/0632/201511","20/201511","20/0632/201511","0632/201511",807709.9,0,290779.01,0,354573.67000000004,0,258895.18000000017,0,92894.58,0]
[null,"05495","0632","201601",null,"05444","0655","201512",null,"Transp","5495/Transp/201601",{"$f":"IF(J23768=0,0,+CONCATENATE(VLOOKUP(B23768,Cadastro!$Q$3:$R$162,2,FALSE),\"/\",J23768,\"/\",D23768))","v":"70/Transp/201601"},"Transp/201601","5495/201601","5495/0632/201601","70/201601","70/0632/201601","0632/201601","Transp","5444/Transp/201512",{"$f":"+CONCATENATE(VLOOKUP(F23768,Cadastro!$Q$3:$R$162,2,FALSE),\"/\",S23768,\"/\",H23768)","v":"20/Transp/201512"},"Transp/201512","5444/201512","5444/0655/201512","20/201512","20/0655/201512","0655/201512",0,0,0,0,0,0,1130.8900000000001,0,0,0]
[null,"05495","0658","201602",null,"05444","0750","201501",null,"Transp","5495/Transp/201602",{"$f":"IF(J23853=0,0,+CONCATENATE(VLOOKUP(B23853,Cadastro!$Q$3:$R$162,2,FALSE),\"/\",J23853,\"/\",D23853))","v":"70/Transp/201602"},"Transp/201602","5495/201602","5495/0658/201602","70/201602","70/0658/201602","0658/201602","RF","5444/RF/201501",{"$f":"+CONCATENATE(VLOOKUP(F23853,Cadastro!$Q$3:$R$162,2,FALSE),\"/\",S23853,\"/\",H23853)","v":"20/RF/201501"},"RF/201501","5444/201501","5444/0750/201501","20/201501","20/0750/201501","0750/201501",0,0,0,0,0,0,0,0,0,0]
[null,"05495","0739","201610",null,"05444","0819","201509",null,"RF","5495/RF/201610",{"$f":"IF(J23873=0,0,+CONCATENATE(VLOOKUP(B23873,Cadastro!$Q$3:$R$162,2,FALSE),\"/\",J23873,\"/\",D23873))","v":"70/RF/201610"},"RF/201610","5495/201610","5495/0739/201610","70/201610","70/0739/201610","0739/201610","RF","5444/RF/201509",{"$f":"+CONCATENATE(VLOOKUP(F23873,Cadastro!$Q$3:$R$162,2,FALSE),\"/\",S23873,\"/\",H23873)","v":"20/RF/201509"},"RF/201509","5444/201509","5444/0819/201509","20/201509","20/0819/201509","0819/201509",0,0,0,0,0,0,0,0,0,0]
[null,"05495","0775","201611",null,"05444","0991","201510",null,"RF","5495/RF/201611",{"$f":"IF(J23982=0,0,+CONCATENATE(VLOOKUP(B23982,Cadastro!$Q$3:$R$162,2,FALSE),\"/\",J23982,\"/\",D23982))","v":"70/RF/201611"},"RF/201611","5495/201611","5495/0775/201611","70/201611","70/0775/201611","0775/201611","Pes","5444/Pes/201510",{"$f":"+CONCATENATE(VLOOKUP(F23982,Cadastro!$Q$3:$R$162,2,FALSE),\"/\",S23982,\"/\",H23982)","v":"20/Pes/201510"},"Pes/201510","5444/201510","5444/0991/201510","20/201510","20/0991/201510","0991/201510",623307.36,0,-409064.57999999996,0,487584.65000000014,0,-34585.279999999999,0,249054.26,0]
[null,"05495","0929","201607",null,"05444","1102","201506",null,"Pes","5495/Pes/201607",{"$f":"IF(J24038=0,0,+CONCATENATE(VLOOKUP(B24038,Cadastro!$Q$3:$R$162,2,FALSE),\"/\",J24038,\"/\",D24038))","v":"70/Pes/201607"},"Pes/201607","5495/201607","5495/0929/201607","70/201607","70/0929/201607","0929/201607","Rur","5444/Rur/201506",{"$f":"+CONCATENATE(VLOOKUP(F24038,Cadastro!$Q$3:$R$162,2,FALSE),\"/\",S24038,\"/\",H24038)","v":"20/Rur/201506"},"Rur/201506","5444/201506","5444/1102/201506","20/201506","20/1102/201506","1102/201506",1750058.58,0,1750058.58,0,1729474.43,0,522356.13,0,469422.19,0]
[null,"05495","0969","201603",null,"05444","1104","201502",null,"Pes","5495/Pes/201603",{"$f":"IF(J24058=0,0,+CONCATENATE(VLOOKUP(B24058,Cadastro!$Q$3:$R$162,2,FALSE),\"/\",J24058,\"/\",D24058))","v":"70/Pes/201603"},"Pes/201603","5495/201603","5495/0969/201603","70/201603","70/0969/201603","0969/201603","Rur","5444/Rur/201502",{"$f":"+CONCATENATE(VLOOKUP(F24058,Cadastro!$Q$3:$R$162,2,FALSE),\"/\",S24058,\"/\",H24058)","v":"20/Rur/201502"},"Rur/201502","5444/201502","5444/1104/201502","20/201502","20/1104/201502","1104/201502",305609.32,0,304585.78000000003,0,352133.47000000003,0,86948.45,0,271917.12,0]
[null,"05495","0984","201612",null,"05444","1130","201511",null,"Pes","5495/Pes/201612",{"$f":"IF(J24139=0,0,+CONCATENATE(VLOOKUP(B24139,Cadastro!$Q$3:$R$162,2,FALSE),\"/\",J24139,\"/\",D24139))","v":"70/Pes/201612"},"Pes/201612","5495/201612","5495/0984/201612","70/201612","70/0984/201612","0984/201612","Rur","5444/Rur/201511",{"$f":"+CONCATENATE(VLOOKUP(F24139,Cadastro!$Q$3:$R$162,2,FALSE),\"/\",S24139,\"/\",H24139)","v":"20/Rur/201511"},"Rur/201511","5444/201511","5444/1130/201511","20/201511","20/1130/201511","1130/201511",24588.45,0,24588.45,0,24626.17,0,0,0,6643.5,0]
[null,"05495","1065","201610",null,"05495","0112","201509",null,"Hab","5495/Hab/201610",{"$f":"IF(J24245=0,0,+CONCATENATE(VLOOKUP(B24245,Cadastro!$Q$3:$R$162,2,FALSE),\"/\",J24245,\"/\",D24245))","v":"70/Hab/201610"},"Hab/201610","5495/201610","5495/1065/201610","70/201610","70/1065/201610","1065/201610","Pat","5495/Pat/201509",{"$f":"+CONCATENATE(VLOOKUP(F24245,Cadastro!$Q$3:$R$162,2,FALSE),\"/\",S24245,\"/\",H24245)","v":"70/Pat/201509"},"Pat/201509","5495/201509","5495/0112/201509","70/201509","70/0112/201509","0112/201509",1110.8900000000001,2659.53,1110.8900000000001,2659.53,1223.8900000000001,3640.85,-300.85000000000002,-259.83999999999992,61.19,978.07]
[null,"05495","1103","201609",null,"05495","0141","201508",null,"Rur","5495/Rur/201609",{"$f":"IF(J24304=0,0,+CONCATENATE(VLOOKUP(B24304,Cadastro!$Q$3:$R$162,2,FALSE),\"/\",J24304,\"/\",D24304))","v":"70/Rur/201609"},"Rur/201609","5495/201609","5495/1103/201609","70/201609","70/1103/201609","1103/201609","Pat","5495/Pat/201508",{"$f":"+CONCATENATE(VLOOKUP(F24304,Cadastro!$Q$3:$R$162,2,FALSE),\"/\",S24304,\"/\",H24304)","v":"70/Pat/201508"},"Pat/201508","5495/201508","5495/0141/201508","70/201508","70/0141/201508","0141/201508",0,420181.5,0,-1044645.31,0,738324.85999999987,0,109017.56999999999,0,194631.09]
[null,"05495","1105","201605",null,"05495","0171","201504",null,"Rur","5495/Rur/201605",{"$f":"IF(J24324=0,0,+CONCATENATE(VLOOKUP(B24324,Cadastro!$Q$3:$R$162,2,FALSE),\"/\",J24324,\"/\",D24324))","v":"70/Rur/201605"},"Rur/201605","5495/201605","5495/1105/201605","70/201605","70/1105/201605","1105/201605","Pat","5495/Pat/201504",{"$f":"+CONCATENATE(VLOOKUP(F24324,Cadastro!$Q$3:$R$162,2,FALSE),\"/\",S24324,\"/\",H24324)","v":"70/Pat/201504"},"Pat/201504","5495/201504","5495/0171/201504","70/201504","70/0171/201504","0171/201504",0,4161117.45,0,3551029.2300000004,0,2661919.21,0,414485.54000000004,0,1406159.85]
[null,"05495","1163","201606",null,"05495","0313","201507",null,"Rur","5495/Rur/201606",{"$f":"IF(J24409=0,0,+CONCATENATE(VLOOKUP(B24409,Cadastro!$Q$3:$R$162,2,FALSE),\"/\",J24409,\"/\",D24409))","v":"70/Rur/201606"},"Rur/201606","5495/201606","5495/1163/201606","70/201606","70/1163/201606","1163/201606","Res","5495/Res/201507",{"$f":"+CONCATENATE(VLOOKUP(F24409,Cadastro!$Q$3:$R$162,2,FALSE),\"/\",S24409,\"/\",H24409)","v":"70/Res/201507"},"Res/201507","5495/201507","5495/0313/201507","70/201507","70/0313/201507","0313/201507",0,0,0,0,0,0,0,0,0,0]
[null,"05495","1279","201605",null,"05495","0433","201506",null,"Out","5495/Out/201605",{"$f":"IF(J24444=0,0,+CONCATENATE(VLOOKUP(B24444,Cadastro!$Q$3:$R$162,2,FALSE),\"/\",J24444,\"/\",D24444))","v":"70/Out/201605"},"Out/201605","5495/201605","5495/1279/201605","70/201605","70/1279/201605","1279/201605","Mar","5495/Mar/201506",{"$f":"+CONCATENATE(VLOOKUP(F24444,Cadastro!$Q$3:$R$162,2,FALSE),\"/\",S24444,\"/\",H24444)","v":"70/Mar/201506"},"Mar/201506","5495/201506","5495/0433/201506","70/201506","70/0433/201506","0433/201506",0,-5271,0,-5271,0,-5271,0,0,0,-1054.2]
[null,"05495","1377","201610",null,"05495","0524","201506",null,"Pes","5495/Pes/201610",{"$f":"IF(J24509=0,0,+CONCATENATE(VLOOKUP(B24509,Cadastro!$Q$3:$R$162,2,FALSE),\"/\",J24509,\"/\",D24509))","v":"70/Pes/201610"},"Pes/201610","5495/201610","5495/1377/201610","70/201610","70/1377/201610","1377/201610","Aut","5495/Aut/201506",{"$f":"+CONCATENATE(VLOOKUP(F24509,Cadastro!$Q$3:$R$162,2,FALSE),\"/\",S24509,\"/\",H24509)","v":"70/Aut/201506"},"Aut/201506","5495/201506","5495/0524/201506","70/201506","70/0524/201506","0524/201506",3568258.07,0,3568258.07,0,1528327.86,0,0,0,287629.78000000003,0]
[null,"05495","1390","201607",null,"05495","0589","201505",null,"Pes","5495/Pes/201607",{"$f":"IF(J24590=0,0,+CONCATENATE(VLOOKUP(B24590,Cadastro!$Q$3:$R$162,2,FALSE),\"/\",J24590,\"/\",D24590))","v":"70/Pes/201607"},"Pes/201607","5495/201607","5495/1390/201607","70/201607","70/1390/201607","1390/201607","Dpvat","5495/Dpvat/201505",{"$f":"+CONCATENATE(VLOOKUP(F24590,Cadastro!$Q$3:$R$162,2,FALSE),\"/\",S24590,\"/\",H24590)","v":"70/Dpvat/201505"},"Dpvat/201505","5495/201505","5495/0589/201505","70/201505","70/0589/201505","0589/201505",0,0,0,0,0,0,0,0,0,0]
[null,"05495","1528","201608",null,"05495","0638","201506",null,"Aero","5495/Aero/201608",{"$f":"IF(J24675=0,0,+CONCATENATE(VLOOKUP(B24675,Cadastro!$Q$3:$R$162,2,FALSE),\"/\",J24675,\"/\",D24675))","v":"70/Aero/201608"},"Aero/201608","5495/201608","5495/1528/201608","70/201608","70/1528/201608","1528/201608","Transp","5495/Transp/201506",{"$f":"+CONCATENATE(VLOOKUP(F24675,Cadastro!$Q$3:$R$162,2,FALSE),\"/\",S24675,\"/\",H24675)","v":"70/Transp/201506"},"Transp/201506","5495/201506","5495/0638/201506","70/201506","70/0638/201506","0638/201506",0,0,0,0,0,0,0,0,0,0]
[null,"05495","1597","201604",null,"05495","0654","201502",null,"Aero","5495/Aero/201604",{"$f":"IF(J24707=0,0,+CONCATENATE(VLOOKUP(B24707,Cadastro!$Q$3:$R$162,2,FALSE),\"/\",J24707,\"/\",D24707))","v":"70/Aero/201604"},"Aero/201604","5495/201604","5495/1597/201604","70/201604","70/1597/201604","1597/201604","Transp","5495/Transp/201502",{"$f":"+CONCATENATE(VLOOKUP(F24707,Cadastro!$Q$3:$R$162,2,FALSE),\"/\",S24707,\"/\",H24707)","v":"70/Transp/201502"},"Transp/201502","5495/201502","5495/0654/201502","70/201502","70/0654/201502","0654/201502",0,1073664.02,0,1040713.53,0,862795.96,0,746815.3,0,199391.15]
[null,"05533","0118","201612",null,"05495","0740","201510",null,"Pat","5533/Pat/201612",{"$f":"IF(J24775=0,0,+CONCATENATE(VLOOKUP(B24775,Cadastro!$Q$3:$R$162,2,FALSE),\"/\",J24775,\"/\",D24775))","v":"20/Pat/201612"},"Pat/201612","5533/201612","5533/0118/201612","20/201612","20/0118/201612","0118/201612","RF","5495/RF/201510",{"$f":"+CONCATENATE(VLOOKUP(F24775,Cadastro!$Q$3:$R$162,2,FALSE),\"/\",S24775,\"/\",H24775)","v":"70/RF/201510"},"RF/201510","5495/201510","5495/0740/201510","70/201510","70/0740/201510","0740/201510",0,23680.97,0,-373674.13,0,145721.07000000007,0,-2479.91,0,80354.94]
[null,"05533","0272","201601",null,"05495","0750","201511",null,"RE","5533/RE/201601",{"$f":"IF(J24860=0,0,+CONCATENATE(VLOOKUP(B24860,Cadastro!$Q$3:$R$162,2,FALSE),\"/\",J24860,\"/\",D24860))","v":"20/RE/201601"},"RE/201601","5533/201601","5533/0272/201601","20/201601","20/0272/201601","0272/201601","RF","5495/RF/201511",{"$f":"+CONCATENATE(VLOOKUP(F24860,Cadastro!$Q$3:$R$162,2,FALSE),\"/\",S24860,\"/\",H24860)","v":"70/RF/201511"},"RF/201511","5495/201511","5495/0750/201511","70/201511","70/0750/201511","0750/201511",0,0,0,-18845.78,0,6550.93,0,0,0,2163.6]
[null,"05533","0437","201602",null,"05495","0969","201507",null,"Aero","5533/Aero/201602",{"$f":"IF(J24945=0,0,+CONCATENATE(VLOOKUP(B24945,Cadastro!$Q$3:$R$162,2,FALSE),\"/\",J24945,\"/\",D24945))","v":"20/Aero/201602"},"Aero/201602","5533/201602","5533/0437/201602","20/201602","20/0437/201602","0437/201602","Pes","5495/Pes/201507",{"$f":"+CONCATENATE(VLOOKUP(F24945,Cadastro!$Q$3:$R$162,2,FALSE),\"/\",S24945,\"/\",H24945)","v":"70/Pes/201507"},"Pes/201507","5495/201507","5495/0969/201507","70/201507","70/0969/201507","0969/201507",0,814374.62,0,807825.27,0,841146.4,0,75719.02,0,282550.71000000002]
[null,"05533","0520","201603",null,"05495","0980","201508",null,"Aut","5533/Aut/201603",{"$f":"IF(J24970=0,0,+CONCATENATE(VLOOKUP(B24970,Cadastro!$Q$3:$R$162,2,FALSE),\"/\",J24970,\"/\",D24970))","v":"20/Aut/201603"},"Aut/201603","5533/201603","5533/0520/201603","20/201603","20/0520/201603","0520/201603","Pes","5495/Pes/201508",{"$f":"+CONCATENATE(VLOOKUP(F24970,Cadastro!$Q$3:$R$162,2,FALSE),\"/\",S24970,\"/\",H24970)","v":"70/Pes/201508"},"Pes/201508","5495/201508","5495/0980/201508","70/201508","70/0980/201508","0980/201508",0,0,0,0,0,0,0,0,0,0]
[null,"05533","0621","201606",null,"05495","0987","201511",null,"Transp","5533/Transp/201606",{"$f":"IF(J25045=0,0,+CONCATENATE(VLOOKUP(B25045,Cadastro!$Q$3:$R$162,2,FALSE),\"/\",J25045,\"/\",D25045))","v":"20/Transp/201606"},"Transp/201606","5533/201606","5533/0621/201606","20/201606","20/0621/201606","0621/201606","Pes","5495/Pes/201511",{"$f":"+CONCATENATE(VLOOKUP(F25045,Cadastro!$Q$3:$R$162,2,FALSE),\"/\",S25045,\"/\",H25045)","v":"70/Pes/201511"},"Pes/201511","5495/201511","5495/0987/201511","70/201511","70/0987/201511","0987/201511",0,3486.07,0,3486.07,0,3591.44,0,33495.15,0,31.61]
[null,"05533","0655","201603",null,"05495","1065","201508",null,"Transp","5533/Transp/201603",{"$f":"IF(J25126=0,0,+CONCATENATE(VLOOKUP(B25126,Cadastro!$Q$3:$R$162,2,FALSE),\"/\",J25126,\"/\",D25126))","v":"20/Transp/201603"},"Transp/201603","5533/201603","5533/0655/201603","20/201603","20/0655/201603","0655/201603","Hab","5495/Hab/201508",{"$f":"+CONCATENATE(VLOOKUP(F25126,Cadastro!$Q$3:$R$162,2,FALSE),\"/\",S25126,\"/\",H25126)","v":"70/Hab/201508"},"Hab/201508","5495/201508","5495/1065/201508","70/201508","70/1065/201508","1065/201508",0,5832.49,0,4717.9699999999993,0,4365.8799999999992,0,-601.65,0,442.88]
[null,"05533","0747","201604",null,"05495","1107","201506",null,"RF","5533/RF/201604",{"$f":"IF(J25211=0,0,+CONCATENATE(VLOOKUP(B25211,Cadastro!$Q$3:$R$162,2,FALSE),\"/\",J25211,\"/\",D25211))","v":"20/RF/201604"},"RF/201604","5533/201604","5533/0747/201604","20/201604","20/0747/201604","0747/201604","Rur","5495/Rur/201506",{"$f":"+CONCATENATE(VLOOKUP(F25211,Cadastro!$Q$3:$R$162,2,FALSE),\"/\",S25211,\"/\",H25211)","v":"70/Rur/201506"},"Rur/201506","5495/201506","5495/1107/201506","70/201506","70/1107/201506","1107/201506",0,0,0,0,0,0,0,0,0,0]
[null,"05533","0750","201612",null,"05495","1109","201502",null,"RF","5533/RF/201612",{"$f":"IF(J25231=0,0,+CONCATENATE(VLOOKUP(B25231,Cadastro!$Q$3:$R$162,2,FALSE),\"/\",J25231,\"/\",D25231))","v":"20/RF/201612"},"RF/201612","5533/201612","5533/0750/201612","20/201612","20/0750/201612","0750/201612","Rur","5495/Rur/201502",{"$f":"+CONCATENATE(VLOOKUP(F25231,Cadastro!$Q$3:$R$162,2,FALSE),\"/\",S25231,\"/\",H25231)","v":"70/Rur/201502"},"Rur/201502","5495/201502","5495/1109/201502","70/201502","70/1109/201502","1109/201502",0,0,0,0,0,0,0,0,0,0]
[null,"05533","0980","201604",null,"05495","1164","201506",null,"Pes","5533/Pes/201604",{"$f":"IF(J25283=0,0,+CONCATENATE(VLOOKUP(B25283,Cadastro!$Q$3:$R$162,2,FALSE),\"/\",J25283,\"/\",D25283))","v":"20/Pes/201604"},"Pes/201604","5533/201604","5533/0980/201604","20/201604","20/0980/201604","0980/201604","Rur","5495/Rur/201506",{"$f":"+CONCATENATE(VLOOKUP(F25283,Cadastro!$Q$3:$R$162,2,FALSE),\"/\",S25283,\"/\",H25283)","v":"70/Rur/201506"},"Rur/201506","5495/201506","5495/1164/201506","70/201506","70/1164/201506","1164/201506",0,0,0,0,0,0,0,0,0,0]
[null,"05533","1102","201609",null,"05495","1384","201508",null,"Rur","5533/Rur/201609",{"$f":"IF(J25396=0,0,+CONCATENATE(VLOOKUP(B25396,Cadastro!$Q$3:$R$162,2,FALSE),\"/\",J25396,\"/\",D25396))","v":"20/Rur/201609"},"Rur/201609","5533/201609","5533/1102/201609","20/201609","20/1102/201609","1102/201609","Pes","5495/Pes/201508",{"$f":"+CONCATENATE(VLOOKUP(F25396,Cadastro!$Q$3:$R$162,2,FALSE),\"/\",S25396,\"/\",H25396)","v":"70/Pes/201508"},"Pes/201508","5495/201508","5495/1384/201508","70/201508","70/1384/201508","1384/201508",0,0,0,0,0,0,0,0,0,0]
[null,"05533","1104","201601",null,"05495","1386","201512",null,"Rur","5533/Rur/201601",{"$f":"IF(J25412=0,0,+CONCATENATE(VLOOKUP(B25412,Cadastro!$Q$3:$R$162,2,FALSE),\"/\",J25412,\"/\",D25412))","v":"20/Rur/201601"},"Rur/201601","5533/201601","5533/1104/201601","20/201601","20/1104/201601","1104/201601","Pes","5495/Pes/201512",{"$f":"+CONCATENATE(VLOOKUP(F25412,Cadastro!$Q$3:$R$162,2,FALSE),\"/\",S25412,\"/\",H25412)","v":"70/Pes/201512"},"Pes/201512","5495/201512","5495/1386/201512","70/201512","70/1386/201512","1386/201512",0,0,0,0,0,0,0,0,0,0]
[null,"05533","1162","201602",null,"05495","1457","201508",null,"Rur","5533/Rur/201602",{"$f":"IF(J25497=0,0,+CONCATENATE(VLOOKUP(B25497,Cadastro!$Q$3:$R$162,2,FALSE),\"/\",J25497,\"/\",D25497))","v":"20/Rur/201602"},"Rur/201602","5533/201602","5533/1162/201602","20/201602","20/1162/201602","1162/201602","Mar","5495/Mar/201508",{"$f":"+CONCATENATE(VLOOKUP(F25497,Cadastro!$Q$3:$R$162,2,FALSE),\"/\",S25497,\"/\",H25497)","v":"70/Mar/201508"},"Mar/201508","5495/201508","5495/1457/201508","70/201508","70/1457/201508","1457/201508",0,0,0,0,0,0,0,0,0,0]
[null,"05631","0114","201603",null,"05495","1597","201509",null,"Pat","5631/Pat/201603",{"$f":"IF(J25546=0,0,+CONCATENATE(VLOOKUP(B25546,Cadastro!$Q$3:$R$162,2,FALSE),\"/\",J25546,\"/\",D25546))","v":"22/Pat/201603"},"Pat/201603","5631/201603","5631/0114/201603","22/201603","22/0114/201603","0114/201603","Aero","5495/Aero/201509",{"$f":"+CONCATENATE(VLOOKUP(F25546,Cadastro!$Q$3:$R$162,2,FALSE),\"/\",S25546,\"/\",H25546)","v":"70/Aero/201509"},"Aero/201509","5495/201509","5495/1597/201509","70/201509","70/1597/201509","1597/201509",15434553.84,0,15356383.279999999,0,13909459.139999999,0,1279691.5900000001,0,4834917.1500000004,0]
[null,"05631","0196","201611",null,"05533","0195","201505",null,"Pat","5631/Pat/201611",{"$f":"IF(J25662=0,0,+CONCATENATE(VLOOKUP(B25662,Cadastro!$Q$3:$R$162,2,FALSE),\"/\",J25662,\"/\",D25662))","v":"22/Pat/201611"},"Pat/201611","5631/201611","5631/0196/201611","22/201611","22/0196/201611","0196/201611","Pat","5533/Pat/201505",{"$f":"+CONCATENATE(VLOOKUP(F25662,Cadastro!$Q$3:$R$162,2,FALSE),\"/\",S25662,\"/\",H25662)","v":"20/Pat/201505"},"Pat/201505","5533/201505","5533/0195/201505","20/201505","20/0195/201505","0195/201505",0,22289426.629999999,0,22289426.629999999,0,24217147.530000001,0,2302311.1800000002,0,19072516.989999998]
[null,"05631","0310","201607",null,"05533","0234","201501",null,"Res",{"$f":"IF(J25682=0,0,+CONCATENATE(VALUE(B25682),\"/\",J25682,\"/\",D25682))","v":"5631/Res/201607"},{"$f":"IF(J25682=0,0,+CONCATENATE(VLOOKUP(B25682,Cadastro!$Q$3:$R$162,2,FALSE),\"/\",J25682,\"/\",D25682))","v":"22/Res/201607"},"Res/201607","5631/201607","5631/0310/201607","22/201607","22/0310/201607","0310/201607","RE","5533/RE/201501",{"$f":"+CONCATENATE(VLOOKUP(F25682,Cadastro!$Q$3:$R$162,2,FALSE),\"/\",S25682,\"/\",H25682)","v":"20/RE/201501"},"RE/201501","5533/201501","5533/0234/201501","20/201501","20/0234/201501","0234/201501",0,0,0,0,0,0,0,0,0,0]
[null,"05631","0542","201608",null,"05533","0435","201502",null,"Aut","5631/Aut/201608",{"$f":"IF(J25767=0,0,+CONCATENATE(VLOOKUP(B25767,Cadastro!$Q$3:$R$162,2,FALSE),\"/\",J25767,\"/\",D25767))","v":"22/Aut/201608"},"Aut/201608","5631/201608","5631/0542/201608","22/201608","22/0542/201608","0542/201608","Aero","5533/Aero/201502",{"$f":"+CONCATENATE(VLOOKUP(F25767,Cadastro!$Q$3:$R$162,2,FALSE),\"/\",S25767,\"/\",H25767)","v":"20/Aero/201502"},"Aero/201502","5533/201502","5533/0435/201502","20/201502","20/0435/201502","0435/201502",2596772.38,0,2596772.38,0,2356362.7999999998,0,385386.66,0,-213268.7,0]
[null,"05631","0589","201602",null,"05533","0520","201508",null,"Dpvat","5631/Dpvat/201602",{"$f":"IF(J25809=0,0,+CONCATENATE(VLOOKUP(B25809,Cadastro!$Q$3:$R$162,2,FALSE),\"/\",J25809,\"/\",D25809))","v":"22/Dpvat/201602"},"Dpvat/201602","5631/201602","5631/0589/201602","22/201602","22/0589/201602","0589/201602","Aut","5533/Aut/201508",{"$f":"+CONCATENATE(VLOOKUP(F25809,Cadastro!$Q$3:$R$162,2,FALSE),\"/\",S25809,\"/\",H25809)","v":"20/Aut/201508"},"Aut/201508","5533/201508","5533/0520/201508","20/201508","20/0520/201508","0520/201508",0,0,0,0,0,0,0,0,0,0]
[null,"05631","0654","201612",null,"05533","0589","201506",null,"Transp","5631/Transp/201612",{"$f":"IF(J25867=0,0,+CONCATENATE(VLOOKUP(B25867,Cadastro!$Q$3:$R$162,2,FALSE),\"/\",J25867,\"/\",D25867))","v":"22/Transp/201612"},"Transp/201612","5631/201612","5631/0654/201612","22/201612","22/0654/201612","0654/201612","Dpvat","5533/Dpvat/201506",{"$f":"+CONCATENATE(VLOOKUP(F25867,Cadastro!$Q$3:$R$162,2,FALSE),\"/\",S25867,\"/\",H25867)","v":"20/Dpvat/201506"},"Dpvat/201506","5533/201506","5533/0589/201506","20/201506","20/0589/201506","0589/201506",0,0,0,0,0,0,0,0,0,0]
[null,"05631","0819","201609",null,"05533","0654","201503",null,"RF","5631/RF/201609",{"$f":"IF(J25948=0,0,+CONCATENATE(VLOOKUP(B25948,Cadastro!$Q$3:$R$162,2,FALSE),\"/\",J25948,\"/\",D25948))","v":"22/RF/201609"},"RF/201609","5631/201609","5631/0819/201609","22/201609","22/0819/201609","0819/201609","Transp","5533/Transp/201503",{"$f":"+CONCATENATE(VLOOKUP(F25948,Cadastro!$Q$3:$R$162,2,FALSE),\"/\",S25948,\"/\",H25948)","v":"20/Transp/201503"},"Transp/201503","5533/201503","5533/0654/201503","20/201503","20/0654/201503","0654/201503",0,0,0,0,0,0,0,0,0,0]
[null,"05631","0981","201610",null,"05533","0746","201504",null,"Pes","5631/Pes/201610",{"$f":"IF(J26033=0,0,+CONCATENATE(VLOOKUP(B26033,Cadastro!$Q$3:$R$162,2,FALSE),\"/\",J26033,\"/\",D26033))","v":"22/Pes/201610"},"Pes/201610","5631/201610","5631/0981/201610","22/201610","22/0981/201610","0981/201610","RF","5533/RF/201504",{"$f":"+CONCATENATE(VLOOKUP(F26033,Cadastro!$Q$3:$R$162,2,FALSE),\"/\",S26033,\"/\",H26033)","v":"20/RF/201504"},"RF/201504","5533/201504","5533/0746/201504","20/201504","20/0746/201504","0746/201504",0,0,0,0,0,0,-32197.47,0,0,0]
[null,"05631","0987","201601",null,"05533","0860","201507",null,"Pes","5631/Pes/201601",{"$f":"IF(J26072=0,0,+CONCATENATE(VLOOKUP(B26072,Cadastro!$Q$3:$R$162,2,FALSE),\"/\",J26072,\"/\",D26072))","v":"22/Pes/201601"},"Pes/201601","5631/201601","5631/0987/201601","22/201601","22/0987/201601","0987/201601","RF","5533/RF/201507",{"$f":"+CONCATENATE(VLOOKUP(F26072,Cadastro!$Q$3:$R$162,2,FALSE),\"/\",S26072,\"/\",H26072)","v":"20/RF/201507"},"RF/201507","5533/201507","5533/0860/201507","20/201507","20/0860/201507","0860/201507",91805.95,0,91805.95,0,91805.95,0,0,0,11010.28,0]
[null,"05631","1066","201602",null,"05533","0981","201508",null,"Hab","5631/Hab/201602",{"$f":"IF(J26133=0,0,+CONCATENATE(VLOOKUP(B26133,Cadastro!$Q$3:$R$162,2,FALSE),\"/\",J26133,\"/\",D26133))","v":"22/Hab/201602"},"Hab/201602","5631/201602","5631/1066/201602","22/201602","22/1066/201602","1066/201602","Pes","5533/Pes/201508",{"$f":"+CONCATENATE(VLOOKUP(F26133,Cadastro!$Q$3:$R$162,2,FALSE),\"/\",S26133,\"/\",H26133)","v":"20/Pes/201508"},"Pes/201508","5533/201508","5533/0981/201508","20/201508","20/0981/201508","0981/201508",0,0,0,0,0,0,0,0,0,0]
[null,"05631","1163","201601",null,"05533","1101","201509",null,"Rur","5631/Rur/201601",{"$f":"IF(J26218=0,0,+CONCATENATE(VLOOKUP(B26218,Cadastro!$Q$3:$R$162,2,FALSE),\"/\",J26218,\"/\",D26218))","v":"22/Rur/201601"},"Rur/201601","5631/201601","5631/1163/201601","22/201601","22/1163/201601","1163/201601","Rur","5533/Rur/201509",{"$f":"+CONCATENATE(VLOOKUP(F26218,Cadastro!$Q$3:$R$162,2,FALSE),\"/\",S26218,\"/\",H26218)","v":"20/Rur/201509"},"Rur/201509","5533/201509","5533/1101/201509","20/201509","20/1101/201509","1101/201509",0,0,0,0,0,0,0,0,0,0]
[null,"05631","1391","201610",null,"05533","1108","201510",null,"Pes","5631/Pes/201610",{"$f":"IF(J26303=0,0,+CONCATENATE(VLOOKUP(B26303,Cadastro!$Q$3:$R$162,2,FALSE),\"/\",J26303,\"/\",D26303))","v":"22/Pes/201610"},"Pes/201610","5631/201610","5631/1391/201610","22/201610","22/1391/201610","1391/201610","Rur","5533/Rur/201510",{"$f":"+CONCATENATE(VLOOKUP(F26303,Cadastro!$Q$3:$R$162,2,FALSE),\"/\",S26303,\"/\",H26303)","v":"20/Rur/201510"},"Rur/201510","5533/201510","5533/1108/201510","20/201510","20/1108/201510","1108/201510",18759.3,0,18759.3,0,18412.84,0,55101.37,0,1.84,0]
[null,"05631","1535","201606",null,"05533","1162","201506",null,"Aero","5631/Aero/201606",{"$f":"IF(J26335=0,0,+CONCATENATE(VLOOKUP(B26335,Cadastro!$Q$3:$R$162,2,FALSE),\"/\",J26335,\"/\",D26335))","v":"22/Aero/201606"},"Aero/201606","5631/201606","5631/1535/201606","22/201606","22/1535/201606","1535/201606","Rur","5533/Rur/201506",{"$f":"+CONCATENATE(VLOOKUP(F26335,Cadastro!$Q$3:$R$162,2,FALSE),\"/\",S26335,\"/\",H26335)","v":"20/Rur/201506"},"Rur/201506","5533/201506","5533/1162/201506","20/201506","20/1162/201506","1162/201506",0,0,0,0,0,0,0,0,0,0]
[null,"05665","0115","201606",null,"05631","0116","201502",null,"Pat","5665/Pat/201606",{"$f":"IF(J26403=0,0,+CONCATENATE(VLOOKUP(B26403,Cadastro!$Q$3:$R$162,2,FALSE),\"/\",J26403,\"/\",D26403))","v":"16/Pat/201606"},"Pat/201606","5665/201606","5665/0115/201606","16/201606","16/0115/201606","0115/201606","Pat","5631/Pat/201502",{"$f":"+CONCATENATE(VLOOKUP(F26403,Cadastro!$Q$3:$R$162,2,FALSE),\"/\",S26403,\"/\",H26403)","v":"22/Pat/201502"},"Pat/201502","5631/201502","5631/0116/201502","22/201502","22/0116/201502","0116/201502",0,0,0,0,0,0,0,122.55999999999999,0,0]
[null,"05665","0435","201607",null,"05631","0195","201511",null,"Aero","5665/Aero/201607",{"$f":"IF(J26484=0,0,+CONCATENATE(VLOOKUP(B26484,Cadastro!$Q$3:$R$162,2,FALSE),\"/\",J26484,\"/\",D26484))","v":"16/Aero/201607"},"Aero/201607","5665/201607","5665/0435/201607","16/201607","16/0435/201607","0435/201607","Pat","5631/Pat/201511",{"$f":"+CONCATENATE(VLOOKUP(F26484,Cadastro!$Q$3:$R$162,2,FALSE),\"/\",S26484,\"/\",H26484)","v":"22/Pat/201511"},"Pat/201511","5631/201511","5631/0195/201511","22/201511","22/0195/201511","0195/201511",0,0,0,0,0,0,265.81,0,0,0]
[null,"05665","0745","201610",null,"05631","0520","201512",null,"RF","5665/RF/201610",{"$f":"IF(J26569=0,0,+CONCATENATE(VLOOKUP(B26569,Cadastro!$Q$3:$R$162,2,FALSE),\"/\",J26569,\"/\",D26569))","v":"16/RF/201610"},"RF/201610","5665/201610","5665/0745/201610","16/201610","16/0745/201610","0745/201610","Aut","5631/Aut/201512",{"$f":"+CONCATENATE(VLOOKUP(F26569,Cadastro!$Q$3:$R$162,2,FALSE),\"/\",S26569,\"/\",H26569)","v":"22/Aut/201512"},"Aut/201512","5631/201512","5631/0520/201512","22/201512","22/0520/201512","0520/201512",0,123263.38,0,123263.38,0,103713.21,0,553.98,0,12193.69]
[null,"05665","0860","201609",null,"05631","0542","201505",null,"RF","5665/RF/201609",{"$f":"IF(J26598=0,0,+CONCATENATE(VLOOKUP(B26598,Cadastro!$Q$3:$R$162,2,FALSE),\"/\",J26598,\"/\",D26598))","v":"16/RF/201609"},"RF/201609","5665/201609","5665/0860/201609","16/201609","16/0860/201609","0860/201609","Aut","5631/Aut/201505",{"$f":"+CONCATENATE(VLOOKUP(F26598,Cadastro!$Q$3:$R$162,2,FALSE),\"/\",S26598,\"/\",H26598)","v":"22/Aut/201505"},"Aut/201505","5631/201505","5631/0542/201505","22/201505","22/0542/201505","0542/201505",0,1899375.28,0,1899375.28,0,1995913.74,0,1336408.6399999999,0,291506.84999999998]
[null,"05665","0982","201602",null,"05631","0622","201504",null,"Pes","5665/Pes/201602",{"$f":"IF(J26669=0,0,+CONCATENATE(VLOOKUP(B26669,Cadastro!$Q$3:$R$162,2,FALSE),\"/\",J26669,\"/\",D26669))","v":"16/Pes/201602"},"Pes/201602","5665/201602","5665/0982/201602","16/201602","16/0982/201602","0982/201602","Transp","5631/Transp/201504",{"$f":"+CONCATENATE(VLOOKUP(F26669,Cadastro!$Q$3:$R$162,2,FALSE),\"/\",S26669,\"/\",H26669)","v":"22/Transp/201504"},"Transp/201504","5631/201504","5631/0622/201504","22/201504","22/0622/201504","0622/201504",6523976.5999999996,0,6517890.3899999997,0,4496204.63,0,-604825.28,0,1350728.84,0]
[null,"05665","0992","201609",null,"05631","0775","201505",null,"VGBL","5665/VGBL/201609",{"$f":"IF(J26754=0,0,+CONCATENATE(VLOOKUP(B26754,Cadastro!$Q$3:$R$162,2,FALSE),\"/\",J26754,\"/\",D26754))","v":"16/VGBL/201609"},"VGBL/201609","5665/201609","5665/0992/201609","16/201609","16/0992/201609","0992/201609","RF","5631/RF/201505",{"$f":"+CONCATENATE(VLOOKUP(F26754,Cadastro!$Q$3:$R$162,2,FALSE),\"/\",S26754,\"/\",H26754)","v":"22/RF/201505"},"RF/201505","5631/201505","5631/0775/201505","22/201505","22/0775/201505","0775/201505",0,-119683.08,0,-423122.92000000004,0,195889.19999999995,0,20102.149999999998,0,99192.42]
[null,"05665","1299","201608",null,"05631","0977","201502",null,"Out","5665/Out/201608",{"$f":"IF(J26835=0,0,+CONCATENATE(VLOOKUP(B26835,Cadastro!$Q$3:$R$162,2,FALSE),\"/\",J26835,\"/\",D26835))","v":"16/Out/201608"},"Out/201608","5665/201608","5665/1299/201608","16/201608","16/1299/201608","1299/201608","Pes","5631/Pes/201502",{"$f":"+CONCATENATE(VLOOKUP(F26835,Cadastro!$Q$3:$R$162,2,FALSE),\"/\",S26835,\"/\",H26835)","v":"22/Pes/201502"},"Pes/201502","5631/201502","5631/0977/201502","22/201502","22/0977/201502","0977/201502",0,68508351.859999999,0,68469930.879999995,0,24808120.960000001,0,1061321.98,0,9338938.5800000001]
[null,"05665","1377","201604",null,"05631","0981","201504",null,"Pes","5665/Pes/201604",{"$f":"IF(J26861=0,0,+CONCATENATE(VLOOKUP(B26861,Cadastro!$Q$3:$R$162,2,FALSE),\"/\",J26861,\"/\",D26861))","v":"16/Pes/201604"},"Pes/201604","5665/201604","5665/1377/201604","16/201604","16/1377/201604","1377/201604","Pes","5631/Pes/201504",{"$f":"+CONCATENATE(VLOOKUP(F26861,Cadastro!$Q$3:$R$162,2,FALSE),\"/\",S26861,\"/\",H26861)","v":"22/Pes/201504"},"Pes/201504","5631/201504","5631/0981/201504","22/201504","22/0981/201504","0981/201504",0,4674.12,0,4674.12,0,4641.25,0,-51326.67,0,1391.17]
[null,"05665","1390","201610",null,"05631","0993","201510",null,"Pes","5665/Pes/201610",{"$f":"IF(J26939=0,0,+CONCATENATE(VLOOKUP(B26939,Cadastro!$Q$3:$R$162,2,FALSE),\"/\",J26939,\"/\",D26939))","v":"16/Pes/201610"},"Pes/201610","5665/201610","5665/1390/201610","16/201610","16/1390/201610","1390/201610","Pes","5631/Pes/201510",{"$f":"+CONCATENATE(VLOOKUP(F26939,Cadastro!$Q$3:$R$162,2,FALSE),\"/\",S26939,\"/\",H26939)","v":"22/Pes/201510"},"Pes/201510","5631/201510","5631/0993/201510","22/201510","22/0993/201510","0993/201510",0,74679508.599999994,0,64839074.209999993,0,64663110.590000004,0,22726092.690000001,0,12926304.08]
[null,"05690","0114","201606",null,"05631","1108","201507",null,"Pat","5690/Pat/201606",{"$f":"IF(J27020=0,0,+CONCATENATE(VLOOKUP(B27020,Cadastro!$Q$3:$R$162,2,FALSE),\"/\",J27020,\"/\",D27020))","v":"37/Pat/201606"},"Pat/201606","5690/201606","5690/0114/201606","37/201606","37/0114/201606","0114/201606","Rur","5631/Rur/201507",{"$f":"+CONCATENATE(VLOOKUP(F27020,Cadastro!$Q$3:$R$162,2,FALSE),\"/\",S27020,\"/\",H27020)","v":"22/Rur/201507"},"Rur/201507","5631/201507","5631/1108/201507","22/201507","22/1108/201507","1108/201507",34072.239999999998,0,32823.4,0,46401.36,0,34330.990000000005,0,16663.46,0]
[null,"05690","0116","201602",null,"05631","1163","201503",null,"Pat","5690/Pat/201602",{"$f":"IF(J27040=0,0,+CONCATENATE(VLOOKUP(B27040,Cadastro!$Q$3:$R$162,2,FALSE),\"/\",J27040,\"/\",D27040))","v":"37/Pat/201602"},"Pat/201602","5690/201602","5690/0116/201602","37/201602","37/0116/201602","0116/201602","Rur","5631/Rur/201503",{"$f":"+CONCATENATE(VLOOKUP(F27040,Cadastro!$Q$3:$R$162,2,FALSE),\"/\",S27040,\"/\",H27040)","v":"22/Rur/201503"},"Rur/201503","5631/201503","5631/1163/201503","22/201503","22/1163/201503","1163/201503",0,0,0,0,0,0,0,0,0,0]
[null,"05690","0196","201602",null,"05631","1433","201503",null,"Pat","5690/Pat/201602",{"$f":"IF(J27124=0,0,+CONCATENATE(VLOOKUP(B27124,Cadastro!$Q$3:$R$162,2,FALSE),\"/\",J27124,\"/\",D27124))","v":"37/Pat/201602"},"Pat/201602","5690/201602","5690/0196/201602","37/201602","37/0196/201602","0196/201602","Mar","5631/Mar/201503",{"$f":"+CONCATENATE(VLOOKUP(F27124,Cadastro!$Q$3:$R$162,2,FALSE),\"/\",S27124,\"/\",H27124)","v":"22/Mar/201503"},"Mar/201503","5631/201503","5631/1433/201503","22/201503","22/1433/201503","1433/201503",0,0,-3387.44,0,5574.0399999999991,0,0,0,1003.69,0]
[null,"05690","0351","201611",null,"05665","0114","201512",null,{"$f":"IF(C27205=0,0,+VLOOKUP(C27205,$AQ$4:$AR$130,2,FALSE))","v":"Res"},"5690/Res/201611",{"$f":"IF(J27205=0,0,+CONCATENATE(VLOOKUP(B27205,Cadastro!$Q$3:$R$162,2,FALSE),\"/\",J27205,\"/\",D27205))","v":"37/Res/201611"},"Res/201611","5690/201611","5690/0351/201611","37/201611","37/0351/201611","0351/201611",{"$f":"+VLOOKUP(G27205,$AQ$4:$AR$130,2,FALSE)","v":"Pat"},{"$f":"+CONCATENATE(VALUE(F27205),\"/\",S27205,\"/\",H27205)","v":"5665/Pat/201512"},{"$f":"+CONCATENATE(VLOOKUP(F27205,Cadastro!$Q$3:$R$162,2,FALSE),\"/\",S27205,\"/\",H27205)","v":"16/Pat/201512"},"Pat/201512","5665/201512","5665/0114/201512","16/201512","16/0114/201512","0114/201512",146241.07,0,145769.19,0,154222.19999999998,0,-2831.79,0,34891.279999999999,0]
[null,"05690","0433","201607",null,"05665","0141","201508",null,"Mar","5690/Mar/201607",{"$f":"IF(J27225=0,0,+CONCATENATE(VLOOKUP(B27225,Cadastro!$Q$3:$R$162,2,FALSE),\"/\",J27225,\"/\",D27225))","v":"37/Mar/201607"},"Mar/201607","5690/201607","5690/0433/201607","37/201607","37/0433/201607","0433/201607","Pat","5665/Pat/201508",{"$f":"+CONCATENATE(VLOOKUP(F27225,Cadastro!$Q$3:$R$162,2,FALSE),\"/\",S27225,\"/\",H27225)","v":"16/Pat/201508"},"Pat/201508","5665/201508","5665/0141/201508","16/201508","16/0141/201508","0141/201508",0,0,0,0,0,0,0,0,0,0]
[null,"05690","0525","201604",null,"05665","0435","201505",null,"Aut","5690/Aut/201604",{"$f":"IF(J27306=0,0,+CONCATENATE(VLOOKUP(B27306,Cadastro!$Q$3:$R$162,2,FALSE),\"/\",J27306,\"/\",D27306))","v":"37/Aut/201604"},"Aut/201604","5690/201604","5690/0525/201604","37/201604","37/0525/201604","0525/201604","Aero","5665/Aero/201505",{"$f":"+CONCATENATE(VLOOKUP(F27306,Cadastro!$Q$3:$R$162,2,FALSE),\"/\",S27306,\"/\",H27306)","v":"16/Aero/201505"},"Aero/201505","5665/201505","5665/0435/201505","16/201505","16/0435/201505","0435/201505",0,0,0,0,0,0,0,0,0,0]
[null,"05690","0589","201601",null,"05665","0622","201502",null,"Dpvat","5690/Dpvat/201601",{"$f":"IF(J27387=0,0,+CONCATENATE(VLOOKUP(B27387,Cadastro!$Q$3:$R$162,2,FALSE),\"/\",J27387,\"/\",D27387))","v":"37/Dpvat/201601"},"Dpvat/201601","5690/201601","5690/0589/201601","37/201601","37/0589/201601","0589/201601","Transp","5665/Transp/201502",{"$f":"+CONCATENATE(VLOOKUP(F27387,Cadastro!$Q$3:$R$162,2,FALSE),\"/\",S27387,\"/\",H27387)","v":"16/Transp/201502"},"Transp/201502","5665/201502","5665/0622/201502","16/201502","16/0622/201502","0622/201502",0,0,0,0,0,0,0,0,0,0]
[null,"05690","0638","201605",null,"05665","0977","201504",null,"Transp","5690/Transp/201605",{"$f":"IF(J27475=0,0,+CONCATENATE(VLOOKUP(B27475,Cadastro!$Q$3:$R$162,2,FALSE),\"/\",J27475,\"/\",D27475))","v":"37/Transp/201605"},"Transp/201605","5690/201605","5690/0638/201605","37/201605","37/0638/201605","0638/201605","Pes","5665/Pes/201504",{"$f":"+CONCATENATE(VLOOKUP(F27475,Cadastro!$Q$3:$R$162,2,FALSE),\"/\",S27475,\"/\",H27475)","v":"16/Pes/201504"},"Pes/201504","5665/201504","5665/0977/201504","16/201504","16/0977/201504","0977/201504",0,359387.48,0,359304.94,0,770563.94,0,281276.04000000004,0,47018.6]
[null,"05690","0644","201609",null,"05665","0980","201508",null,"Transp","5690/Transp/201609",{"$f":"IF(J27491=0,0,+CONCATENATE(VLOOKUP(B27491,Cadastro!$Q$3:$R$162,2,FALSE),\"/\",J27491,\"/\",D27491))","v":"37/Transp/201609"},"Transp/201609","5690/201609","5690/0644/201609","37/201609","37/0644/201609","0644/201609","Pes","5665/Pes/201508",{"$f":"+CONCATENATE(VLOOKUP(F27491,Cadastro!$Q$3:$R$162,2,FALSE),\"/\",S27491,\"/\",H27491)","v":"16/Pes/201508"},"Pes/201508","5665/201508","5665/0980/201508","16/201508","16/0980/201508","0980/201508",0,305301.73,0,305301.73,0,299885.42,0,199200.99,0,73096.490000000005]
[null,"05690","0740","201610",null,"05665","0990","201509",null,"RF","5690/RF/201610",{"$f":"IF(J27576=0,0,+CONCATENATE(VLOOKUP(B27576,Cadastro!$Q$3:$R$162,2,FALSE),\"/\",J27576,\"/\",D27576))","v":"37/RF/201610"},"RF/201610","5690/201610","5690/0740/201610","37/201610","37/0740/201610","0740/201610","Pes","5665/Pes/201509",{"$f":"+CONCATENATE(VLOOKUP(F27576,Cadastro!$Q$3:$R$162,2,FALSE),\"/\",S27576,\"/\",H27576)","v":"16/Pes/201509"},"Pes/201509","5665/201509","5665/0990/201509","16/201509","16/0990/201509","0990/201509",0,60653.57,0,60653.57,0,61007.66,-1,13380.57,0,14879.46]
[null,"05690","0749","201612",null,"05665","1109","201511",null,"RF","5690/RF/201612",{"$f":"IF(J27650=0,0,+CONCATENATE(VLOOKUP(B27650,Cadastro!$Q$3:$R$162,2,FALSE),\"/\",J27650,\"/\",D27650))","v":"37/RF/201612"},"RF/201612","5690/201612","5690/0749/201612","37/201612","37/0749/201612","0749/201612","Rur","5665/Rur/201511",{"$f":"+CONCATENATE(VLOOKUP(F27650,Cadastro!$Q$3:$R$162,2,FALSE),\"/\",S27650,\"/\",H27650)","v":"16/Rur/201511"},"Rur/201511","5665/201511","5665/1109/201511","16/201511","16/1109/201511","1109/201511",0,0,0,0,0,0,0,0,0,0]
[null,"05690","0929","201607",null,"05665","1380","201506",null,"Pes","5690/Pes/201607",{"$f":"IF(J27741=0,0,+CONCATENATE(VLOOKUP(B27741,Cadastro!$Q$3:$R$162,2,FALSE),\"/\",J27741,\"/\",D27741))","v":"37/Pes/201607"},"Pes/201607","5690/201607","5690/0929/201607","37/201607","37/0929/201607","0929/201607","Pes","5665/Pes/201506",{"$f":"+CONCATENATE(VLOOKUP(F27741,Cadastro!$Q$3:$R$162,2,FALSE),\"/\",S27741,\"/\",H27741)","v":"16/Pes/201506"},"Pes/201506","5665/201506","5665/1380/201506","16/201506","16/1380/201506","1380/201506",0,0,0,0,0,0,0,0,0,0]
[null,"05690","0969","201603",null,"05665","1383","201502",null,"Pes","5690/Pes/201603",{"$f":"IF(J27761=0,0,+CONCATENATE(VLOOKUP(B27761,Cadastro!$Q$3:$R$162,2,FALSE),\"/\",J27761,\"/\",D27761))","v":"37/Pes/201603"},"Pes/201603","5690/201603","5690/0969/201603","37/201603","37/0969/201603","0969/201603","Pes","5665/Pes/201502",{"$f":"+CONCATENATE(VLOOKUP(F27761,Cadastro!$Q$3:$R$162,2,FALSE),\"/\",S27761,\"/\",H27761)","v":"16/Pes/201502"},"Pes/201502","5665/201502","5665/1383/201502","16/201502","16/1383/201502","1383/201502",0,0,0,0,0,0,0,0,0,0]
[null,"05690","0990","201612",null,"05665","1392","201512",null,"Pes","5690/Pes/201612",{"$f":"IF(J27842=0,0,+CONCATENATE(VLOOKUP(B27842,Cadastro!$Q$3:$R$162,2,FALSE),\"/\",J27842,\"/\",D27842))","v":"37/Pes/201612"},"Pes/201612","5690/201612","5690/0990/201612","37/201612","37/0990/201612","0990/201612","VGBL","5665/VGBL/201512",{"$f":"+CONCATENATE(VLOOKUP(F27842,Cadastro!$Q$3:$R$162,2,FALSE),\"/\",S27842,\"/\",H27842)","v":"16/VGBL/201512"},"VGBL/201512","5665/201512","5665/1392/201512","16/201512","16/1392/201512","1392/201512",0,0,0,0,0,0,0,0,0,0]
[null,"05690","1066","201611",null,"05690","0114","201511",null,"Hab","5690/Hab/201611",{"$f":"IF(J27913=0,0,+CONCATENATE(VLOOKUP(B27913,Cadastro!$Q$3:$R$162,2,FALSE),\"/\",J27913,\"/\",D27913))","v":"37/Hab/201611"},"Hab/201611","5690/201611","5690/1066/201611","37/201611","37/1066/201611","1066/201611","Pat","5690/Pat/201511",{"$f":"+CONCATENATE(VLOOKUP(F27913,Cadastro!$Q$3:$R$162,2,FALSE),\"/\",S27913,\"/\",H27913)","v":"37/Pat/201511"},"Pat/201511","5690/201511","5690/0114/201511","37/201511","37/0114/201511","0114/201511",0,57215.95,0,42510.399999999994,0,45759.930000000008,0,35298.259999999995,0,20199.18]
[null,"05690","1102","201608",null,"05690","0118","201508",null,"Rur","5690/Rur/201608",{"$f":"IF(J27946=0,0,+CONCATENATE(VLOOKUP(B27946,Cadastro!$Q$3:$R$162,2,FALSE),\"/\",J27946,\"/\",D27946))","v":"37/Rur/201608"},"Rur/201608","5690/201608","5690/1102/201608","37/201608","37/1102/201608","1102/201608","Pat","5690/Pat/201508",{"$f":"+CONCATENATE(VLOOKUP(F27946,Cadastro!$Q$3:$R$162,2,FALSE),\"/\",S27946,\"/\",H27946)","v":"37/Pat/201508"},"Pat/201508","5690/201508","5690/0118/201508","37/201508","37/0118/201508","0118/201508",0,2214929.73,0,3010239.77,0,3296455.72,0,736753.04,0,645142.86]
[null,"05690","1109","201605",null,"05690","0234","201505",null,"Rur","5690/Rur/201605",{"$f":"IF(J28027=0,0,+CONCATENATE(VLOOKUP(B28027,Cadastro!$Q$3:$R$162,2,FALSE),\"/\",J28027,\"/\",D28027))","v":"37/Rur/201605"},"Rur/201605","5690/201605","5690/1109/201605","37/201605","37/1109/201605","1109/201605","RE","5690/RE/201505",{"$f":"+CONCATENATE(VLOOKUP(F28027,Cadastro!$Q$3:$R$162,2,FALSE),\"/\",S28027,\"/\",H28027)","v":"37/RE/201505"},"RE/201505","5690/201505","5690/0234/201505","37/201505","37/0234/201505","0234/201505",0,0,0,0,0,0,0,0,0,0]
[null,"05690","1285","201606",null,"05690","0433","201506",null,{"$error":"#N/A"},{"$error":"#N/A"},{"$f":"IF(J28112=0,0,+CONCATENATE(VLOOKUP(B28112,Cadastro!$Q$3:$R$162,2,FALSE),\"/\",J28112,\"/\",D28112))","v":{"$error":"#N/A"}},{"$error":"#N/A"},"5690/201606","5690/1285/201606","37/201606","37/1285/201606","1285/201606","Mar","5690/Mar/201506",{"$f":"+CONCATENATE(VLOOKUP(F28112,Cadastro!$Q$3:$R$162,2,FALSE),\"/\",S28112,\"/\",H28112)","v":"37/Mar/201506"},"Mar/201506","5690/201506","5690/0433/201506","37/201506","37/0433/201506","0433/201506",0,0,0,0,0,0,0,0,0,0]
[null,"05690","1377","201610",null,"05690","0523","201510",null,"Pes","5690/Pes/201610",{"$f":"IF(J28176=0,0,+CONCATENATE(VLOOKUP(B28176,Cadastro!$Q$3:$R$162,2,FALSE),\"/\",J28176,\"/\",D28176))","v":"37/Pes/201610"},"Pes/201610","5690/201610","5690/1377/201610","37/201610","37/1377/201610","1377/201610","Transp","5690/Transp/201510",{"$f":"+CONCATENATE(VLOOKUP(F28176,Cadastro!$Q$3:$R$162,2,FALSE),\"/\",S28176,\"/\",H28176)","v":"37/Transp/201510"},"Transp/201510","5690/201510","5690/0523/201510","37/201510","37/0523/201510","0523/201510",0,0,0,0,0,0,0,0,0,0]
[null,"05690","1384","201610",null,"05690","0526","201510",null,"Pes","5690/Pes/201610",{"$f":"IF(J28212=0,0,+CONCATENATE(VLOOKUP(B28212,Cadastro!$Q$3:$R$162,2,FALSE),\"/\",J28212,\"/\",D28212))","v":"37/Pes/201610"},"Pes/201610","5690/201610","5690/1384/201610","37/201610","37/1384/201610","1384/201610","Aut","5690/Aut/201510",{"$f":"+CONCATENATE(VLOOKUP(F28212,Cadastro!$Q$3:$R$162,2,FALSE),\"/\",S28212,\"/\",H28212)","v":"37/Aut/201510"},"Aut/201510","5690/201510","5690/0526/201510","37/201510","37/0526/201510","0526/201510",0,0,0,0,0,0,0,0,0,0]
[null,"05690","1528","201611",null,"05690","0621","201511",null,"Aero","5690/Aero/201611",{"$f":"IF(J28297=0,0,+CONCATENATE(VLOOKUP(B28297,Cadastro!$Q$3:$R$162,2,FALSE),\"/\",J28297,\"/\",D28297))","v":"37/Aero/201611"},"Aero/201611","5690/201611","5690/1528/201611","37/201611","37/1528/201611","1528/201611","Transp","5690/Transp/201511",{"$f":"+CONCATENATE(VLOOKUP(F28297,Cadastro!$Q$3:$R$162,2,FALSE),\"/\",S28297,\"/\",H28297)","v":"37/Transp/201511"},"Transp/201511","5690/201511","5690/0621/201511","37/201511","37/0621/201511","0621/201511",8576.26,0,-19292.620000000003,0,18953.8,0,0,0,3843.5,0]
[null,"05720","0115","201608",null,"05690","0644","201508",null,"Pat","5720/Pat/201608",{"$f":"IF(J28378=0,0,+CONCATENATE(VLOOKUP(B28378,Cadastro!$Q$3:$R$162,2,FALSE),\"/\",J28378,\"/\",D28378))","v":"68/Pat/201608"},"Pat/201608","5720/201608","5720/0115/201608","68/201608","68/0115/201608","0115/201608","Transp","5690/Transp/201508",{"$f":"+CONCATENATE(VLOOKUP(F28378,Cadastro!$Q$3:$R$162,2,FALSE),\"/\",S28378,\"/\",H28378)","v":"37/Transp/201508"},"Transp/201508","5690/201508","5690/0644/201508","37/201508","37/0644/201508","0644/201508",-28985.72,0,-28985.72,0,-13922.97,0,3816.42,0,-469.42,0]
[null,"05720","0171","201609",null,"05690","0658","201509",null,"Pat","5720/Pat/201609",{"$f":"IF(J28439=0,0,+CONCATENATE(VLOOKUP(B28439,Cadastro!$Q$3:$R$162,2,FALSE),\"/\",J28439,\"/\",D28439))","v":"68/Pat/201609"},"Pat/201609","5720/201609","5720/0171/201609","68/201609","68/0171/201609","0171/201609","Transp","5690/Transp/201509",{"$f":"+CONCATENATE(VLOOKUP(F28439,Cadastro!$Q$3:$R$162,2,FALSE),\"/\",S28439,\"/\",H28439)","v":"37/Transp/201509"},"Transp/201509","5690/201509","5690/0658/201509","37/201509","37/0658/201509","0658/201509",4740506.6500000004,0,4109771.2800000003,0,3742225.9699999997,0,2214805.8400000003,0,873263.73,0]
[null,"05720","0234","201604",null,"05690","0745","201504",null,"RE","5720/RE/201604",{"$f":"IF(J28482=0,0,+CONCATENATE(VLOOKUP(B28482,Cadastro!$Q$3:$R$162,2,FALSE),\"/\",J28482,\"/\",D28482))","v":"68/RE/201604"},"RE/201604","5720/201604","5720/0234/201604","68/201604","68/0234/201604","0234/201604","RF","5690/RF/201504",{"$f":"+CONCATENATE(VLOOKUP(F28482,Cadastro!$Q$3:$R$162,2,FALSE),\"/\",S28482,\"/\",H28482)","v":"37/RF/201504"},"RF/201504","5690/201504","5690/0745/201504","37/201504","37/0745/201504","0745/201504",-403898.63,0,-1677766.19,1715.83,53290.949999999953,1718.09,88126.909999999683,-9740,12863.92,0.23]
[null,"05720","0435","201601",null,"05690","0776","201501",null,"Aero","5720/Aero/201601",{"$f":"IF(J28563=0,0,+CONCATENATE(VLOOKUP(B28563,Cadastro!$Q$3:$R$162,2,FALSE),\"/\",J28563,\"/\",D28563))","v":"68/Aero/201601"},"Aero/201601","5720/201601","5720/0435/201601","68/201601","68/0435/201601","0435/201601","RF","5690/RF/201501",{"$f":"+CONCATENATE(VLOOKUP(F28563,Cadastro!$Q$3:$R$162,2,FALSE),\"/\",S28563,\"/\",H28563)","v":"37/RF/201501"},"RF/201501","5690/201501","5690/0776/201501","37/201501","37/0776/201501","0776/201501",0,159251.65,0,144876.69,0,48966.48,3960,743113.33999999985,0,9728.25]
[null,"05720","0526","201602",null,"05690","0969","201502",null,"Aut","5720/Aut/201602",{"$f":"IF(J28648=0,0,+CONCATENATE(VLOOKUP(B28648,Cadastro!$Q$3:$R$162,2,FALSE),\"/\",J28648,\"/\",D28648))","v":"68/Aut/201602"},"Aut/201602","5720/201602","5720/0526/201602","68/201602","68/0526/201602","0526/201602","Pes","5690/Pes/201502",{"$f":"+CONCATENATE(VLOOKUP(F28648,Cadastro!$Q$3:$R$162,2,FALSE),\"/\",S28648,\"/\",H28648)","v":"37/Pes/201502"},"Pes/201502","5690/201502","5690/0969/201502","37/201502","37/0969/201502","0969/201502",0,0,0,0,0,0,0,0,0,0]
[null,"05720","0553","201608",null,"05690","0982","201508",null,"Aut","5720/Aut/201608",{"$f":"IF(J28702=0,0,+CONCATENATE(VLOOKUP(B28702,Cadastro!$Q$3:$R$162,2,FALSE),\"/\",J28702,\"/\",D28702))","v":"68/Aut/201608"},"Aut/201608","5720/201608","5720/0553/201608","68/201608","68/0553/201608","0553/201608","Pes","5690/Pes/201508",{"$f":"+CONCATENATE(VLOOKUP(F28702,Cadastro!$Q$3:$R$162,2,FALSE),\"/\",S28702,\"/\",H28702)","v":"37/Pes/201508"},"Pes/201508","5690/201508","5690/0982/201508","37/201508","37/0982/201508","0982/201508",16866351.739999998,0,16830227.84,0,18330389.010000002,336.69,15515689.52,0,3291909.95,62.17]
[null,"05720","0622","201606",null,"05690","0993","201506",null,"Transp","5720/Transp/201606",{"$f":"IF(J28748=0,0,+CONCATENATE(VLOOKUP(B28748,Cadastro!$Q$3:$R$162,2,FALSE),\"/\",J28748,\"/\",D28748))","v":"68/Transp/201606"},"Transp/201606","5720/201606","5720/0622/201606","68/201606","68/0622/201606","0622/201606","Pes","5690/Pes/201506",{"$f":"+CONCATENATE(VLOOKUP(F28748,Cadastro!$Q$3:$R$162,2,FALSE),\"/\",S28748,\"/\",H28748)","v":"37/Pes/201506"},"Pes/201506","5690/201506","5690/0993/201506","37/201506","37/0993/201506","0993/201506",5195287.9800000004,26996.44,4050511.45,26996.44,2629106.9500000002,25214.67,-736013.15,-18584.84,841602.7,1213.33]
[null,"05720","0652","201607",null,"05690","1102","201507",null,"Transp","5720/Transp/201607",{"$f":"IF(J28833=0,0,+CONCATENATE(VLOOKUP(B28833,Cadastro!$Q$3:$R$162,2,FALSE),\"/\",J28833,\"/\",D28833))","v":"68/Transp/201607"},"Transp/201607","5720/201607","5720/0652/201607","68/201607","68/0652/201607","0652/201607","Rur","5690/Rur/201507",{"$f":"+CONCATENATE(VLOOKUP(F28833,Cadastro!$Q$3:$R$162,2,FALSE),\"/\",S28833,\"/\",H28833)","v":"37/Rur/201507"},"Rur/201507","5690/201507","5690/1102/201507","37/201507","37/1102/201507","1102/201507",5091.76,0,5069.3,0,3454.02,0,-20.54,0,1321.56,0]
[null,"05720","0654","201611",null,"05690","1103","201511",null,"Transp","5720/Transp/201611",{"$f":"IF(J28849=0,0,+CONCATENATE(VLOOKUP(B28849,Cadastro!$Q$3:$R$162,2,FALSE),\"/\",J28849,\"/\",D28849))","v":"68/Transp/201611"},"Transp/201611","5720/201611","5720/0654/201611","68/201611","68/0654/201611","0654/201611","Rur","5690/Rur/201511",{"$f":"+CONCATENATE(VLOOKUP(F28849,Cadastro!$Q$3:$R$162,2,FALSE),\"/\",S28849,\"/\",H28849)","v":"37/Rur/201511"},"Rur/201511","5690/201511","5690/1103/201511","37/201511","37/1103/201511","1103/201511",11565297.27,0,11008641.809999999,0,11460362.710000001,0,6084811.3899999997,-2879.47,2766929.9199999999,0]
[null,"05720","0748","201607",null,"05690","1164","201507",null,"RF","5720/RF/201607",{"$f":"IF(J28965=0,0,+CONCATENATE(VLOOKUP(B28965,Cadastro!$Q$3:$R$162,2,FALSE),\"/\",J28965,\"/\",D28965))","v":"68/RF/201607"},"RF/201607","5720/201607","5720/0748/201607","68/201607","68/0748/201607","0748/201607","Rur","5690/Rur/201507",{"$f":"+CONCATENATE(VLOOKUP(F28965,Cadastro!$Q$3:$R$162,2,FALSE),\"/\",S28965,\"/\",H28965)","v":"37/Rur/201507"},"Rur/201507","5690/201507","5690/1164/201507","37/201507","37/1164/201507","1164/201507",0,0,0,0,0,0,0,0,0,0]
[null,"05720","0776","201608",null,"05690","1299","201508",null,"RF","5720/RF/201608",{"$f":"IF(J29014=0,0,+CONCATENATE(VLOOKUP(B29014,Cadastro!$Q$3:$R$162,2,FALSE),\"/\",J29014,\"/\",D29014))","v":"68/RF/201608"},"RF/201608","5720/201608","5720/0776/201608","68/201608","68/0776/201608","0776/201608","Out","5690/Out/201508",{"$f":"+CONCATENATE(VLOOKUP(F29014,Cadastro!$Q$3:$R$162,2,FALSE),\"/\",S29014,\"/\",H29014)","v":"37/Out/201508"},"Out/201508","5690/201508","5690/1299/201508","37/201508","37/1299/201508","1299/201508",205050.72,0,131223.94,0,90495.510000000009,0,-912.92000000000007,0,30629.67,0]
[null,"05720","0969","201609",null,"05690","1384","201509",null,"Pes","5720/Pes/201609",{"$f":"IF(J29099=0,0,+CONCATENATE(VLOOKUP(B29099,Cadastro!$Q$3:$R$162,2,FALSE),\"/\",J29099,\"/\",D29099))","v":"68/Pes/201609"},"Pes/201609","5720/201609","5720/0969/201609","68/201609","68/0969/201609","0969/201609","Pes","5690/Pes/201509",{"$f":"+CONCATENATE(VLOOKUP(F29099,Cadastro!$Q$3:$R$162,2,FALSE),\"/\",S29099,\"/\",H29099)","v":"37/Pes/201509"},"Pes/201509","5690/201509","5690/1384/201509","37/201509","37/1384/201509","1384/201509",0,0,0,0,0,0,0,0,0,0]
[null,"05720","0980","201605",null,"05690","1391","201505",null,"Pes","5720/Pes/201605",{"$f":"IF(J29119=0,0,+CONCATENATE(VLOOKUP(B29119,Cadastro!$Q$3:$R$162,2,FALSE),\"/\",J29119,\"/\",D29119))","v":"68/Pes/201605"},"Pes/201605","5720/201605","5720/0980/201605","68/201605","68/0980/201605","0980/201605","Pes","5690/Pes/201505",{"$f":"+CONCATENATE(VLOOKUP(F29119,Cadastro!$Q$3:$R$162,2,FALSE),\"/\",S29119,\"/\",H29119)","v":"37/Pes/201505"},"Pes/201505","5690/201505","5690/1391/201505","37/201505","37/1391/201505","1391/201505",0,0,0,0,0,0,0,0,0,0]
[null,"05720","0994","201606",null,"05720","0111","201506",null,"VGBL","5720/VGBL/201606",{"$f":"IF(J29228=0,0,+CONCATENATE(VLOOKUP(B29228,Cadastro!$Q$3:$R$162,2,FALSE),\"/\",J29228,\"/\",D29228))","v":"68/VGBL/201606"},"VGBL/201606","5720/201606","5720/0994/201606","68/201606","68/0994/201606","0994/201606","Pat","5720/Pat/201506",{"$f":"+CONCATENATE(VLOOKUP(F29228,Cadastro!$Q$3:$R$162,2,FALSE),\"/\",S29228,\"/\",H29228)","v":"68/Pat/201506"},"Pat/201506","5720/201506","5720/0111/201506","68/201506","68/0111/201506","0111/201506",0,0,0,0,0,0,0,0,0,0]
[null,"05720","1101","201602",null,"05720","0118","201502",null,"Rur","5720/Rur/201602",{"$f":"IF(J29284=0,0,+CONCATENATE(VLOOKUP(B29284,Cadastro!$Q$3:$R$162,2,FALSE),\"/\",J29284,\"/\",D29284))","v":"68/Rur/201602"},"Rur/201602","5720/201602","5720/1101/201602","68/201602","68/1101/201602","1101/201602","Pat","5720/Pat/201502",{"$f":"+CONCATENATE(VLOOKUP(F29284,Cadastro!$Q$3:$R$162,2,FALSE),\"/\",S29284,\"/\",H29284)","v":"68/Pat/201502"},"Pat/201502","5720/201502","5720/0118/201502","68/201502","68/0118/201502","0118/201502",0,23109290.960000001,0,18233086.73,0,24490868.890000001,0,17126255.449999999,0,8410598.0500000007]
[null,"05720","1102","201610",null,"05720","0141","201510",null,"Rur","5720/Rur/201610",{"$f":"IF(J29304=0,0,+CONCATENATE(VLOOKUP(B29304,Cadastro!$Q$3:$R$162,2,FALSE),\"/\",J29304,\"/\",D29304))","v":"68/Rur/201610"},"Rur/201610","5720/201610","5720/1102/201610","68/201610","68/1102/201610","1102/201610","Pat","5720/Pat/201510",{"$f":"+CONCATENATE(VLOOKUP(F29304,Cadastro!$Q$3:$R$162,2,FALSE),\"/\",S29304,\"/\",H29304)","v":"68/Pat/201510"},"Pat/201510","5720/201510","5720/0141/201510","68/201510","68/0141/201510","0141/201510",0,2115188.69,0,2151746.9300000002,0,1818331.92,0,936736.2300000001,0,410399.91]
[null,"05720","1109","201607",null,"05720","0310","201503",null,"Rur","5720/Rur/201607",{"$f":"IF(J29385=0,0,+CONCATENATE(VLOOKUP(B29385,Cadastro!$Q$3:$R$162,2,FALSE),\"/\",J29385,\"/\",D29385))","v":"68/Rur/201607"},"Rur/201607","5720/201607","5720/1109/201607","68/201607","68/1109/201607","1109/201607","Res","5720/Res/201503",{"$f":"+CONCATENATE(VLOOKUP(F29385,Cadastro!$Q$3:$R$162,2,FALSE),\"/\",S29385,\"/\",H29385)","v":"68/Res/201503"},"Res/201503","5720/201503","5720/0310/201503","68/201503","68/0310/201503","0310/201503",0,0,0,0,0,0,0,0,0,0]
[null,"05720","1164","201601",null,"05720","0378","201509",null,"Rur","5720/Rur/201601",{"$f":"IF(J29427=0,0,+CONCATENATE(VLOOKUP(B29427,Cadastro!$Q$3:$R$162,2,FALSE),\"/\",J29427,\"/\",D29427))","v":"68/Rur/201601"},"Rur/201601","5720/201601","5720/1164/201601","68/201601","68/1164/201601","1164/201601","Res","5720/Res/201509",{"$f":"+CONCATENATE(VLOOKUP(F29427,Cadastro!$Q$3:$R$162,2,FALSE),\"/\",S29427,\"/\",H29427)","v":"68/Res/201509"},"Res/201509","5720/201509","5720/0378/201509","68/201509","68/0378/201509","0378/201509",0,0,0,0,0,0,0,0,0,0]
[null,"05720","1383","201604",null,"05720","0531","201512",null,"Pes","5720/Pes/201604",{"$f":"IF(J29550=0,0,+CONCATENATE(VLOOKUP(B29550,Cadastro!$Q$3:$R$162,2,FALSE),\"/\",J29550,\"/\",D29550))","v":"68/Pes/201604"},"Pes/201604","5720/201604","5720/1383/201604","68/201604","68/1383/201604","1383/201604","Aut","5720/Aut/201512",{"$f":"+CONCATENATE(VLOOKUP(F29550,Cadastro!$Q$3:$R$162,2,FALSE),\"/\",S29550,\"/\",H29550)","v":"68/Aut/201512"},"Aut/201512","5720/201512","5720/0531/201512","68/201512","68/0531/201512","0531/201512",0,61190420.640000001,0,61103310.009999998,0,52867589.649999999,0,32162846.490000002,0,9873338.6099999994]
[null,"05720","1384","201612",null,"05720","0544","201508",null,"Pes","5720/Pes/201612",{"$f":"IF(J29570=0,0,+CONCATENATE(VLOOKUP(B29570,Cadastro!$Q$3:$R$162,2,FALSE),\"/\",J29570,\"/\",D29570))","v":"68/Pes/201612"},"Pes/201612","5720/201612","5720/1384/201612","68/201612","68/1384/201612","1384/201612","Aut","5720/Aut/201508",{"$f":"+CONCATENATE(VLOOKUP(F29570,Cadastro!$Q$3:$R$162,2,FALSE),\"/\",S29570,\"/\",H29570)","v":"68/Aut/201508"},"Aut/201508","5720/201508","5720/0544/201508","68/201508","68/0544/201508","0544/201508",45378.57,0,45195.31,0,72378.400000000009,0,3959.5899999999997,0,15668.74,0]
[null,"05720","1457","201601",null,"05720","0627","201509",null,"Mar","5720/Mar/201601",{"$f":"IF(J29655=0,0,+CONCATENATE(VLOOKUP(B29655,Cadastro!$Q$3:$R$162,2,FALSE),\"/\",J29655,\"/\",D29655))","v":"68/Mar/201601"},"Mar/201601","5720/201601","5720/1457/201601","68/201601","68/1457/201601","1457/201601","Transp","5720/Transp/201509",{"$f":"+CONCATENATE(VLOOKUP(F29655,Cadastro!$Q$3:$R$162,2,FALSE),\"/\",S29655,\"/\",H29655)","v":"68/Transp/201509"},"Transp/201509","5720/201509","5720/0627/201509","68/201509","68/0627/201509","0627/201509",0,0,0,0,0,0,0,0,0,0]
[null,"05720","1535","201612",null,"05720","0638","201508",null,"Aero","5720/Aero/201612",{"$f":"IF(J29690=0,0,+CONCATENATE(VLOOKUP(B29690,Cadastro!$Q$3:$R$162,2,FALSE),\"/\",J29690,\"/\",D29690))","v":"68/Aero/201612"},"Aero/201612","5720/201612","5720/1535/201612","68/201612","68/1535/201612","1535/201612","Transp","5720/Transp/201508",{"$f":"+CONCATENATE(VLOOKUP(F29690,Cadastro!$Q$3:$R$162,2,FALSE),\"/\",S29690,\"/\",H29690)","v":"68/Transp/201508"},"Transp/201508","5720/201508","5720/0638/201508","68/201508","68/0638/201508","0638/201508",0,0,0,0,0,0,71.3,0,0,0]
[null,"05754","0141","201601",null,"05720","0658","201501",null,"Pat","5754/Pat/201601",{"$f":"IF(J29755=0,0,+CONCATENATE(VLOOKUP(B29755,Cadastro!$Q$3:$R$162,2,FALSE),\"/\",J29755,\"/\",D29755))","v":"54/Pat/201601"},"Pat/201601","5754/201601","5754/0141/201601","54/201601","54/0141/201601","0141/201601","Transp","5720/Transp/201501",{"$f":"+CONCATENATE(VLOOKUP(F29755,Cadastro!$Q$3:$R$162,2,FALSE),\"/\",S29755,\"/\",H29755)","v":"68/Transp/201501"},"Transp/201501","5720/201501","5720/0658/201501","68/201501","68/0658/201501","0658/201501",15872.24,0,15872.24,0,17480.87,0,-8733.67,0,4793.5,0]
[null,"05754","0378","201606",null,"05720","0748","201502",null,"Res","5754/Res/201606",{"$f":"IF(J29840=0,0,+CONCATENATE(VLOOKUP(B29840,Cadastro!$Q$3:$R$162,2,FALSE),\"/\",J29840,\"/\",D29840))","v":"54/Res/201606"},"Res/201606","5754/201606","5754/0378/201606","54/201606","54/0378/201606","0378/201606","RF","5720/RF/201502",{"$f":"+CONCATENATE(VLOOKUP(F29840,Cadastro!$Q$3:$R$162,2,FALSE),\"/\",S29840,\"/\",H29840)","v":"68/RF/201502"},"RF/201502","5720/201502","5720/0748/201502","68/201502","68/0748/201502","0748/201502",1188447.07,0,1188447.07,0,1753712.4,0,1579167.03,0,453878.29,0]
[null,"05754","0531","201607",null,"05720","0859","201512",null,"Aut","5754/Aut/201607",{"$f":"IF(J29921=0,0,+CONCATENATE(VLOOKUP(B29921,Cadastro!$Q$3:$R$162,2,FALSE),\"/\",J29921,\"/\",D29921))","v":"54/Aut/201607"},"Aut/201607","5754/201607","5754/0531/201607","54/201607","54/0531/201607","0531/201607","RF","5720/RF/201512",{"$f":"+CONCATENATE(VLOOKUP(F29921,Cadastro!$Q$3:$R$162,2,FALSE),\"/\",S29921,\"/\",H29921)","v":"68/RF/201512"},"RF/201512","5720/201512","5720/0859/201512","68/201512","68/0859/201512","0859/201512",1909712.12,0,1881761.81,0,1861041.7,0,1200099.95,0,66022.11,0]
[null,"05754","0588","201607",null,"05720","0929","201508",null,"Dpvat","5754/Dpvat/201607",{"$f":"IF(J29953=0,0,+CONCATENATE(VLOOKUP(B29953,Cadastro!$Q$3:$R$162,2,FALSE),\"/\",J29953,\"/\",D29953))","v":"54/Dpvat/201607"},"Dpvat/201607","5754/201607","5754/0588/201607","54/201607","54/0588/201607","0588/201607","Pes","5720/Pes/201508",{"$f":"+CONCATENATE(VLOOKUP(F29953,Cadastro!$Q$3:$R$162,2,FALSE),\"/\",S29953,\"/\",H29953)","v":"68/Pes/201508"},"Pes/201508","5720/201508","5720/0929/201508","68/201508","68/0929/201508","0929/201508",2527095.06,29962.7,2527095.06,30479.670000000002,2544077.52,20444.510000000002,2154333.38,2779.28,35383.839999999997,6871.92]
[null,"05754","0652","201603",null,"05720","0982","201504",null,{"$f":"IF(C30021=0,0,+VLOOKUP(C30021,$AQ$4:$AR$130,2,FALSE))","v":"Transp"},"5754/Transp/201603",{"$f":"IF(J30021=0,0,+CONCATENATE(VLOOKUP(B30021,Cadastro!$Q$3:$R$162,2,FALSE),\"/\",J30021,\"/\",D30021))","v":"54/Transp/201603"},"Transp/201603","5754/201603","5754/0652/201603","54/201603","54/0652/201603","0652/201603",{"$f":"+VLOOKUP(G30021,$AQ$4:$AR$130,2,FALSE)","v":"Pes"},{"$f":"+CONCATENATE(VALUE(F30021),\"/\",S30021,\"/\",H30021)","v":"5720/Pes/201504"},{"$f":"+CONCATENATE(VLOOKUP(F30021,Cadastro!$Q$3:$R$162,2,FALSE),\"/\",S30021,\"/\",H30021)","v":"68/Pes/201504"},"Pes/201504","5720/201504","5720/0982/201504","68/201504","68/0982/201504","0982/201504",0,2153878.21,0,2132842.9,0,2352369.3199999998,0,398554.88,0,632092.04]
[null,"05754","0750","201608",null,"05720","0994","201506",null,"RF","5754/RF/201608",{"$f":"IF(J30106=0,0,+CONCATENATE(VLOOKUP(B30106,Cadastro!$Q$3:$R$162,2,FALSE),\"/\",J30106,\"/\",D30106))","v":"54/RF/201608"},"RF/201608","5754/201608","5754/0750/201608","54/201608","54/0750/201608","0750/201608","VGBL","5720/VGBL/201506",{"$f":"+CONCATENATE(VLOOKUP(F30106,Cadastro!$Q$3:$R$162,2,FALSE),\"/\",S30106,\"/\",H30106)","v":"68/VGBL/201506"},"VGBL/201506","5720/201506","5720/0994/201506","68/201506","68/0994/201506","0994/201506",0,0,0,0,0,0,0,0,0,0]
[null,"05754","0980","201605",null,"05720","1103","201508",null,"Pes","5754/Pes/201605",{"$f":"IF(J30191=0,0,+CONCATENATE(VLOOKUP(B30191,Cadastro!$Q$3:$R$162,2,FALSE),\"/\",J30191,\"/\",D30191))","v":"54/Pes/201605"},"Pes/201605","5754/201605","5754/0980/201605","54/201605","54/0980/201605","0980/201605","Rur","5720/Rur/201508",{"$f":"+CONCATENATE(VLOOKUP(F30191,Cadastro!$Q$3:$R$162,2,FALSE),\"/\",S30191,\"/\",H30191)","v":"68/Rur/201508"},"Rur/201508","5720/201508","5720/1103/201508","68/201508","68/1103/201508","1103/201508",0,0,0,0,0,0,0,0,0,0]
[null,"05754","0983","201606",null,"05720","1105","201510",null,"Pes","5754/Pes/201606",{"$f":"IF(J30216=0,0,+CONCATENATE(VLOOKUP(B30216,Cadastro!$Q$3:$R$162,2,FALSE),\"/\",J30216,\"/\",D30216))","v":"54/Pes/201606"},"Pes/201606","5754/201606","5754/0983/201606","54/201606","54/0983/201606","0983/201606","Rur","5720/Rur/201510",{"$f":"+CONCATENATE(VLOOKUP(F30216,Cadastro!$Q$3:$R$162,2,FALSE),\"/\",S30216,\"/\",H30216)","v":"68/Rur/201510"},"Rur/201510","5720/201510","5720/1105/201510","68/201510","68/1105/201510","1105/201510",0,0,0,0,0,0,0,0,0,0]
[null,"05754","1065","201601",null,"05720","1163","201504",null,"Hab","5754/Hab/201601",{"$f":"IF(J30291=0,0,+CONCATENATE(VLOOKUP(B30291,Cadastro!$Q$3:$R$162,2,FALSE),\"/\",J30291,\"/\",D30291))","v":"54/Hab/201601"},"Hab/201601","5754/201601","5754/1065/201601","54/201601","54/1065/201601","1065/201601","Rur","5720/Rur/201504",{"$f":"+CONCATENATE(VLOOKUP(F30291,Cadastro!$Q$3:$R$162,2,FALSE),\"/\",S30291,\"/\",H30291)","v":"68/Rur/201504"},"Rur/201504","5720/201504","5720/1163/201504","68/201504","68/1163/201504","1163/201504",0,0,0,0,0,0,0,0,0,0]
[null,"05754","1108","201602",null,"05720","1369","201502",null,"Rur","5754/Rur/201602",{"$f":"IF(J30372=0,0,+CONCATENATE(VLOOKUP(B30372,Cadastro!$Q$3:$R$162,2,FALSE),\"/\",J30372,\"/\",D30372))","v":"54/Rur/201602"},"Rur/201602","5754/201602","5754/1108/201602","54/201602","54/1108/201602","1108/201602","Pes","5720/Pes/201502",{"$f":"+CONCATENATE(VLOOKUP(F30372,Cadastro!$Q$3:$R$162,2,FALSE),\"/\",S30372,\"/\",H30372)","v":"68/Pes/201502"},"Pes/201502","5720/201502","5720/1369/201502","68/201502","68/1369/201502","1369/201502",0,0,0,0,0,0,0,0,0,0]
[null,"05754","1377","201607",null,"05720","1387","201503",null,"Pes","5754/Pes/201607",{"$f":"IF(J30457=0,0,+CONCATENATE(VLOOKUP(B30457,Cadastro!$Q$3:$R$162,2,FALSE),\"/\",J30457,\"/\",D30457))","v":"54/Pes/201607"},"Pes/201607","5754/201607","5754/1377/201607","54/201607","54/1377/201607","1377/201607","Pes","5720/Pes/201503",{"$f":"+CONCATENATE(VLOOKUP(F30457,Cadastro!$Q$3:$R$162,2,FALSE),\"/\",S30457,\"/\",H30457)","v":"68/Pes/201503"},"Pes/201503","5720/201503","5720/1387/201503","68/201503","68/1387/201503","1387/201503",0,0,0,0,0,0,0,0,0,0]
[null,"05754","1383","201605",null,"05720","1391","201501",null,"Pes","5754/Pes/201605",{"$f":"IF(J30479=0,0,+CONCATENATE(VLOOKUP(B30479,Cadastro!$Q$3:$R$162,2,FALSE),\"/\",J30479,\"/\",D30479))","v":"54/Pes/201605"},"Pes/201605","5754/201605","5754/1383/201605","54/201605","54/1383/201605","1383/201605","Pes","5720/Pes/201501",{"$f":"+CONCATENATE(VLOOKUP(F30479,Cadastro!$Q$3:$R$162,2,FALSE),\"/\",S30479,\"/\",H30479)","v":"68/Pes/201501"},"Pes/201501","5720/201501","5720/1391/201501","68/201501","68/1391/201501","1391/201501",0,1186580.3400000001,0,1170544.4400000002,0,1157601.98,0,298980.33999999997,0,279685.71000000002]
[null,"05754","1535","201603",null,"05720","1535","201507",null,"Aero","5754/Aero/201603",{"$f":"IF(J30557=0,0,+CONCATENATE(VLOOKUP(B30557,Cadastro!$Q$3:$R$162,2,FALSE),\"/\",J30557,\"/\",D30557))","v":"54/Aero/201603"},"Aero/201603","5754/201603","5754/1535/201603","54/201603","54/1535/201603","1535/201603","Aero","5720/Aero/201507",{"$f":"+CONCATENATE(VLOOKUP(F30557,Cadastro!$Q$3:$R$162,2,FALSE),\"/\",S30557,\"/\",H30557)","v":"68/Aero/201507"},"Aero/201507","5720/201507","5720/1535/201507","68/201507","68/1535/201507","1535/201507",0,0,-30219.33,0,22042.639999999999,0,-0.01,-7385.29,522.61,0]
[null,"05819","0195","201604",null,"05754","0118","201508",null,"Pat","5819/Pat/201604",{"$f":"IF(J30642=0,0,+CONCATENATE(VLOOKUP(B30642,Cadastro!$Q$3:$R$162,2,FALSE),\"/\",J30642,\"/\",D30642))","v":"7/Pat/201604"},{"$f":"IF(J30642=0,0,+CONCATENATE(J30642,\"/\",D30642))","v":"Pat/201604"},"5819/201604","5819/0195/201604","7/201604","7/0195/201604","0195/201604","Pat","5754/Pat/201508",{"$f":"+CONCATENATE(VLOOKUP(F30642,Cadastro!$Q$3:$R$162,2,FALSE),\"/\",S30642,\"/\",H30642)","v":"54/Pat/201508"},"Pat/201508","5754/201508","5754/0118/201508","54/201508","54/0118/201508","0118/201508",0,594997.61,0,416204.33999999997,0,371020.18999999994,0,255596.84000000003,0,135208.59]
[null,"05819","0351","201612",null,"05754","0167","201504",null,"Res","5819/Res/201612",{"$f":"IF(J30662=0,0,+CONCATENATE(VLOOKUP(B30662,Cadastro!$Q$3:$R$162,2,FALSE),\"/\",J30662,\"/\",D30662))","v":"7/Res/201612"},"Res/201612","5819/201612","5819/0351/201612","7/201612","7/0351/201612","0351/201612","Pat","5754/Pat/201504",{"$f":"+CONCATENATE(VLOOKUP(F30662,Cadastro!$Q$3:$R$162,2,FALSE),\"/\",S30662,\"/\",H30662)","v":"54/Pat/201504"},{"$f":"+CONCATENATE(S30662,\"/\",H30662)","v":"Pat/201504"},"5754/201504","5754/0167/201504","54/201504","54/0167/201504","0167/201504",0,26664.32,0,-37302.769999999997,0,55705.72,0,2280.3000000000002,0,20700.099999999999]
[null,"05819","0977","201612",null,"05754","0274","201512",null,"Pes","5819/Pes/201612",{"$f":"IF(J30742=0,0,+CONCATENATE(VLOOKUP(B30742,Cadastro!$Q$3:$R$162,2,FALSE),\"/\",J30742,\"/\",D30742))","v":"7/Pes/201612"},"Pes/201612","5819/201612","5819/0977/201612","7/201612","7/0977/201612","0977/201612","RE","5754/RE/201512",{"$f":"+CONCATENATE(VLOOKUP(F30742,Cadastro!$Q$3:$R$162,2,FALSE),\"/\",S30742,\"/\",H30742)","v":"54/RE/201512"},"RE/201512","5754/201512","5754/0274/201512","54/201512","54/0274/201512","0274/201512",2434177.31,0,2423162.25,0,2725846.82,0,741441.84,0,1739930.98,0]
[null,"05819","1061","201602",null,"05754","0520","201501",null,"Hab","5819/Hab/201602",{"$f":"IF(J30827=0,0,+CONCATENATE(VLOOKUP(B30827,Cadastro!$Q$3:$R$162,2,FALSE),\"/\",J30827,\"/\",D30827))","v":"7/Hab/201602"},"Hab/201602","5819/201602","5819/1061/201602","7/201602","7/1061/201602","1061/201602","Aut","5754/Aut/201501",{"$f":"+CONCATENATE(VLOOKUP(F30827,Cadastro!$Q$3:$R$162,2,FALSE),\"/\",S30827,\"/\",H30827)","v":"54/Aut/201501"},"Aut/201501","5754/201501","5754/0520/201501","54/201501","54/0520/201501","0520/201501",311169.78999999998,1206107.02,224110.21999999997,1206107.02,224110.21999999997,1314254.3600000001,100000,88788.22,15574.94,248280.4]
[null,"05843","0111","201611",null,"05754","0542","201511",null,"Pat","5843/Pat/201611",{"$f":"IF(J30908=0,0,+CONCATENATE(VLOOKUP(B30908,Cadastro!$Q$3:$R$162,2,FALSE),\"/\",J30908,\"/\",D30908))","v":"47/Pat/201611"},"Pat/201611","5843/201611","5843/0111/201611","47/201611","47/0111/201611","0111/201611","Aut","5754/Aut/201511",{"$f":"+CONCATENATE(VLOOKUP(F30908,Cadastro!$Q$3:$R$162,2,FALSE),\"/\",S30908,\"/\",H30908)","v":"54/Aut/201511"},"Aut/201511","5754/201511","5754/0542/201511","54/201511","54/0542/201511","0542/201511",0,0,0,0,0,0,0,0,0,0]
[null,"05843","0114","201607",null,"05754","0553","201507",null,"Pat","5843/Pat/201607",{"$f":"IF(J30928=0,0,+CONCATENATE(VLOOKUP(B30928,Cadastro!$Q$3:$R$162,2,FALSE),\"/\",J30928,\"/\",D30928))","v":"47/Pat/201607"},"Pat/201607","5843/201607","5843/0114/201607","47/201607","47/0114/201607","0114/201607","Aut","5754/Aut/201507",{"$f":"+CONCATENATE(VLOOKUP(F30928,Cadastro!$Q$3:$R$162,2,FALSE),\"/\",S30928,\"/\",H30928)","v":"54/Aut/201507"},"Aut/201507","5754/201507","5754/0553/201507","54/201507","54/0553/201507","0553/201507",0,4391521.49,0,4074771.6900000004,0,3603930.3200000003,0,3759534.5300000003,0,769393.87]
[null,"05843","0171","201612",null,"05754","0627","201512",null,"Pat","5843/Pat/201612",{"$f":"IF(J31005=0,0,+CONCATENATE(VLOOKUP(B31005,Cadastro!$Q$3:$R$162,2,FALSE),\"/\",J31005,\"/\",D31005))","v":"47/Pat/201612"},"Pat/201612","5843/201612","5843/0171/201612","47/201612","47/0171/201612","0171/201612","Transp","5754/Transp/201512",{"$f":"+CONCATENATE(VLOOKUP(F31005,Cadastro!$Q$3:$R$162,2,FALSE),\"/\",S31005,\"/\",H31005)","v":"54/Transp/201512"},"Transp/201512","5754/201512","5754/0627/201512","54/201512","54/0627/201512","0627/201512",0,0,0,0,0,0,0,0,0,0]
[null,"05843","0313","201604",null,"05754","0658","201504",null,"Res","5843/Res/201604",{"$f":"IF(J31093=0,0,+CONCATENATE(VLOOKUP(B31093,Cadastro!$Q$3:$R$162,2,FALSE),\"/\",J31093,\"/\",D31093))","v":"47/Res/201604"},"Res/201604","5843/201604","5843/0313/201604","47/201604","47/0313/201604","0313/201604","Transp","5754/Transp/201504",{"$f":"+CONCATENATE(VLOOKUP(F31093,Cadastro!$Q$3:$R$162,2,FALSE),\"/\",S31093,\"/\",H31093)","v":"54/Transp/201504"},"Transp/201504","5754/201504","5754/0658/201504","54/201504","54/0658/201504","0658/201504",0,0,0,0,0,0,0,0,0,0]
[null,"05843","0351","201612",null,"05754","0739","201512",null,"Res","5843/Res/201612",{"$f":"IF(J31113=0,0,+CONCATENATE(VLOOKUP(B31113,Cadastro!$Q$3:$R$162,2,FALSE),\"/\",J31113,\"/\",D31113))","v":"47/Res/201612"},"Res/201612","5843/201612","5843/0351/201612","47/201612","47/0351/201612","0351/201612","RF","5754/RF/201512",{"$f":"+CONCATENATE(VLOOKUP(F31113,Cadastro!$Q$3:$R$162,2,FALSE),\"/\",S31113,\"/\",H31113)","v":"54/RF/201512"},"RF/201512","5754/201512","5754/0739/201512","54/201512","54/0739/201512","0739/201512",13175.08,0,13036.5,0,6262.46,0,-1859.74,0,2225.85,0]
[null,"05843","0524","201601",null,"05754","0819","201501",null,"Aut","5843/Aut/201601",{"$f":"IF(J31198=0,0,+CONCATENATE(VLOOKUP(B31198,Cadastro!$Q$3:$R$162,2,FALSE),\"/\",J31198,\"/\",D31198))","v":"47/Aut/201601"},"Aut/201601","5843/201601","5843/0524/201601","47/201601","47/0524/201601","0524/201601","RF","5754/RF/201501",{"$f":"+CONCATENATE(VLOOKUP(F31198,Cadastro!$Q$3:$R$162,2,FALSE),\"/\",S31198,\"/\",H31198)","v":"54/RF/201501"},"RF/201501","5754/201501","5754/0819/201501","54/201501","54/0819/201501","0819/201501",1870458.52,0,1654603.69,0,752249.14,0,-25528.440000000002,0,515038.42,0]
[null,"05843","0544","201611",null,"05754","0936","201511",null,"Aut","5843/Aut/201611",{"$f":"IF(J31268=0,0,+CONCATENATE(VLOOKUP(B31268,Cadastro!$Q$3:$R$162,2,FALSE),\"/\",J31268,\"/\",D31268))","v":"47/Aut/201611"},"Aut/201611","5843/201611","5843/0544/201611","47/201611","47/0544/201611","0544/201611","Pes","5754/Pes/201511",{"$f":"+CONCATENATE(VLOOKUP(F31268,Cadastro!$Q$3:$R$162,2,FALSE),\"/\",S31268,\"/\",H31268)","v":"54/Pes/201511"},"Pes/201511","5754/201511","5754/0936/201511","54/201511","54/0936/201511","0936/201511",0,0,0,0,0,0,0,0,0,0]
[null,"05843","0628","201610",null,"05754","0986","201510",null,"Transp","5843/Transp/201610",{"$f":"IF(J31363=0,0,+CONCATENATE(VLOOKUP(B31363,Cadastro!$Q$3:$R$162,2,FALSE),\"/\",J31363,\"/\",D31363))","v":"47/Transp/201610"},"Transp/201610","5843/201610","5843/0628/201610","47/201610","47/0628/201610","0628/201610","Pes","5754/Pes/201510",{"$f":"+CONCATENATE(VLOOKUP(F31363,Cadastro!$Q$3:$R$162,2,FALSE),\"/\",S31363,\"/\",H31363)","v":"54/Pes/201510"},"Pes/201510","5754/201510","5754/0986/201510","54/201510","54/0986/201510","0986/201510",0,0,0,0,0,0,0,0,0,0]
[null,"05843","0638","201602",null,"05754","0990","201502",null,"Transp","5843/Transp/201602",{"$f":"IF(J31379=0,0,+CONCATENATE(VLOOKUP(B31379,Cadastro!$Q$3:$R$162,2,FALSE),\"/\",J31379,\"/\",D31379))","v":"47/Transp/201602"},"Transp/201602","5843/201602","5843/0638/201602","47/201602","47/0638/201602","0638/201602","Pes","5754/Pes/201502",{"$f":"+CONCATENATE(VLOOKUP(F31379,Cadastro!$Q$3:$R$162,2,FALSE),\"/\",S31379,\"/\",H31379)","v":"54/Pes/201502"},"Pes/201502","5754/201502","5754/0990/201502","54/201502","54/0990/201502","0990/201502",0,0,0,0,0,0,0,0,0,0]
[null,"05843","0739","201603",null,"05754","1066","201503",null,"RF","5843/RF/201603",{"$f":"IF(J31464=0,0,+CONCATENATE(VLOOKUP(B31464,Cadastro!$Q$3:$R$162,2,FALSE),\"/\",J31464,\"/\",D31464))","v":"47/RF/201603"},"RF/201603","5843/201603","5843/0739/201603","47/201603","47/0739/201603","0739/201603","Hab","5754/Hab/201503",{"$f":"+CONCATENATE(VLOOKUP(F31464,Cadastro!$Q$3:$R$162,2,FALSE),\"/\",S31464,\"/\",H31464)","v":"54/Hab/201503"},"Hab/201503","5754/201503","5754/1066/201503","54/201503","54/1066/201503","1066/201503",0,0,0,0,0,0,0,0,0,0]
[null,"05843","0747","201610",null,"05754","1104","201510",null,"RF","5843/RF/201610",{"$f":"IF(J31531=0,0,+CONCATENATE(VLOOKUP(B31531,Cadastro!$Q$3:$R$162,2,FALSE),\"/\",J31531,\"/\",D31531))","v":"47/RF/201610"},"RF/201610","5843/201610","5843/0747/201610","47/201610","47/0747/201610","0747/201610","Rur","5754/Rur/201510",{"$f":"+CONCATENATE(VLOOKUP(F31531,Cadastro!$Q$3:$R$162,2,FALSE),\"/\",S31531,\"/\",H31531)","v":"54/Rur/201510"},"Rur/201510","5754/201510","5754/1104/201510","54/201510","54/1104/201510","1104/201510",0,0,0,0,0,0,0,0,0,0]
[null,"05843","0750","201607",null,"05754","1107","201507",null,"RF","5843/RF/201607",{"$f":"IF(J31564=0,0,+CONCATENATE(VLOOKUP(B31564,Cadastro!$Q$3:$R$162,2,FALSE),\"/\",J31564,\"/\",D31564))","v":"47/RF/201607"},"RF/201607","5843/201607","5843/0750/201607","47/201607","47/0750/201607","0750/201607","Rur","5754/Rur/201507",{"$f":"+CONCATENATE(VLOOKUP(F31564,Cadastro!$Q$3:$R$162,2,FALSE),\"/\",S31564,\"/\",H31564)","v":"54/Rur/201507"},"Rur/201507","5754/201507","5754/1107/201507","54/201507","54/1107/201507","1107/201507",0,0,0,0,0,0,0,0,0,0]
[null,"05843","0929","201608",null,"05754","1279","201508",null,"Pes","5843/Pes/201608",{"$f":"IF(J31649=0,0,+CONCATENATE(VLOOKUP(B31649,Cadastro!$Q$3:$R$162,2,FALSE),\"/\",J31649,\"/\",D31649))","v":"47/Pes/201608"},"Pes/201608","5843/201608","5843/0929/201608","47/201608","47/0929/201608","0929/201608","Out","5754/Out/201508",{"$f":"+CONCATENATE(VLOOKUP(F31649,Cadastro!$Q$3:$R$162,2,FALSE),\"/\",S31649,\"/\",H31649)","v":"54/Out/201508"},"Out/201508","5754/201508","5754/1279/201508","54/201508","54/1279/201508","1279/201508",0,0,0,0,0,0,0,0,0,0]
[null,"05843","0983","201605",null,"05754","1383","201505",null,"Pes","5843/Pes/201605",{"$f":"IF(J31730=0,0,+CONCATENATE(VLOOKUP(B31730,Cadastro!$Q$3:$R$162,2,FALSE),\"/\",J31730,\"/\",D31730))","v":"47/Pes/201605"},{"$f":"IF(J31730=0,0,+CONCATENATE(J31730,\"/\",D31730))","v":"Pes/201605"},"5843/201605","5843/0983/201605","47/201605","47/0983/201605","0983/201605","Pes","5754/Pes/201505",{"$f":"+CONCATENATE(VLOOKUP(F31730,Cadastro!$Q$3:$R$162,2,FALSE),\"/\",S31730,\"/\",H31730)","v":"54/Pes/201505"},"Pes/201505","5754/201505","5754/1383/201505","54/201505","54/1383/201505","1383/201505",0,0,0,0,0,0,0,0,0,0]
[null,"05843","0991","201609",null,"05754","1417","201509",null,"Pes","5843/Pes/201609",{"$f":"IF(J31794=0,0,+CONCATENATE(VLOOKUP(B31794,Cadastro!$Q$3:$R$162,2,FALSE),\"/\",J31794,\"/\",D31794))","v":"47/Pes/201609"},{"$f":"IF(J31794=0,0,+CONCATENATE(J31794,\"/\",D31794))","v":"Pes/201609"},"5843/201609","5843/0991/201609","47/201609","47/0991/201609","0991/201609","Mar","5754/Mar/201509",{"$f":"+CONCATENATE(VLOOKUP(F31794,Cadastro!$Q$3:$R$162,2,FALSE),\"/\",S31794,\"/\",H31794)","v":"54/Mar/201509"},"Mar/201509","5754/201509","5754/1417/201509","54/201509","54/1417/201509","1417/201509",0,0,0,0,0,0,0,0,0,0]
[null,"05843","1066","201601",null,"05754","1528","201501",null,"Hab","5843/Hab/201601",{"$f":"IF(J31834=0,0,+CONCATENATE(VLOOKUP(B31834,Cadastro!$Q$3:$R$162,2,FALSE),\"/\",J31834,\"/\",D31834))","v":"47/Hab/201601"},"Hab/201601","5843/201601","5843/1066/201601","47/201601","47/1066/201601","1066/201601","Aero","5754/Aero/201501",{"$f":"+CONCATENATE(VLOOKUP(F31834,Cadastro!$Q$3:$R$162,2,FALSE),\"/\",S31834,\"/\",H31834)","v":"54/Aero/201501"},"Aero/201501","5754/201501","5754/1528/201501","54/201501","54/1528/201501","1528/201501",0,0,0,0,0,0,0,0,0,0]
[null,"05843","1105","201610",null,"05819","0167","201502",null,"Rur","5843/Rur/201610",{"$f":"IF(J31915=0,0,+CONCATENATE(VLOOKUP(B31915,Cadastro!$Q$3:$R$162,2,FALSE),\"/\",J31915,\"/\",D31915))","v":"47/Rur/201610"},"Rur/201610","5843/201610","5843/1105/201610","47/201610","47/1105/201610","1105/201610","Pat","5819/Pat/201502",{"$f":"+CONCATENATE(VLOOKUP(F31915,Cadastro!$Q$3:$R$162,2,FALSE),\"/\",S31915,\"/\",H31915)","v":"7/Pat/201502"},"Pat/201502","5819/201502","5819/0167/201502","7/201502","7/0167/201502","0167/201502",0,0,0,0,0,0,0,0,0,0]
[null,"05843","1163","201611",null,"05819","0929","201503",null,"Rur","5843/Rur/201611",{"$f":"IF(J32000=0,0,+CONCATENATE(VLOOKUP(B32000,Cadastro!$Q$3:$R$162,2,FALSE),\"/\",J32000,\"/\",D32000))","v":"47/Rur/201611"},"Rur/201611","5843/201611","5843/1163/201611","47/201611","47/1163/201611","1163/201611","Pes","5819/Pes/201503",{"$f":"+CONCATENATE(VLOOKUP(F32000,Cadastro!$Q$3:$R$162,2,FALSE),\"/\",S32000,\"/\",H32000)","v":"7/Pes/201503"},"Pes/201503","5819/201503","5819/0929/201503","7/201503","7/0929/201503","0929/201503",0,469749.16,0,469749.16,0,471385.08,0,75460.899999999994,0,158247.78]
[null,"05843","1336","201608",null,"05819","0982","201512",null,"Pes","5843/Pes/201608",{"$f":"IF(J32057=0,0,+CONCATENATE(VLOOKUP(B32057,Cadastro!$Q$3:$R$162,2,FALSE),\"/\",J32057,\"/\",D32057))","v":"47/Pes/201608"},"Pes/201608","5843/201608","5843/1336/201608","47/201608","47/1336/201608","1336/201608","Pes","5819/Pes/201512",{"$f":"+CONCATENATE(VLOOKUP(F32057,Cadastro!$Q$3:$R$162,2,FALSE),\"/\",S32057,\"/\",H32057)","v":"7/Pes/201512"},"Pes/201512","5819/201512","5819/0982/201512","7/201512","7/0982/201512","0982/201512",0,1345553.35,0,1287141.23,0,1282374.18,0,-1307079.73,0,599976.57999999996]
[null,"05843","1381","201603",null,"05819","0993","201507",null,"Pes","5843/Pes/201603",{"$f":"IF(J32100=0,0,+CONCATENATE(VLOOKUP(B32100,Cadastro!$Q$3:$R$162,2,FALSE),\"/\",J32100,\"/\",D32100))","v":"47/Pes/201603"},"Pes/201603","5843/201603","5843/1381/201603","47/201603","47/1381/201603","1381/201603","Pes","5819/Pes/201507",{"$f":"+CONCATENATE(VLOOKUP(F32100,Cadastro!$Q$3:$R$162,2,FALSE),\"/\",S32100,\"/\",H32100)","v":"7/Pes/201507"},"Pes/201507","5819/201507","5819/0993/201507","7/201507","7/0993/201507","0993/201507",0,5184367.62,0,5065680.88,0,4101344.25,0,1970131.56,0,1820136.08]
[null,"05843","1392","201604",null,"05843","0111","201512",null,"VGBL","5843/VGBL/201604",{"$f":"IF(J32185=0,0,+CONCATENATE(VLOOKUP(B32185,Cadastro!$Q$3:$R$162,2,FALSE),\"/\",J32185,\"/\",D32185))","v":"47/VGBL/201604"},"VGBL/201604","5843/201604","5843/1392/201604","47/201604","47/1392/201604","1392/201604","Pat","5843/Pat/201512",{"$f":"+CONCATENATE(VLOOKUP(F32185,Cadastro!$Q$3:$R$162,2,FALSE),\"/\",S32185,\"/\",H32185)","v":"47/Pat/201512"},"Pat/201512","5843/201512","5843/0111/201512","47/201512","47/0111/201512","0111/201512",0,0,0,0,0,0,0,0,0,0]
[null,"05843","1537","201601",null,"05843","0167","201509",null,"Aero","5843/Aero/201601",{"$f":"IF(J32266=0,0,+CONCATENATE(VLOOKUP(B32266,Cadastro!$Q$3:$R$162,2,FALSE),\"/\",J32266,\"/\",D32266))","v":"47/Aero/201601"},"Aero/201601","5843/201601","5843/1537/201601","47/201601","47/1537/201601","1537/201601","Pat","5843/Pat/201509",{"$f":"+CONCATENATE(VLOOKUP(F32266,Cadastro!$Q$3:$R$162,2,FALSE),\"/\",S32266,\"/\",H32266)","v":"47/Pat/201509"},"Pat/201509","5843/201509","5843/0167/201509","47/201509","47/0167/201509","0167/201509",0,0,0,0,0,0,0,0,0,0]
[null,"05886","0114","201607",null,"05843","0234","201503",null,"Pat","5886/Pat/201607",{"$f":"IF(J32320=0,0,+CONCATENATE(VLOOKUP(B32320,Cadastro!$Q$3:$R$162,2,FALSE),\"/\",J32320,\"/\",D32320))","v":"56/Pat/201607"},"Pat/201607","5886/201607","5886/0114/201607","56/201607","56/0114/201607","0114/201607","RE","5843/RE/201503",{"$f":"+CONCATENATE(VLOOKUP(F32320,Cadastro!$Q$3:$R$162,2,FALSE),\"/\",S32320,\"/\",H32320)","v":"47/RE/201503"},"RE/201503","5843/201503","5843/0234/201503","47/201503","47/0234/201503","0234/201503",20797419.34,0,20682151.52,0,21314531.93,0,7401111.4299999997,0,6470197.71,0]
[null,"05886","0141","201609",null,"05843","0313","201505",null,"Pat","5886/Pat/201609",{"$f":"IF(J32370=0,0,+CONCATENATE(VLOOKUP(B32370,Cadastro!$Q$3:$R$162,2,FALSE),\"/\",J32370,\"/\",D32370))","v":"56/Pat/201609"},{"$f":"IF(J32370=0,0,+CONCATENATE(J32370,\"/\",D32370))","v":"Pat/201609"},"5886/201609","5886/0141/201609","56/201609","56/0141/201609","0141/201609","Res","5843/Res/201505",{"$f":"+CONCATENATE(VLOOKUP(F32370,Cadastro!$Q$3:$R$162,2,FALSE),\"/\",S32370,\"/\",H32370)","v":"47/Res/201505"},"Res/201505","5843/201505","5843/0313/201505","47/201505","47/0313/201505","0313/201505",674938.99,0,599449.23,0,611716.88,0,119890.76,0,170707.89,0]
[null,"05886","0272","201606",null,"05843","0520","201502",null,"RE","5886/RE/201606",{"$f":"IF(J32451=0,0,+CONCATENATE(VLOOKUP(B32451,Cadastro!$Q$3:$R$162,2,FALSE),\"/\",J32451,\"/\",D32451))","v":"56/RE/201606"},"RE/201606","5886/201606","5886/0272/201606","56/201606","56/0272/201606","0272/201606","Aut","5843/Aut/201502",{"$f":"+CONCATENATE(VLOOKUP(F32451,Cadastro!$Q$3:$R$162,2,FALSE),\"/\",S32451,\"/\",H32451)","v":"47/Aut/201502"},"Aut/201502","5843/201502","5843/0520/201502","47/201502","47/0520/201502","0520/201502",0,116600.25,0,116600.25,0,184351.31,0,10956.01,0,38492.19]
[null,"05886","0378","201602",null,"05843","0523","201510",null,"Res","5886/Res/201602",{"$f":"IF(J32471=0,0,+CONCATENATE(VLOOKUP(B32471,Cadastro!$Q$3:$R$162,2,FALSE),\"/\",J32471,\"/\",D32471))","v":"56/Res/201602"},"Res/201602","5886/201602","5886/0378/201602","56/201602","56/0378/201602","0378/201602","Transp","5843/Transp/201510",{"$f":"+CONCATENATE(VLOOKUP(F32471,Cadastro!$Q$3:$R$162,2,FALSE),\"/\",S32471,\"/\",H32471)","v":"47/Transp/201510"},"Transp/201510","5843/201510","5843/0523/201510","47/201510","47/0523/201510","0523/201510",552.51,0,552.51,0,10750.3,0,-18179.949999999997,0,1842.07,0]
[null,"05886","0542","201606",null,"05843","0621","201502",null,"Aut","5886/Aut/201606",{"$f":"IF(J32583=0,0,+CONCATENATE(VLOOKUP(B32583,Cadastro!$Q$3:$R$162,2,FALSE),\"/\",J32583,\"/\",D32583))","v":"56/Aut/201606"},"Aut/201606","5886/201606","5886/0542/201606","56/201606","56/0542/201606","0542/201606","Transp","5843/Transp/201502",{"$f":"+CONCATENATE(VLOOKUP(F32583,Cadastro!$Q$3:$R$162,2,FALSE),\"/\",S32583,\"/\",H32583)","v":"47/Transp/201502"},"Transp/201502","5843/201502","5843/0621/201502","47/201502","47/0621/201502","0621/201502",17703420.289999999,0,17703420.289999999,0,17715812.75,0,8111333.8600000003,0,3786283.84,0]
[null,"05886","0589","201611",null,"05843","0628","201507",null,"Dpvat","5886/Dpvat/201611",{"$f":"IF(J32636=0,0,+CONCATENATE(VLOOKUP(B32636,Cadastro!$Q$3:$R$162,2,FALSE),\"/\",J32636,\"/\",D32636))","v":"56/Dpvat/201611"},"Dpvat/201611","5886/201611","5886/0589/201611","56/201611","56/0589/201611","0589/201611","Transp","5843/Transp/201507",{"$f":"+CONCATENATE(VLOOKUP(F32636,Cadastro!$Q$3:$R$162,2,FALSE),\"/\",S32636,\"/\",H32636)","v":"47/Transp/201507"},"Transp/201507","5843/201507","5843/0628/201507","47/201507","47/0628/201507","0628/201507",0,0,0,0,0,0,-34.380000000000003,0,0.22,0]
[null,"05886","0644","201610",null,"05843","0656","201508",null,"Transp","5886/Transp/201610",{"$f":"IF(J32721=0,0,+CONCATENATE(VLOOKUP(B32721,Cadastro!$Q$3:$R$162,2,FALSE),\"/\",J32721,\"/\",D32721))","v":"56/Transp/201610"},"Transp/201610","5886/201610","5886/0644/201610","56/201610","56/0644/201610","0644/201610","Transp","5843/Transp/201508",{"$f":"+CONCATENATE(VLOOKUP(F32721,Cadastro!$Q$3:$R$162,2,FALSE),\"/\",S32721,\"/\",H32721)","v":"47/Transp/201508"},"Transp/201508","5843/201508","5843/0656/201508","47/201508","47/0656/201508","0656/201508",276729.84000000003,0,276729.84000000003,0,503594.98,0,-70540.05,0,758550.03,0]
[null,"05886","0654","201602",null,"05843","0658","201512",null,"Transp","5886/Transp/201602",{"$f":"IF(J32737=0,0,+CONCATENATE(VLOOKUP(B32737,Cadastro!$Q$3:$R$162,2,FALSE),\"/\",J32737,\"/\",D32737))","v":"56/Transp/201602"},"Transp/201602","5886/201602","5886/0654/201602","56/201602","56/0654/201602","0654/201602","Transp","5843/Transp/201512",{"$f":"+CONCATENATE(VLOOKUP(F32737,Cadastro!$Q$3:$R$162,2,FALSE),\"/\",S32737,\"/\",H32737)","v":"47/Transp/201512"},"Transp/201512","5843/201512","5843/0658/201512","47/201512","47/0658/201512","0658/201512",4130535.66,0,4034743.3400000003,0,4035681.5500000003,0,1569079.99,0,904464.37,0]
[null,"05886","0750","201603",null,"05843","0775","201501",null,"RF","5886/RF/201603",{"$f":"IF(J32846=0,0,+CONCATENATE(VLOOKUP(B32846,Cadastro!$Q$3:$R$162,2,FALSE),\"/\",J32846,\"/\",D32846))","v":"56/RF/201603"},"RF/201603","5886/201603","5886/0750/201603","56/201603","56/0750/201603","0750/201603","RF","5843/RF/201501",{"$f":"+CONCATENATE(VLOOKUP(F32846,Cadastro!$Q$3:$R$162,2,FALSE),\"/\",S32846,\"/\",H32846)","v":"47/RF/201501"},"RF/201501","5843/201501","5843/0775/201501","47/201501","47/0775/201501","0775/201501",0,0,-582.51,-2530.2399999999998,712.48,1517.48,0,0,259.5,703.99]
[null,"05886","0860","201603",null,"05843","0870","201501",null,"RF","5886/RF/201603",{"$f":"IF(J32906=0,0,+CONCATENATE(VLOOKUP(B32906,Cadastro!$Q$3:$R$162,2,FALSE),\"/\",J32906,\"/\",D32906))","v":"56/RF/201603"},"RF/201603","5886/201603","5886/0860/201603","56/201603","56/0860/201603","0860/201603","RF","5843/RF/201501",{"$f":"+CONCATENATE(VLOOKUP(F32906,Cadastro!$Q$3:$R$162,2,FALSE),\"/\",S32906,\"/\",H32906)","v":"47/RF/201501"},"RF/201501","5843/201501","5843/0870/201501","47/201501","47/0870/201501","0870/201501",0,0,0,0,0,0,0,0,0,0]
[null,"05886","0981","201612",null,"05843","0981","201510",null,"Pes","5886/Pes/201612",{"$f":"IF(J32987=0,0,+CONCATENATE(VLOOKUP(B32987,Cadastro!$Q$3:$R$162,2,FALSE),\"/\",J32987,\"/\",D32987))","v":"56/Pes/201612"},"Pes/201612","5886/201612","5886/0981/201612","56/201612","56/0981/201612","0981/201612","Pes","5843/Pes/201510",{"$f":"+CONCATENATE(VLOOKUP(F32987,Cadastro!$Q$3:$R$162,2,FALSE),\"/\",S32987,\"/\",H32987)","v":"47/Pes/201510"},"Pes/201510","5843/201510","5843/0981/201510","47/201510","47/0981/201510","0981/201510",0,0,0,0,0,0,97074.709999999992,0,1.17,0]
[null,"05886","0984","201608",null,"05843","0983","201506",null,"Pes","5886/Pes/201608",{"$f":"IF(J33007=0,0,+CONCATENATE(VLOOKUP(B33007,Cadastro!$Q$3:$R$162,2,FALSE),\"/\",J33007,\"/\",D33007))","v":"56/Pes/201608"},"Pes/201608","5886/201608","5886/0984/201608","56/201608","56/0984/201608","0984/201608","Pes","5843/Pes/201506",{"$f":"+CONCATENATE(VLOOKUP(F33007,Cadastro!$Q$3:$R$162,2,FALSE),\"/\",S33007,\"/\",H33007)","v":"47/Pes/201506"},"Pes/201506","5843/201506","5843/0983/201506","47/201506","47/0983/201506","0983/201506",0,0,0,0,0,0,0,0,0,0]
[null,"05886","1101","201602",null,"05843","1065","201512",null,"Rur","5886/Rur/201602",{"$f":"IF(J33109=0,0,+CONCATENATE(VLOOKUP(B33109,Cadastro!$Q$3:$R$162,2,FALSE),\"/\",J33109,\"/\",D33109))","v":"56/Rur/201602"},"Rur/201602","5886/201602","5886/1101/201602","56/201602","56/1101/201602","1101/201602","Hab","5843/Hab/201512",{"$f":"+CONCATENATE(VLOOKUP(F33109,Cadastro!$Q$3:$R$162,2,FALSE),\"/\",S33109,\"/\",H33109)","v":"47/Hab/201512"},"Hab/201512","5843/201512","5843/1065/201512","47/201512","47/1065/201512","1065/201512",-781008.46,0,-1969909.75,0,1557005.87,0,70542.27,0,346919.05,0]
[null,"05886","1108","201605",null,"05843","1104","201503",null,"Rur","5886/Rur/201605",{"$f":"IF(J33172=0,0,+CONCATENATE(VLOOKUP(B33172,Cadastro!$Q$3:$R$162,2,FALSE),\"/\",J33172,\"/\",D33172))","v":"56/Rur/201605"},"Rur/201605","5886/201605","5886/1108/201605","56/201605","56/1108/201605","1108/201605","Rur","5843/Rur/201503",{"$f":"+CONCATENATE(VLOOKUP(F33172,Cadastro!$Q$3:$R$162,2,FALSE),\"/\",S33172,\"/\",H33172)","v":"47/Rur/201503"},"Rur/201503","5843/201503","5843/1104/201503","47/201503","47/1104/201503","1104/201503",0,0,0,0,0,0,0,0,0,0]
[null,"05886","1162","201601",null,"05843","1105","201511",null,"Rur","5886/Rur/201601",{"$f":"IF(J33192=0,0,+CONCATENATE(VLOOKUP(B33192,Cadastro!$Q$3:$R$162,2,FALSE),\"/\",J33192,\"/\",D33192))","v":"56/Rur/201601"},"Rur/201601","5886/201601","5886/1162/201601","56/201601","56/1162/201601","1162/201601","Rur","5843/Rur/201511",{"$f":"+CONCATENATE(VLOOKUP(F33192,Cadastro!$Q$3:$R$162,2,FALSE),\"/\",S33192,\"/\",H33192)","v":"47/Rur/201511"},"Rur/201511","5843/201511","5843/1105/201511","47/201511","47/1105/201511","1105/201511",0,0,0,0,0,0,0,0,0,0]
[null,"05886","1380","201610",null,"05843","1163","201508",null,"Pes","5886/Pes/201610",{"$f":"IF(J33273=0,0,+CONCATENATE(VLOOKUP(B33273,Cadastro!$Q$3:$R$162,2,FALSE),\"/\",J33273,\"/\",D33273))","v":"56/Pes/201610"},"Pes/201610","5886/201610","5886/1380/201610","56/201610","56/1380/201610","1380/201610","Rur","5843/Rur/201508",{"$f":"+CONCATENATE(VLOOKUP(F33273,Cadastro!$Q$3:$R$162,2,FALSE),\"/\",S33273,\"/\",H33273)","v":"47/Rur/201508"},"Rur/201508","5843/201508","5843/1163/201508","47/201508","47/1163/201508","1163/201508",0,0,0,0,86.64,0,0,0,3.81,0]
[null,"05886","1457","201611",null,"05843","1377","201509",null,"Mar","5886/Mar/201611",{"$f":"IF(J33358=0,0,+CONCATENATE(VLOOKUP(B33358,Cadastro!$Q$3:$R$162,2,FALSE),\"/\",J33358,\"/\",D33358))","v":"56/Mar/201611"},"Mar/201611","5886/201611","5886/1457/201611","56/201611","56/1457/201611","1457/201611","Pes","5843/Pes/201509",{"$f":"+CONCATENATE(VLOOKUP(F33358,Cadastro!$Q$3:$R$162,2,FALSE),\"/\",S33358,\"/\",H33358)","v":"47/Pes/201509"},"Pes/201509","5843/201509","5843/1377/201509","47/201509","47/1377/201509","1377/201509",0,0,0,0,0,0,0,0,0,0]
[null,"05908","0116","201603",null,"05843","1387","201501",null,"Pat","5908/Pat/201603",{"$f":"IF(J33422=0,0,+CONCATENATE(VLOOKUP(B33422,Cadastro!$Q$3:$R$162,2,FALSE),\"/\",J33422,\"/\",D33422))","v":"41/Pat/201603"},"Pat/201603","5908/201603","5908/0116/201603","41/201603","41/0116/201603","0116/201603","Pes","5843/Pes/201501",{"$f":"+CONCATENATE(VLOOKUP(F33422,Cadastro!$Q$3:$R$162,2,FALSE),\"/\",S33422,\"/\",H33422)","v":"47/Pes/201501"},"Pes/201501","5843/201501","5843/1387/201501","47/201501","47/1387/201501","1387/201501",-15013.8,0,-18546.37,0,7870.93,0,-12619.71,0,2611.15,0]
[null,"05908","0167","201603",null,"05843","1392","201501",null,"Pat","5908/Pat/201603",{"$f":"IF(J33458=0,0,+CONCATENATE(VLOOKUP(B33458,Cadastro!$Q$3:$R$162,2,FALSE),\"/\",J33458,\"/\",D33458))","v":"41/Pat/201603"},{"$f":"IF(J33458=0,0,+CONCATENATE(J33458,\"/\",D33458))","v":"Pat/201603"},"5908/201603","5908/0167/201603","41/201603","41/0167/201603","0167/201603","VGBL","5843/VGBL/201501",{"$f":"+CONCATENATE(VLOOKUP(F33458,Cadastro!$Q$3:$R$162,2,FALSE),\"/\",S33458,\"/\",H33458)","v":"47/VGBL/201501"},"VGBL/201501","5843/201501","5843/1392/201501","47/201501","47/1392/201501","1392/201501",53472.49,0,-158139.24000000002,0,43833.639999999985,0,30328.639999999999,0,63791.14,0]
[null,"05908","0351","201603",null,"05843","1537","201502",null,"Res","5908/Res/201603",{"$f":"IF(J33543=0,0,+CONCATENATE(VLOOKUP(B33543,Cadastro!$Q$3:$R$162,2,FALSE),\"/\",J33543,\"/\",D33543))","v":"41/Res/201603"},"Res/201603","5908/201603","5908/0351/201603","41/201603","41/0351/201603","0351/201603","Aero","5843/Aero/201502",{"$f":"+CONCATENATE(VLOOKUP(F33543,Cadastro!$Q$3:$R$162,2,FALSE),\"/\",S33543,\"/\",H33543)","v":"47/Aero/201502"},"Aero/201502","5843/201502","5843/1537/201502","47/201502","47/1537/201502","1537/201502",312505.42,0,234530.5,0,274706.82,0,391965.07999999996,0,39792.97,0]
[null,"05908","0520","201612",null,"05886","0116","201511",null,"Aut","5908/Aut/201612",{"$f":"IF(J33624=0,0,+CONCATENATE(VLOOKUP(B33624,Cadastro!$Q$3:$R$162,2,FALSE),\"/\",J33624,\"/\",D33624))","v":"41/Aut/201612"},"Aut/201612","5908/201612","5908/0520/201612","41/201612","41/0520/201612","0520/201612","Pat","5886/Pat/201511",{"$f":"+CONCATENATE(VLOOKUP(F33624,Cadastro!$Q$3:$R$162,2,FALSE),\"/\",S33624,\"/\",H33624)","v":"56/Pat/201511"},"Pat/201511","5886/201511","5886/0116/201511","56/201511","56/0116/201511","0116/201511",211795.52,3030822.76,211795.37999999998,2149023.86,310561.33999999997,1838281.06,12589.96,1085247.6599999999,53197.95,715142.5]
[null,"05908","0589","201601",null,"05886","0173","201512",null,"Dpvat","5908/Dpvat/201601",{"$f":"IF(J33685=0,0,+CONCATENATE(VLOOKUP(B33685,Cadastro!$Q$3:$R$162,2,FALSE),\"/\",J33685,\"/\",D33685))","v":"41/Dpvat/201601"},"Dpvat/201601","5908/201601","5908/0589/201601","41/201601","41/0589/201601","0589/201601","Pat","5886/Pat/201512",{"$f":"+CONCATENATE(VLOOKUP(F33685,Cadastro!$Q$3:$R$162,2,FALSE),\"/\",S33685,\"/\",H33685)","v":"56/Pat/201512"},"Pat/201512","5886/201512","5886/0173/201512","56/201512","56/0173/201512","0173/201512",0,0,0,0,0,0,0,0,0,0]
[null,"05908","0632","201608",null,"05886","0272","201507",null,"Transp","5908/Transp/201608",{"$f":"IF(J33728=0,0,+CONCATENATE(VLOOKUP(B33728,Cadastro!$Q$3:$R$162,2,FALSE),\"/\",J33728,\"/\",D33728))","v":"41/Transp/201608"},"Transp/201608","5908/201608","5908/0632/201608","41/201608","41/0632/201608","0632/201608","RE","5886/RE/201507",{"$f":"+CONCATENATE(VLOOKUP(F33728,Cadastro!$Q$3:$R$162,2,FALSE),\"/\",S33728,\"/\",H33728)","v":"56/RE/201507"},"RE/201507","5886/201507","5886/0272/201507","56/201507","56/0272/201507","0272/201507",0,0,0,0,0,0,0,0,0,0]
[null,"05908","0740","201605",null,"05886","0520","201504",null,"RF","5908/RF/201605",{"$f":"IF(J33809=0,0,+CONCATENATE(VLOOKUP(B33809,Cadastro!$Q$3:$R$162,2,FALSE),\"/\",J33809,\"/\",D33809))","v":"41/RF/201605"},"RF/201605","5908/201605","5908/0740/201605","41/201605","41/0740/201605","0740/201605","Aut","5886/Aut/201504",{"$f":"+CONCATENATE(VLOOKUP(F33809,Cadastro!$Q$3:$R$162,2,FALSE),\"/\",S33809,\"/\",H33809)","v":"56/Aut/201504"},"Aut/201504","5886/201504","5886/0520/201504","56/201504","56/0520/201504","0520/201504",0,5721785.54,0,5721785.4199999999,0,5396878.8099999996,0,-590592.92000000004,0,1052672.6200000001]
[null,"05908","0776","201606",null,"05886","0588","201505",null,"RF","5908/RF/201606",{"$f":"IF(J33894=0,0,+CONCATENATE(VLOOKUP(B33894,Cadastro!$Q$3:$R$162,2,FALSE),\"/\",J33894,\"/\",D33894))","v":"41/RF/201606"},"RF/201606","5908/201606","5908/0776/201606","41/201606","41/0776/201606","0776/201606","Dpvat","5886/Dpvat/201505",{"$f":"+CONCATENATE(VLOOKUP(F33894,Cadastro!$Q$3:$R$162,2,FALSE),\"/\",S33894,\"/\",H33894)","v":"56/Dpvat/201505"},"Dpvat/201505","5886/201505","5886/0588/201505","56/201505","56/0588/201505","0588/201505",0,22156148.050000001,0,22156148.050000001,0,21838202.859999999,0,19170897.079999998,0,322570.86]
[null,"05908","0929","201612",null,"05886","0627","201511",null,"Pes","5908/Pes/201612",{"$f":"IF(J33948=0,0,+CONCATENATE(VLOOKUP(B33948,Cadastro!$Q$3:$R$162,2,FALSE),\"/\",J33948,\"/\",D33948))","v":"41/Pes/201612"},"Pes/201612","5908/201612","5908/0929/201612","41/201612","41/0929/201612","0929/201612","Transp","5886/Transp/201511",{"$f":"+CONCATENATE(VLOOKUP(F33948,Cadastro!$Q$3:$R$162,2,FALSE),\"/\",S33948,\"/\",H33948)","v":"56/Transp/201511"},"Transp/201511","5886/201511","5886/0627/201511","56/201511","56/0627/201511","0627/201511",50008.08,0,50008.08,0,50389.98,0,-515547.81999999995,0,3461.39,0]
[null,"05908","0981","201610",null,"05886","0644","201509",null,"Pes","5908/Pes/201610",{"$f":"IF(J33994=0,0,+CONCATENATE(VLOOKUP(B33994,Cadastro!$Q$3:$R$162,2,FALSE),\"/\",J33994,\"/\",D33994))","v":"41/Pes/201610"},"Pes/201610","5908/201610","5908/0981/201610","41/201610","41/0981/201610","0981/201610","Transp","5886/Transp/201509",{"$f":"+CONCATENATE(VLOOKUP(F33994,Cadastro!$Q$3:$R$162,2,FALSE),\"/\",S33994,\"/\",H33994)","v":"56/Transp/201509"},"Transp/201509","5886/201509","5886/0644/201509","56/201509","56/0644/201509","0644/201509",0,471237.74,0,471237.74,0,181368.2,0,44596.56,0,7328.4]
[null,"05908","1068","201611",null,"05886","0740","201510",null,"Hab","5908/Hab/201611",{"$f":"IF(J34079=0,0,+CONCATENATE(VLOOKUP(B34079,Cadastro!$Q$3:$R$162,2,FALSE),\"/\",J34079,\"/\",D34079))","v":"41/Hab/201611"},"Hab/201611","5908/201611","5908/1068/201611","41/201611","41/1068/201611","1068/201611","RF","5886/RF/201510",{"$f":"+CONCATENATE(VLOOKUP(F34079,Cadastro!$Q$3:$R$162,2,FALSE),\"/\",S34079,\"/\",H34079)","v":"56/RF/201510"},"RF/201510","5886/201510","5886/0740/201510","56/201510","56/0740/201510","0740/201510",0,0,0,-3808.77,0,3645.9900000000002,4719.66,-66741.63,0,1124.8]
[null,"05908","1162","201603",null,"05886","0746","201502",null,"Rur","5908/Rur/201603",{"$f":"IF(J34095=0,0,+CONCATENATE(VLOOKUP(B34095,Cadastro!$Q$3:$R$162,2,FALSE),\"/\",J34095,\"/\",D34095))","v":"41/Rur/201603"},"Rur/201603","5908/201603","5908/1162/201603","41/201603","41/1162/201603","1162/201603","RF","5886/RF/201502",{"$f":"+CONCATENATE(VLOOKUP(F34095,Cadastro!$Q$3:$R$162,2,FALSE),\"/\",S34095,\"/\",H34095)","v":"56/RF/201502"},"RF/201502","5886/201502","5886/0746/201502","56/201502","56/0746/201502","0746/201502",0,30172045.359999999,0,30172045.359999999,0,27315973.84,0,6506005.1499999994,0,8282473.8700000001]
[null,"05908","1457","201611",null,"05886","0929","201510",null,"Mar","5908/Mar/201611",{"$f":"IF(J34211=0,0,+CONCATENATE(VLOOKUP(B34211,Cadastro!$Q$3:$R$162,2,FALSE),\"/\",J34211,\"/\",D34211))","v":"41/Mar/201611"},"Mar/201611","5908/201611","5908/1457/201611","41/201611","41/1457/201611","1457/201611","Pes","5886/Pes/201510",{"$f":"+CONCATENATE(VLOOKUP(F34211,Cadastro!$Q$3:$R$162,2,FALSE),\"/\",S34211,\"/\",H34211)","v":"56/Pes/201510"},"Pes/201510","5886/201510","5886/0929/201510","56/201510","56/0929/201510","0929/201510",0,1269477.99,0,1269458.3500000001,0,1249595.32,0,397584.14,0,426734.45]
[null,"05941","0111","201604",null,"05886","0982","201503",null,"Pat","5941/Pat/201604",{"$f":"IF(J34264=0,0,+CONCATENATE(VLOOKUP(B34264,Cadastro!$Q$3:$R$162,2,FALSE),\"/\",J34264,\"/\",D34264))","v":"62/Pat/201604"},"Pat/201604","5941/201604","5941/0111/201604","62/201604","62/0111/201604","0111/201604","Pes","5886/Pes/201503",{"$f":"+CONCATENATE(VLOOKUP(F34264,Cadastro!$Q$3:$R$162,2,FALSE),\"/\",S34264,\"/\",H34264)","v":"56/Pes/201503"},"Pes/201503","5886/201503","5886/0982/201503","56/201503","56/0982/201503","0982/201503",0,4959309.2699999996,0,4877230.76,0,4919550.91,0,1679212.8699999999,0,1538029.65]
[null,"05941","0171","201601",null,"05886","0993","201512",null,"Pat","5941/Pat/201601",{"$f":"IF(J34345=0,0,+CONCATENATE(VLOOKUP(B34345,Cadastro!$Q$3:$R$162,2,FALSE),\"/\",J34345,\"/\",D34345))","v":"62/Pat/201601"},"Pat/201601","5941/201601","5941/0171/201601","62/201601","62/0171/201601","0171/201601","Pes","5886/Pes/201512",{"$f":"+CONCATENATE(VLOOKUP(F34345,Cadastro!$Q$3:$R$162,2,FALSE),\"/\",S34345,\"/\",H34345)","v":"56/Pes/201512"},"Pes/201512","5886/201512","5886/0993/201512","56/201512","56/0993/201512","0993/201512",2170720.6800000002,12072650.859999999,2113128.9900000002,11897629.899999999,1021882.3400000001,11973239.52,473663.49,6471385.7800000003,320357.96000000002,3613922.81]
[null,"05941","0173","201609",null,"05886","1066","201508",null,"Pat","5941/Pat/201609",{"$f":"IF(J34365=0,0,+CONCATENATE(VLOOKUP(B34365,Cadastro!$Q$3:$R$162,2,FALSE),\"/\",J34365,\"/\",D34365))","v":"62/Pat/201609"},"Pat/201609","5941/201609","5941/0173/201609","62/201609","62/0173/201609","0173/201609","Hab","5886/Hab/201508",{"$f":"+CONCATENATE(VLOOKUP(F34365,Cadastro!$Q$3:$R$162,2,FALSE),\"/\",S34365,\"/\",H34365)","v":"56/Hab/201508"},"Hab/201508","5886/201508","5886/1066/201508","56/201508","56/1066/201508","1066/201508",0,0,0,0,0,0,0,0,0,0]
[null,"05941","0457","201610",null,"05886","1162","201509",null,"Mar","5941/Mar/201610",{"$f":"IF(J34474=0,0,+CONCATENATE(VLOOKUP(B34474,Cadastro!$Q$3:$R$162,2,FALSE),\"/\",J34474,\"/\",D34474))","v":"62/Mar/201610"},"Mar/201610","5941/201610","5941/0457/201610","62/201610","62/0457/201610","0457/201610","Rur","5886/Rur/201509",{"$f":"+CONCATENATE(VLOOKUP(F34474,Cadastro!$Q$3:$R$162,2,FALSE),\"/\",S34474,\"/\",H34474)","v":"56/Rur/201509"},"Rur/201509","5886/201509","5886/1162/201509","56/201509","56/1162/201509","1162/201509",0,0,0,0,0,0,0,0,0,0]
[null,"05941","0553","201606",null,"05886","1377","201505",null,"Aut","5941/Aut/201606",{"$f":"IF(J34530=0,0,+CONCATENATE(VLOOKUP(B34530,Cadastro!$Q$3:$R$162,2,FALSE),\"/\",J34530,\"/\",D34530))","v":"62/Aut/201606"},"Aut/201606","5941/201606","5941/0553/201606","62/201606","62/0553/201606","0553/201606","Pes","5886/Pes/201505",{"$f":"+CONCATENATE(VLOOKUP(F34530,Cadastro!$Q$3:$R$162,2,FALSE),\"/\",S34530,\"/\",H34530)","v":"56/Pes/201505"},"Pes/201505","5886/201505","5886/1377/201505","56/201505","56/1377/201505","1377/201505",0,0,0,0,0,0,0,0,0,0]
[null,"05941","0589","201602",null,"05886","1381","201501",null,"Dpvat","5941/Dpvat/201602",{"$f":"IF(J34550=0,0,+CONCATENATE(VLOOKUP(B34550,Cadastro!$Q$3:$R$162,2,FALSE),\"/\",J34550,\"/\",D34550))","v":"62/Dpvat/201602"},"Dpvat/201602","5941/201602","5941/0589/201602","62/201602","62/0589/201602","0589/201602","Pes","5886/Pes/201501",{"$f":"+CONCATENATE(VLOOKUP(F34550,Cadastro!$Q$3:$R$162,2,FALSE),\"/\",S34550,\"/\",H34550)","v":"56/Pes/201501"},"Pes/201501","5886/201501","5886/1381/201501","56/201501","56/1381/201501","1381/201501",0,3379148.74,0,2879461.5200000005,0,3112058.79,0,386777.45999999996,0,1070523.1499999999]
[null,"05941","0652","201611",null,"05886","1457","201510",null,"Transp","5941/Transp/201611",{"$f":"IF(J34631=0,0,+CONCATENATE(VLOOKUP(B34631,Cadastro!$Q$3:$R$162,2,FALSE),\"/\",J34631,\"/\",D34631))","v":"62/Transp/201611"},"Transp/201611","5941/201611","5941/0652/201611","62/201611","62/0652/201611","0652/201611","Mar","5886/Mar/201510",{"$f":"+CONCATENATE(VLOOKUP(F34631,Cadastro!$Q$3:$R$162,2,FALSE),\"/\",S34631,\"/\",H34631)","v":"56/Mar/201510"},"Mar/201510","5886/201510","5886/1457/201510","56/201510","56/1457/201510","1457/201510",0,0,0,0,0,0,0,6750,0,0]
[null,"05941","0658","201605",null,"05908","0114","201504",null,"Transp","5941/Transp/201605",{"$f":"IF(J34673=0,0,+CONCATENATE(VLOOKUP(B34673,Cadastro!$Q$3:$R$162,2,FALSE),\"/\",J34673,\"/\",D34673))","v":"62/Transp/201605"},"Transp/201605","5941/201605","5941/0658/201605","62/201605","62/0658/201605","0658/201605","Pat","5908/Pat/201504",{"$f":"+CONCATENATE(VLOOKUP(F34673,Cadastro!$Q$3:$R$162,2,FALSE),\"/\",S34673,\"/\",H34673)","v":"41/Pat/201504"},"Pat/201504","5908/201504","5908/0114/201504","41/201504","41/0114/201504","0114/201504",0,117624.83,0,-28422.12999999999,0,281834.37,0,50672.98,0,144312.57]
[null,"05941","0776","201608",null,"05908","0274","201502",null,"RF","5941/RF/201608",{"$f":"IF(J34796=0,0,+CONCATENATE(VLOOKUP(B34796,Cadastro!$Q$3:$R$162,2,FALSE),\"/\",J34796,\"/\",D34796))","v":"62/RF/201608"},"RF/201608","5941/201608","5941/0776/201608","62/201608","62/0776/201608","0776/201608","RE","5908/RE/201502",{"$f":"+CONCATENATE(VLOOKUP(F34796,Cadastro!$Q$3:$R$162,2,FALSE),\"/\",S34796,\"/\",H34796)","v":"41/RE/201502"},"RE/201502","5908/201502","5908/0274/201502","41/201502","41/0274/201502","0274/201502",0,0,0,0,0,0,0,0,0,0]
[null,"05941","0929","201611",null,"05908","0351","201510",null,"Pes","5941/Pes/201611",{"$f":"IF(J34816=0,0,+CONCATENATE(VLOOKUP(B34816,Cadastro!$Q$3:$R$162,2,FALSE),\"/\",J34816,\"/\",D34816))","v":"62/Pes/201611"},"Pes/201611","5941/201611","5941/0929/201611","62/201611","62/0929/201611","0929/201611","Res","5908/Res/201510",{"$f":"+CONCATENATE(VLOOKUP(F34816,Cadastro!$Q$3:$R$162,2,FALSE),\"/\",S34816,\"/\",H34816)","v":"41/Res/201510"},"Res/201510","5908/201510","5908/0351/201510","41/201510","41/0351/201510","0351/201510",0,224691.82,0,-69202.94,0,432217.31999999995,0,-222952.82000000007,0,111121.55]
[null,"05941","0990","201607",null,"05908","0524","201511",null,"Pes","5941/Pes/201607",{"$f":"IF(J34901=0,0,+CONCATENATE(VLOOKUP(B34901,Cadastro!$Q$3:$R$162,2,FALSE),\"/\",J34901,\"/\",D34901))","v":"62/Pes/201607"},"Pes/201607","5941/201607","5941/0990/201607","62/201607","62/0990/201607","0990/201607","Aut","5908/Aut/201511",{"$f":"+CONCATENATE(VLOOKUP(F34901,Cadastro!$Q$3:$R$162,2,FALSE),\"/\",S34901,\"/\",H34901)","v":"41/Aut/201511"},"Aut/201511","5908/201511","5908/0524/201511","41/201511","41/0524/201511","0524/201511",1498275.25,0,1434336.4,0,1434336.4,0,48160.32,0,969823.87,0]
[null,"05941","1164","201606",null,"05908","0553","201510",null,"Rur","5941/Rur/201606",{"$f":"IF(J34936=0,0,+CONCATENATE(VLOOKUP(B34936,Cadastro!$Q$3:$R$162,2,FALSE),\"/\",J34936,\"/\",D34936))","v":"62/Rur/201606"},"Rur/201606","5941/201606","5941/1164/201606","62/201606","62/1164/201606","1164/201606","Aut","5908/Aut/201510",{"$f":"+CONCATENATE(VLOOKUP(F34936,Cadastro!$Q$3:$R$162,2,FALSE),\"/\",S34936,\"/\",H34936)","v":"41/Aut/201510"},"Aut/201510","5908/201510","5908/0553/201510","41/201510","41/0553/201510","0553/201510",308354.38,5514778.0999999996,308354.38,5514830.9899999993,198290.67,9132337.370000001,294624.18,9668595.1300000008,69630.73,1560891.99]
[null,"05941","1390","201603",null,"05908","0638","201503",null,"Pes","5941/Pes/201603",{"$f":"IF(J35001=0,0,+CONCATENATE(VLOOKUP(B35001,Cadastro!$Q$3:$R$162,2,FALSE),\"/\",J35001,\"/\",D35001))","v":"62/Pes/201603"},"Pes/201603","5941/201603","5941/1390/201603","62/201603","62/1390/201603","1390/201603","Transp","5908/Transp/201503",{"$f":"+CONCATENATE(VLOOKUP(F35001,Cadastro!$Q$3:$R$162,2,FALSE),\"/\",S35001,\"/\",H35001)","v":"41/Transp/201503"},"Transp/201503","5908/201503","5908/0638/201503","41/201503","41/0638/201503","0638/201503",127204.76,0,127204.76,0,293353.12,0,882.4,0,162394.63,0]
[null,"05991","0111","201604",null,"05908","0743","201504",null,"Pat","5991/Pat/201604",{"$f":"IF(J35086=0,0,+CONCATENATE(VLOOKUP(B35086,Cadastro!$Q$3:$R$162,2,FALSE),\"/\",J35086,\"/\",D35086))","v":"73/Pat/201604"},"Pat/201604","5991/201604","5991/0111/201604","73/201604","73/0111/201604","0111/201604","RF","5908/RF/201504",{"$f":"+CONCATENATE(VLOOKUP(F35086,Cadastro!$Q$3:$R$162,2,FALSE),\"/\",S35086,\"/\",H35086)","v":"41/RF/201504"},"RF/201504","5908/201504","5908/0743/201504","41/201504","41/0743/201504","0743/201504",0,0,0,0,0,0,0,0,0,0]
[null,"05991","0196","201601",null,"05908","0819","201501",null,"Pat","5991/Pat/201601",{"$f":"IF(J35167=0,0,+CONCATENATE(VLOOKUP(B35167,Cadastro!$Q$3:$R$162,2,FALSE),\"/\",J35167,\"/\",D35167))","v":"73/Pat/201601"},"Pat/201601","5991/201601","5991/0196/201601","73/201601","73/0196/201601","0196/201601","RF","5908/RF/201501",{"$f":"+CONCATENATE(VLOOKUP(F35167,Cadastro!$Q$3:$R$162,2,FALSE),\"/\",S35167,\"/\",H35167)","v":"41/RF/201501"},"RF/201501","5908/201501","5908/0819/201501","41/201501","41/0819/201501","0819/201501",1490098.53,0,435953.90000000014,0,1217288.3999999999,0,2871796.38,0,200976.59,0]
[null,"05991","0310","201609",null,"05908","0870","201509",null,"Res","5991/Res/201609",{"$f":"IF(J35199=0,0,+CONCATENATE(VLOOKUP(B35199,Cadastro!$Q$3:$R$162,2,FALSE),\"/\",J35199,\"/\",D35199))","v":"73/Res/201609"},"Res/201609","5991/201609","5991/0310/201609","73/201609","73/0310/201609","0310/201609","RF","5908/RF/201509",{"$f":"+CONCATENATE(VLOOKUP(F35199,Cadastro!$Q$3:$R$162,2,FALSE),\"/\",S35199,\"/\",H35199)","v":"41/RF/201509"},"RF/201509","5908/201509","5908/0870/201509","41/201509","41/0870/201509","0870/201509",0,0,0,0,0,0,0,4.8500000000000005,0,0]
[null,"05991","0525","201605",null,"05908","0982","201505",null,"Aut","5991/Aut/201605",{"$f":"IF(J35267=0,0,+CONCATENATE(VLOOKUP(B35267,Cadastro!$Q$3:$R$162,2,FALSE),\"/\",J35267,\"/\",D35267))","v":"73/Aut/201605"},"Aut/201605","5991/201605","5991/0525/201605","73/201605","73/0525/201605","0525/201605","Pes","5908/Pes/201505",{"$f":"+CONCATENATE(VLOOKUP(F35267,Cadastro!$Q$3:$R$162,2,FALSE),\"/\",S35267,\"/\",H35267)","v":"41/Pes/201505"},"Pes/201505","5908/201505","5908/0982/201505","41/201505","41/0982/201505","0982/201505",0,1131047.4099999999,0,1085233.51,0,1084309.56,0,-912761.89999999991,0,121591.53]
[null,"05991","0632","201606",null,"05908","1130","201506",null,"Transp","5991/Transp/201606",{"$f":"IF(J35352=0,0,+CONCATENATE(VLOOKUP(B35352,Cadastro!$Q$3:$R$162,2,FALSE),\"/\",J35352,\"/\",D35352))","v":"73/Transp/201606"},"Transp/201606","5991/201606","5991/0632/201606","73/201606","73/0632/201606","0632/201606","Rur","5908/Rur/201506",{"$f":"+CONCATENATE(VLOOKUP(F35352,Cadastro!$Q$3:$R$162,2,FALSE),\"/\",S35352,\"/\",H35352)","v":"41/Rur/201506"},"Rur/201506","5908/201506","5908/1130/201506","41/201506","41/1130/201506","1130/201506",49088.68,0,48990.63,0,48962.61,0,121024.15000000001,0,11369.78,0]
[null,"05991","0743","201607",null,"05908","1383","201507",null,"RF","5991/RF/201607",{"$f":"IF(J35437=0,0,+CONCATENATE(VLOOKUP(B35437,Cadastro!$Q$3:$R$162,2,FALSE),\"/\",J35437,\"/\",D35437))","v":"73/RF/201607"},"RF/201607","5991/201607","5991/0743/201607","73/201607","73/0743/201607","0743/201607","Pes","5908/Pes/201507",{"$f":"+CONCATENATE(VLOOKUP(F35437,Cadastro!$Q$3:$R$162,2,FALSE),\"/\",S35437,\"/\",H35437)","v":"41/Pes/201507"},"Pes/201507","5908/201507","5908/1383/201507","41/201507","41/1383/201507","1383/201507",0,0,0,0,0,0,0,0,0,0]
[null,"05991","0746","201608",null,"05908","1433","201508",null,"RF","5991/RF/201608",{"$f":"IF(J35462=0,0,+CONCATENATE(VLOOKUP(B35462,Cadastro!$Q$3:$R$162,2,FALSE),\"/\",J35462,\"/\",D35462))","v":"73/RF/201608"},"RF/201608","5991/201608","5991/0746/201608","73/201608","73/0746/201608","0746/201608","Mar","5908/Mar/201508",{"$f":"+CONCATENATE(VLOOKUP(F35462,Cadastro!$Q$3:$R$162,2,FALSE),\"/\",S35462,\"/\",H35462)","v":"41/Mar/201508"},{"$f":"+CONCATENATE(S35462,\"/\",H35462)","v":"Mar/201508"},"5908/201508","5908/1433/201508","41/201508","41/1433/201508","1433/201508",0,648117.6,0,507495.30999999994,0,506837.54999999993,0,675921.43,0,189031.08]
[null,"05991","0776","201611",null,"05941","0111","201511",null,"RF","5991/RF/201611",{"$f":"IF(J35537=0,0,+CONCATENATE(VLOOKUP(B35537,Cadastro!$Q$3:$R$162,2,FALSE),\"/\",J35537,\"/\",D35537))","v":"73/RF/201611"},"RF/201611","5991/201611","5991/0776/201611","73/201611","73/0776/201611","0776/201611","Pat","5941/Pat/201511",{"$f":"+CONCATENATE(VLOOKUP(F35537,Cadastro!$Q$3:$R$162,2,FALSE),\"/\",S35537,\"/\",H35537)","v":"62/Pat/201511"},"Pat/201511","5941/201511","5941/0111/201511","62/201511","62/0111/201511","0111/201511",1227089.8899999999,0,650324.50999999989,0,98143.739999999991,0,2404042.4800000004,0,108753.06,0]
[null,"05991","1066","201612",null,"05941","0171","201512",null,"Hab","5991/Hab/201612",{"$f":"IF(J35622=0,0,+CONCATENATE(VLOOKUP(B35622,Cadastro!$Q$3:$R$162,2,FALSE),\"/\",J35622,\"/\",D35622))","v":"73/Hab/201612"},"Hab/201612","5991/201612","5991/1066/201612","73/201612","73/1066/201612","1066/201612","Pat","5941/Pat/201512",{"$f":"+CONCATENATE(VLOOKUP(F35622,Cadastro!$Q$3:$R$162,2,FALSE),\"/\",S35622,\"/\",H35622)","v":"62/Pat/201512"},"Pat/201512","5941/201512","5941/0171/201512","62/201512","62/0171/201512","0171/201512",0,3499389.12,0,3379933.7,0,1495458.54,0,1153487.17,0,802660.07]
[null,"05991","1106","201609",null,"05941","0378","201509",null,"Rur","5991/Rur/201609",{"$f":"IF(J35703=0,0,+CONCATENATE(VLOOKUP(B35703,Cadastro!$Q$3:$R$162,2,FALSE),\"/\",J35703,\"/\",D35703))","v":"73/Rur/201609"},"Rur/201609","5991/201609","5991/1106/201609","73/201609","73/1106/201609","1106/201609","Res","5941/Res/201509",{"$f":"+CONCATENATE(VLOOKUP(F35703,Cadastro!$Q$3:$R$162,2,FALSE),\"/\",S35703,\"/\",H35703)","v":"62/Res/201509"},"Res/201509","5941/201509","5941/0378/201509","62/201509","62/0378/201509","0378/201509",0,70283.92,0,70283.92,0,86673.61,0,78247.710000000006,0,32663.74]
[null,"05991","1108","201607",null,"05941","0435","201507",null,"Rur","5991/Rur/201607",{"$f":"IF(J35725=0,0,+CONCATENATE(VLOOKUP(B35725,Cadastro!$Q$3:$R$162,2,FALSE),\"/\",J35725,\"/\",D35725))","v":"73/Rur/201607"},"Rur/201607","5991/201607","5991/1108/201607","73/201607","73/1108/201607","1108/201607","Aero","5941/Aero/201507",{"$f":"+CONCATENATE(VLOOKUP(F35725,Cadastro!$Q$3:$R$162,2,FALSE),\"/\",S35725,\"/\",H35725)","v":"62/Aero/201507"},"Aero/201507","5941/201507","5941/0435/201507","62/201507","62/0435/201507","0435/201507",0,0,0,0,0,0,0,0,0,0]
[null,"05991","1433","201601",null,"05941","0588","201501",null,"Mar","5991/Mar/201601",{"$f":"IF(J35803=0,0,+CONCATENATE(VLOOKUP(B35803,Cadastro!$Q$3:$R$162,2,FALSE),\"/\",J35803,\"/\",D35803))","v":"73/Mar/201601"},"Mar/201601","5991/201601","5991/1433/201601","73/201601","73/1433/201601","1433/201601","Dpvat","5941/Dpvat/201501",{"$f":"+CONCATENATE(VLOOKUP(F35803,Cadastro!$Q$3:$R$162,2,FALSE),\"/\",S35803,\"/\",H35803)","v":"62/Dpvat/201501"},"Dpvat/201501","5941/201501","5941/0588/201501","62/201501","62/0588/201501","0588/201501",-19126.8,5447034.79,-50113.1,5447034.79,57563.69,5401155.9900000002,0,4726534.51,0,69225.08]
[null,"06017","0982","201606",null,"05941","0652","201502",null,"Pes","6017/Pes/201606",{"$f":"IF(J35888=0,0,+CONCATENATE(VLOOKUP(B35888,Cadastro!$Q$3:$R$162,2,FALSE),\"/\",J35888,\"/\",D35888))","v":"26/Pes/201606"},"Pes/201606","6017/201606","6017/0982/201606","26/201606","26/0982/201606","0982/201606","Transp","5941/Transp/201502",{"$f":"+CONCATENATE(VLOOKUP(F35888,Cadastro!$Q$3:$R$162,2,FALSE),\"/\",S35888,\"/\",H35888)","v":"62/Transp/201502"},"Transp/201502","5941/201502","5941/0652/201502","62/201502","62/0652/201502","0652/201502",359317.84,0,342193.4,0,345485.16,0,40830.57,0,84083.96,0]
[null,"06017","0987","201602",null,"05941","0654","201510",null,"Pes","6017/Pes/201602",{"$f":"IF(J35908=0,0,+CONCATENATE(VLOOKUP(B35908,Cadastro!$Q$3:$R$162,2,FALSE),\"/\",J35908,\"/\",D35908))","v":"26/Pes/201602"},"Pes/201602","6017/201602","6017/0987/201602","26/201602","26/0987/201602","0987/201602","Transp","5941/Transp/201510",{"$f":"+CONCATENATE(VLOOKUP(F35908,Cadastro!$Q$3:$R$162,2,FALSE),\"/\",S35908,\"/\",H35908)","v":"62/Transp/201510"},"Transp/201510","5941/201510","5941/0654/201510","62/201510","62/0654/201510","0654/201510",0,0,0,0,0,0,0,0,0,0]
[null,"06017","1383","201611",null,"05941","0746","201506",null,"Pes","6017/Pes/201611",{"$f":"IF(J35988=0,0,+CONCATENATE(VLOOKUP(B35988,Cadastro!$Q$3:$R$162,2,FALSE),\"/\",J35988,\"/\",D35988))","v":"26/Pes/201611"},"Pes/201611","6017/201611","6017/1383/201611","26/201611","26/1383/201611","1383/201611","RF","5941/RF/201506",{"$f":"+CONCATENATE(VLOOKUP(F35988,Cadastro!$Q$3:$R$162,2,FALSE),\"/\",S35988,\"/\",H35988)","v":"62/RF/201506"},"RF/201506","5941/201506","5941/0746/201506","62/201506","62/0746/201506","0746/201506",0,0,0,0,0,0,0,0,0,0]
[null,"06033","0167","201605",null,"05941","0870","201507",null,"Pat","6033/Pat/201605",{"$f":"IF(J36073=0,0,+CONCATENATE(VLOOKUP(B36073,Cadastro!$Q$3:$R$162,2,FALSE),\"/\",J36073,\"/\",D36073))","v":"56/Pat/201605"},"Pat/201605","6033/201605","6033/0167/201605","56/201605","56/0167/201605","0167/201605","RF","5941/RF/201507",{"$f":"+CONCATENATE(VLOOKUP(F36073,Cadastro!$Q$3:$R$162,2,FALSE),\"/\",S36073,\"/\",H36073)","v":"62/RF/201507"},"RF/201507","5941/201507","5941/0870/201507","62/201507","62/0870/201507","0870/201507",0,0,0,0,0,0,0,0,0,0]
[null,"06033","0457","201602",null,"05941","0990","201508",null,"Mar","6033/Mar/201602",{"$f":"IF(J36154=0,0,+CONCATENATE(VLOOKUP(B36154,Cadastro!$Q$3:$R$162,2,FALSE),\"/\",J36154,\"/\",D36154))","v":"56/Mar/201602"},"Mar/201602","6033/201602","6033/0457/201602","56/201602","56/0457/201602","0457/201602","Pes","5941/Pes/201508",{"$f":"+CONCATENATE(VLOOKUP(F36154,Cadastro!$Q$3:$R$162,2,FALSE),\"/\",S36154,\"/\",H36154)","v":"62/Pes/201508"},"Pes/201508","5941/201508","5941/0990/201508","62/201508","62/0990/201508","0990/201508",0,1652106.53,0,1579829.4,0,1638452.7000000002,0,143920.43,0,838583.67]
[null,"06033","0531","201610",null,"05941","0993","201504",null,"Aut","6033/Aut/201610",{"$f":"IF(J36174=0,0,+CONCATENATE(VLOOKUP(B36174,Cadastro!$Q$3:$R$162,2,FALSE),\"/\",J36174,\"/\",D36174))","v":"56/Aut/201610"},"Aut/201610","6033/201610","6033/0531/201610","56/201610","56/0531/201610","0531/201610","Pes","5941/Pes/201504",{"$f":"+CONCATENATE(VLOOKUP(F36174,Cadastro!$Q$3:$R$162,2,FALSE),\"/\",S36174,\"/\",H36174)","v":"62/Pes/201504"},"Pes/201504","5941/201504","5941/0993/201504","62/201504","62/0993/201504","0993/201504",0,2195287.25,58997.27,2191127.7200000002,58997.27,2225716.4400000004,0,109596.76,0,1517422.18]
[null,"06033","0652","201603",null,"05941","1391","201509",null,"Transp","6033/Transp/201603",{"$f":"IF(J36251=0,0,+CONCATENATE(VLOOKUP(B36251,Cadastro!$Q$3:$R$162,2,FALSE),\"/\",J36251,\"/\",D36251))","v":"56/Transp/201603"},"Transp/201603","6033/201603","6033/0652/201603","56/201603","56/0652/201603","0652/201603","Pes","5941/Pes/201509",{"$f":"+CONCATENATE(VLOOKUP(F36251,Cadastro!$Q$3:$R$162,2,FALSE),\"/\",S36251,\"/\",H36251)","v":"62/Pes/201509"},"Pes/201509","5941/201509","5941/1391/201509","62/201509","62/1391/201509","1391/201509",0,0,0,0,0,0,0,0,0,0]
[null,"06033","0870","201607",null,"05991","0118","201504",null,"RF","6033/RF/201607",{"$f":"IF(J36339=0,0,+CONCATENATE(VLOOKUP(B36339,Cadastro!$Q$3:$R$162,2,FALSE),\"/\",J36339,\"/\",D36339))","v":"56/RF/201607"},"RF/201607","6033/201607","6033/0870/201607","56/201607","56/0870/201607","0870/201607","Pat","5991/Pat/201504",{"$f":"+CONCATENATE(VLOOKUP(F36339,Cadastro!$Q$3:$R$162,2,FALSE),\"/\",S36339,\"/\",H36339)","v":"73/Pat/201504"},"Pat/201504","5991/201504","5991/0118/201504","73/201504","73/0118/201504","0118/201504",0,0,0,0,0,0,0,0,0,-4490]
[null,"06033","0981","201604",null,"05991","0141","201512",null,"Pes","6033/Pes/201604",{"$f":"IF(J36359=0,0,+CONCATENATE(VLOOKUP(B36359,Cadastro!$Q$3:$R$162,2,FALSE),\"/\",J36359,\"/\",D36359))","v":"56/Pes/201604"},"Pes/201604","6033/201604","6033/0981/201604","56/201604","56/0981/201604","0981/201604","Pat","5991/Pat/201512",{"$f":"+CONCATENATE(VLOOKUP(F36359,Cadastro!$Q$3:$R$162,2,FALSE),\"/\",S36359,\"/\",H36359)","v":"73/Pat/201512"},"Pat/201512","5991/201512","5991/0141/201512","73/201512","73/0141/201512","0141/201512",0,-345.52,0,-1329.13,0,1538.46,0,-1754.22,0,472.32]
[null,"06033","1066","201605",null,"05991","0378","201501",null,"Hab","6033/Hab/201605",{"$f":"IF(J36444=0,0,+CONCATENATE(VLOOKUP(B36444,Cadastro!$Q$3:$R$162,2,FALSE),\"/\",J36444,\"/\",D36444))","v":"56/Hab/201605"},"Hab/201605","6033/201605","6033/1066/201605","56/201605","56/1066/201605","1066/201605","Res","5991/Res/201501",{"$f":"+CONCATENATE(VLOOKUP(F36444,Cadastro!$Q$3:$R$162,2,FALSE),\"/\",S36444,\"/\",H36444)","v":"73/Res/201501"},"Res/201501","5991/201501","5991/0378/201501","73/201501","73/0378/201501","0378/201501",0,0,0,0,0,0,0,0,0,0]
[null,"06033","1164","201604",null,"05991","0531","201511",null,"Rur","6033/Rur/201604",{"$f":"IF(J36514=0,0,+CONCATENATE(VLOOKUP(B36514,Cadastro!$Q$3:$R$162,2,FALSE),\"/\",J36514,\"/\",D36514))","v":"56/Rur/201604"},"Rur/201604","6033/201604","6033/1164/201604","56/201604","56/1164/201604","1164/201604","Aut","5991/Aut/201511",{"$f":"+CONCATENATE(VLOOKUP(F36514,Cadastro!$Q$3:$R$162,2,FALSE),\"/\",S36514,\"/\",H36514)","v":"73/Aut/201511"},"Aut/201511","5991/201511","5991/0531/201511","73/201511","73/0531/201511","0531/201511",0,0,0,0,0,0,0,0,0,0]
[null,"06084","0977","201604",null,"05991","0655","201510",null,"Pes","6084/Pes/201604",{"$f":"IF(J36609=0,0,+CONCATENATE(VLOOKUP(B36609,Cadastro!$Q$3:$R$162,2,FALSE),\"/\",J36609,\"/\",D36609))","v":"49/Pes/201604"},"Pes/201604","6084/201604","6084/0977/201604","49/201604","49/0977/201604","0977/201604","Transp","5991/Transp/201510",{"$f":"+CONCATENATE(VLOOKUP(F36609,Cadastro!$Q$3:$R$162,2,FALSE),\"/\",S36609,\"/\",H36609)","v":"73/Transp/201510"},"Transp/201510","5991/201510","5991/0655/201510","73/201510","73/0655/201510","0655/201510",17527.27,229857.52,17527.27,129825.80999999998,17527.27,129825.80999999998,16099.83,161798.21000000002,1409.9,44268.6]
[null,"06084","0982","201608",null,"05991","0658","201502",null,"Pes","6084/Pes/201608",{"$f":"IF(J36625=0,0,+CONCATENATE(VLOOKUP(B36625,Cadastro!$Q$3:$R$162,2,FALSE),\"/\",J36625,\"/\",D36625))","v":"49/Pes/201608"},"Pes/201608","6084/201608","6084/0982/201608","49/201608","49/0982/201608","0982/201608","Transp","5991/Transp/201502",{"$f":"+CONCATENATE(VLOOKUP(F36625,Cadastro!$Q$3:$R$162,2,FALSE),\"/\",S36625,\"/\",H36625)","v":"73/Transp/201502"},"Transp/201502","5991/201502","5991/0658/201502","73/201502","73/0658/201502","0658/201502",643800.11,0,643800.11,0,656398.12,0,-151622.56,0,141119.93,0]
[null,"06106","0118","201609",null,"05991","0748","201503",null,"Pat","6106/Pat/201609",{"$f":"IF(J36710=0,0,+CONCATENATE(VLOOKUP(B36710,Cadastro!$Q$3:$R$162,2,FALSE),\"/\",J36710,\"/\",D36710))","v":"20/Pat/201609"},"Pat/201609","6106/201609","6106/0118/201609","20/201609","20/0118/201609","0118/201609","RF","5991/RF/201503",{"$f":"+CONCATENATE(VLOOKUP(F36710,Cadastro!$Q$3:$R$162,2,FALSE),\"/\",S36710,\"/\",H36710)","v":"73/RF/201503"},"RF/201503","5991/201503","5991/0748/201503","73/201503","73/0748/201503","0748/201503",0,722188.84,0,226751.43,0,106145.66999999998,0,22363.339999999997,0,7359.84]
[null,"06106","0234","201604",null,"05991","0860","201510",null,"RE","6106/RE/201604",{"$f":"IF(J36777=0,0,+CONCATENATE(VLOOKUP(B36777,Cadastro!$Q$3:$R$162,2,FALSE),\"/\",J36777,\"/\",D36777))","v":"20/RE/201604"},"RE/201604","6106/201604","6106/0234/201604","20/201604","20/0234/201604","0234/201604","RF","5991/RF/201510",{"$f":"+CONCATENATE(VLOOKUP(F36777,Cadastro!$Q$3:$R$162,2,FALSE),\"/\",S36777,\"/\",H36777)","v":"73/RF/201510"},"RF/201510","5991/201510","5991/0860/201510","73/201510","73/0860/201510","0860/201510",0,0,0,0,0,0,391.26,0,0,0]
[null,"06106","0310","201601",null,"05991","0982","201507",null,"Res","6106/Res/201601",{"$f":"IF(J36810=0,0,+CONCATENATE(VLOOKUP(B36810,Cadastro!$Q$3:$R$162,2,FALSE),\"/\",J36810,\"/\",D36810))","v":"20/Res/201601"},"Res/201601","6106/201601","6106/0310/201601","20/201601","20/0310/201601","0310/201601","Pes","5991/Pes/201507",{"$f":"+CONCATENATE(VLOOKUP(F36810,Cadastro!$Q$3:$R$162,2,FALSE),\"/\",S36810,\"/\",H36810)","v":"73/Pes/201507"},"Pes/201507","5991/201507","5991/0982/201507","73/201507","73/0982/201507","0982/201507",0,0,0,0,0,0,0,0,0,0]
[null,"06106","0457","201602",null,"05991","1103","201508",null,"Mar","6106/Mar/201602",{"$f":"IF(J36895=0,0,+CONCATENATE(VLOOKUP(B36895,Cadastro!$Q$3:$R$162,2,FALSE),\"/\",J36895,\"/\",D36895))","v":"20/Mar/201602"},"Mar/201602","6106/201602","6106/0457/201602","20/201602","20/0457/201602","0457/201602","Rur","5991/Rur/201508",{"$f":"+CONCATENATE(VLOOKUP(F36895,Cadastro!$Q$3:$R$162,2,FALSE),\"/\",S36895,\"/\",H36895)","v":"73/Rur/201508"},"Rur/201508","5991/201508","5991/1103/201508","73/201508","73/1103/201508","1103/201508",0,10330.620000000001,0,-13753.37,0,49364.289999999994,-6610.5,17995.22,0,12023.41]
[null,"06106","0542","201603",null,"05991","1162","201509",null,"Aut","6106/Aut/201603",{"$f":"IF(J36980=0,0,+CONCATENATE(VLOOKUP(B36980,Cadastro!$Q$3:$R$162,2,FALSE),\"/\",J36980,\"/\",D36980))","v":"20/Aut/201603"},"Aut/201603","6106/201603","6106/0542/201603","20/201603","20/0542/201603","0542/201603","Rur","5991/Rur/201509",{"$f":"+CONCATENATE(VLOOKUP(F36980,Cadastro!$Q$3:$R$162,2,FALSE),\"/\",S36980,\"/\",H36980)","v":"73/Rur/201509"},"Rur/201509","5991/201509","5991/1162/201509","73/201509","73/1162/201509","1162/201509",0,3597352.05,0,2912962.5999999996,0,541886.41000000015,0,242583.71999999997,0,236738.92]
[null,"06106","0621","201603",null,"05991","1433","201509",null,"Transp","6106/Transp/201603",{"$f":"IF(J37040=0,0,+CONCATENATE(VLOOKUP(B37040,Cadastro!$Q$3:$R$162,2,FALSE),\"/\",J37040,\"/\",D37040))","v":"20/Transp/201603"},"Transp/201603","6106/201603","6106/0621/201603","20/201603","20/0621/201603","0621/201603","Mar","5991/Mar/201509",{"$f":"+CONCATENATE(VLOOKUP(F37040,Cadastro!$Q$3:$R$162,2,FALSE),\"/\",S37040,\"/\",H37040)","v":"73/Mar/201509"},"Mar/201509","5991/201509","5991/1433/201509","73/201509","73/1433/201509","1433/201509",0,-17928.560000000001,0,-49019.740000000005,0,51911.390000000007,0,22121.000000000004,0,0]
[null,"06106","0627","201607",null,"06017","0982","201501",null,"Transp","6106/Transp/201607",{"$f":"IF(J37080=0,0,+CONCATENATE(VLOOKUP(B37080,Cadastro!$Q$3:$R$162,2,FALSE),\"/\",J37080,\"/\",D37080))","v":"20/Transp/201607"},"Transp/201607","6106/201607","6106/0627/201607","20/201607","20/0627/201607","0627/201607","Pes","6017/Pes/201501",{"$f":"+CONCATENATE(VLOOKUP(F37080,Cadastro!$Q$3:$R$162,2,FALSE),\"/\",S37080,\"/\",H37080)","v":"26/Pes/201501"},"Pes/201501","6017/201501","6017/0982/201501","26/201501","26/0982/201501","0982/201501",0,321254.17,0,307167.74,0,311161.44,0,155835.99,0,74206.570000000007]
[null,"06106","0655","201604",null,"06017","1381","201510",null,"Transp","6106/Transp/201604",{"$f":"IF(J37161=0,0,+CONCATENATE(VLOOKUP(B37161,Cadastro!$Q$3:$R$162,2,FALSE),\"/\",J37161,\"/\",D37161))","v":"20/Transp/201604"},"Transp/201604","6106/201604","6106/0655/201604","20/201604","20/0655/201604","0655/201604","Pes","6017/Pes/201510",{"$f":"+CONCATENATE(VLOOKUP(F37161,Cadastro!$Q$3:$R$162,2,FALSE),\"/\",S37161,\"/\",H37161)","v":"26/Pes/201510"},"Pes/201510","6017/201510","6017/1381/201510","26/201510","26/1381/201510","1381/201510",0,-1708.96,0,-2240.37,0,377.98,0,8869.1,0,349.49]
[null,"06106","0746","201605",null,"06033","0167","201511",null,"RF","6106/RF/201605",{"$f":"IF(J37246=0,0,+CONCATENATE(VLOOKUP(B37246,Cadastro!$Q$3:$R$162,2,FALSE),\"/\",J37246,\"/\",D37246))","v":"20/RF/201605"},"RF/201605","6106/201605","6106/0746/201605","20/201605","20/0746/201605","0746/201605","Pat","6033/Pat/201511",{"$f":"+CONCATENATE(VLOOKUP(F37246,Cadastro!$Q$3:$R$162,2,FALSE),\"/\",S37246,\"/\",H37246)","v":"56/Pat/201511"},"Pat/201511","6033/201511","6033/0167/201511","56/201511","56/0167/201511","0167/201511",0,0,0,0,0,0,0,0,0,0]
[null,"06106","0775","201602",null,"06033","0433","201508",null,"RF","6106/RF/201602",{"$f":"IF(J37303=0,0,+CONCATENATE(VLOOKUP(B37303,Cadastro!$Q$3:$R$162,2,FALSE),\"/\",J37303,\"/\",D37303))","v":"20/RF/201602"},"RF/201602","6106/201602","6106/0775/201602","20/201602","20/0775/201602","0775/201602","Mar","6033/Mar/201508",{"$f":"+CONCATENATE(VLOOKUP(F37303,Cadastro!$Q$3:$R$162,2,FALSE),\"/\",S37303,\"/\",H37303)","v":"56/Mar/201508"},"Mar/201508","6033/201508","6033/0433/201508","56/201508","56/0433/201508","0433/201508",0,0,0,0,0,0,0,0,0,0]
[null,"06106","0859","201609",null,"06033","0544","201503",null,"RF","6106/RF/201609",{"$f":"IF(J37346=0,0,+CONCATENATE(VLOOKUP(B37346,Cadastro!$Q$3:$R$162,2,FALSE),\"/\",J37346,\"/\",D37346))","v":"20/RF/201609"},"RF/201609","6106/201609","6106/0859/201609","20/201609","20/0859/201609","0859/201609","Aut","6033/Aut/201503",{"$f":"+CONCATENATE(VLOOKUP(F37346,Cadastro!$Q$3:$R$162,2,FALSE),\"/\",S37346,\"/\",H37346)","v":"56/Aut/201503"},"Aut/201503","6033/201503","6033/0544/201503","56/201503","56/0544/201503","0544/201503",0,0,0,0,0,0,0,0,0,0]
[null,"06106","0980","201610",null,"06033","0654","201504",null,"Pes","6106/Pes/201610",{"$f":"IF(J37431=0,0,+CONCATENATE(VLOOKUP(B37431,Cadastro!$Q$3:$R$162,2,FALSE),\"/\",J37431,\"/\",D37431))","v":"20/Pes/201610"},"Pes/201610","6106/201610","6106/0980/201610","20/201610","20/0980/201610","0980/201610","Transp","6033/Transp/201504",{"$f":"+CONCATENATE(VLOOKUP(F37431,Cadastro!$Q$3:$R$162,2,FALSE),\"/\",S37431,\"/\",H37431)","v":"56/Transp/201504"},"Transp/201504","6033/201504","6033/0654/201504","56/201504","56/0654/201504","0654/201504",0,0,0,0,0,0,0,0,0,0]
[null,"06106","0990","201607",null,"06033","0969","201501",null,"Pes","6106/Pes/201607",{"$f":"IF(J37512=0,0,+CONCATENATE(VLOOKUP(B37512,Cadastro!$Q$3:$R$162,2,FALSE),\"/\",J37512,\"/\",D37512))","v":"20/Pes/201607"},"Pes/201607","6106/201607","6106/0990/201607","20/201607","20/0990/201607","0990/201607","Pes","6033/Pes/201501",{"$f":"+CONCATENATE(VLOOKUP(F37512,Cadastro!$Q$3:$R$162,2,FALSE),\"/\",S37512,\"/\",H37512)","v":"56/Pes/201501"},"Pes/201501","6033/201501","6033/0969/201501","56/201501","56/0969/201501","0969/201501",7558.37,0,7548.64,0,11924.01,0,34512.589999999997,0,2141.12,0]
[null,"06106","1061","201601",null,"06033","0991","201507",null,"Hab","6106/Hab/201601",{"$f":"IF(J37566=0,0,+CONCATENATE(VLOOKUP(B37566,Cadastro!$Q$3:$R$162,2,FALSE),\"/\",J37566,\"/\",D37566))","v":"20/Hab/201601"},"Hab/201601","6106/201601","6106/1061/201601","20/201601","20/1061/201601","1061/201601","Pes","6033/Pes/201507",{"$f":"+CONCATENATE(VLOOKUP(F37566,Cadastro!$Q$3:$R$162,2,FALSE),\"/\",S37566,\"/\",H37566)","v":"56/Pes/201507"},"Pes/201507","6033/201507","6033/0991/201507","56/201507","56/0991/201507","0991/201507",0,0,0,0,0,0,0,0,0,-138086.54999999999]
[null,"06106","1101","201603",null,"06033","1066","201509",null,"Rur","6106/Rur/201603",{"$f":"IF(J37616=0,0,+CONCATENATE(VLOOKUP(B37616,Cadastro!$Q$3:$R$162,2,FALSE),\"/\",J37616,\"/\",D37616))","v":"20/Rur/201603"},"Rur/201603","6106/201603","6106/1101/201603","20/201603","20/1101/201603","1101/201603","Hab","6033/Hab/201509",{"$f":"+CONCATENATE(VLOOKUP(F37616,Cadastro!$Q$3:$R$162,2,FALSE),\"/\",S37616,\"/\",H37616)","v":"56/Hab/201509"},"Hab/201509","6033/201509","6033/1066/201509","56/201509","56/1066/201509","1066/201509",0,0,0,0,0,0,0,0,0,0]
[null,"06106","1107","201612",null,"06033","1329","201506",null,"Rur","6106/Rur/201612",{"$f":"IF(J37697=0,0,+CONCATENATE(VLOOKUP(B37697,Cadastro!$Q$3:$R$162,2,FALSE),\"/\",J37697,\"/\",D37697))","v":"20/Rur/201612"},"Rur/201612","6106/201612","6106/1107/201612","20/201612","20/1107/201612","1107/201612","Pes","6033/Pes/201506",{"$f":"+CONCATENATE(VLOOKUP(F37697,Cadastro!$Q$3:$R$162,2,FALSE),\"/\",S37697,\"/\",H37697)","v":"56/Pes/201506"},"Pes/201506","6033/201506","6033/1329/201506","56/201506","56/1329/201506","1329/201506",0,1921.49,0,1921.49,0,1974.16,0,-17.739999999999998,0,403.03]
[null,"06106","1109","201608",null,"06033","1383","201502",null,"Rur","6106/Rur/201608",{"$f":"IF(J37717=0,0,+CONCATENATE(VLOOKUP(B37717,Cadastro!$Q$3:$R$162,2,FALSE),\"/\",J37717,\"/\",D37717))","v":"20/Rur/201608"},"Rur/201608","6106/201608","6106/1109/201608","20/201608","20/1109/201608","1109/201608","Pes","6033/Pes/201502",{"$f":"+CONCATENATE(VLOOKUP(F37717,Cadastro!$Q$3:$R$162,2,FALSE),\"/\",S37717,\"/\",H37717)","v":"56/Pes/201502"},"Pes/201502","6033/201502","6033/1383/201502","56/201502","56/1383/201502","1383/201502",0,331961.07,0,331961.07,0,331961.07,0,0,0,18279.84]
[null,"06106","1329","201612",null,"06106","0111","201506",null,{"$f":"IF(C37829=0,0,+VLOOKUP(C37829,$AQ$4:$AR$130,2,FALSE))","v":"Pes"},"6106/Pes/201612",{"$f":"IF(J37829=0,0,+CONCATENATE(VLOOKUP(B37829,Cadastro!$Q$3:$R$162,2,FALSE),\"/\",J37829,\"/\",D37829))","v":"20/Pes/201612"},"Pes/201612","6106/201612","6106/1329/201612","20/201612","20/1329/201612","1329/201612",{"$f":"+VLOOKUP(G37829,$AQ$4:$AR$130,2,FALSE)","v":"Pat"},{"$f":"+CONCATENATE(VALUE(F37829),\"/\",S37829,\"/\",H37829)","v":"6106/Pat/201506"},{"$f":"+CONCATENATE(VLOOKUP(F37829,Cadastro!$Q$3:$R$162,2,FALSE),\"/\",S37829,\"/\",H37829)","v":"20/Pat/201506"},"Pat/201506","6106/201506","6106/0111/201506","20/201506","20/0111/201506","0111/201506",72272.240000000005,0,72272.240000000005,0,78899.149999999994,0,43982.080000000002,20.059999999999999,14321.56,0]
[null,"06106","1381","201605",null,"06106","0118","201511",null,"Pes","6106/Pes/201605",{"$f":"IF(J37882=0,0,+CONCATENATE(VLOOKUP(B37882,Cadastro!$Q$3:$R$162,2,FALSE),\"/\",J37882,\"/\",D37882))","v":"20/Pes/201605"},"Pes/201605","6106/201605","6106/1381/201605","20/201605","20/1381/201605","1381/201605","Pat","6106/Pat/201511",{"$f":"+CONCATENATE(VLOOKUP(F37882,Cadastro!$Q$3:$R$162,2,FALSE),\"/\",S37882,\"/\",H37882)","v":"20/Pat/201511"},"Pat/201511","6106/201511","6106/0118/201511","20/201511","20/0118/201511","0118/201511",6327374.9900000002,0,6263976.5099999998,0,6719836.5899999999,0,1354292.1099999999,0,1430230.85,0]
[null,"06106","1392","201606",null,"06106","0272","201512",null,"VGBL","6106/VGBL/201606",{"$f":"IF(J37967=0,0,+CONCATENATE(VLOOKUP(B37967,Cadastro!$Q$3:$R$162,2,FALSE),\"/\",J37967,\"/\",D37967))","v":"20/VGBL/201606"},"VGBL/201606","6106/201606","6106/1392/201606","20/201606","20/1392/201606","1392/201606","RE","6106/RE/201512",{"$f":"+CONCATENATE(VLOOKUP(F37967,Cadastro!$Q$3:$R$162,2,FALSE),\"/\",S37967,\"/\",H37967)","v":"20/RE/201512"},"RE/201512","6106/201512","6106/0272/201512","20/201512","20/0272/201512","0272/201512",0,0,0,0,0,0,0,0,0,0]
[null,"06106","1417","201610",null,"06106","0310","201504",null,"Mar","6106/Mar/201610",{"$f":"IF(J37983=0,0,+CONCATENATE(VLOOKUP(B37983,Cadastro!$Q$3:$R$162,2,FALSE),\"/\",J37983,\"/\",D37983))","v":"20/Mar/201610"},"Mar/201610","6106/201610","6106/1417/201610","20/201610","20/1417/201610","1417/201610","Res","6106/Res/201504",{"$f":"+CONCATENATE(VLOOKUP(F37983,Cadastro!$Q$3:$R$162,2,FALSE),\"/\",S37983,\"/\",H37983)","v":"20/Res/201504"},"Res/201504","6106/201504","6106/0310/201504","20/201504","20/0310/201504","0310/201504",0,0,0,0,0,0,0,0,0,0]
[null,"06122","0167","201611",null,"06106","0523","201505",null,"Pat","6122/Pat/201611",{"$f":"IF(J38092=0,0,+CONCATENATE(VLOOKUP(B38092,Cadastro!$Q$3:$R$162,2,FALSE),\"/\",J38092,\"/\",D38092))","v":"39/Pat/201611"},"Pat/201611","6122/201611","6122/0167/201611","39/201611","39/0167/201611","0167/201611","Transp","6106/Transp/201505",{"$f":"+CONCATENATE(VLOOKUP(F38092,Cadastro!$Q$3:$R$162,2,FALSE),\"/\",S38092,\"/\",H38092)","v":"20/Transp/201505"},"Transp/201505","6106/201505","6106/0523/201505","20/201505","20/0523/201505","0523/201505",-131640.72,0,-1805594.97,0,495947.06999999983,0,-231158.21000000002,0,281367.15000000002,0]
[null,"06122","0378","201611",null,"06106","0542","201505",null,"Res","6122/Res/201611",{"$f":"IF(J38152=0,0,+CONCATENATE(VLOOKUP(B38152,Cadastro!$Q$3:$R$162,2,FALSE),\"/\",J38152,\"/\",D38152))","v":"39/Res/201611"},"Res/201611","6122/201611","6122/0378/201611","39/201611","39/0378/201611","0378/201611","Aut","6106/Aut/201505",{"$f":"+CONCATENATE(VLOOKUP(F38152,Cadastro!$Q$3:$R$162,2,FALSE),\"/\",S38152,\"/\",H38152)","v":"20/Aut/201505"},"Aut/201505","6106/201505","6106/0542/201505","20/201505","20/0542/201505","0542/201505",-281655.95,0,-402071.73,0,93635.19,0,-56332.19,0,36890.019999999997,0]
[null,"06122","0739","201603",null,"06106","0544","201509",null,"RF","6122/RF/201603",{"$f":"IF(J38168=0,0,+CONCATENATE(VLOOKUP(B38168,Cadastro!$Q$3:$R$162,2,FALSE),\"/\",J38168,\"/\",D38168))","v":"39/RF/201603"},"RF/201603","6122/201603","6122/0739/201603","39/201603","39/0739/201603","0739/201603","Aut","6106/Aut/201509",{"$f":"+CONCATENATE(VLOOKUP(F38168,Cadastro!$Q$3:$R$162,2,FALSE),\"/\",S38168,\"/\",H38168)","v":"20/Aut/201509"},"Aut/201509","6106/201509","6106/0544/201509","20/201509","20/0544/201509","0544/201509",0,0,0,0,0,0,0,0,0,0]
[null,"06122","0776","201604",null,"06106","0627","201510",null,"RF","6122/RF/201604",{"$f":"IF(J38253=0,0,+CONCATENATE(VLOOKUP(B38253,Cadastro!$Q$3:$R$162,2,FALSE),\"/\",J38253,\"/\",D38253))","v":"39/RF/201604"},"RF/201604","6122/201604","6122/0776/201604","39/201604","39/0776/201604","0776/201604","Transp","6106/Transp/201510",{"$f":"+CONCATENATE(VLOOKUP(F38253,Cadastro!$Q$3:$R$162,2,FALSE),\"/\",S38253,\"/\",H38253)","v":"20/Transp/201510"},"Transp/201510","6106/201510","6106/0627/201510","20/201510","20/0627/201510","0627/201510",181765.62,0,-515548.03,0,498046.29999999993,0,14206.890000000596,0,236531.96,0]
[null,"06157","0986","201610",null,"06106","0658","201504",null,"Pes","6157/Pes/201610",{"$f":"IF(J38355=0,0,+CONCATENATE(VLOOKUP(B38355,Cadastro!$Q$3:$R$162,2,FALSE),\"/\",J38355,\"/\",D38355))","v":{"$error":"#N/A"}},"Pes/201610","6157/201610","6157/0986/201610",{"$error":"#N/A"},{"$error":"#N/A"},"0986/201610","Transp","6106/Transp/201504",{"$f":"+CONCATENATE(VLOOKUP(F38355,Cadastro!$Q$3:$R$162,2,FALSE),\"/\",S38355,\"/\",H38355)","v":"20/Transp/201504"},"Transp/201504","6106/201504","6106/0658/201504","20/201504","20/0658/201504","0658/201504",0,0,0,0,0,0,0,0,0,0]
[null,"06157","1377","201601",null,"06106","0746","201507",null,"Pes",{"$f":"IF(J38418=0,0,+CONCATENATE(VALUE(B38418),\"/\",J38418,\"/\",D38418))","v":"6157/Pes/201601"},{"$f":"IF(J38418=0,0,+CONCATENATE(VLOOKUP(B38418,Cadastro!$Q$3:$R$162,2,FALSE),\"/\",J38418,\"/\",D38418))","v":{"$error":"#N/A"}},"Pes/201601","6157/201601","6157/1377/201601",{"$error":"#N/A"},{"$error":"#N/A"},"1377/201601","RF","6106/RF/201507",{"$f":"+CONCATENATE(VLOOKUP(F38418,Cadastro!$Q$3:$R$162,2,FALSE),\"/\",S38418,\"/\",H38418)","v":"20/RF/201507"},"RF/201507","6106/201507","6106/0746/201507","20/201507","20/0746/201507","0746/201507",0,0,0,0,0,0,0,0,0,0]
[null,"06157","1381","201609",null,"06106","0748","201503",null,"Pes","6157/Pes/201609",{"$f":"IF(J38438=0,0,+CONCATENATE(VLOOKUP(B38438,Cadastro!$Q$3:$R$162,2,FALSE),\"/\",J38438,\"/\",D38438))","v":{"$error":"#N/A"}},"Pes/201609","6157/201609","6157/1381/201609",{"$error":"#N/A"},{"$error":"#N/A"},"1381/201609","RF","6106/RF/201503",{"$f":"+CONCATENATE(VLOOKUP(F38438,Cadastro!$Q$3:$R$162,2,FALSE),\"/\",S38438,\"/\",H38438)","v":"20/RF/201503"},"RF/201503","6106/201503","6106/0748/201503","20/201503","20/0748/201503","0748/201503",0,0,0,0,0,0,0,0,0,0]
[null,"06173","0111","201606",null,"06106","0859","201512",null,"Pat","6173/Pat/201606",{"$f":"IF(J38519=0,0,+CONCATENATE(VLOOKUP(B38519,Cadastro!$Q$3:$R$162,2,FALSE),\"/\",J38519,\"/\",D38519))","v":"45/Pat/201606"},"Pat/201606","6173/201606","6173/0111/201606","45/201606","45/0111/201606","0111/201606","RF","6106/RF/201512",{"$f":"+CONCATENATE(VLOOKUP(F38519,Cadastro!$Q$3:$R$162,2,FALSE),\"/\",S38519,\"/\",H38519)","v":"20/RF/201512"},"RF/201512","6106/201512","6106/0859/201512","20/201512","20/0859/201512","0859/201512",0,0,0,0,0,0,-9.5399999999999991,0,0,0]
[null,"06173","0351","201601",null,"06106","0982","201503",null,"Res","6173/Res/201601",{"$f":"IF(J38618=0,0,+CONCATENATE(VLOOKUP(B38618,Cadastro!$Q$3:$R$162,2,FALSE),\"/\",J38618,\"/\",D38618))","v":"45/Res/201601"},"Res/201601","6173/201601","6173/0351/201601","45/201601","45/0351/201601","0351/201601","Pes","6106/Pes/201503",{"$f":"+CONCATENATE(VLOOKUP(F38618,Cadastro!$Q$3:$R$162,2,FALSE),\"/\",S38618,\"/\",H38618)","v":"20/Pes/201503"},"Pes/201503","6106/201503","6106/0982/201503","20/201503","20/0982/201503","0982/201503",0,10320644.789999999,0,10159407.119999999,0,10123416.75,0,1864238.28,0,1099130.19]
[null,"06173","0351","201606",null,"06106","0982","201508",null,"Res","6173/Res/201606",{"$f":"IF(J38623=0,0,+CONCATENATE(VLOOKUP(B38623,Cadastro!$Q$3:$R$162,2,FALSE),\"/\",J38623,\"/\",D38623))","v":"45/Res/201606"},"Res/201606","6173/201606","6173/0351/201606","45/201606","45/0351/201606","0351/201606","Pes","6106/Pes/201508",{"$f":"+CONCATENATE(VLOOKUP(F38623,Cadastro!$Q$3:$R$162,2,FALSE),\"/\",S38623,\"/\",H38623)","v":"20/Pes/201508"},"Pes/201508","6106/201508","6106/0982/201508","20/201508","20/0982/201508","0982/201508",0,9616566.9900000002,0,9440639.2599999998,0,9561744.6099999994,-723.97,2395760.7000000002,0,1561743.81]
[null,"06173","0621","201611",null,"06106","0992","201505",null,"Transp","6173/Transp/201611",{"$f":"IF(J38704=0,0,+CONCATENATE(VLOOKUP(B38704,Cadastro!$Q$3:$R$162,2,FALSE),\"/\",J38704,\"/\",D38704))","v":"45/Transp/201611"},"Transp/201611","6173/201611","6173/0621/201611","45/201611","45/0621/201611","0621/201611","VGBL","6106/VGBL/201505",{"$f":"+CONCATENATE(VLOOKUP(F38704,Cadastro!$Q$3:$R$162,2,FALSE),\"/\",S38704,\"/\",H38704)","v":"20/VGBL/201505"},"VGBL/201505","6106/201505","6106/0992/201505","20/201505","20/0992/201505","0992/201505",0,0,0,0,0,0,-528.57000000000005,0,0,0]
[null,"06173","0977","201604",null,"06106","1101","201506",null,{"$f":"IF(C38789=0,0,+VLOOKUP(C38789,$AQ$4:$AR$130,2,FALSE))","v":"Pes"},"6173/Pes/201604",{"$f":"IF(J38789=0,0,+CONCATENATE(VLOOKUP(B38789,Cadastro!$Q$3:$R$162,2,FALSE),\"/\",J38789,\"/\",D38789))","v":"45/Pes/201604"},"Pes/201604","6173/201604","6173/0977/201604","45/201604","45/0977/201604","0977/201604",{"$f":"+VLOOKUP(G38789,$AQ$4:$AR$130,2,FALSE)","v":"Rur"},{"$f":"+CONCATENATE(VALUE(F38789),\"/\",S38789,\"/\",H38789)","v":"6106/Rur/201506"},{"$f":"+CONCATENATE(VLOOKUP(F38789,Cadastro!$Q$3:$R$162,2,FALSE),\"/\",S38789,\"/\",H38789)","v":"20/Rur/201506"},"Rur/201506","6106/201506","6106/1101/201506","20/201506","20/1101/201506","1101/201506",0,0,-433.68,0,3575.01,0,0,0,0,0]
[null,"06173","0982","201608",null,"06106","1103","201510",null,"Pes","6173/Pes/201608",{"$f":"IF(J38817=0,0,+CONCATENATE(VLOOKUP(B38817,Cadastro!$Q$3:$R$162,2,FALSE),\"/\",J38817,\"/\",D38817))","v":"45/Pes/201608"},"Pes/201608","6173/201608","6173/0982/201608","45/201608","45/0982/201608","0982/201608","Rur","6106/Rur/201510",{"$f":"+CONCATENATE(VLOOKUP(F38817,Cadastro!$Q$3:$R$162,2,FALSE),\"/\",S38817,\"/\",H38817)","v":"20/Rur/201510"},"Rur/201510","6106/201510","6106/1103/201510","20/201510","20/1103/201510","1103/201510",187694.37,0,183352.04,0,187702.44,0,-27175.1,0,22290.11,0]
[null,"06173","1391","201608",null,"06106","1109","201510",null,"Pes","6173/Pes/201608",{"$f":"IF(J38889=0,0,+CONCATENATE(VLOOKUP(B38889,Cadastro!$Q$3:$R$162,2,FALSE),\"/\",J38889,\"/\",D38889))","v":"45/Pes/201608"},"Pes/201608","6173/201608","6173/1391/201608","45/201608","45/1391/201608","1391/201608","Rur","6106/Rur/201510",{"$f":"+CONCATENATE(VLOOKUP(F38889,Cadastro!$Q$3:$R$162,2,FALSE),\"/\",S38889,\"/\",H38889)","v":"20/Rur/201510"},"Rur/201510","6106/201510","6106/1109/201510","20/201510","20/1109/201510","1109/201510",2047.05,0,1862.28,0,3257.14,0,-6197.22,0,667.65,0]
[null,"06181","0171","201608",null,"06106","1285","201511",null,"Pat","6181/Pat/201608",{"$f":"IF(J38974=0,0,+CONCATENATE(VLOOKUP(B38974,Cadastro!$Q$3:$R$162,2,FALSE),\"/\",J38974,\"/\",D38974))","v":"15/Pat/201608"},"Pat/201608","6181/201608","6181/0171/201608","15/201608","15/0171/201608","0171/201608",{"$error":"#N/A"},{"$error":"#N/A"},{"$f":"+CONCATENATE(VLOOKUP(F38974,Cadastro!$Q$3:$R$162,2,FALSE),\"/\",S38974,\"/\",H38974)","v":{"$error":"#N/A"}},{"$error":"#N/A"},"6106/201511","6106/1285/201511","20/201511","20/1285/201511","1285/201511",0,0,0,0,0,0,0,0,0,0]
[null,"06181","0520","201605",null,"06106","1381","201508",null,"Aut","6181/Aut/201605",{"$f":"IF(J39055=0,0,+CONCATENATE(VLOOKUP(B39055,Cadastro!$Q$3:$R$162,2,FALSE),\"/\",J39055,\"/\",D39055))","v":"15/Aut/201605"},"Aut/201605","6181/201605","6181/0520/201605","15/201605","15/0520/201605","0520/201605","Pes","6106/Pes/201508",{"$f":"+CONCATENATE(VLOOKUP(F39055,Cadastro!$Q$3:$R$162,2,FALSE),\"/\",S39055,\"/\",H39055)","v":"20/Pes/201508"},"Pes/201508","6106/201508","6106/1381/201508","20/201508","20/1381/201508","1381/201508",2138598.16,8186529.3300000001,2138598.16,8117909.7400000002,2061670.03,8016128.5300000003,-540668.02,922584.07000000007,189306.81,1631846.7]
[null,"06181","0525","201606",null,"06106","1384","201509",null,"Aut","6181/Aut/201606",{"$f":"IF(J39080=0,0,+CONCATENATE(VLOOKUP(B39080,Cadastro!$Q$3:$R$162,2,FALSE),\"/\",J39080,\"/\",D39080))","v":"15/Aut/201606"},"Aut/201606","6181/201606","6181/0525/201606","15/201606","15/0525/201606","0525/201606","Pes","6106/Pes/201509",{"$f":"+CONCATENATE(VLOOKUP(F39080,Cadastro!$Q$3:$R$162,2,FALSE),\"/\",S39080,\"/\",H39080)","v":"20/Pes/201509"},"Pes/201509","6106/201509","6106/1384/201509","20/201509","20/1384/201509","1384/201509",0,0,0,0,0,0,0,0,0,0]
[null,"06181","0622","201601",null,"06106","1428","201504",null,"Transp","6181/Transp/201601",{"$f":"IF(J39159=0,0,+CONCATENATE(VLOOKUP(B39159,Cadastro!$Q$3:$R$162,2,FALSE),\"/\",J39159,\"/\",D39159))","v":"15/Transp/201601"},"Transp/201601","6181/201601","6181/0622/201601","15/201601","15/0622/201601","0622/201601","Mar","6106/Mar/201504",{"$f":"+CONCATENATE(VLOOKUP(F39159,Cadastro!$Q$3:$R$162,2,FALSE),\"/\",S39159,\"/\",H39159)","v":"20/Mar/201504"},"Mar/201504","6106/201504","6106/1428/201504","20/201504","20/1428/201504","1428/201504",0,0,0,0,0,0,0,0,0,0]
[null,"06181","0775","201610",null,"06106","1601","201508",null,"RF","6181/RF/201610",{"$f":"IF(J39240=0,0,+CONCATENATE(VLOOKUP(B39240,Cadastro!$Q$3:$R$162,2,FALSE),\"/\",J39240,\"/\",D39240))","v":"15/RF/201610"},"RF/201610","6181/201610","6181/0775/201610","15/201610","15/0775/201610","0775/201610","Mpes","6106/Mpes/201508",{"$f":"+CONCATENATE(VLOOKUP(F39240,Cadastro!$Q$3:$R$162,2,FALSE),\"/\",S39240,\"/\",H39240)","v":"20/Mpes/201508"},"Mpes/201508","6106/201508","6106/1601/201508","20/201508","20/1601/201508","1601/201508",0,39678.199999999997,0,39678.199999999997,0,377.58,0,0,0,-25.8]
[null,"06181","1068","201611",null,"06122","0378","201507",null,"Hab","6181/Hab/201611",{"$f":"IF(J39325=0,0,+CONCATENATE(VLOOKUP(B39325,Cadastro!$Q$3:$R$162,2,FALSE),\"/\",J39325,\"/\",D39325))","v":"15/Hab/201611"},"Hab/201611","6181/201611","6181/1068/201611","15/201611","15/1068/201611","1068/201611","Res","6122/Res/201507",{"$f":"+CONCATENATE(VLOOKUP(F39325,Cadastro!$Q$3:$R$162,2,FALSE),\"/\",S39325,\"/\",H39325)","v":"39/Res/201507"},"Res/201507","6122/201507","6122/0378/201507","39/201507","39/0378/201507","0378/201507",0,316107.05,0,185221.16999999998,0,98226.15,0,24400.79,0,32925.800000000003]
[null,"06181","1163","201605",null,"06122","0437","201506",null,"Rur","6181/Rur/201605",{"$f":"IF(J39343=0,0,+CONCATENATE(VLOOKUP(B39343,Cadastro!$Q$3:$R$162,2,FALSE),\"/\",J39343,\"/\",D39343))","v":"15/Rur/201605"},"Rur/201605","6181/201605","6181/1163/201605","15/201605","15/1163/201605","1163/201605","Aero","6122/Aero/201506",{"$f":"+CONCATENATE(VLOOKUP(F39343,Cadastro!$Q$3:$R$162,2,FALSE),\"/\",S39343,\"/\",H39343)","v":"39/Aero/201506"},"Aero/201506","6122/201506","6122/0437/201506","39/201506","39/0437/201506","0437/201506",0,0,0,0,0,0,0,0,0,0]
[null,"06190","0115","201603",null,"06122","0750","201502",null,"Pat","6190/Pat/201603",{"$f":"IF(J39425=0,0,+CONCATENATE(VLOOKUP(B39425,Cadastro!$Q$3:$R$162,2,FALSE),\"/\",J39425,\"/\",D39425))","v":"74/Pat/201603"},"Pat/201603","6190/201603","6190/0115/201603","74/201603","74/0115/201603","0115/201603","RF","6122/RF/201502",{"$f":"+CONCATENATE(VLOOKUP(F39425,Cadastro!$Q$3:$R$162,2,FALSE),\"/\",S39425,\"/\",H39425)","v":"39/RF/201502"},"RF/201502","6122/201502","6122/0750/201502","39/201502","39/0750/201502","0750/201502",8867.09,-139249.43,-180381.94,-184716.58,127680.95999999999,20955.310000000005,39,0,75105.86,12488.41]
[null,"06190","0195","201604",null,"06122","0990","201508",null,"Pat","6190/Pat/201604",{"$f":"IF(J39510=0,0,+CONCATENATE(VLOOKUP(B39510,Cadastro!$Q$3:$R$162,2,FALSE),\"/\",J39510,\"/\",D39510))","v":"74/Pat/201604"},"Pat/201604","6190/201604","6190/0195/201604","74/201604","74/0195/201604","0195/201604","Pes","6122/Pes/201508",{"$f":"+CONCATENATE(VLOOKUP(F39510,Cadastro!$Q$3:$R$162,2,FALSE),\"/\",S39510,\"/\",H39510)","v":"39/Pes/201508"},"Pes/201508","6122/201508","6122/0990/201508","39/201508","39/0990/201508","0990/201508",-188.76,0,-188.76,0,292323.28000000003,0,53884.899999999994,0,7088.67,0]
[null,"06190","0351","201601",null,"06131","0118","201503",null,"Res","6190/Res/201601",{"$f":"IF(J39591=0,0,+CONCATENATE(VLOOKUP(B39591,Cadastro!$Q$3:$R$162,2,FALSE),\"/\",J39591,\"/\",D39591))","v":"74/Res/201601"},"Res/201601","6190/201601","6190/0351/201601","74/201601","74/0351/201601","0351/201601","Pat","6131/Pat/201503",{"$f":"+CONCATENATE(VLOOKUP(F39591,Cadastro!$Q$3:$R$162,2,FALSE),\"/\",S39591,\"/\",H39591)","v":"53/Pat/201503"},"Pat/201503","6131/201503","6131/0118/201503","53/201503","53/0118/201503","0118/201503",8945266.8800000008,0,7160796.5000000009,0,6187575.9000000004,10.43,1686724.6400000006,0,1652840.35,1.57]
[null,"06190","0378","201604",null,"06131","0141","201509",null,"Res","6190/Res/201604",{"$f":"IF(J39606=0,0,+CONCATENATE(VLOOKUP(B39606,Cadastro!$Q$3:$R$162,2,FALSE),\"/\",J39606,\"/\",D39606))","v":"74/Res/201604"},"Res/201604","6190/201604","6190/0378/201604","74/201604","74/0378/201604","0378/201604","Pat","6131/Pat/201509",{"$f":"+CONCATENATE(VLOOKUP(F39606,Cadastro!$Q$3:$R$162,2,FALSE),\"/\",S39606,\"/\",H39606)","v":"53/Pat/201509"},"Pat/201509","6131/201509","6131/0141/201509","53/201509","53/0141/201509","0141/201509",1695595.66,0,629785.96,0,422622.43999999994,0,6531.85,0,163322.76999999999,0]
[null,"06190","0524","201605",null,"06131","0437","201504",null,"Aut","6190/Aut/201605",{"$f":"IF(J39691=0,0,+CONCATENATE(VLOOKUP(B39691,Cadastro!$Q$3:$R$162,2,FALSE),\"/\",J39691,\"/\",D39691))","v":"74/Aut/201605"},"Aut/201605","6190/201605","6190/0524/201605","74/201605","74/0524/201605","0524/201605","Aero","6131/Aero/201504",{"$f":"+CONCATENATE(VLOOKUP(F39691,Cadastro!$Q$3:$R$162,2,FALSE),\"/\",S39691,\"/\",H39691)","v":"53/Aero/201504"},"Aero/201504","6131/201504","6131/0437/201504","53/201504","53/0437/201504","0437/201504",0,0,0,0,0,0,0,0,0,0]
[null,"06190","0589","201605",null,"06131","0628","201508",null,"Dpvat","6190/Dpvat/201605",{"$f":"IF(J39776=0,0,+CONCATENATE(VLOOKUP(B39776,Cadastro!$Q$3:$R$162,2,FALSE),\"/\",J39776,\"/\",D39776))","v":"74/Dpvat/201605"},"Dpvat/201605","6190/201605","6190/0589/201605","74/201605","74/0589/201605","0589/201605","Transp","6131/Transp/201508",{"$f":"+CONCATENATE(VLOOKUP(F39776,Cadastro!$Q$3:$R$162,2,FALSE),\"/\",S39776,\"/\",H39776)","v":"53/Transp/201508"},"Transp/201508","6131/201508","6131/0628/201508","53/201508","53/0628/201508","0628/201508",0,2496885.7999999998,0,2053400.2999999998,0,1676901.2799999998,0,-583411.83000000007,0,501249.77]
[null,"06190","0622","201601",null,"06131","0740","201501",null,"Transp","6190/Transp/201601",{"$f":"IF(J39796=0,0,+CONCATENATE(VLOOKUP(B39796,Cadastro!$Q$3:$R$162,2,FALSE),\"/\",J39796,\"/\",D39796))","v":"74/Transp/201601"},"Transp/201601","6190/201601","6190/0622/201601","74/201601","74/0622/201601","0622/201601","RF","6131/RF/201501",{"$f":"+CONCATENATE(VLOOKUP(F39796,Cadastro!$Q$3:$R$162,2,FALSE),\"/\",S39796,\"/\",H39796)","v":"53/RF/201501"},"RF/201501","6131/201501","6131/0740/201501","53/201501","53/0740/201501","0740/201501",3453575.25,0,2431899.83,0,3621977.1900000004,0,2610569.29,105.05,1133078.78,0]
[null,"06190","0644","201602",null,"06131","0860","201502",null,"Transp","6190/Transp/201602",{"$f":"IF(J39869=0,0,+CONCATENATE(VLOOKUP(B39869,Cadastro!$Q$3:$R$162,2,FALSE),\"/\",J39869,\"/\",D39869))","v":"74/Transp/201602"},"Transp/201602","6190/201602","6190/0644/201602","74/201602","74/0644/201602","0644/201602","RF","6131/RF/201502",{"$f":"+CONCATENATE(VLOOKUP(F39869,Cadastro!$Q$3:$R$162,2,FALSE),\"/\",S39869,\"/\",H39869)","v":"53/RF/201502"},"RF/201502","6131/201502","6131/0860/201502","53/201502","53/0860/201502","0860/201502",0,0,0,0,0,0,0,0,0,0]
[null,"06190","0740","201610",null,"06131","0993","201504",null,"RF","6190/RF/201610",{"$f":"IF(J39961=0,0,+CONCATENATE(VLOOKUP(B39961,Cadastro!$Q$3:$R$162,2,FALSE),\"/\",J39961,\"/\",D39961))","v":"74/RF/201610"},"RF/201610","6190/201610","6190/0740/201610","74/201610","74/0740/201610","0740/201610","Pes","6131/Pes/201504",{"$f":"+CONCATENATE(VLOOKUP(F39961,Cadastro!$Q$3:$R$162,2,FALSE),\"/\",S39961,\"/\",H39961)","v":"53/Pes/201504"},"Pes/201504","6131/201504","6131/0993/201504","53/201504","53/0993/201504","0993/201504",0,477717.99,0,426263.07,0,429919.67000000004,0,147973.53999999998,0,110872.44]
[null,"06190","0746","201606",null,"06131","1068","201506",null,"RF","6190/RF/201606",{"$f":"IF(J39981=0,0,+CONCATENATE(VLOOKUP(B39981,Cadastro!$Q$3:$R$162,2,FALSE),\"/\",J39981,\"/\",D39981))","v":"74/RF/201606"},"RF/201606","6190/201606","6190/0746/201606","74/201606","74/0746/201606","0746/201606","Hab","6131/Hab/201506",{"$f":"+CONCATENATE(VLOOKUP(F39981,Cadastro!$Q$3:$R$162,2,FALSE),\"/\",S39981,\"/\",H39981)","v":"53/Hab/201506"},"Hab/201506","6131/201506","6131/1068/201506","53/201506","53/1068/201506","1068/201506",397590,0,311966.33999999997,0,173309.18,0,474010.76999999996,0,49608.33,0]
[null,"06190","0819","201603",null,"06157","0984","201506",null,"RF","6190/RF/201603",{"$f":"IF(J40062=0,0,+CONCATENATE(VLOOKUP(B40062,Cadastro!$Q$3:$R$162,2,FALSE),\"/\",J40062,\"/\",D40062))","v":"74/RF/201603"},"RF/201603","6190/201603","6190/0819/201603","74/201603","74/0819/201603","0819/201603","Pes","6157/Pes/201506",{"$f":"+CONCATENATE(VLOOKUP(F40062,Cadastro!$Q$3:$R$162,2,FALSE),\"/\",S40062,\"/\",H40062)","v":{"$error":"#N/A"}},"Pes/201506","6157/201506","6157/0984/201506",{"$error":"#N/A"},{"$error":"#N/A"},"0984/201506",0,0,0,0,0,0,0,0,0,0]
[null,"06190","0969","201601",null,"06157","1329","201504",null,"Pes","6190/Pes/201601",{"$f":"IF(J40132=0,0,+CONCATENATE(VLOOKUP(B40132,Cadastro!$Q$3:$R$162,2,FALSE),\"/\",J40132,\"/\",D40132))","v":"74/Pes/201601"},"Pes/201601","6190/201601","6190/0969/201601","74/201601","74/0969/201601","0969/201601","Pes","6157/Pes/201504",{"$f":"+CONCATENATE(VLOOKUP(F40132,Cadastro!$Q$3:$R$162,2,FALSE),\"/\",S40132,\"/\",H40132)","v":{"$error":"#N/A"}},"Pes/201504","6157/201504","6157/1329/201504",{"$error":"#N/A"},{"$error":"#N/A"},"1329/201504",0,0,0,0,0,0,0,0,0,0]
[null,"06190","0986","201612",null,"06157","1392","201503",null,"Pes","6190/Pes/201612",{"$f":"IF(J40227=0,0,+CONCATENATE(VLOOKUP(B40227,Cadastro!$Q$3:$R$162,2,FALSE),\"/\",J40227,\"/\",D40227))","v":"74/Pes/201612"},"Pes/201612","6190/201612","6190/0986/201612","74/201612","74/0986/201612","0986/201612","VGBL","6157/VGBL/201503",{"$f":"+CONCATENATE(VLOOKUP(F40227,Cadastro!$Q$3:$R$162,2,FALSE),\"/\",S40227,\"/\",H40227)","v":{"$error":"#N/A"}},"VGBL/201503","6157/201503","6157/1392/201503",{"$error":"#N/A"},{"$error":"#N/A"},"1392/201503",0,44317839.039999999,0,44317839.039999999,0,0,0,0,0,7444.43]
[null,"06190","0990","201608",null,"06173","0111","201511",null,"Pes","6190/Pes/201608",{"$f":"IF(J40247=0,0,+CONCATENATE(VLOOKUP(B40247,Cadastro!$Q$3:$R$162,2,FALSE),\"/\",J40247,\"/\",D40247))","v":"74/Pes/201608"},"Pes/201608","6190/201608","6190/0990/201608","74/201608","74/0990/201608","0990/201608","Pat","6173/Pat/201511",{"$f":"+CONCATENATE(VLOOKUP(F40247,Cadastro!$Q$3:$R$162,2,FALSE),\"/\",S40247,\"/\",H40247)","v":"45/Pat/201511"},"Pat/201511","6173/201511","6173/0111/201511","45/201511","45/0111/201511","0111/201511",340291.31,0,340256.99,0,336127.82,0,83739.25,0,98620.41,0]
[null,"06190","1068","201609",null,"06173","0433","201512",null,"Hab","6190/Hab/201609",{"$f":"IF(J40332=0,0,+CONCATENATE(VLOOKUP(B40332,Cadastro!$Q$3:$R$162,2,FALSE),\"/\",J40332,\"/\",D40332))","v":"74/Hab/201609"},"Hab/201609","6190/201609","6190/1068/201609","74/201609","74/1068/201609","1068/201609","Mar","6173/Mar/201512",{"$f":"+CONCATENATE(VLOOKUP(F40332,Cadastro!$Q$3:$R$162,2,FALSE),\"/\",S40332,\"/\",H40332)","v":"45/Mar/201512"},"Mar/201512","6173/201512","6173/0433/201512","45/201512","45/0433/201512","0433/201512",0,0,0,0,0,0,-97458.040000000008,0,0,0]
[null,"06190","1105","201612",null,"06173","0740","201503",null,"Rur","6190/Rur/201612",{"$f":"IF(J40395=0,0,+CONCATENATE(VLOOKUP(B40395,Cadastro!$Q$3:$R$162,2,FALSE),\"/\",J40395,\"/\",D40395))","v":"74/Rur/201612"},"Rur/201612","6190/201612","6190/1105/201612","74/201612","74/1105/201612","1105/201612","RF","6173/RF/201503",{"$f":"+CONCATENATE(VLOOKUP(F40395,Cadastro!$Q$3:$R$162,2,FALSE),\"/\",S40395,\"/\",H40395)","v":"45/RF/201503"},"RF/201503","6173/201503","6173/0740/201503","45/201503","45/0740/201503","0740/201503",0,0,0,0,0,0,0,0,0,0]
[null,"06190","1198","201606",null,"06173","0991","201509",null,"Rur","6190/Rur/201606",{"$f":"IF(J40497=0,0,+CONCATENATE(VLOOKUP(B40497,Cadastro!$Q$3:$R$162,2,FALSE),\"/\",J40497,\"/\",D40497))","v":"74/Rur/201606"},"Rur/201606","6190/201606","6190/1198/201606","74/201606","74/1198/201606","1198/201606","Pes","6173/Pes/201509",{"$f":"+CONCATENATE(VLOOKUP(F40497,Cadastro!$Q$3:$R$162,2,FALSE),\"/\",S40497,\"/\",H40497)","v":"45/Pes/201509"},"Pes/201509","6173/201509","6173/0991/201509","45/201509","45/0991/201509","0991/201509",0,0,0,0,0,0,0,0,0,0]
[null,"06190","1329","201602",null,"06173","0993","201508",null,{"$f":"IF(C40517=0,0,+VLOOKUP(C40517,$AQ$4:$AR$130,2,FALSE))","v":"Pes"},"6190/Pes/201602",{"$f":"IF(J40517=0,0,+CONCATENATE(VLOOKUP(B40517,Cadastro!$Q$3:$R$162,2,FALSE),\"/\",J40517,\"/\",D40517))","v":"74/Pes/201602"},"Pes/201602","6190/201602","6190/1329/201602","74/201602","74/1329/201602","1329/201602",{"$f":"+VLOOKUP(G40517,$AQ$4:$AR$130,2,FALSE)","v":"Pes"},{"$f":"+CONCATENATE(VALUE(F40517),\"/\",S40517,\"/\",H40517)","v":"6173/Pes/201508"},{"$f":"+CONCATENATE(VLOOKUP(F40517,Cadastro!$Q$3:$R$162,2,FALSE),\"/\",S40517,\"/\",H40517)","v":"45/Pes/201508"},"Pes/201508","6173/201508","6173/0993/201508","45/201508","45/0993/201508","0993/201508",0,211338.94,0,197418.28,0,217990.77,0,330779.28000000003,0,13474.79]
[null,"06190","1392","201611",null,"06181","0115","201505",null,"VGBL","6190/VGBL/201611",{"$f":"IF(J40598=0,0,+CONCATENATE(VLOOKUP(B40598,Cadastro!$Q$3:$R$162,2,FALSE),\"/\",J40598,\"/\",D40598))","v":"74/VGBL/201611"},"VGBL/201611","6190/201611","6190/1392/201611","74/201611","74/1392/201611","1392/201611","Pat","6181/Pat/201505",{"$f":"+CONCATENATE(VLOOKUP(F40598,Cadastro!$Q$3:$R$162,2,FALSE),\"/\",S40598,\"/\",H40598)","v":"15/Pat/201505"},"Pat/201505","6181/201505","6181/0115/201505","15/201505","15/0115/201505","0115/201505",0,0,0,0,0,0,0,0,0,0]
[null,"06190","1528","201611",null,"06181","0196","201505",null,"Aero",{"$f":"IF(J40658=0,0,+CONCATENATE(VALUE(B40658),\"/\",J40658,\"/\",D40658))","v":"6190/Aero/201611"},{"$f":"IF(J40658=0,0,+CONCATENATE(VLOOKUP(B40658,Cadastro!$Q$3:$R$162,2,FALSE),\"/\",J40658,\"/\",D40658))","v":"74/Aero/201611"},"Aero/201611","6190/201611","6190/1528/201611","74/201611","74/1528/201611","1528/201611","Pat","6181/Pat/201505",{"$f":"+CONCATENATE(VLOOKUP(F40658,Cadastro!$Q$3:$R$162,2,FALSE),\"/\",S40658,\"/\",H40658)","v":"15/Pat/201505"},"Pat/201505","6181/201505","6181/0196/201505","15/201505","15/0196/201505","0196/201505",109355.24,0,28623.090000000011,0,237498.19000000003,0,214148.04,0,42764.98,0]
[null,"06190","1601","201603",null,"06181","0433","201509",null,"Mpes","6190/Mpes/201603",{"$f":"IF(J40698=0,0,+CONCATENATE(VLOOKUP(B40698,Cadastro!$Q$3:$R$162,2,FALSE),\"/\",J40698,\"/\",D40698))","v":"74/Mpes/201603"},"Mpes/201603","6190/201603","6190/1601/201603","74/201603","74/1601/201603","1601/201603","Mar","6181/Mar/201509",{"$f":"+CONCATENATE(VLOOKUP(F40698,Cadastro!$Q$3:$R$162,2,FALSE),\"/\",S40698,\"/\",H40698)","v":"15/Mar/201509"},"Mar/201509","6181/201509","6181/0433/201509","15/201509","15/0433/201509","0433/201509",452373.79,0,452373.79,0,437505.86,0,-1310.07,0,2610.71,0]
[null,"06211","0116","201612",null,"06181","0553","201510",null,"Pat","6211/Pat/201612",{"$f":"IF(J40783=0,0,+CONCATENATE(VLOOKUP(B40783,Cadastro!$Q$3:$R$162,2,FALSE),\"/\",J40783,\"/\",D40783))","v":"15/Pat/201612"},"Pat/201612","6211/201612","6211/0116/201612","15/201612","15/0116/201612","0116/201612","Aut","6181/Aut/201510",{"$f":"+CONCATENATE(VLOOKUP(F40783,Cadastro!$Q$3:$R$162,2,FALSE),\"/\",S40783,\"/\",H40783)","v":"15/Aut/201510"},"Aut/201510","6181/201510","6181/0553/201510","15/201510","15/0553/201510","0553/201510",29327.65,27031223.530000001,13604.600000000002,27031223.530000001,49868.639999999999,33085390.030000001,53097.210000000006,18221901.510000002,30755.83,4470684.6100000003]
[null,"06211","0272","201601",null,"06181","0658","201511",null,"RE","6211/RE/201601",{"$f":"IF(J40868=0,0,+CONCATENATE(VLOOKUP(B40868,Cadastro!$Q$3:$R$162,2,FALSE),\"/\",J40868,\"/\",D40868))","v":"15/RE/201601"},"RE/201601","6211/201601","6211/0272/201601","15/201601","15/0272/201601","0272/201601","Transp","6181/Transp/201511",{"$f":"+CONCATENATE(VLOOKUP(F40868,Cadastro!$Q$3:$R$162,2,FALSE),\"/\",S40868,\"/\",H40868)","v":"15/Transp/201511"},"Transp/201511","6181/201511","6181/0658/201511","15/201511","15/0658/201511","0658/201511",0,0,-1047095.13,0,45641.359999999986,0,0,0,10.91,0]
[null,"06211","0351","201606",null,"06181","0870","201504",null,"Res","6211/Res/201606",{"$f":"IF(J40921=0,0,+CONCATENATE(VLOOKUP(B40921,Cadastro!$Q$3:$R$162,2,FALSE),\"/\",J40921,\"/\",D40921))","v":"15/Res/201606"},"Res/201606","6211/201606","6211/0351/201606","15/201606","15/0351/201606","0351/201606","RF","6181/RF/201504",{"$f":"+CONCATENATE(VLOOKUP(F40921,Cadastro!$Q$3:$R$162,2,FALSE),\"/\",S40921,\"/\",H40921)","v":"15/RF/201504"},"RF/201504","6181/201504","6181/0870/201504","15/201504","15/0870/201504","0870/201504",595180.02,0,780278.68,0,964617.52,0,153502.5,0,150317.5,0]
[null,"06211","0437","201605",null,"06181","0993","201503",null,"Aero","6211/Aero/201605",{"$f":"IF(J40968=0,0,+CONCATENATE(VLOOKUP(B40968,Cadastro!$Q$3:$R$162,2,FALSE),\"/\",J40968,\"/\",D40968))","v":"15/Aero/201605"},"Aero/201605","6211/201605","6211/0437/201605","15/201605","15/0437/201605","0437/201605","Pes","6181/Pes/201503",{"$f":"+CONCATENATE(VLOOKUP(F40968,Cadastro!$Q$3:$R$162,2,FALSE),\"/\",S40968,\"/\",H40968)","v":"15/Pes/201503"},"Pes/201503","6181/201503","6181/0993/201503","15/201503","15/0993/201503","0993/201503",0,0,0,0,0,0,0,0,0,0]
[null,"06211","0553","201602",null,"06181","1535","201512",null,"Aut","6211/Aut/201602",{"$f":"IF(J41049=0,0,+CONCATENATE(VLOOKUP(B41049,Cadastro!$Q$3:$R$162,2,FALSE),\"/\",J41049,\"/\",D41049))","v":"15/Aut/201602"},"Aut/201602","6211/201602","6211/0553/201602","15/201602","15/0553/201602","0553/201602","Aero","6181/Aero/201512",{"$f":"+CONCATENATE(VLOOKUP(F41049,Cadastro!$Q$3:$R$162,2,FALSE),\"/\",S41049,\"/\",H41049)","v":"15/Aero/201512"},"Aero/201512","6181/201512","6181/1535/201512","15/201512","15/1535/201512","1535/201512",0,0,0,0,0,0,0,0,0,0]
[null,"06211","0632","201603",null,"06190","0167","201501",null,"Transp","6211/Transp/201603",{"$f":"IF(J41134=0,0,+CONCATENATE(VLOOKUP(B41134,Cadastro!$Q$3:$R$162,2,FALSE),\"/\",J41134,\"/\",D41134))","v":"15/Transp/201603"},"Transp/201603","6211/201603","6211/0632/201603","15/201603","15/0632/201603","0632/201603","Pat","6190/Pat/201501",{"$f":"+CONCATENATE(VLOOKUP(F41134,Cadastro!$Q$3:$R$162,2,FALSE),\"/\",S41134,\"/\",H41134)","v":"74/Pat/201501"},"Pat/201501","6190/201501","6190/0167/201501","74/201501","74/0167/201501","0167/201501",0,2244005.9500000002,0,-2053190.5899999999,0,-329706.35000000009,0,1694916.8199999998,0,851197.82]
[null,"06211","0655","201605",null,"06190","0196","201503",null,"Transp","6211/Transp/201605",{"$f":"IF(J41184=0,0,+CONCATENATE(VLOOKUP(B41184,Cadastro!$Q$3:$R$162,2,FALSE),\"/\",J41184,\"/\",D41184))","v":"15/Transp/201605"},"Transp/201605","6211/201605","6211/0655/201605","15/201605","15/0655/201605","0655/201605","Pat","6190/Pat/201503",{"$f":"+CONCATENATE(VLOOKUP(F41184,Cadastro!$Q$3:$R$162,2,FALSE),\"/\",S41184,\"/\",H41184)","v":"74/Pat/201503"},"Pat/201503","6190/201503","6190/0196/201503","74/201503","74/0196/201503","0196/201503",0,12084216.039999999,0,4187149.7399999993,0,3331774.9200000009,0,5423188.5800000001,0,1404813.69]
[null,"06211","0740","201607",null,"06190","0310","201505",null,"RF",{"$f":"IF(J41234=0,0,+CONCATENATE(VALUE(B41234),\"/\",J41234,\"/\",D41234))","v":"6211/RF/201607"},{"$f":"IF(J41234=0,0,+CONCATENATE(VLOOKUP(B41234,Cadastro!$Q$3:$R$162,2,FALSE),\"/\",J41234,\"/\",D41234))","v":"15/RF/201607"},"RF/201607","6211/201607","6211/0740/201607","15/201607","15/0740/201607","0740/201607","Res","6190/Res/201505",{"$f":"+CONCATENATE(VLOOKUP(F41234,Cadastro!$Q$3:$R$162,2,FALSE),\"/\",S41234,\"/\",H41234)","v":"74/Res/201505"},"Res/201505","6190/201505","6190/0310/201505","74/201505","74/0310/201505","0310/201505",0,0,0,0,0,0,0,0,81.599999999999994,0]
[null,"06211","0750","201608",null,"06190","0457","201506",null,"RF","6211/RF/201608",{"$f":"IF(J41319=0,0,+CONCATENATE(VLOOKUP(B41319,Cadastro!$Q$3:$R$162,2,FALSE),\"/\",J41319,\"/\",D41319))","v":"15/RF/201608"},"RF/201608","6211/201608","6211/0750/201608","15/201608","15/0750/201608","0750/201608","Mar","6190/Mar/201506",{"$f":"+CONCATENATE(VLOOKUP(F41319,Cadastro!$Q$3:$R$162,2,FALSE),\"/\",S41319,\"/\",H41319)","v":"74/Mar/201506"},"Mar/201506","6190/201506","6190/0457/201506","74/201506","74/0457/201506","0457/201506",0,0,0,0,0,0,0,0,0,0]
[null,"06211","0929","201609",null,"06190","0544","201507",null,"Pes","6211/Pes/201609",{"$f":"IF(J41404=0,0,+CONCATENATE(VLOOKUP(B41404,Cadastro!$Q$3:$R$162,2,FALSE),\"/\",J41404,\"/\",D41404))","v":"15/Pes/201609"},"Pes/201609","6211/201609","6211/0929/201609","15/201609","15/0929/201609","0929/201609","Aut","6190/Aut/201507",{"$f":"+CONCATENATE(VLOOKUP(F41404,Cadastro!$Q$3:$R$162,2,FALSE),\"/\",S41404,\"/\",H41404)","v":"74/Aut/201507"},"Aut/201507","6190/201507","6190/0544/201507","74/201507","74/0544/201507","0544/201507",0,0,0,0,0,0,0,0,0,0]
[null,"06211","0969","201601",null,"06190","0553","201511",null,"Pes","6211/Pes/201601",{"$f":"IF(J41420=0,0,+CONCATENATE(VLOOKUP(B41420,Cadastro!$Q$3:$R$162,2,FALSE),\"/\",J41420,\"/\",D41420))","v":"15/Pes/201601"},"Pes/201601","6211/201601","6211/0969/201601","15/201601","15/0969/201601","0969/201601","Aut","6190/Aut/201511",{"$f":"+CONCATENATE(VLOOKUP(F41420,Cadastro!$Q$3:$R$162,2,FALSE),\"/\",S41420,\"/\",H41420)","v":"74/Aut/201511"},"Aut/201511","6190/201511","6190/0553/201511","74/201511","74/0553/201511","0553/201511",0,34244458.009999998,0,34244458.009999998,0,35367592.979999997,0,24128860.729999997,0,6166903.5]
[null,"06211","0990","201606",null,"06190","0628","201504",null,"Pes","6211/Pes/201606",{"$f":"IF(J41497=0,0,+CONCATENATE(VLOOKUP(B41497,Cadastro!$Q$3:$R$162,2,FALSE),\"/\",J41497,\"/\",D41497))","v":"15/Pes/201606"},"Pes/201606","6211/201606","6211/0990/201606","15/201606","15/0990/201606","0990/201606","Transp","6190/Transp/201504",{"$f":"+CONCATENATE(VLOOKUP(F41497,Cadastro!$Q$3:$R$162,2,FALSE),\"/\",S41497,\"/\",H41497)","v":"74/Transp/201504"},"Transp/201504","6190/201504","6190/0628/201504","74/201504","74/0628/201504","0628/201504",0,159983.42000000001,0,159982.21000000002,0,91816.719999999987,0,20706.39,0,16957.849999999999]
[null,"06211","1101","201610",null,"06190","0656","201508",null,"Rur","6211/Rur/201610",{"$f":"IF(J41585=0,0,+CONCATENATE(VLOOKUP(B41585,Cadastro!$Q$3:$R$162,2,FALSE),\"/\",J41585,\"/\",D41585))","v":"15/Rur/201610"},"Rur/201610","6211/201610","6211/1101/201610","15/201610","15/1101/201610","1101/201610","Transp","6190/Transp/201508",{"$f":"+CONCATENATE(VLOOKUP(F41585,Cadastro!$Q$3:$R$162,2,FALSE),\"/\",S41585,\"/\",H41585)","v":"74/Transp/201508"},"Transp/201508","6190/201508","6190/0656/201508","74/201508","74/0656/201508","0656/201508",0,181821.38,0,168658.65,0,168561.74,0,7477.84,0,56676.98]
[null,"06211","1103","201606",null,"06190","0739","201504",null,{"$f":"IF(C41605=0,0,+VLOOKUP(C41605,$AQ$4:$AR$130,2,FALSE))","v":"Rur"},"6211/Rur/201606",{"$f":"IF(J41605=0,0,+CONCATENATE(VLOOKUP(B41605,Cadastro!$Q$3:$R$162,2,FALSE),\"/\",J41605,\"/\",D41605))","v":"15/Rur/201606"},"Rur/201606","6211/201606","6211/1103/201606","15/201606","15/1103/201606","1103/201606",{"$f":"+VLOOKUP(G41605,$AQ$4:$AR$130,2,FALSE)","v":"RF"},{"$f":"+CONCATENATE(VALUE(F41605),\"/\",S41605,\"/\",H41605)","v":"6190/RF/201504"},{"$f":"+CONCATENATE(VLOOKUP(F41605,Cadastro!$Q$3:$R$162,2,FALSE),\"/\",S41605,\"/\",H41605)","v":"74/RF/201504"},"RF/201504","6190/201504","6190/0739/201504","74/201504","74/0739/201504","0739/201504",0,0,0,0,0,0,0,0,0,0]
[null,"06211","1130","201607",null,"06190","0750","201505",null,"Rur","6211/Rur/201607",{"$f":"IF(J41690=0,0,+CONCATENATE(VLOOKUP(B41690,Cadastro!$Q$3:$R$162,2,FALSE),\"/\",J41690,\"/\",D41690))","v":"15/Rur/201607"},"Rur/201607","6211/201607","6211/1130/201607","15/201607","15/1130/201607","1130/201607","RF","6190/RF/201505",{"$f":"+CONCATENATE(VLOOKUP(F41690,Cadastro!$Q$3:$R$162,2,FALSE),\"/\",S41690,\"/\",H41690)","v":"74/RF/201505"},"RF/201505","6190/201505","6190/0750/201505","74/201505","74/0750/201505","0750/201505",0,0,0,0,0,0,0,0,0,0]
[null,"06211","1329","201605",null,"06190","0870","201503",null,"Pes","6211/Pes/201605",{"$f":"IF(J41760=0,0,+CONCATENATE(VLOOKUP(B41760,Cadastro!$Q$3:$R$162,2,FALSE),\"/\",J41760,\"/\",D41760))","v":"15/Pes/201605"},"Pes/201605","6211/201605","6211/1329/201605","15/201605","15/1329/201605","1329/201605","RF","6190/RF/201503",{"$f":"+CONCATENATE(VLOOKUP(F41760,Cadastro!$Q$3:$R$162,2,FALSE),\"/\",S41760,\"/\",H41760)","v":"74/RF/201503"},"RF/201503","6190/201503","6190/0870/201503","74/201503","74/0870/201503","0870/201503",0,0,0,0,0,0,0,0,0,0]
[null,"06211","1428","201604",null,"06190","0983","201502",null,"Mar","6211/Mar/201604",{"$f":"IF(J41855=0,0,+CONCATENATE(VLOOKUP(B41855,Cadastro!$Q$3:$R$162,2,FALSE),\"/\",J41855,\"/\",D41855))","v":"15/Mar/201604"},"Mar/201604","6211/201604","6211/1428/201604","15/201604","15/1428/201604","1428/201604","Pes","6190/Pes/201502",{"$f":"+CONCATENATE(VLOOKUP(F41855,Cadastro!$Q$3:$R$162,2,FALSE),\"/\",S41855,\"/\",H41855)","v":"74/Pes/201502"},"Pes/201502","6190/201502","6190/0983/201502","74/201502","74/0983/201502","0983/201502",0,0,0,0,0,0,0,0,0,0]
[null,"06211","1433","201608",null,"06190","0984","201506",null,"Mar","6211/Mar/201608",{"$f":"IF(J41871=0,0,+CONCATENATE(VLOOKUP(B41871,Cadastro!$Q$3:$R$162,2,FALSE),\"/\",J41871,\"/\",D41871))","v":"15/Mar/201608"},"Mar/201608","6211/201608","6211/1433/201608","15/201608","15/1433/201608","1433/201608","Pes","6190/Pes/201506",{"$f":"+CONCATENATE(VLOOKUP(F41871,Cadastro!$Q$3:$R$162,2,FALSE),\"/\",S41871,\"/\",H41871)","v":"74/Pes/201506"},"Pes/201506","6190/201506","6190/0984/201506","74/201506","74/0984/201506","0984/201506",308932.18,61841.26,-1244575.76,61841.26,-1037727.07,61847.519999999997,74471.460000000894,14731.460000000001,96826.45,13207.34]
[null,"06220","0114","201609",null,"06190","1061","201507",null,"Pat","6220/Pat/201609",{"$f":"IF(J41956=0,0,+CONCATENATE(VLOOKUP(B41956,Cadastro!$Q$3:$R$162,2,FALSE),\"/\",J41956,\"/\",D41956))","v":"71/Pat/201609"},"Pat/201609","6220/201609","6220/0114/201609","71/201609","71/0114/201609","0114/201609","Hab","6190/Hab/201507",{"$f":"+CONCATENATE(VLOOKUP(F41956,Cadastro!$Q$3:$R$162,2,FALSE),\"/\",S41956,\"/\",H41956)","v":"74/Hab/201507"},"Hab/201507","6190/201507","6190/1061/201507","74/201507","74/1061/201507","1061/201507",0,985703.67,0,970505.63,0,970505.63,0,92251.89,0,246429.8]
[null,"06220","0171","201604",null,"06190","1103","201502",null,"Pat","6220/Pat/201604",{"$f":"IF(J42023=0,0,+CONCATENATE(VLOOKUP(B42023,Cadastro!$Q$3:$R$162,2,FALSE),\"/\",J42023,\"/\",D42023))","v":"71/Pat/201604"},"Pat/201604","6220/201604","6220/0171/201604","71/201604","71/0171/201604","0171/201604","Rur","6190/Rur/201502",{"$f":"+CONCATENATE(VLOOKUP(F42023,Cadastro!$Q$3:$R$162,2,FALSE),\"/\",S42023,\"/\",H42023)","v":"74/Rur/201502"},"Rur/201502","6190/201502","6190/1103/201502","74/201502","74/1103/201502","1103/201502",0,0,0,0,0,0,0,0,0,0]
[null,"06220","0234","201601",null,"06190","1105","201511",null,"RE","6220/RE/201601",{"$f":"IF(J42056=0,0,+CONCATENATE(VLOOKUP(B42056,Cadastro!$Q$3:$R$162,2,FALSE),\"/\",J42056,\"/\",D42056))","v":"71/RE/201601"},"RE/201601","6220/201601","6220/0234/201601","71/201601","71/0234/201601","0234/201601","Rur","6190/Rur/201511",{"$f":"+CONCATENATE(VLOOKUP(F42056,Cadastro!$Q$3:$R$162,2,FALSE),\"/\",S42056,\"/\",H42056)","v":"74/Rur/201511"},"Rur/201511","6190/201511","6190/1105/201511","74/201511","74/1105/201511","1105/201511",0,0,0,0,0,0,0,0,0,0]
[null,"06220","0435","201602",null,"06190","1163","201512",null,"Aero","6220/Aero/201602",{"$f":"IF(J42141=0,0,+CONCATENATE(VLOOKUP(B42141,Cadastro!$Q$3:$R$162,2,FALSE),\"/\",J42141,\"/\",D42141))","v":"71/Aero/201602"},"Aero/201602","6220/201602","6220/0435/201602","71/201602","71/0435/201602","0435/201602","Rur","6190/Rur/201512",{"$f":"+CONCATENATE(VLOOKUP(F42141,Cadastro!$Q$3:$R$162,2,FALSE),\"/\",S42141,\"/\",H42141)","v":"74/Rur/201512"},"Rur/201512","6190/201512","6190/1163/201512","74/201512","74/1163/201512","1163/201512",0,0,0,0,0,0,-8.48,5782.92,0,0]
[null,"06220","0526","201603",null,"06190","1390","201509",null,"Aut","6220/Aut/201603",{"$f":"IF(J42226=0,0,+CONCATENATE(VLOOKUP(B42226,Cadastro!$Q$3:$R$162,2,FALSE),\"/\",J42226,\"/\",D42226))","v":"71/Aut/201603"},{"$f":"IF(J42226=0,0,+CONCATENATE(J42226,\"/\",D42226))","v":"Aut/201603"},"6220/201603","6220/0526/201603","71/201603","71/0526/201603","0526/201603","Pes","6190/Pes/201509",{"$f":"+CONCATENATE(VLOOKUP(F42226,Cadastro!$Q$3:$R$162,2,FALSE),\"/\",S42226,\"/\",H42226)","v":"74/Pes/201509"},"Pes/201509","6190/201509","6190/1390/201509","74/201509","74/1390/201509","1390/201509",0,105362.14,0,105362.14,0,114419.75,0,0,0,0.14000000000000001]
[null,"06220","0588","201603",null,"06190","1433","201509",null,"Dpvat","6220/Dpvat/201603",{"$f":"IF(J42286=0,0,+CONCATENATE(VLOOKUP(B42286,Cadastro!$Q$3:$R$162,2,FALSE),\"/\",J42286,\"/\",D42286))","v":"71/Dpvat/201603"},"Dpvat/201603","6220/201603","6220/0588/201603","71/201603","71/0588/201603","0588/201603","Mar","6190/Mar/201509",{"$f":"+CONCATENATE(VLOOKUP(F42286,Cadastro!$Q$3:$R$162,2,FALSE),\"/\",S42286,\"/\",H42286)","v":"74/Mar/201509"},"Mar/201509","6190/201509","6190/1433/201509","74/201509","74/1433/201509","1433/201509",0,1181586.81,0,913361.81,0,996612.59000000008,0,-388416.98,0,223936.29]
[null,"06220","0622","201607",null,"06190","1537","201501",null,"Transp","6220/Transp/201607",{"$f":"IF(J42326=0,0,+CONCATENATE(VLOOKUP(B42326,Cadastro!$Q$3:$R$162,2,FALSE),\"/\",J42326,\"/\",D42326))","v":"71/Transp/201607"},"Transp/201607","6220/201607","6220/0622/201607","71/201607","71/0622/201607","0622/201607","Aero","6190/Aero/201501",{"$f":"+CONCATENATE(VLOOKUP(F42326,Cadastro!$Q$3:$R$162,2,FALSE),\"/\",S42326,\"/\",H42326)","v":"74/Aero/201501"},"Aero/201501","6190/201501","6190/1537/201501","74/201501","74/1537/201501","1537/201501",0,0,0,0,0,0,0,0,0,0]
[null,"06220","0655","201604",null,"06211","0114","201510",null,"Transp","6220/Transp/201604",{"$f":"IF(J42407=0,0,+CONCATENATE(VLOOKUP(B42407,Cadastro!$Q$3:$R$162,2,FALSE),\"/\",J42407,\"/\",D42407))","v":"71/Transp/201604"},"Transp/201604","6220/201604","6220/0655/201604","71/201604","71/0655/201604","0655/201604","Pat","6211/Pat/201510",{"$f":"+CONCATENATE(VLOOKUP(F42407,Cadastro!$Q$3:$R$162,2,FALSE),\"/\",S42407,\"/\",H42407)","v":"15/Pat/201510"},"Pat/201510","6211/201510","6211/0114/201510","15/201510","15/0114/201510","0114/201510",0,5868638.2800000003,0,5888898.5800000001,0,9252615.9400000013,0,9008007.7400000002,0,3211955.75]
[null,"06220","0746","201605",null,"06211","0173","201511",null,"RF","6220/RF/201605",{"$f":"IF(J42492=0,0,+CONCATENATE(VLOOKUP(B42492,Cadastro!$Q$3:$R$162,2,FALSE),\"/\",J42492,\"/\",D42492))","v":"71/RF/201605"},"RF/201605","6220/201605","6220/0746/201605","71/201605","71/0746/201605","0746/201605","Pat","6211/Pat/201511",{"$f":"+CONCATENATE(VLOOKUP(F42492,Cadastro!$Q$3:$R$162,2,FALSE),\"/\",S42492,\"/\",H42492)","v":"15/Pat/201511"},"Pat/201511","6211/201511","6211/0173/201511","15/201511","15/0173/201511","0173/201511",0,0,0,0,0,0,-9615.4699999999993,0,0,77.91]
[null,"06220","0775","201602",null,"06211","0310","201508",null,"RF","6220/RF/201602",{"$f":"IF(J42549=0,0,+CONCATENATE(VLOOKUP(B42549,Cadastro!$Q$3:$R$162,2,FALSE),\"/\",J42549,\"/\",D42549))","v":"71/RF/201602"},"RF/201602","6220/201602","6220/0775/201602","71/201602","71/0775/201602","0775/201602","Res","6211/Res/201508",{"$f":"+CONCATENATE(VLOOKUP(F42549,Cadastro!$Q$3:$R$162,2,FALSE),\"/\",S42549,\"/\",H42549)","v":"15/Res/201508"},"Res/201508","6211/201508","6211/0310/201508","15/201508","15/0310/201508","0310/201508",0,0,0,0,0,0,0,0,0,0]
[null,"06220","0859","201609",null,"06211","0433","201503",null,"RF","6220/RF/201609",{"$f":"IF(J42592=0,0,+CONCATENATE(VLOOKUP(B42592,Cadastro!$Q$3:$R$162,2,FALSE),\"/\",J42592,\"/\",D42592))","v":"71/RF/201609"},"RF/201609","6220/201609","6220/0859/201609","71/201609","71/0859/201609","0859/201609","Mar","6211/Mar/201503",{"$f":"+CONCATENATE(VLOOKUP(F42592,Cadastro!$Q$3:$R$162,2,FALSE),\"/\",S42592,\"/\",H42592)","v":"15/Mar/201503"},"Mar/201503","6211/201503","6211/0433/201503","15/201503","15/0433/201503","0433/201503",0,-16431.349999999999,0,-1577.2799999999988,0,-1577.2799999999988,0,-6400914.2599999998,0,1151.82]
[null,"06220","0980","201610",null,"06211","0531","201504",null,"Pes","6220/Pes/201610",{"$f":"IF(J42677=0,0,+CONCATENATE(VLOOKUP(B42677,Cadastro!$Q$3:$R$162,2,FALSE),\"/\",J42677,\"/\",D42677))","v":"71/Pes/201610"},"Pes/201610","6220/201610","6220/0980/201610","71/201610","71/0980/201610","0980/201610","Aut","6211/Aut/201504",{"$f":"+CONCATENATE(VLOOKUP(F42677,Cadastro!$Q$3:$R$162,2,FALSE),\"/\",S42677,\"/\",H42677)","v":"15/Aut/201504"},"Aut/201504","6211/201504","6211/0531/201504","15/201504","15/0531/201504","0531/201504",0,0,0,0,0,0,0,0,0,0]
[null,"06220","0990","201611",null,"06211","0627","201505",null,"Pes","6220/Pes/201611",{"$f":"IF(J42762=0,0,+CONCATENATE(VLOOKUP(B42762,Cadastro!$Q$3:$R$162,2,FALSE),\"/\",J42762,\"/\",D42762))","v":"71/Pes/201611"},"Pes/201611","6220/201611","6220/0990/201611","71/201611","71/0990/201611","0990/201611","Transp","6211/Transp/201505",{"$f":"+CONCATENATE(VLOOKUP(F42762,Cadastro!$Q$3:$R$162,2,FALSE),\"/\",S42762,\"/\",H42762)","v":"15/Transp/201505"},"Transp/201505","6211/201505","6211/0627/201505","15/201505","15/0627/201505","0627/201505",27933.96,0,27933.96,0,28132.36,0,3461.27,0,8635.76,0]
[null,"06220","1061","201601",null,"06211","0652","201507",null,"Hab","6220/Hab/201601",{"$f":"IF(J42812=0,0,+CONCATENATE(VLOOKUP(B42812,Cadastro!$Q$3:$R$162,2,FALSE),\"/\",J42812,\"/\",D42812))","v":"71/Hab/201601"},"Hab/201601","6220/201601","6220/1061/201601","71/201601","71/1061/201601","1061/201601","Transp","6211/Transp/201507",{"$f":"+CONCATENATE(VLOOKUP(F42812,Cadastro!$Q$3:$R$162,2,FALSE),\"/\",S42812,\"/\",H42812)","v":"15/Transp/201507"},"Transp/201507","6211/201507","6211/0652/201507","15/201507","15/0652/201507","0652/201507",0,0,0,0,0,0,0,0,0,0]
[null,"06220","1101","201603",null,"06211","0658","201509",null,"Rur","6220/Rur/201603",{"$f":"IF(J42862=0,0,+CONCATENATE(VLOOKUP(B42862,Cadastro!$Q$3:$R$162,2,FALSE),\"/\",J42862,\"/\",D42862))","v":"71/Rur/201603"},"Rur/201603","6220/201603","6220/1101/201603","71/201603","71/1101/201603","1101/201603","Transp","6211/Transp/201509",{"$f":"+CONCATENATE(VLOOKUP(F42862,Cadastro!$Q$3:$R$162,2,FALSE),\"/\",S42862,\"/\",H42862)","v":"15/Transp/201509"},"Transp/201509","6211/201509","6211/0658/201509","15/201509","15/0658/201509","0658/201509",0,0,0,0,0,0,0,0,0,0]
[null,"06220","1107","201612",null,"06211","0748","201506",null,"Rur","6220/Rur/201612",{"$f":"IF(J42943=0,0,+CONCATENATE(VLOOKUP(B42943,Cadastro!$Q$3:$R$162,2,FALSE),\"/\",J42943,\"/\",D42943))","v":"71/Rur/201612"},"Rur/201612","6220/201612","6220/1107/201612","71/201612","71/1107/201612","1107/201612","RF","6211/RF/201506",{"$f":"+CONCATENATE(VLOOKUP(F42943,Cadastro!$Q$3:$R$162,2,FALSE),\"/\",S42943,\"/\",H42943)","v":"15/RF/201506"},"RF/201506","6211/201506","6211/0748/201506","15/201506","15/0748/201506","0748/201506",0,5112559.76,0,6315751.0999999996,0,8610892.5700000003,0,4677175.1400000006,0,694356.74]
[null,"06220","1109","201608",null,"06211","0750","201502",null,"Rur","6220/Rur/201608",{"$f":"IF(J42963=0,0,+CONCATENATE(VLOOKUP(B42963,Cadastro!$Q$3:$R$162,2,FALSE),\"/\",J42963,\"/\",D42963))","v":"71/Rur/201608"},"Rur/201608","6220/201608","6220/1109/201608","71/201608","71/1109/201608","1109/201608","RF","6211/RF/201502",{"$f":"+CONCATENATE(VLOOKUP(F42963,Cadastro!$Q$3:$R$162,2,FALSE),\"/\",S42963,\"/\",H42963)","v":"15/RF/201502"},"RF/201502","6211/201502","6211/0750/201502","15/201502","15/0750/201502","0750/201502",0,0,0,0,0,0,0,0,0,0]
[null,"06220","1369","201612",null,"06211","0969","201506",null,"Pes","6220/Pes/201612",{"$f":"IF(J43075=0,0,+CONCATENATE(VLOOKUP(B43075,Cadastro!$Q$3:$R$162,2,FALSE),\"/\",J43075,\"/\",D43075))","v":"71/Pes/201612"},"Pes/201612","6220/201612","6220/1369/201612","71/201612","71/1369/201612","1369/201612","Pes","6211/Pes/201506",{"$f":"+CONCATENATE(VLOOKUP(F43075,Cadastro!$Q$3:$R$162,2,FALSE),\"/\",S43075,\"/\",H43075)","v":"15/Pes/201506"},"Pes/201506","6211/201506","6211/0969/201506","15/201506","15/0969/201506","0969/201506",1473316.99,0,1473316.99,0,1137933.82,0,17622.14,0,411269.61,0]
[null,"06220","1384","201605",null,"06211","0982","201511",null,"Pes","6220/Pes/201605",{"$f":"IF(J43128=0,0,+CONCATENATE(VLOOKUP(B43128,Cadastro!$Q$3:$R$162,2,FALSE),\"/\",J43128,\"/\",D43128))","v":"71/Pes/201605"},"Pes/201605","6220/201605","6220/1384/201605","71/201605","71/1384/201605","1384/201605","Pes","6211/Pes/201511",{"$f":"+CONCATENATE(VLOOKUP(F43128,Cadastro!$Q$3:$R$162,2,FALSE),\"/\",S43128,\"/\",H43128)","v":"15/Pes/201511"},"Pes/201511","6211/201511","6211/0982/201511","15/201511","15/0982/201511","0982/201511",185304,0,185304,0,131175.71,0,17105.259999999998,0,30040.69,0]
[null,"06220","1535","201606",null,"06211","1066","201512",null,"Aero","6220/Aero/201606",{"$f":"IF(J43213=0,0,+CONCATENATE(VLOOKUP(B43213,Cadastro!$Q$3:$R$162,2,FALSE),\"/\",J43213,\"/\",D43213))","v":"71/Aero/201606"},"Aero/201606","6220/201606","6220/1535/201606","71/201606","71/1535/201606","1535/201606","Hab","6211/Hab/201512",{"$f":"+CONCATENATE(VLOOKUP(F43213,Cadastro!$Q$3:$R$162,2,FALSE),\"/\",S43213,\"/\",H43213)","v":"15/Hab/201512"},"Hab/201512","6211/201512","6211/1066/201512","15/201512","15/1066/201512","1066/201512",0,0,0,0,0,0,0,0,0,0]
[null,"06238","0111","201610",null,"06211","1101","201504",null,"Pat","6238/Pat/201610",{"$f":"IF(J43229=0,0,+CONCATENATE(VLOOKUP(B43229,Cadastro!$Q$3:$R$162,2,FALSE),\"/\",J43229,\"/\",D43229))","v":"16/Pat/201610"},"Pat/201610","6238/201610","6238/0111/201610","16/201610","16/0111/201610","0111/201610","Rur","6211/Rur/201504",{"$f":"+CONCATENATE(VLOOKUP(F43229,Cadastro!$Q$3:$R$162,2,FALSE),\"/\",S43229,\"/\",H43229)","v":"15/Rur/201504"},"Rur/201504","6211/201504","6211/1101/201504","15/201504","15/1101/201504","1101/201504",0,0,0,0,0,0,6572.7599999999993,0,1850,0]
[null,"06238","0195","201611",null,"06211","1130","201505",null,"Pat","6238/Pat/201611",{"$f":"IF(J43338=0,0,+CONCATENATE(VLOOKUP(B43338,Cadastro!$Q$3:$R$162,2,FALSE),\"/\",J43338,\"/\",D43338))","v":"16/Pat/201611"},"Pat/201611","6238/201611","6238/0195/201611","16/201611","16/0195/201611","0195/201611","Rur","6211/Rur/201505",{"$f":"+CONCATENATE(VLOOKUP(F43338,Cadastro!$Q$3:$R$162,2,FALSE),\"/\",S43338,\"/\",H43338)","v":"15/Rur/201505"},"Rur/201505","6211/201505","6211/1130/201505","15/201505","15/1130/201505","1130/201505",7850712.21,0,7850712.21,0,9496752.5500000007,0,1876395.25,0,7214651.2000000002,0]
[null,"06238","0313","201611",null,"06211","1279","201505",null,"Res","6238/Res/201611",{"$f":"IF(J43398=0,0,+CONCATENATE(VLOOKUP(B43398,Cadastro!$Q$3:$R$162,2,FALSE),\"/\",J43398,\"/\",D43398))","v":"16/Res/201611"},"Res/201611","6238/201611","6238/0313/201611","16/201611","16/0313/201611","0313/201611","Out","6211/Out/201505",{"$f":"+CONCATENATE(VLOOKUP(F43398,Cadastro!$Q$3:$R$162,2,FALSE),\"/\",S43398,\"/\",H43398)","v":"15/Out/201505"},{"$f":"+CONCATENATE(S43398,\"/\",H43398)","v":"Out/201505"},"6211/201505","6211/1279/201505","15/201505","15/1279/201505","1279/201505",851405.18,0,851405.18,0,467910.14,0,108607.95,0,135371.47,0]
[null,"06238","0378","201603",null,"06211","1329","201509",null,"Res","6238/Res/201603",{"$f":"IF(J43414=0,0,+CONCATENATE(VLOOKUP(B43414,Cadastro!$Q$3:$R$162,2,FALSE),\"/\",J43414,\"/\",D43414))","v":"16/Res/201603"},"Res/201603","6238/201603","6238/0378/201603","16/201603","16/0378/201603","0378/201603","Pes","6211/Pes/201509",{"$f":"+CONCATENATE(VLOOKUP(F43414,Cadastro!$Q$3:$R$162,2,FALSE),\"/\",S43414,\"/\",H43414)","v":"15/Pes/201509"},"Pes/201509","6211/201509","6211/1329/201509","15/201509","15/1329/201509","1329/201509",1324504.7,0,1317003.1199999999,0,1257571.6599999999,0,635850.49,0,251764.17,0]
[null,"06238","0553","201604",null,"06211","1417","201510",null,"Aut","6238/Aut/201604",{"$f":"IF(J43499=0,0,+CONCATENATE(VLOOKUP(B43499,Cadastro!$Q$3:$R$162,2,FALSE),\"/\",J43499,\"/\",D43499))","v":"16/Aut/201604"},"Aut/201604","6238/201604","6238/0553/201604","16/201604","16/0553/201604","0553/201604","Mar","6211/Mar/201510",{"$f":"+CONCATENATE(VLOOKUP(F43499,Cadastro!$Q$3:$R$162,2,FALSE),\"/\",S43499,\"/\",H43499)","v":"15/Mar/201510"},"Mar/201510","6211/201510","6211/1417/201510","15/201510","15/1417/201510","1417/201510",50673714.479999997,98,50673714.479999997,28.700000000000003,51623111.299999997,260.61,31282278.399999999,0,7820340.0599999996,24.73]
[null,"06238","0652","201607",null,"06220","0114","201504",null,"Transp","6238/Transp/201607",{"$f":"IF(J43601=0,0,+CONCATENATE(VLOOKUP(B43601,Cadastro!$Q$3:$R$162,2,FALSE),\"/\",J43601,\"/\",D43601))","v":"16/Transp/201607"},"Transp/201607","6238/201607","6238/0652/201607","16/201607","16/0652/201607","0652/201607","Pat","6220/Pat/201504",{"$f":"+CONCATENATE(VLOOKUP(F43601,Cadastro!$Q$3:$R$162,2,FALSE),\"/\",S43601,\"/\",H43601)","v":"71/Pat/201504"},"Pat/201504","6220/201504","6220/0114/201504","71/201504","71/0114/201504","0114/201504",116161.3,0,115178.85,0,111681.08,0,-215481.45,0,33638.639999999999,0]
[null,"06238","0740","201610",null,"06220","0167","201507",null,"RF","6238/RF/201610",{"$f":"IF(J43664=0,0,+CONCATENATE(VLOOKUP(B43664,Cadastro!$Q$3:$R$162,2,FALSE),\"/\",J43664,\"/\",D43664))","v":"16/RF/201610"},"RF/201610","6238/201610","6238/0740/201610","16/201610","16/0740/201610","0740/201610","Pat","6220/Pat/201507",{"$f":"+CONCATENATE(VLOOKUP(F43664,Cadastro!$Q$3:$R$162,2,FALSE),\"/\",S43664,\"/\",H43664)","v":"71/Pat/201507"},"Pat/201507","6220/201507","6220/0167/201507","71/201507","71/0167/201507","0167/201507",481.05,0,-10805.29,0,8487.619999999999,0,27190.44,0,8099.39,0]
[null,"06238","0746","201606",null,"06220","0173","201503",null,"RF","6238/RF/201606",{"$f":"IF(J43684=0,0,+CONCATENATE(VLOOKUP(B43684,Cadastro!$Q$3:$R$162,2,FALSE),\"/\",J43684,\"/\",D43684))","v":"16/RF/201606"},"RF/201606","6238/201606","6238/0746/201606","16/201606","16/0746/201606","0746/201606","Pat","6220/Pat/201503",{"$f":"+CONCATENATE(VLOOKUP(F43684,Cadastro!$Q$3:$R$162,2,FALSE),\"/\",S43684,\"/\",H43684)","v":"71/Pat/201503"},"Pat/201503","6220/201503","6220/0173/201503","71/201503","71/0173/201503","0173/201503",700143.34,0,699203.80999999994,0,659083.74,0,117426.84,0,682405.94,0]
[null,"06238","0860","201603",null,"06220","0351","201512",null,"RF","6238/RF/201603",{"$f":"IF(J43765=0,0,+CONCATENATE(VLOOKUP(B43765,Cadastro!$Q$3:$R$162,2,FALSE),\"/\",J43765,\"/\",D43765))","v":"16/RF/201603"},"RF/201603","6238/201603","6238/0860/201603","16/201603","16/0860/201603","0860/201603","Res","6220/Res/201512",{"$f":"+CONCATENATE(VLOOKUP(F43765,Cadastro!$Q$3:$R$162,2,FALSE),\"/\",S43765,\"/\",H43765)","v":"71/Res/201512"},"Res/201512","6220/201512","6220/0351/201512","71/201512","71/0351/201512","0351/201512",0,0,0,0,0,0,1786997.75,0,0,0]
[null,"06238","1061","201606",null,"06220","0525","201503",null,"Hab","6238/Hab/201606",{"$f":"IF(J43864=0,0,+CONCATENATE(VLOOKUP(B43864,Cadastro!$Q$3:$R$162,2,FALSE),\"/\",J43864,\"/\",D43864))","v":"16/Hab/201606"},"Hab/201606","6238/201606","6238/1061/201606","16/201606","16/1061/201606","1061/201606","Aut","6220/Aut/201503",{"$f":"+CONCATENATE(VLOOKUP(F43864,Cadastro!$Q$3:$R$162,2,FALSE),\"/\",S43864,\"/\",H43864)","v":"71/Aut/201503"},"Aut/201503","6220/201503","6220/0525/201503","71/201503","71/0525/201503","0525/201503",183517.05,0,168963.24,0,166825.35,0,3644.8,0,18302.759999999998,0]
[null,"06238","1061","201611",null,"06220","0525","201508",null,"Hab","6238/Hab/201611",{"$f":"IF(J43869=0,0,+CONCATENATE(VLOOKUP(B43869,Cadastro!$Q$3:$R$162,2,FALSE),\"/\",J43869,\"/\",D43869))","v":"16/Hab/201611"},"Hab/201611","6238/201611","6238/1061/201611","16/201611","16/1061/201611","1061/201611","Aut","6220/Aut/201508",{"$f":"+CONCATENATE(VLOOKUP(F43869,Cadastro!$Q$3:$R$162,2,FALSE),\"/\",S43869,\"/\",H43869)","v":"71/Aut/201508"},"Aut/201508","6220/201508","6220/0525/201508","71/201508","71/0525/201508","0525/201508",254146.88,0,254146.88,0,255529.27,0,-34252.910000000003,0,25552.92,0]
[null,"06238","1162","201608",null,"06220","0589","201505",null,"Rur","6238/Rur/201608",{"$f":"IF(J43950=0,0,+CONCATENATE(VLOOKUP(B43950,Cadastro!$Q$3:$R$162,2,FALSE),\"/\",J43950,\"/\",D43950))","v":"16/Rur/201608"},"Rur/201608","6238/201608","6238/1162/201608","16/201608","16/1162/201608","1162/201608","Dpvat","6220/Dpvat/201505",{"$f":"+CONCATENATE(VLOOKUP(F43950,Cadastro!$Q$3:$R$162,2,FALSE),\"/\",S43950,\"/\",H43950)","v":"71/Dpvat/201505"},"Dpvat/201505","6220/201505","6220/0589/201505","71/201505","71/0589/201505","0589/201505",-412474.42,0,-456671.02999999997,0,-405104.12,0,1525301.27,0,286753.03999999998,0]
[null,"06238","1417","201611",null,"06220","0652","201506",null,"Mar","6238/Mar/201611",{"$f":"IF(J44035=0,0,+CONCATENATE(VLOOKUP(B44035,Cadastro!$Q$3:$R$162,2,FALSE),\"/\",J44035,\"/\",D44035))","v":"16/Mar/201611"},"Mar/201611","6238/201611","6238/1417/201611","16/201611","16/1417/201611","1417/201611","Transp","6220/Transp/201506",{"$f":"+CONCATENATE(VLOOKUP(F44035,Cadastro!$Q$3:$R$162,2,FALSE),\"/\",S44035,\"/\",H44035)","v":"71/Transp/201506"},"Transp/201506","6220/201506","6220/0652/201506","71/201506","71/0652/201506","0652/201506",16391.53,0,-1004380.5499999999,0,102024.04999999993,0,32642,0,15884.45,0]
[null,"06238","1528","201603",null,"06220","0655","201510",null,"Aero","6238/Aero/201603",{"$f":"IF(J44063=0,0,+CONCATENATE(VLOOKUP(B44063,Cadastro!$Q$3:$R$162,2,FALSE),\"/\",J44063,\"/\",D44063))","v":"16/Aero/201603"},"Aero/201603","6238/201603","6238/1528/201603","16/201603","16/1528/201603","1528/201603","Transp","6220/Transp/201510",{"$f":"+CONCATENATE(VLOOKUP(F44063,Cadastro!$Q$3:$R$162,2,FALSE),\"/\",S44063,\"/\",H44063)","v":"71/Transp/201510"},"Transp/201510","6220/201510","6220/0655/201510","71/201510","71/0655/201510","0655/201510",4733839.96,0,-679062.50999999978,0,347213.74000000022,0,-9338277.4499999993,0,25955.86,0]
[null,"06301","0588","201607",null,"06220","0745","201510",null,"Dpvat","6301/Dpvat/201607",{"$f":"IF(J44135=0,0,+CONCATENATE(VLOOKUP(B44135,Cadastro!$Q$3:$R$162,2,FALSE),\"/\",J44135,\"/\",D44135))","v":"63/Dpvat/201607"},"Dpvat/201607","6301/201607","6301/0588/201607","63/201607","63/0588/201607","0588/201607","RF","6220/RF/201510",{"$f":"+CONCATENATE(VLOOKUP(F44135,Cadastro!$Q$3:$R$162,2,FALSE),\"/\",S44135,\"/\",H44135)","v":"71/RF/201510"},"RF/201510","6220/201510","6220/0745/201510","71/201510","71/0745/201510","0745/201510",2569275.91,0,2569275.91,0,2586541.84,0,2186732.36,-408.97,35974.47,0]
[null,"06301","1198","201606",null,"06220","0776","201511",null,"Rur","6301/Rur/201606",{"$f":"IF(J44220=0,0,+CONCATENATE(VLOOKUP(B44220,Cadastro!$Q$3:$R$162,2,FALSE),\"/\",J44220,\"/\",D44220))","v":"63/Rur/201606"},"Rur/201606","6301/201606","6301/1198/201606","63/201606","63/1198/201606","1198/201606","RF","6220/RF/201511",{"$f":"+CONCATENATE(VLOOKUP(F44220,Cadastro!$Q$3:$R$162,2,FALSE),\"/\",S44220,\"/\",H44220)","v":"71/RF/201511"},"RF/201511","6220/201511","6220/0776/201511","71/201511","71/0776/201511","0776/201511",3519.93,0,3519.93,0,3519.93,0,856.77,0,1231.98,0]
[null,"06335","0171","201603",null,"06220","0969","201508",null,"Pat","6335/Pat/201603",{"$f":"IF(J44301=0,0,+CONCATENATE(VLOOKUP(B44301,Cadastro!$Q$3:$R$162,2,FALSE),\"/\",J44301,\"/\",D44301))","v":"28/Pat/201603"},"Pat/201603","6335/201603","6335/0171/201603","28/201603","28/0171/201603","0171/201603","Pes","6220/Pes/201508",{"$f":"+CONCATENATE(VLOOKUP(F44301,Cadastro!$Q$3:$R$162,2,FALSE),\"/\",S44301,\"/\",H44301)","v":"71/Pes/201508"},"Pes/201508","6220/201508","6220/0969/201508","71/201508","71/0969/201508","0969/201508",0,229675.73,0,229675.73,0,294490.65000000002,0,2976.1,0,1076.6600000000001]
[null,"06335","0234","201604",null,"06220","0980","201509",null,"RE","6335/RE/201604",{"$f":"IF(J44326=0,0,+CONCATENATE(VLOOKUP(B44326,Cadastro!$Q$3:$R$162,2,FALSE),\"/\",J44326,\"/\",D44326))","v":"28/RE/201604"},"RE/201604","6335/201604","6335/0234/201604","28/201604","28/0234/201604","0234/201604","Pes","6220/Pes/201509",{"$f":"+CONCATENATE(VLOOKUP(F44326,Cadastro!$Q$3:$R$162,2,FALSE),\"/\",S44326,\"/\",H44326)","v":"71/Pes/201509"},"Pes/201509","6220/201509","6220/0980/201509","71/201509","71/0980/201509","0980/201509",0,0,0,0,0,0,0,0,0,0]
[null,"06335","0437","201611",null,"06220","0990","201504",null,"Aero","6335/Aero/201611",{"$f":"IF(J44405=0,0,+CONCATENATE(VLOOKUP(B44405,Cadastro!$Q$3:$R$162,2,FALSE),\"/\",J44405,\"/\",D44405))","v":"28/Aero/201611"},"Aero/201611","6335/201611","6335/0437/201611","28/201611","28/0437/201611","0437/201611","Pes","6220/Pes/201504",{"$f":"+CONCATENATE(VLOOKUP(F44405,Cadastro!$Q$3:$R$162,2,FALSE),\"/\",S44405,\"/\",H44405)","v":"71/Pes/201504"},"Pes/201504","6220/201504","6220/0990/201504","71/201504","71/0990/201504","0990/201504",0,595.61,0,595.61,0,595.61,0,0,0,175.18]
[null,"06335","0589","201608",null,"06220","1066","201501",null,"Dpvat","6335/Dpvat/201608",{"$f":"IF(J44486=0,0,+CONCATENATE(VLOOKUP(B44486,Cadastro!$Q$3:$R$162,2,FALSE),\"/\",J44486,\"/\",D44486))","v":"28/Dpvat/201608"},"Dpvat/201608","6335/201608","6335/0589/201608","28/201608","28/0589/201608","0589/201608","Hab","6220/Hab/201501",{"$f":"+CONCATENATE(VLOOKUP(F44486,Cadastro!$Q$3:$R$162,2,FALSE),\"/\",S44486,\"/\",H44486)","v":"71/Hab/201501"},{"$f":"+CONCATENATE(S44486,\"/\",H44486)","v":"Hab/201501"},"6220/201501","6220/1066/201501","71/201501","71/1066/201501","1066/201501",0,0,0,0,0,0,0,0,0,0]
[null,"06335","0739","201609",null,"06220","1106","201502",null,"RF","6335/RF/201609",{"$f":"IF(J44571=0,0,+CONCATENATE(VLOOKUP(B44571,Cadastro!$Q$3:$R$162,2,FALSE),\"/\",J44571,\"/\",D44571))","v":"28/RF/201609"},"RF/201609","6335/201609","6335/0739/201609","28/201609","28/0739/201609","0739/201609","Rur","6220/Rur/201502",{"$f":"+CONCATENATE(VLOOKUP(F44571,Cadastro!$Q$3:$R$162,2,FALSE),\"/\",S44571,\"/\",H44571)","v":"71/Rur/201502"},"Rur/201502","6220/201502","6220/1106/201502","71/201502","71/1106/201502","1106/201502",0,0,0,0,0,0,0,0,0,0]
[null,"06335","0746","201603",null,"06220","1107","201508",null,"RF","6335/RF/201603",{"$f":"IF(J44589=0,0,+CONCATENATE(VLOOKUP(B44589,Cadastro!$Q$3:$R$162,2,FALSE),\"/\",J44589,\"/\",D44589))","v":"28/RF/201603"},"RF/201603","6335/201603","6335/0746/201603","28/201603","28/0746/201603","0746/201603","Rur","6220/Rur/201508",{"$f":"+CONCATENATE(VLOOKUP(F44589,Cadastro!$Q$3:$R$162,2,FALSE),\"/\",S44589,\"/\",H44589)","v":"71/Rur/201508"},"Rur/201508","6220/201508","6220/1107/201508","71/201508","71/1107/201508","1107/201508",0,0,0,0,0,0,0,0,0,0]
[null,"06335","0981","201601",null,"06220","1198","201506",null,"Pes","6335/Pes/201601",{"$f":"IF(J44671=0,0,+CONCATENATE(VLOOKUP(B44671,Cadastro!$Q$3:$R$162,2,FALSE),\"/\",J44671,\"/\",D44671))","v":"28/Pes/201601"},"Pes/201601","6335/201601","6335/0981/201601","28/201601","28/0981/201601","0981/201601","Rur","6220/Rur/201506",{"$f":"+CONCATENATE(VLOOKUP(F44671,Cadastro!$Q$3:$R$162,2,FALSE),\"/\",S44671,\"/\",H44671)","v":"71/Rur/201506"},"Rur/201506","6220/201506","6220/1198/201506","71/201506","71/1198/201506","1198/201506",0,0,0,0,0,0,0,0,0,0]
[null,"06335","1107","201602",null,"06220","1381","201507",null,"Rur","6335/Rur/201602",{"$f":"IF(J44756=0,0,+CONCATENATE(VLOOKUP(B44756,Cadastro!$Q$3:$R$162,2,FALSE),\"/\",J44756,\"/\",D44756))","v":"28/Rur/201602"},"Rur/201602","6335/201602","6335/1107/201602","28/201602","28/1107/201602","1107/201602","Pes","6220/Pes/201507",{"$f":"+CONCATENATE(VLOOKUP(F44756,Cadastro!$Q$3:$R$162,2,FALSE),\"/\",S44756,\"/\",H44756)","v":"71/Pes/201507"},"Pes/201507","6220/201507","6220/1381/201507","71/201507","71/1381/201507","1381/201507",0,1087621.04,0,1058787.71,0,785850.87,0,15326.929999999998,0,192717.52]
[null,"06335","1299","201611",null,"06220","1392","201504",null,"Out","6335/Out/201611",{"$f":"IF(J44837=0,0,+CONCATENATE(VLOOKUP(B44837,Cadastro!$Q$3:$R$162,2,FALSE),\"/\",J44837,\"/\",D44837))","v":"28/Out/201611"},"Out/201611","6335/201611","6335/1299/201611","28/201611","28/1299/201611","1299/201611","VGBL","6220/VGBL/201504",{"$f":"+CONCATENATE(VLOOKUP(F44837,Cadastro!$Q$3:$R$162,2,FALSE),\"/\",S44837,\"/\",H44837)","v":"71/VGBL/201504"},"VGBL/201504","6220/201504","6220/1392/201504","71/201504","71/1392/201504","1392/201504",0,14925936.52,0,14925936.52,0,0,0,0,0,904840.53]
[null,"06351","0969","201608",null,"06220","1433","201507",null,"Pes","6351/Pes/201608",{"$f":"IF(J44852=0,0,+CONCATENATE(VLOOKUP(B44852,Cadastro!$Q$3:$R$162,2,FALSE),\"/\",J44852,\"/\",D44852))","v":"50/Pes/201608"},"Pes/201608","6351/201608","6351/0969/201608","50/201608","50/0969/201608","0969/201608","Mar","6220/Mar/201507",{"$f":"+CONCATENATE(VLOOKUP(F44852,Cadastro!$Q$3:$R$162,2,FALSE),\"/\",S44852,\"/\",H44852)","v":"71/Mar/201507"},"Mar/201507","6220/201507","6220/1433/201507","71/201507","71/1433/201507","1433/201507",2039.62,0,2039.62,0,2039.62,0,659.63,0,20.32,0]
[null,"06351","0987","201601",null,"06238","0118","201512",null,"Pes","6351/Pes/201601",{"$f":"IF(J44941=0,0,+CONCATENATE(VLOOKUP(B44941,Cadastro!$Q$3:$R$162,2,FALSE),\"/\",J44941,\"/\",D44941))","v":"50/Pes/201601"},"Pes/201601","6351/201601","6351/0987/201601","50/201601","50/0987/201601","0987/201601","Pat","6238/Pat/201512",{"$f":"+CONCATENATE(VLOOKUP(F44941,Cadastro!$Q$3:$R$162,2,FALSE),\"/\",S44941,\"/\",H44941)","v":"16/Pat/201512"},"Pat/201512","6238/201512","6238/0118/201512","16/201512","16/0118/201512","0118/201512",6980.12,13833271.91,7016.29,10807268.4,7016.29,10344495.16,718.57,304611.37000000104,2450.0300000000002,3564755.42]
[null,"06351","1329","201610",null,"06238","0274","201509",null,"Pes","6351/Pes/201610",{"$f":"IF(J45022=0,0,+CONCATENATE(VLOOKUP(B45022,Cadastro!$Q$3:$R$162,2,FALSE),\"/\",J45022,\"/\",D45022))","v":"50/Pes/201610"},"Pes/201610","6351/201610","6351/1329/201610","50/201610","50/1329/201610","1329/201610","RE","6238/RE/201509",{"$f":"+CONCATENATE(VLOOKUP(F45022,Cadastro!$Q$3:$R$162,2,FALSE),\"/\",S45022,\"/\",H45022)","v":"16/RE/201509"},"RE/201509","6238/201509","6238/0274/201509","16/201509","16/0274/201509","0274/201509",0,0,-1.04,-2762075.2,-1.04,95975.819999999832,0,0,0,3855.4]
[null,"06351","1380","201606",null,"06238","0313","201505",null,"Pes","6351/Pes/201606",{"$f":"IF(J45042=0,0,+CONCATENATE(VLOOKUP(B45042,Cadastro!$Q$3:$R$162,2,FALSE),\"/\",J45042,\"/\",D45042))","v":"50/Pes/201606"},{"$f":"IF(J45042=0,0,+CONCATENATE(J45042,\"/\",D45042))","v":"Pes/201606"},"6351/201606","6351/1380/201606","50/201606","50/1380/201606","1380/201606","Res","6238/Res/201505",{"$f":"+CONCATENATE(VLOOKUP(F45042,Cadastro!$Q$3:$R$162,2,FALSE),\"/\",S45042,\"/\",H45042)","v":"16/Res/201505"},"Res/201505","6238/201505","6238/0313/201505","16/201505","16/0313/201505","0313/201505",0,304725.95,0,304725.95,0,600846.72,0,515102.78,0,156997.07]
[null,"06351","1391","201607",null,"06238","0524","201504",null,"Pes","6351/Pes/201607",{"$f":"IF(J45115=0,0,+CONCATENATE(VLOOKUP(B45115,Cadastro!$Q$3:$R$162,2,FALSE),\"/\",J45115,\"/\",D45115))","v":"50/Pes/201607"},"Pes/201607","6351/201607","6351/1391/201607","50/201607","50/1391/201607","1391/201607","Aut","6238/Aut/201504",{"$f":"+CONCATENATE(VLOOKUP(F45115,Cadastro!$Q$3:$R$162,2,FALSE),\"/\",S45115,\"/\",H45115)","v":"16/Aut/201504"},"Aut/201504","6238/201504","6238/0524/201504","16/201504","16/0524/201504","0524/201504",973990.60000000009,300337.87,971654.34000000008,182951.76,101233.25,303615.90000000002,22326.769999999997,100491.64000000001,624452.49,245547.3]
[null,"06360","0171","201603",null,"06238","0628","201509",null,"Pat","6360/Pat/201603",{"$f":"IF(J45207=0,0,+CONCATENATE(VLOOKUP(B45207,Cadastro!$Q$3:$R$162,2,FALSE),\"/\",J45207,\"/\",D45207))","v":"61/Pat/201603"},"Pat/201603","6360/201603","6360/0171/201603","61/201603","61/0171/201603","0171/201603","Transp","6238/Transp/201509",{"$f":"+CONCATENATE(VLOOKUP(F45207,Cadastro!$Q$3:$R$162,2,FALSE),\"/\",S45207,\"/\",H45207)","v":"16/Transp/201509"},"Transp/201509","6238/201509","6238/0628/201509","16/201509","16/0628/201509","0628/201509",0,0,0,0,0,0,0,0,0,0]
[null,"06360","0173","201611",null,"06238","0638","201505",null,"Pat","6360/Pat/201611",{"$f":"IF(J45227=0,0,+CONCATENATE(VLOOKUP(B45227,Cadastro!$Q$3:$R$162,2,FALSE),\"/\",J45227,\"/\",D45227))","v":"61/Pat/201611"},"Pat/201611","6360/201611","6360/0173/201611","61/201611","61/0173/201611","0173/201611","Transp","6238/Transp/201505",{"$f":"+CONCATENATE(VLOOKUP(F45227,Cadastro!$Q$3:$R$162,2,FALSE),\"/\",S45227,\"/\",H45227)","v":"16/Transp/201505"},"Transp/201505","6238/201505","6238/0638/201505","16/201505","16/0638/201505","0638/201505",0,19917.86,0,19909.55,0,17193.27,532.41999999999996,18805.689999999999,0,3587.28]
[null,"06360","0531","201608",null,"06238","0740","201502",null,"Aut","6360/Aut/201608",{"$f":"IF(J45308=0,0,+CONCATENATE(VLOOKUP(B45308,Cadastro!$Q$3:$R$162,2,FALSE),\"/\",J45308,\"/\",D45308))","v":"61/Aut/201608"},"Aut/201608","6360/201608","6360/0531/201608","61/201608","61/0531/201608","0531/201608","RF","6238/RF/201502",{"$f":"+CONCATENATE(VLOOKUP(F45308,Cadastro!$Q$3:$R$162,2,FALSE),\"/\",S45308,\"/\",H45308)","v":"16/RF/201502"},"RF/201502","6238/201502","6238/0740/201502","16/201502","16/0740/201502","0740/201502",0,443.47,0,411.32000000000005,0,463.38,0,2413.84,0,184.79]
[null,"06360","0654","201606",null,"06238","0750","201512",null,"Transp","6360/Transp/201606",{"$f":"IF(J45378=0,0,+CONCATENATE(VLOOKUP(B45378,Cadastro!$Q$3:$R$162,2,FALSE),\"/\",J45378,\"/\",D45378))","v":"61/Transp/201606"},"Transp/201606","6360/201606","6360/0654/201606","61/201606","61/0654/201606","0654/201606","RF","6238/RF/201512",{"$f":"+CONCATENATE(VLOOKUP(F45378,Cadastro!$Q$3:$R$162,2,FALSE),\"/\",S45378,\"/\",H45378)","v":"16/RF/201512"},"RF/201512","6238/201512","6238/0750/201512","16/201512","16/0750/201512","0750/201512",0,0,0,0,0,0,0,0,0,0]
[null,"06360","0860","201609",null,"06238","0981","201510",null,"RF","6360/RF/201609",{"$f":"IF(J45473=0,0,+CONCATENATE(VLOOKUP(B45473,Cadastro!$Q$3:$R$162,2,FALSE),\"/\",J45473,\"/\",D45473))","v":"61/RF/201609"},"RF/201609","6360/201609","6360/0860/201609","61/201609","61/0860/201609","0860/201609","Pes","6238/Pes/201510",{"$f":"+CONCATENATE(VLOOKUP(F45473,Cadastro!$Q$3:$R$162,2,FALSE),\"/\",S45473,\"/\",H45473)","v":"16/Pes/201510"},"Pes/201510","6238/201510","6238/0981/201510","16/201510","16/0981/201510","0981/201510",0,-2720.61,0,-2720.61,0,-2720.61,0,0,0,-543.26]
[null,"06360","0981","201605",null,"06238","0987","201505",null,"Pes","6360/Pes/201605",{"$f":"IF(J45493=0,0,+CONCATENATE(VLOOKUP(B45493,Cadastro!$Q$3:$R$162,2,FALSE),\"/\",J45493,\"/\",D45493))","v":"61/Pes/201605"},"Pes/201605","6360/201605","6360/0981/201605","61/201605","61/0981/201605","0981/201605","Pes","6238/Pes/201505",{"$f":"+CONCATENATE(VLOOKUP(F45493,Cadastro!$Q$3:$R$162,2,FALSE),\"/\",S45493,\"/\",H45493)","v":"16/Pes/201505"},"Pes/201505","6238/201505","6238/0987/201505","16/201505","16/0987/201505","0987/201505",0,38559.910000000003,0,33570.350000000006,0,33285.170000000006,0,2448.0099999999998,0,37163.75]
[null,"06360","1163","201606",null,"06238","1107","201505",null,"Rur","6360/Rur/201606",{"$f":"IF(J45578=0,0,+CONCATENATE(VLOOKUP(B45578,Cadastro!$Q$3:$R$162,2,FALSE),\"/\",J45578,\"/\",D45578))","v":"61/Rur/201606"},"Rur/201606","6360/201606","6360/1163/201606","61/201606","61/1163/201606","1163/201606","Rur","6238/Rur/201505",{"$f":"+CONCATENATE(VLOOKUP(F45578,Cadastro!$Q$3:$R$162,2,FALSE),\"/\",S45578,\"/\",H45578)","v":"16/Rur/201505"},"Rur/201505","6238/201505","6238/1107/201505","16/201505","16/1107/201505","1107/201505",0,254247.69,0,-72499.210000000021,0,126212.63999999996,0,3207.0999999999985,0,50385.96]
[null,"06360","1383","201609",null,"06238","1377","201512",null,"Pes","6360/Pes/201609",{"$f":"IF(J45641=0,0,+CONCATENATE(VLOOKUP(B45641,Cadastro!$Q$3:$R$162,2,FALSE),\"/\",J45641,\"/\",D45641))","v":"61/Pes/201609"},"Pes/201609","6360/201609","6360/1383/201609","61/201609","61/1383/201609","1383/201609","Pes","6238/Pes/201512",{"$f":"+CONCATENATE(VLOOKUP(F45641,Cadastro!$Q$3:$R$162,2,FALSE),\"/\",S45641,\"/\",H45641)","v":"16/Pes/201512"},"Pes/201512","6238/201512","6238/1377/201512","16/201512","16/1377/201512","1377/201512",0,-4335.83,0,-4335.83,0,1116.58,0,669.88,0,125.37]
[null,"06467","0118","201605",null,"06238","1597","201506",null,"Pat","6467/Pat/201605",{"$f":"IF(J45743=0,0,+CONCATENATE(VLOOKUP(B45743,Cadastro!$Q$3:$R$162,2,FALSE),\"/\",J45743,\"/\",D45743))","v":"3/Pat/201605"},"Pat/201605","6467/201605","6467/0118/201605","3/201605","3/0118/201605","0118/201605","Aero","6238/Aero/201506",{"$f":"+CONCATENATE(VLOOKUP(F45743,Cadastro!$Q$3:$R$162,2,FALSE),\"/\",S45743,\"/\",H45743)","v":"16/Aero/201506"},"Aero/201506","6238/201506","6238/1597/201506","16/201506","16/1597/201506","1597/201506",2032994.76,875785.77,1428445.6400000001,854968.72,1692600.25,872461.34,656728.86999999988,-430434.12,712004.54,134282.69]
[null,"06467","0167","201601",null,"06301","0588","201502",null,"Pat","6467/Pat/201601",{"$f":"IF(J45763=0,0,+CONCATENATE(VLOOKUP(B45763,Cadastro!$Q$3:$R$162,2,FALSE),\"/\",J45763,\"/\",D45763))","v":"3/Pat/201601"},"Pat/201601","6467/201601","6467/0167/201601","3/201601","3/0167/201601","0167/201601","Dpvat","6301/Dpvat/201502",{"$f":"+CONCATENATE(VLOOKUP(F45763,Cadastro!$Q$3:$R$162,2,FALSE),\"/\",S45763,\"/\",H45763)","v":"63/Dpvat/201502"},"Dpvat/201502","6301/201502","6301/0588/201502","63/201502","63/0588/201502","0588/201502",0,3143237.64,0,3143237.64,0,3095440.14,0,2717426.85,0,47149.05]
[null,"06467","0433","201610",null,"06335","0167","201505",null,"Mar","6467/Mar/201610",{"$f":"IF(J45844=0,0,+CONCATENATE(VLOOKUP(B45844,Cadastro!$Q$3:$R$162,2,FALSE),\"/\",J45844,\"/\",D45844))","v":"3/Mar/201610"},"Mar/201610","6467/201610","6467/0433/201610","3/201610","3/0433/201610","0433/201610","Pat","6335/Pat/201505",{"$f":"+CONCATENATE(VLOOKUP(F45844,Cadastro!$Q$3:$R$162,2,FALSE),\"/\",S45844,\"/\",H45844)","v":"28/Pat/201505"},"Pat/201505","6335/201505","6335/0167/201505","28/201505","28/0167/201505","0167/201505",0,0,0,0,0,0,0,0,0,0]
[null,"06467","0531","201610",null,"06335","0274","201505",null,"Aut","6467/Aut/201610",{"$f":"IF(J45904=0,0,+CONCATENATE(VLOOKUP(B45904,Cadastro!$Q$3:$R$162,2,FALSE),\"/\",J45904,\"/\",D45904))","v":"3/Aut/201610"},"Aut/201610","6467/201610","6467/0531/201610","3/201610","3/0531/201610","0531/201610","RE","6335/RE/201505",{"$f":"+CONCATENATE(VLOOKUP(F45904,Cadastro!$Q$3:$R$162,2,FALSE),\"/\",S45904,\"/\",H45904)","v":"28/RE/201505"},"RE/201505","6335/201505","6335/0274/201505","28/201505","28/0274/201505","0274/201505",19614533.309999999,0,19107516.23,0,17956777.770000003,0,11569609.15,0,3582026.15,0]
[null,"06467","0589","201602",null,"06335","0435","201509",null,"Dpvat","6467/Dpvat/201602",{"$f":"IF(J45944=0,0,+CONCATENATE(VLOOKUP(B45944,Cadastro!$Q$3:$R$162,2,FALSE),\"/\",J45944,\"/\",D45944))","v":"3/Dpvat/201602"},"Dpvat/201602","6467/201602","6467/0589/201602","3/201602","3/0589/201602","0589/201602","Aero","6335/Aero/201509",{"$f":"+CONCATENATE(VLOOKUP(F45944,Cadastro!$Q$3:$R$162,2,FALSE),\"/\",S45944,\"/\",H45944)","v":"28/Aero/201509"},"Aero/201509","6335/201509","6335/0435/201509","28/201509","28/0435/201509","0435/201509",0,0,0,0,0,0,0,0,0,0]
[null,"06467","0739","201603",null,"06335","0588","201510",null,"RF","6467/RF/201603",{"$f":"IF(J46029=0,0,+CONCATENATE(VLOOKUP(B46029,Cadastro!$Q$3:$R$162,2,FALSE),\"/\",J46029,\"/\",D46029))","v":"3/RF/201603"},"RF/201603","6467/201603","6467/0739/201603","3/201603","3/0739/201603","0739/201603","Dpvat","6335/Dpvat/201510",{"$f":"+CONCATENATE(VLOOKUP(F46029,Cadastro!$Q$3:$R$162,2,FALSE),\"/\",S46029,\"/\",H46029)","v":"28/Dpvat/201510"},"Dpvat/201510","6335/201510","6335/0588/201510","28/201510","28/0588/201510","0588/201510",0,0,0,0,0,0,0,0,0,0]
[null,"06467","1130","201604",null,"06335","0656","201511",null,"Rur","6467/Rur/201604",{"$f":"IF(J46114=0,0,+CONCATENATE(VLOOKUP(B46114,Cadastro!$Q$3:$R$162,2,FALSE),\"/\",J46114,\"/\",D46114))","v":"3/Rur/201604"},"Rur/201604","6467/201604","6467/1130/201604","3/201604","3/1130/201604","1130/201604","Transp","6335/Transp/201511",{"$f":"+CONCATENATE(VLOOKUP(F46114,Cadastro!$Q$3:$R$162,2,FALSE),\"/\",S46114,\"/\",H46114)","v":"28/Transp/201511"},"Transp/201511","6335/201511","6335/0656/201511","28/201511","28/0656/201511","0656/201511",2611.7399999999998,0,2611.7399999999998,0,2757.01,0,-247,0,461.93,0]
[null,"06467","1528","201609",null,"06335","0819","201504",null,"Aero","6467/Aero/201609",{"$f":"IF(J46167=0,0,+CONCATENATE(VLOOKUP(B46167,Cadastro!$Q$3:$R$162,2,FALSE),\"/\",J46167,\"/\",D46167))","v":"3/Aero/201609"},"Aero/201609","6467/201609","6467/1528/201609","3/201609","3/1528/201609","1528/201609","RF","6335/RF/201504",{"$f":"+CONCATENATE(VLOOKUP(F46167,Cadastro!$Q$3:$R$162,2,FALSE),\"/\",S46167,\"/\",H46167)","v":"28/RF/201504"},"RF/201504","6335/201504","6335/0819/201504","28/201504","28/0819/201504","0819/201504",0,0,0,0,0,0,0,59083.709999999992,0,0]
[null,"06513","0112","201608",null,"06335","0969","201503",null,"Pat","6513/Pat/201608",{"$f":"IF(J46214=0,0,+CONCATENATE(VLOOKUP(B46214,Cadastro!$Q$3:$R$162,2,FALSE),\"/\",J46214,\"/\",D46214))","v":"1/Pat/201608"},"Pat/201608","6513/201608","6513/0112/201608","1/201608","1/0112/201608","0112/201608","Pes","6335/Pes/201503",{"$f":"+CONCATENATE(VLOOKUP(F46214,Cadastro!$Q$3:$R$162,2,FALSE),\"/\",S46214,\"/\",H46214)","v":"28/Pes/201503"},{"$f":"+CONCATENATE(S46214,\"/\",H46214)","v":"Pes/201503"},"6335/201503","6335/0969/201503","28/201503","28/0969/201503","0969/201503",0,0,0,0,0,0,0,0,0,0]
[null,"06513","0171","201609",null,"06335","1068","201504",null,"Pat","6513/Pat/201609",{"$f":"IF(J46299=0,0,+CONCATENATE(VLOOKUP(B46299,Cadastro!$Q$3:$R$162,2,FALSE),\"/\",J46299,\"/\",D46299))","v":"1/Pat/201609"},"Pat/201609","6513/201609","6513/0171/201609","1/201609","1/0171/201609","0171/201609","Hab","6335/Hab/201504",{"$f":"+CONCATENATE(VLOOKUP(F46299,Cadastro!$Q$3:$R$162,2,FALSE),\"/\",S46299,\"/\",H46299)","v":"28/Hab/201504"},"Hab/201504","6335/201504","6335/1068/201504","28/201504","28/1068/201504","1068/201504",14770403.609999999,0,17205185.550000001,0,6188779.4299999997,0,-975082.4299999997,0,1118248.18,0]
[null,"06513","0310","201606",null,"06335","1299","201501",null,"Res","6513/Res/201606",{"$f":"IF(J46380=0,0,+CONCATENATE(VLOOKUP(B46380,Cadastro!$Q$3:$R$162,2,FALSE),\"/\",J46380,\"/\",D46380))","v":"1/Res/201606"},"Res/201606","6513/201606","6513/0310/201606","1/201606","1/0310/201606","0310/201606","Out","6335/Out/201501",{"$f":"+CONCATENATE(VLOOKUP(F46380,Cadastro!$Q$3:$R$162,2,FALSE),\"/\",S46380,\"/\",H46380)","v":"28/Out/201501"},"Out/201501","6335/201501","6335/1299/201501","28/201501","28/1299/201501","1299/201501",3067995.69,0,-1147077.5500000003,0,6093962.5299999993,0,1253402.83,0,737816.58,0]
[null,"06513","0433","201608",null,"06351","0981","201503",null,"Mar","6513/Mar/201608",{"$f":"IF(J46430=0,0,+CONCATENATE(VLOOKUP(B46430,Cadastro!$Q$3:$R$162,2,FALSE),\"/\",J46430,\"/\",D46430))","v":"1/Mar/201608"},"Mar/201608","6513/201608","6513/0433/201608","1/201608","1/0433/201608","0433/201608","Pes","6351/Pes/201503",{"$f":"+CONCATENATE(VLOOKUP(F46430,Cadastro!$Q$3:$R$162,2,FALSE),\"/\",S46430,\"/\",H46430)","v":"50/Pes/201503"},"Pes/201503","6351/201503","6351/0981/201503","50/201503","50/0981/201503","0981/201503",0,0,0,0,0,0,0,0,0,0]
[null,"06513","0520","201610",null,"06351","0986","201505",null,"Aut","6513/Aut/201610",{"$f":"IF(J46480=0,0,+CONCATENATE(VLOOKUP(B46480,Cadastro!$Q$3:$R$162,2,FALSE),\"/\",J46480,\"/\",D46480))","v":"1/Aut/201610"},"Aut/201610","6513/201610","6513/0520/201610","1/201610","1/0520/201610","0520/201610","Pes","6351/Pes/201505",{"$f":"+CONCATENATE(VLOOKUP(F46480,Cadastro!$Q$3:$R$162,2,FALSE),\"/\",S46480,\"/\",H46480)","v":"50/Pes/201505"},"Pes/201505","6351/201505","6351/0986/201505","50/201505","50/0986/201505","0986/201505",0,0,0,0,0,0,0,0,0,0]
[null,"06513","0544","201611",null,"06351","1329","201510",null,"Aut","6513/Aut/201611",{"$f":"IF(J46565=0,0,+CONCATENATE(VLOOKUP(B46565,Cadastro!$Q$3:$R$162,2,FALSE),\"/\",J46565,\"/\",D46565))","v":"1/Aut/201611"},"Aut/201611","6513/201611","6513/0544/201611","1/201611","1/0544/201611","0544/201611","Pes","6351/Pes/201510",{"$f":"+CONCATENATE(VLOOKUP(F46565,Cadastro!$Q$3:$R$162,2,FALSE),\"/\",S46565,\"/\",H46565)","v":"50/Pes/201510"},"Pes/201510","6351/201510","6351/1329/201510","50/201510","50/1329/201510","1329/201510",0,1502.16,0,1501.92,0,1501.92,0,0,0,244]
[null,"06513","0627","201612",null,"06351","1390","201511",null,"Transp","6513/Transp/201612",{"$f":"IF(J46650=0,0,+CONCATENATE(VLOOKUP(B46650,Cadastro!$Q$3:$R$162,2,FALSE),\"/\",J46650,\"/\",D46650))","v":"1/Transp/201612"},"Transp/201612","6513/201612","6513/0627/201612","1/201612","1/0627/201612","0627/201612","Pes","6351/Pes/201511",{"$f":"+CONCATENATE(VLOOKUP(F46650,Cadastro!$Q$3:$R$162,2,FALSE),\"/\",S46650,\"/\",H46650)","v":"50/Pes/201511"},"Pes/201511","6351/201511","6351/1390/201511","50/201511","50/1390/201511","1390/201511",0,324675.93,0,324674.64999999997,0,153847.71,0,4292.95,0,-88523.17]
[null,"06513","0644","201607",null,"06360","0115","201506",null,"Transp","6513/Transp/201607",{"$f":"IF(J46693=0,0,+CONCATENATE(VLOOKUP(B46693,Cadastro!$Q$3:$R$162,2,FALSE),\"/\",J46693,\"/\",D46693))","v":"1/Transp/201607"},"Transp/201607","6513/201607","6513/0644/201607","1/201607","1/0644/201607","0644/201607","Pat","6360/Pat/201506",{"$f":"+CONCATENATE(VLOOKUP(F46693,Cadastro!$Q$3:$R$162,2,FALSE),\"/\",S46693,\"/\",H46693)","v":"61/Pat/201506"},"Pat/201506","6360/201506","6360/0115/201506","61/201506","61/0115/201506","0115/201506",-65.48,0,275.89999999999998,0,5280.01,0,-1436.25,0,1238.42,0]
[null,"06513","0658","201604",null,"06360","0234","201503",null,"Transp","6513/Transp/201604",{"$f":"IF(J46750=0,0,+CONCATENATE(VLOOKUP(B46750,Cadastro!$Q$3:$R$162,2,FALSE),\"/\",J46750,\"/\",D46750))","v":"1/Transp/201604"},"Transp/201604","6513/201604","6513/0658/201604","1/201604","1/0658/201604","0658/201604","RE","6360/RE/201503",{"$f":"+CONCATENATE(VLOOKUP(F46750,Cadastro!$Q$3:$R$162,2,FALSE),\"/\",S46750,\"/\",H46750)","v":"61/RE/201503"},"RE/201503","6360/201503","6360/0234/201503","61/201503","61/0234/201503","0234/201503",0,0,0,0,0,0,0,0,0,0]
[null,"06513","0748","201601",null,"06360","0589","201501",null,"RF","6513/RF/201601",{"$f":"IF(J46831=0,0,+CONCATENATE(VLOOKUP(B46831,Cadastro!$Q$3:$R$162,2,FALSE),\"/\",J46831,\"/\",D46831))","v":"1/RF/201601"},"RF/201601","6513/201601","6513/0748/201601","1/201601","1/0748/201601","0748/201601","Dpvat","6360/Dpvat/201501",{"$f":"+CONCATENATE(VLOOKUP(F46831,Cadastro!$Q$3:$R$162,2,FALSE),\"/\",S46831,\"/\",H46831)","v":"61/Dpvat/201501"},"Dpvat/201501","6360/201501","6360/0589/201501","61/201501","61/0589/201501","0589/201501",-353936.09,0,-486998.52,0,5701.3800000000047,0,0,0,24593.439999999999,0]
[null,"06513","0749","201609",null,"06360","0621","201510",null,"RF","6513/RF/201609",{"$f":"IF(J46851=0,0,+CONCATENATE(VLOOKUP(B46851,Cadastro!$Q$3:$R$162,2,FALSE),\"/\",J46851,\"/\",D46851))","v":"1/RF/201609"},"RF/201609","6513/201609","6513/0749/201609","1/201609","1/0749/201609","0749/201609","Transp","6360/Transp/201510",{"$f":"+CONCATENATE(VLOOKUP(F46851,Cadastro!$Q$3:$R$162,2,FALSE),\"/\",S46851,\"/\",H46851)","v":"61/Transp/201510"},"Transp/201510","6360/201510","6360/0621/201510","61/201510","61/0621/201510","0621/201510",66.36,0,-6359.12,0,369.70000000000073,0,14.979999999999791,0,1023.58,0]
[null,"06513","0936","201606",null,"06360","0981","201507",null,"Pes","6513/Pes/201606",{"$f":"IF(J46956=0,0,+CONCATENATE(VLOOKUP(B46956,Cadastro!$Q$3:$R$162,2,FALSE),\"/\",J46956,\"/\",D46956))","v":"1/Pes/201606"},"Pes/201606","6513/201606","6513/0936/201606","1/201606","1/0936/201606","0936/201606","Pes","6360/Pes/201507",{"$f":"+CONCATENATE(VLOOKUP(F46956,Cadastro!$Q$3:$R$162,2,FALSE),\"/\",S46956,\"/\",H46956)","v":"61/Pes/201507"},"Pes/201507","6360/201507","6360/0981/201507","61/201507","61/0981/201507","0981/201507",0,0,0,0,0,0,0,0,0,0]
[null,"06513","0982","201606",null,"06360","1107","201507",null,"Pes","6513/Pes/201606",{"$f":"IF(J47016=0,0,+CONCATENATE(VLOOKUP(B47016,Cadastro!$Q$3:$R$162,2,FALSE),\"/\",J47016,\"/\",D47016))","v":"1/Pes/201606"},"Pes/201606","6513/201606","6513/0982/201606","1/201606","1/0982/201606","0982/201606","Rur","6360/Rur/201507",{"$f":"+CONCATENATE(VLOOKUP(F47016,Cadastro!$Q$3:$R$162,2,FALSE),\"/\",S47016,\"/\",H47016)","v":"61/Rur/201507"},"Rur/201507","6360/201507","6360/1107/201507","61/201507","61/1107/201507","1107/201507",18595397.329999998,0,16882605.279999997,0,14370727.309999999,0,1452707.5199999998,0,7854524.29,0]
[null,"06513","0993","201607",null,"06360","1383","201508",null,"Pes","6513/Pes/201607",{"$f":"IF(J47101=0,0,+CONCATENATE(VLOOKUP(B47101,Cadastro!$Q$3:$R$162,2,FALSE),\"/\",J47101,\"/\",D47101))","v":"1/Pes/201607"},"Pes/201607","6513/201607","6513/0993/201607","1/201607","1/0993/201607","0993/201607","Pes","6360/Pes/201508",{"$f":"+CONCATENATE(VLOOKUP(F47101,Cadastro!$Q$3:$R$162,2,FALSE),\"/\",S47101,\"/\",H47101)","v":"61/Pes/201508"},"Pes/201508","6360/201508","6360/1383/201508","61/201508","61/1383/201508","1383/201508",7256081.8799999999,0,5452041.71,0,5375200.1600000001,0,1140917.03,0,2338755.92,0]
[null,"06513","1065","201603",null,"06360","1391","201504",null,"Hab","6513/Hab/201603",{"$f":"IF(J47121=0,0,+CONCATENATE(VLOOKUP(B47121,Cadastro!$Q$3:$R$162,2,FALSE),\"/\",J47121,\"/\",D47121))","v":"1/Hab/201603"},"Hab/201603","6513/201603","6513/1065/201603","1/201603","1/1065/201603","1065/201603","Pes","6360/Pes/201504",{"$f":"+CONCATENATE(VLOOKUP(F47121,Cadastro!$Q$3:$R$162,2,FALSE),\"/\",S47121,\"/\",H47121)","v":"61/Pes/201504"},"Pes/201504","6360/201504","6360/1391/201504","61/201504","61/1391/201504","1391/201504",-30735.759999999998,10087.33,-30735.759999999998,10087.33,-30735.759999999998,0,0,-141.65,-14185.02,0]
[null,"06513","1106","201605",null,"06467","0167","201506",null,"Rur","6513/Rur/201605",{"$f":"IF(J47219=0,0,+CONCATENATE(VLOOKUP(B47219,Cadastro!$Q$3:$R$162,2,FALSE),\"/\",J47219,\"/\",D47219))","v":"1/Rur/201605"},"Rur/201605","6513/201605","6513/1106/201605","1/201605","1/1106/201605","1106/201605","Pat","6467/Pat/201506",{"$f":"+CONCATENATE(VLOOKUP(F47219,Cadastro!$Q$3:$R$162,2,FALSE),\"/\",S47219,\"/\",H47219)","v":"3/Pat/201506"},"Pat/201506","6467/201506","6467/0167/201506","3/201506","3/0167/201506","0167/201506",0,0,0,0,0,0,0,0,0,0]
[null,"06513","1162","201612",null,"06467","0433","201501",null,"Rur","6513/Rur/201612",{"$f":"IF(J47286=0,0,+CONCATENATE(VLOOKUP(B47286,Cadastro!$Q$3:$R$162,2,FALSE),\"/\",J47286,\"/\",D47286))","v":"1/Rur/201612"},"Rur/201612","6513/201612","6513/1162/201612","1/201612","1/1162/201612","1162/201612","Mar","6467/Mar/201501",{"$f":"+CONCATENATE(VLOOKUP(F47286,Cadastro!$Q$3:$R$162,2,FALSE),\"/\",S47286,\"/\",H47286)","v":"3/Mar/201501"},"Mar/201501","6467/201501","6467/0433/201501","3/201501","3/0433/201501","0433/201501",3843.99,0,3061.9199999999996,0,37.8599999999999,0,-9038.08,0,106.83,0]
[null,"06513","1164","201604",null,"06467","0435","201505",null,"Rur","6513/Rur/201604",{"$f":"IF(J47302=0,0,+CONCATENATE(VLOOKUP(B47302,Cadastro!$Q$3:$R$162,2,FALSE),\"/\",J47302,\"/\",D47302))","v":"1/Rur/201604"},"Rur/201604","6513/201604","6513/1164/201604","1/201604","1/1164/201604","1164/201604","Aero","6467/Aero/201505",{"$f":"+CONCATENATE(VLOOKUP(F47302,Cadastro!$Q$3:$R$162,2,FALSE),\"/\",S47302,\"/\",H47302)","v":"3/Aero/201505"},{"$f":"+CONCATENATE(S47302,\"/\",H47302)","v":"Aero/201505"},"6467/201505","6467/0435/201505","3/201505","3/0435/201505","0435/201505",0,0,0,0,0,0,0,0,0,0]
[null,"06513","1380","201605",null,"06467","0588","201506",null,"Pes","6513/Pes/201605",{"$f":"IF(J47387=0,0,+CONCATENATE(VLOOKUP(B47387,Cadastro!$Q$3:$R$162,2,FALSE),\"/\",J47387,\"/\",D47387))","v":"1/Pes/201605"},"Pes/201605","6513/201605","6513/1380/201605","1/201605","1/1380/201605","1380/201605","Dpvat","6467/Dpvat/201506",{"$f":"+CONCATENATE(VLOOKUP(F47387,Cadastro!$Q$3:$R$162,2,FALSE),\"/\",S47387,\"/\",H47387)","v":"3/Dpvat/201506"},"Dpvat/201506","6467/201506","6467/0588/201506","3/201506","3/0588/201506","0588/201506",0,3314713.48,0,3314713.48,0,3319040.05,0,2867792.81,0,48370.41]
[null,"06513","1392","201604",null,"06467","0739","201505",null,"VGBL","6513/VGBL/201604",{"$f":"IF(J47482=0,0,+CONCATENATE(VLOOKUP(B47482,Cadastro!$Q$3:$R$162,2,FALSE),\"/\",J47482,\"/\",D47482))","v":"1/VGBL/201604"},"VGBL/201604","6513/201604","6513/1392/201604","1/201604","1/1392/201604","1392/201604","RF","6467/RF/201505",{"$f":"+CONCATENATE(VLOOKUP(F47482,Cadastro!$Q$3:$R$162,2,FALSE),\"/\",S47482,\"/\",H47482)","v":"3/RF/201505"},"RF/201505","6467/201505","6467/0739/201505","3/201505","3/0739/201505","0739/201505",0,0,0,0,0,0,0,0,0,0]
[null,"06513","1535","201602",null,"06467","1107","201503",null,"Aero","6513/Aero/201602",{"$f":"IF(J47552=0,0,+CONCATENATE(VLOOKUP(B47552,Cadastro!$Q$3:$R$162,2,FALSE),\"/\",J47552,\"/\",D47552))","v":"1/Aero/201602"},"Aero/201602","6513/201602","6513/1535/201602","1/201602","1/1535/201602","1535/201602","Rur","6467/Rur/201503",{"$f":"+CONCATENATE(VLOOKUP(F47552,Cadastro!$Q$3:$R$162,2,FALSE),\"/\",S47552,\"/\",H47552)","v":"3/Rur/201503"},"Rur/201503","6467/201503","6467/1107/201503","3/201503","3/1107/201503","1107/201503",1058195.8999999999,0,-2818708.12,0,1556761.8299999996,0,12924595.729999997,0,164374.92000000001,0]
[null,"06513","1537","201610",null,"06467","1130","201511",null,"Aero","6513/Aero/201610",{"$f":"IF(J47572=0,0,+CONCATENATE(VLOOKUP(B47572,Cadastro!$Q$3:$R$162,2,FALSE),\"/\",J47572,\"/\",D47572))","v":"1/Aero/201610"},"Aero/201610","6513/201610","6513/1537/201610","1/201610","1/1537/201610","1537/201610","Rur","6467/Rur/201511",{"$f":"+CONCATENATE(VLOOKUP(F47572,Cadastro!$Q$3:$R$162,2,FALSE),\"/\",S47572,\"/\",H47572)","v":"3/Rur/201511"},"Rur/201511","6467/201511","6467/1130/201511","3/201511","3/1130/201511","1130/201511",218412.81,6917.91,160276.88,6917.91,23514.829999999994,727.84,-1875.4599999999998,0,8668.51,119.83]
[null,"06530","0977","201605",null,"06513","0114","201508",null,"Pes","6530/Pes/201605",{"$f":"IF(J47653=0,0,+CONCATENATE(VLOOKUP(B47653,Cadastro!$Q$3:$R$162,2,FALSE),\"/\",J47653,\"/\",D47653))","v":"79/Pes/201605"},"Pes/201605","6530/201605","6530/0977/201605","79/201605","79/0977/201605","0977/201605","Pat","6513/Pat/201508",{"$f":"+CONCATENATE(VLOOKUP(F47653,Cadastro!$Q$3:$R$162,2,FALSE),\"/\",S47653,\"/\",H47653)","v":"1/Pat/201508"},"Pat/201508","6513/201508","6513/0114/201508","1/201508","1/0114/201508","0114/201508",0,4129025.56,0,3962615.49,29605.21,4325202.7299999995,22213.34,1105421.46,13435.3,1870884.83]
[null,"06548","0982","201601",null,"06513","0195","201504",null,"Pes","6548/Pes/201601",{"$f":"IF(J47745=0,0,+CONCATENATE(VLOOKUP(B47745,Cadastro!$Q$3:$R$162,2,FALSE),\"/\",J47745,\"/\",D47745))","v":"25/Pes/201601"},"Pes/201601","6548/201601","6548/0982/201601","25/201601","25/0982/201601","0982/201601","Pat","6513/Pat/201504",{"$f":"+CONCATENATE(VLOOKUP(F47745,Cadastro!$Q$3:$R$162,2,FALSE),\"/\",S47745,\"/\",H47745)","v":"1/Pat/201504"},"Pat/201504","6513/201504","6513/0195/201504","1/201504","1/0195/201504","0195/201504",2066651.47,0,2064900.8699999999,0,2616194.0099999998,0,39172.54,0,1439959.67,0]
[null,"06548","0987","201601",null,"06513","0196","201504",null,"Pes","6548/Pes/201601",{"$f":"IF(J47757=0,0,+CONCATENATE(VLOOKUP(B47757,Cadastro!$Q$3:$R$162,2,FALSE),\"/\",J47757,\"/\",D47757))","v":"25/Pes/201601"},"Pes/201601","6548/201601","6548/0987/201601","25/201601","25/0987/201601","0987/201601","Pat","6513/Pat/201504",{"$f":"+CONCATENATE(VLOOKUP(F47757,Cadastro!$Q$3:$R$162,2,FALSE),\"/\",S47757,\"/\",H47757)","v":"1/Pat/201504"},"Pat/201504","6513/201504","6513/0196/201504","1/201504","1/0196/201504","0196/201504",221310.71,649360.61,221310.71,-4232934.43,101613.08,475191.29000000004,24372.63,9143730.1200000048,137838.48000000001,449353.88]
[null,"06548","1390","201610",null,"06513","0378","201510",null,"Pes","6548/Pes/201610",{"$f":"IF(J47838=0,0,+CONCATENATE(VLOOKUP(B47838,Cadastro!$Q$3:$R$162,2,FALSE),\"/\",J47838,\"/\",D47838))","v":"25/Pes/201610"},"Pes/201610","6548/201610","6548/1390/201610","25/201610","25/1390/201610","1390/201610","Res","6513/Res/201510",{"$f":"+CONCATENATE(VLOOKUP(F47838,Cadastro!$Q$3:$R$162,2,FALSE),\"/\",S47838,\"/\",H47838)","v":"1/Res/201510"},"Res/201510","6513/201510","6513/0378/201510","1/201510","1/0378/201510","0378/201510",249272.07,3239593.19,249272.07,2540443.58,246316.18,2435763.7200000002,-5520.8798999999999,1014523.34,110849.26,582714.19999999995]
[null,"06564","0167","201611",null,"06513","0524","201511",null,"Pat","6564/Pat/201611",{"$f":"IF(J47923=0,0,+CONCATENATE(VLOOKUP(B47923,Cadastro!$Q$3:$R$162,2,FALSE),\"/\",J47923,\"/\",D47923))","v":"70/Pat/201611"},"Pat/201611","6564/201611","6564/0167/201611","70/201611","70/0167/201611","0167/201611","Aut","6513/Aut/201511",{"$f":"+CONCATENATE(VLOOKUP(F47923,Cadastro!$Q$3:$R$162,2,FALSE),\"/\",S47923,\"/\",H47923)","v":"1/Aut/201511"},"Aut/201511","6513/201511","6513/0524/201511","1/201511","1/0524/201511","0524/201511",0,0,0,0,0,0,174890.95,0,0,0]
[null,"06564","0310","201612",null,"06513","0589","201512",null,"Res","6564/Res/201612",{"$f":"IF(J48008=0,0,+CONCATENATE(VLOOKUP(B48008,Cadastro!$Q$3:$R$162,2,FALSE),\"/\",J48008,\"/\",D48008))","v":"70/Res/201612"},"Res/201612","6564/201612","6564/0310/201612","70/201612","70/0310/201612","0310/201612","Dpvat","6513/Dpvat/201512",{"$f":"+CONCATENATE(VLOOKUP(F48008,Cadastro!$Q$3:$R$162,2,FALSE),\"/\",S48008,\"/\",H48008)","v":"1/Dpvat/201512"},"Dpvat/201512","6513/201512","6513/0589/201512","1/201512","1/0589/201512","0589/201512",0,0,0,0,0,0,0,0,0,0]
[null,"06564","0378","201603",null,"06513","0622","201503",null,"Res","6564/Res/201603",{"$f":"IF(J48023=0,0,+CONCATENATE(VLOOKUP(B48023,Cadastro!$Q$3:$R$162,2,FALSE),\"/\",J48023,\"/\",D48023))","v":"70/Res/201603"},"Res/201603","6564/201603","6564/0378/201603","70/201603","70/0378/201603","0378/201603","Transp","6513/Transp/201503",{"$f":"+CONCATENATE(VLOOKUP(F48023,Cadastro!$Q$3:$R$162,2,FALSE),\"/\",S48023,\"/\",H48023)","v":"1/Transp/201503"},"Transp/201503","6513/201503","6513/0622/201503","1/201503","1/0622/201503","0622/201503",0,5359436.0199999996,0,3193921.3099999996,0,1384284.79,0,1225456.2200000002,0,848902.07]
[null,"06564","0531","201604",null,"06513","0654","201504",null,"Aut","6564/Aut/201604",{"$f":"IF(J48108=0,0,+CONCATENATE(VLOOKUP(B48108,Cadastro!$Q$3:$R$162,2,FALSE),\"/\",J48108,\"/\",D48108))","v":"70/Aut/201604"},"Aut/201604","6564/201604","6564/0531/201604","70/201604","70/0531/201604","0531/201604","Transp","6513/Transp/201504",{"$f":"+CONCATENATE(VLOOKUP(F48108,Cadastro!$Q$3:$R$162,2,FALSE),\"/\",S48108,\"/\",H48108)","v":"1/Transp/201504"},"Transp/201504","6513/201504","6513/0654/201504","1/201504","1/0654/201504","0654/201504",0,4516873.9800000004,0,2054399.4500000007,0,1955779.06,-223041.61,-248485.71999999997,0,891017.3]
[null,"06564","0654","201601",null,"06513","0746","201501",null,"Transp","6564/Transp/201601",{"$f":"IF(J48189=0,0,+CONCATENATE(VLOOKUP(B48189,Cadastro!$Q$3:$R$162,2,FALSE),\"/\",J48189,\"/\",D48189))","v":"70/Transp/201601"},"Transp/201601","6564/201601","6564/0654/201601","70/201601","70/0654/201601","0654/201601","RF","6513/RF/201501",{"$f":"+CONCATENATE(VLOOKUP(F48189,Cadastro!$Q$3:$R$162,2,FALSE),\"/\",S48189,\"/\",H48189)","v":"1/RF/201501"},"RF/201501","6513/201501","6513/0746/201501","1/201501","1/0746/201501","0746/201501",0,30806.17,0,-160468.89000000001,0,-109197.72,0,10267.559999999998,0,15067.94]
[null,"06564","0655","201607",null,"06513","0747","201507",null,"Transp","6564/Transp/201607",{"$f":"IF(J48207=0,0,+CONCATENATE(VLOOKUP(B48207,Cadastro!$Q$3:$R$162,2,FALSE),\"/\",J48207,\"/\",D48207))","v":"70/Transp/201607"},"Transp/201607","6564/201607","6564/0655/201607","70/201607","70/0655/201607","0655/201607","RF","6513/RF/201507",{"$f":"+CONCATENATE(VLOOKUP(F48207,Cadastro!$Q$3:$R$162,2,FALSE),\"/\",S48207,\"/\",H48207)","v":"1/RF/201507"},"RF/201507","6513/201507","6513/0747/201507","1/201507","1/0747/201507","0747/201507",0,0,0,0,0,0,0,0,0,0]
[null,"06564","0775","201601",null,"06513","0859","201509",null,"RF","6564/RF/201601",{"$f":"IF(J48293=0,0,+CONCATENATE(VLOOKUP(B48293,Cadastro!$Q$3:$R$162,2,FALSE),\"/\",J48293,\"/\",D48293))","v":"70/RF/201601"},"RF/201601","6564/201601","6564/0775/201601","70/201601","70/0775/201601","0775/201601","RF","6513/RF/201509",{"$f":"+CONCATENATE(VLOOKUP(F48293,Cadastro!$Q$3:$R$162,2,FALSE),\"/\",S48293,\"/\",H48293)","v":"1/RF/201509"},"RF/201509","6513/201509","6513/0859/201509","1/201509","1/0859/201509","0859/201509",0,0,0,0,0,0,0,0,0,0]
[null,"06564","1066","201604",null,"06513","0981","201506",null,"Hab","6564/Hab/201604",{"$f":"IF(J48374=0,0,+CONCATENATE(VLOOKUP(B48374,Cadastro!$Q$3:$R$162,2,FALSE),\"/\",J48374,\"/\",D48374))","v":"70/Hab/201604"},"Hab/201604","6564/201604","6564/1066/201604","70/201604","70/1066/201604","1066/201604","Pes","6513/Pes/201506",{"$f":"+CONCATENATE(VLOOKUP(F48374,Cadastro!$Q$3:$R$162,2,FALSE),\"/\",S48374,\"/\",H48374)","v":"1/Pes/201506"},"Pes/201506","6513/201506","6513/0981/201506","1/201506","1/0981/201506","0981/201506",0,0,0,0,0,0,0,105172.74,0,0]
[null,"06572","0112","201603",null,"06513","1065","201507",null,"Pat","6572/Pat/201603",{"$f":"IF(J48459=0,0,+CONCATENATE(VLOOKUP(B48459,Cadastro!$Q$3:$R$162,2,FALSE),\"/\",J48459,\"/\",D48459))","v":"43/Pat/201603"},"Pat/201603","6572/201603","6572/0112/201603","43/201603","43/0112/201603","0112/201603","Hab","6513/Hab/201507",{"$f":"+CONCATENATE(VLOOKUP(F48459,Cadastro!$Q$3:$R$162,2,FALSE),\"/\",S48459,\"/\",H48459)","v":"1/Hab/201507"},"Hab/201507","6513/201507","6513/1065/201507","1/201507","1/1065/201507","1065/201507",-131.55000000000001,217714.48,-131.55000000000001,217714.48,-131,261371.8,63.65,14628.23,-275.45999999999998,117624.41]
[null,"06572","0114","201602",null,"06513","1066","201506",null,"Pat","6572/Pat/201602",{"$f":"IF(J48470=0,0,+CONCATENATE(VLOOKUP(B48470,Cadastro!$Q$3:$R$162,2,FALSE),\"/\",J48470,\"/\",D48470))","v":"43/Pat/201602"},"Pat/201602","6572/201602","6572/0114/201602","43/201602","43/0114/201602","0114/201602","Hab","6513/Hab/201506",{"$f":"+CONCATENATE(VLOOKUP(F48470,Cadastro!$Q$3:$R$162,2,FALSE),\"/\",S48470,\"/\",H48470)","v":"1/Hab/201506"},"Hab/201506","6513/201506","6513/1066/201506","1/201506","1/1066/201506","1066/201506",8159309.8899999997,0,7950353.6399999997,0,7102030.5899999999,0,4647126.5299999993,0,1960143.69,0]
[null,"06572","0173","201607",null,"06513","1106","201511",null,"Pat","6572/Pat/201607",{"$f":"IF(J48559=0,0,+CONCATENATE(VLOOKUP(B48559,Cadastro!$Q$3:$R$162,2,FALSE),\"/\",J48559,\"/\",D48559))","v":"43/Pat/201607"},"Pat/201607","6572/201607","6572/0173/201607","43/201607","43/0173/201607","0173/201607","Rur","6513/Rur/201511",{"$f":"+CONCATENATE(VLOOKUP(F48559,Cadastro!$Q$3:$R$162,2,FALSE),\"/\",S48559,\"/\",H48559)","v":"1/Rur/201511"},"Rur/201511","6513/201511","6513/1106/201511","1/201511","1/1106/201511","1106/201511",0,0,0,0,0,0,0,0,0,0]
[null,"06572","0313","201608",null,"06513","1164","201512",null,"Res","6572/Res/201608",{"$f":"IF(J48644=0,0,+CONCATENATE(VLOOKUP(B48644,Cadastro!$Q$3:$R$162,2,FALSE),\"/\",J48644,\"/\",D48644))","v":"43/Res/201608"},"Res/201608","6572/201608","6572/0313/201608","43/201608","43/0313/201608","0313/201608","Rur","6513/Rur/201512",{"$f":"+CONCATENATE(VLOOKUP(F48644,Cadastro!$Q$3:$R$162,2,FALSE),\"/\",S48644,\"/\",H48644)","v":"1/Rur/201512"},"Rur/201512","6513/201512","6513/1164/201512","1/201512","1/1164/201512","1164/201512",256759.89,0,257145.97,0,455475.47000000003,0,-4142.08,0,132641.51,0]
[null,"06572","0351","201612",null,"06513","1369","201504",null,"Res","6572/Res/201612",{"$f":"IF(J48660=0,0,+CONCATENATE(VLOOKUP(B48660,Cadastro!$Q$3:$R$162,2,FALSE),\"/\",J48660,\"/\",D48660))","v":"43/Res/201612"},"Res/201612","6572/201612","6572/0351/201612","43/201612","43/0351/201612","0351/201612","Pes","6513/Pes/201504",{"$f":"+CONCATENATE(VLOOKUP(F48660,Cadastro!$Q$3:$R$162,2,FALSE),\"/\",S48660,\"/\",H48660)","v":"1/Pes/201504"},"Pes/201504","6513/201504","6513/1369/201504","1/201504","1/1369/201504","1369/201504",-2300.65,0,-76167.17,0,106902.09999999999,0,247917.5,0,56123.91,0]
[null,"06572","0523","201601",null,"06513","1391","201505",null,"Transp","6572/Transp/201601",{"$f":"IF(J48733=0,0,+CONCATENATE(VLOOKUP(B48733,Cadastro!$Q$3:$R$162,2,FALSE),\"/\",J48733,\"/\",D48733))","v":"43/Transp/201601"},"Transp/201601","6572/201601","6572/0523/201601","43/201601","43/0523/201601","0523/201601","Pes","6513/Pes/201505",{"$f":"+CONCATENATE(VLOOKUP(F48733,Cadastro!$Q$3:$R$162,2,FALSE),\"/\",S48733,\"/\",H48733)","v":"1/Pes/201505"},"Pes/201505","6513/201505","6513/1391/201505","1/201505","1/1391/201505","1391/201505",0,0,0,0,0,0,0,0,0,0]
[null,"06572","0588","201601",null,"06513","1597","201505",null,"Dpvat","6572/Dpvat/201601",{"$f":"IF(J48829=0,0,+CONCATENATE(VLOOKUP(B48829,Cadastro!$Q$3:$R$162,2,FALSE),\"/\",J48829,\"/\",D48829))","v":"43/Dpvat/201601"},"Dpvat/201601","6572/201601","6572/0588/201601","43/201601","43/0588/201601","0588/201601","Aero","6513/Aero/201505",{"$f":"+CONCATENATE(VLOOKUP(F48829,Cadastro!$Q$3:$R$162,2,FALSE),\"/\",S48829,\"/\",H48829)","v":"1/Aero/201505"},"Aero/201505","6513/201505","6513/1597/201505","1/201505","1/1597/201505","1597/201505",0,0,0,0,0,0,0,0,0,0]
[null,"06572","0628","201610",null,"06530","0990","201502",null,"Transp","6572/Transp/201610",{"$f":"IF(J48910=0,0,+CONCATENATE(VLOOKUP(B48910,Cadastro!$Q$3:$R$162,2,FALSE),\"/\",J48910,\"/\",D48910))","v":"43/Transp/201610"},"Transp/201610","6572/201610","6572/0628/201610","43/201610","43/0628/201610","0628/201610","Pes","6530/Pes/201502",{"$f":"+CONCATENATE(VLOOKUP(F48910,Cadastro!$Q$3:$R$162,2,FALSE),\"/\",S48910,\"/\",H48910)","v":"79/Pes/201502"},"Pes/201502","6530/201502","6530/0990/201502","79/201502","79/0990/201502","0990/201502",460834.46,0,460657.52,0,224421.43,0,136564.17000000001,0,40969.32,0]
[null,"06572","0638","201606",null,"06530","0993","201510",null,"Transp","6572/Transp/201606",{"$f":"IF(J48930=0,0,+CONCATENATE(VLOOKUP(B48930,Cadastro!$Q$3:$R$162,2,FALSE),\"/\",J48930,\"/\",D48930))","v":"43/Transp/201606"},"Transp/201606","6572/201606","6572/0638/201606","43/201606","43/0638/201606","0638/201606","Pes","6530/Pes/201510",{"$f":"+CONCATENATE(VLOOKUP(F48930,Cadastro!$Q$3:$R$162,2,FALSE),\"/\",S48930,\"/\",H48930)","v":"79/Pes/201510"},"Pes/201510","6530/201510","6530/0993/201510","79/201510","79/0993/201510","0993/201510",0,0,0,0,0,0,0,20237.669999999998,0,0]
[null,"06572","0656","201612",null,"06548","0987","201504",null,"Transp","6572/Transp/201612",{"$f":"IF(J48996=0,0,+CONCATENATE(VLOOKUP(B48996,Cadastro!$Q$3:$R$162,2,FALSE),\"/\",J48996,\"/\",D48996))","v":"43/Transp/201612"},"Transp/201612","6572/201612","6572/0656/201612","43/201612","43/0656/201612","0656/201612","Pes","6548/Pes/201504",{"$f":"+CONCATENATE(VLOOKUP(F48996,Cadastro!$Q$3:$R$162,2,FALSE),\"/\",S48996,\"/\",H48996)","v":"25/Pes/201504"},"Pes/201504","6548/201504","6548/0987/201504","25/201504","25/0987/201504","0987/201504",525.96,-1.01,521.61,-1.01,521.61,83092.259999999995,0,41839.57,152.53,37325.14]
[null,"06572","0749","201603",null,"06564","0114","201507",null,"RF","6572/RF/201603",{"$f":"IF(J49095=0,0,+CONCATENATE(VLOOKUP(B49095,Cadastro!$Q$3:$R$162,2,FALSE),\"/\",J49095,\"/\",D49095))","v":"43/RF/201603"},"RF/201603","6572/201603","6572/0749/201603","43/201603","43/0749/201603","0749/201603","Pat","6564/Pat/201507",{"$f":"+CONCATENATE(VLOOKUP(F49095,Cadastro!$Q$3:$R$162,2,FALSE),\"/\",S49095,\"/\",H49095)","v":"70/Pat/201507"},"Pat/201507","6564/201507","6564/0114/201507","70/201507","70/0114/201507","0114/201507",0,17547596.34,0,17547596.34,0,20592238.649999999,0,1514351.38,0,7928011.1299999999]
[null,"06572","0750","201611",null,"06564","0116","201503",null,"RF","6572/RF/201611",{"$f":"IF(J49115=0,0,+CONCATENATE(VLOOKUP(B49115,Cadastro!$Q$3:$R$162,2,FALSE),\"/\",J49115,\"/\",D49115))","v":"43/RF/201611"},"RF/201611","6572/201611","6572/0750/201611","43/201611","43/0750/201611","0750/201611","Pat","6564/Pat/201503",{"$f":"+CONCATENATE(VLOOKUP(F49115,Cadastro!$Q$3:$R$162,2,FALSE),\"/\",S49115,\"/\",H49115)","v":"70/Pat/201503"},"Pat/201503","6564/201503","6564/0116/201503","70/201503","70/0116/201503","0116/201503",0,0,0,0,0,0,0,0,0,0]
[null,"06572","0929","201608",null,"06564","0196","201512",null,"Pes","6572/Pes/201608",{"$f":"IF(J49196=0,0,+CONCATENATE(VLOOKUP(B49196,Cadastro!$Q$3:$R$162,2,FALSE),\"/\",J49196,\"/\",D49196))","v":"43/Pes/201608"},"Pes/201608","6572/201608","6572/0929/201608","43/201608","43/0929/201608","0929/201608","Pat","6564/Pat/201512",{"$f":"+CONCATENATE(VLOOKUP(F49196,Cadastro!$Q$3:$R$162,2,FALSE),\"/\",S49196,\"/\",H49196)","v":"70/Pat/201512"},"Pat/201512","6564/201512","6564/0196/201512","70/201512","70/0196/201512","0196/201512",0,0,0,0,0,0,0,0,0,0]
[null,"06572","0981","201611",null,"06564","0378","201503",null,"Pes","6572/Pes/201611",{"$f":"IF(J49259=0,0,+CONCATENATE(VLOOKUP(B49259,Cadastro!$Q$3:$R$162,2,FALSE),\"/\",J49259,\"/\",D49259))","v":"43/Pes/201611"},"Pes/201611","6572/201611","6572/0981/201611","43/201611","43/0981/201611","0981/201611","Res","6564/Res/201503",{"$f":"+CONCATENATE(VLOOKUP(F49259,Cadastro!$Q$3:$R$162,2,FALSE),\"/\",S49259,\"/\",H49259)","v":"70/Res/201503"},"Res/201503","6564/201503","6564/0378/201503","70/201503","70/0378/201503","0378/201503",0,0,0.71,0,0.71,0,0,0,0,0]
[null,"06572","0993","201609",null,"06564","0621","201501",null,"Pes","6572/Pes/201609",{"$f":"IF(J49365=0,0,+CONCATENATE(VLOOKUP(B49365,Cadastro!$Q$3:$R$162,2,FALSE),\"/\",J49365,\"/\",D49365))","v":"43/Pes/201609"},"Pes/201609","6572/201609","6572/0993/201609","43/201609","43/0993/201609","0993/201609","Transp","6564/Transp/201501",{"$f":"+CONCATENATE(VLOOKUP(F49365,Cadastro!$Q$3:$R$162,2,FALSE),\"/\",S49365,\"/\",H49365)","v":"70/Transp/201501"},"Transp/201501","6564/201501","6564/0621/201501","70/201501","70/0621/201501","0621/201501",237978.69,0,229274.01,0,231716.22,0,104368.23,381.3,70360.759999999995,0]
[null,"06572","1061","201601",null,"06564","0622","201505",null,"Hab","6572/Hab/201601",{"$f":"IF(J49381=0,0,+CONCATENATE(VLOOKUP(B49381,Cadastro!$Q$3:$R$162,2,FALSE),\"/\",J49381,\"/\",D49381))","v":"43/Hab/201601"},"Hab/201601","6572/201601","6572/1061/201601","43/201601","43/1061/201601","1061/201601","Transp","6564/Transp/201505",{"$f":"+CONCATENATE(VLOOKUP(F49381,Cadastro!$Q$3:$R$162,2,FALSE),\"/\",S49381,\"/\",H49381)","v":"70/Transp/201505"},"Transp/201505","6564/201505","6564/0622/201505","70/201505","70/0622/201505","0622/201505",2355979.8199999998,0,2312814.0499999998,0,2312814.0499999998,0,450059.62,0,249802.68,0]
[null,"06572","1104","201602",null,"06564","0658","201506",null,"Rur","6572/Rur/201602",{"$f":"IF(J49466=0,0,+CONCATENATE(VLOOKUP(B49466,Cadastro!$Q$3:$R$162,2,FALSE),\"/\",J49466,\"/\",D49466))","v":"43/Rur/201602"},"Rur/201602","6572/201602","6572/1104/201602","43/201602","43/1104/201602","1104/201602","Transp","6564/Transp/201506",{"$f":"+CONCATENATE(VLOOKUP(F49466,Cadastro!$Q$3:$R$162,2,FALSE),\"/\",S49466,\"/\",H49466)","v":"70/Transp/201506"},"Transp/201506","6564/201506","6564/0658/201506","70/201506","70/0658/201506","0658/201506",0,0,0,0,0,0,0,0,0,0]
[null,"06572","1130","201611",null,"06564","0870","201503",null,"Rur","6572/Rur/201611",{"$f":"IF(J49547=0,0,+CONCATENATE(VLOOKUP(B49547,Cadastro!$Q$3:$R$162,2,FALSE),\"/\",J49547,\"/\",D49547))","v":"43/Rur/201611"},"Rur/201611","6572/201611","6572/1130/201611","43/201611","43/1130/201611","1130/201611","RF","6564/RF/201503",{"$f":"+CONCATENATE(VLOOKUP(F49547,Cadastro!$Q$3:$R$162,2,FALSE),\"/\",S49547,\"/\",H49547)","v":"70/RF/201503"},"RF/201503","6564/201503","6564/0870/201503","70/201503","70/0870/201503","0870/201503",167090.60999999999,0,144409.87999999998,0,153694.25,0,42737.36,0,42942.73,0]
[null,"06572","1163","201612",null,"06564","1065","201504",null,"Rur","6572/Rur/201612",{"$f":"IF(J49572=0,0,+CONCATENATE(VLOOKUP(B49572,Cadastro!$Q$3:$R$162,2,FALSE),\"/\",J49572,\"/\",D49572))","v":"43/Rur/201612"},"Rur/201612","6572/201612","6572/1163/201612","43/201612","43/1163/201612","1163/201612","Hab","6564/Hab/201504",{"$f":"+CONCATENATE(VLOOKUP(F49572,Cadastro!$Q$3:$R$162,2,FALSE),\"/\",S49572,\"/\",H49572)","v":"70/Hab/201504"},"Hab/201504","6564/201504","6564/1065/201504","70/201504","70/1065/201504","1065/201504",0,4934893.2699999996,0,4633634.4399999995,0,4625841.74,0,61701.4,0,1223817.98]
[null,"06572","1336","201607",null,"06564","1164","201511",null,"Pes","6572/Pes/201607",{"$f":"IF(J49651=0,0,+CONCATENATE(VLOOKUP(B49651,Cadastro!$Q$3:$R$162,2,FALSE),\"/\",J49651,\"/\",D49651))","v":"43/Pes/201607"},"Pes/201607","6572/201607","6572/1336/201607","43/201607","43/1336/201607","1336/201607","Rur","6564/Rur/201511",{"$f":"+CONCATENATE(VLOOKUP(F49651,Cadastro!$Q$3:$R$162,2,FALSE),\"/\",S49651,\"/\",H49651)","v":"70/Rur/201511"},"Rur/201511","6564/201511","6564/1164/201511","70/201511","70/1164/201511","1164/201511",0,0,0,0,0,0,0,0,0,0]
[null,"06572","1386","201604",null,"06572","0141","201508",null,"Pes","6572/Pes/201604",{"$f":"IF(J49732=0,0,+CONCATENATE(VLOOKUP(B49732,Cadastro!$Q$3:$R$162,2,FALSE),\"/\",J49732,\"/\",D49732))","v":"43/Pes/201604"},"Pes/201604","6572/201604","6572/1386/201604","43/201604","43/1386/201604","1386/201604","Pat","6572/Pat/201508",{"$f":"+CONCATENATE(VLOOKUP(F49732,Cadastro!$Q$3:$R$162,2,FALSE),\"/\",S49732,\"/\",H49732)","v":"43/Pat/201508"},"Pat/201508","6572/201508","6572/0141/201508","43/201508","43/0141/201508","0141/201508",0,37403.449999999997,0,25047.869999999995,0,41546.549999999996,0,18442.73,0,16088.67]
[null,"06572","1433","201605",null,"06572","0272","201509",null,"Mar","6572/Mar/201605",{"$f":"IF(J49817=0,0,+CONCATENATE(VLOOKUP(B49817,Cadastro!$Q$3:$R$162,2,FALSE),\"/\",J49817,\"/\",D49817))","v":"43/Mar/201605"},"Mar/201605","6572/201605","6572/1433/201605","43/201605","43/1433/201605","1433/201605","RE","6572/RE/201509",{"$f":"+CONCATENATE(VLOOKUP(F49817,Cadastro!$Q$3:$R$162,2,FALSE),\"/\",S49817,\"/\",H49817)","v":"43/RE/201509"},"RE/201509","6572/201509","6572/0272/201509","43/201509","43/0272/201509","0272/201509",0,0,-647.11,0,23263.68,0,0,0,92.72,0]
[null,"06572","1457","201611",null,"06572","0310","201503",null,"Mar","6572/Mar/201611",{"$f":"IF(J49835=0,0,+CONCATENATE(VLOOKUP(B49835,Cadastro!$Q$3:$R$162,2,FALSE),\"/\",J49835,\"/\",D49835))","v":"43/Mar/201611"},"Mar/201611","6572/201611","6572/1457/201611","43/201611","43/1457/201611","1457/201611","Res","6572/Res/201503",{"$f":"+CONCATENATE(VLOOKUP(F49835,Cadastro!$Q$3:$R$162,2,FALSE),\"/\",S49835,\"/\",H49835)","v":"43/Res/201503"},"Res/201503","6572/201503","6572/0310/201503","43/201503","43/0310/201503","0310/201503",0,64284.71,0,-386418.17,0,-236566.61000000002,0,0,0,-242750.99]
[null,"06602","0114","201609",null,"06572","0457","201501",null,"Pat","6602/Pat/201609",{"$f":"IF(J49917=0,0,+CONCATENATE(VLOOKUP(B49917,Cadastro!$Q$3:$R$162,2,FALSE),\"/\",J49917,\"/\",D49917))","v":"51/Pat/201609"},"Pat/201609","6602/201609","6602/0114/201609","51/201609","51/0114/201609","0114/201609","Mar","6572/Mar/201501",{"$f":"+CONCATENATE(VLOOKUP(F49917,Cadastro!$Q$3:$R$162,2,FALSE),\"/\",S49917,\"/\",H49917)","v":"43/Mar/201501"},"Mar/201501","6572/201501","6572/0457/201501","43/201501","43/0457/201501","0457/201501",708333.74,0,685749.02,0,582337.62,0,490523.83,0,185354.45,0]
[null,"06602","0173","201610",null,"06572","0542","201502",null,"Pat",{"$f":"IF(J50002=0,0,+CONCATENATE(VALUE(B50002),\"/\",J50002,\"/\",D50002))","v":"6602/Pat/201610"},{"$f":"IF(J50002=0,0,+CONCATENATE(VLOOKUP(B50002,Cadastro!$Q$3:$R$162,2,FALSE),\"/\",J50002,\"/\",D50002))","v":"51/Pat/201610"},"Pat/201610","6602/201610","6602/0173/201610","51/201610","51/0173/201610","0173/201610","Aut","6572/Aut/201502",{"$f":"+CONCATENATE(VLOOKUP(F50002,Cadastro!$Q$3:$R$162,2,FALSE),\"/\",S50002,\"/\",H50002)","v":"43/Aut/201502"},"Aut/201502","6572/201502","6572/0542/201502","43/201502","43/0542/201502","0542/201502",0,728181.25,0,726986.58,0,808183.96,0,75378.990000000005,0,158994.62]
[null,"06602","0234","201602",null,"06572","0544","201506",null,"RE","6602/RE/201602",{"$f":"IF(J50018=0,0,+CONCATENATE(VLOOKUP(B50018,Cadastro!$Q$3:$R$162,2,FALSE),\"/\",J50018,\"/\",D50018))","v":"51/RE/201602"},"RE/201602","6602/201602","6602/0234/201602","51/201602","51/0234/201602","0234/201602","Aut","6572/Aut/201506",{"$f":"+CONCATENATE(VLOOKUP(F50018,Cadastro!$Q$3:$R$162,2,FALSE),\"/\",S50018,\"/\",H50018)","v":"43/Aut/201506"},"Aut/201506","6572/201506","6572/0544/201506","43/201506","43/0544/201506","0544/201506",176.31,0,-973263.41999999993,0,38966.479999999981,0,-7.41,109828.17,101.25,0]
[null,"06602","0437","201610",null,"06572","0627","201502",null,"Aero","6602/Aero/201610",{"$f":"IF(J50098=0,0,+CONCATENATE(VLOOKUP(B50098,Cadastro!$Q$3:$R$162,2,FALSE),\"/\",J50098,\"/\",D50098))","v":"51/Aero/201610"},{"$f":"IF(J50098=0,0,+CONCATENATE(J50098,\"/\",D50098))","v":"Aero/201610"},"6602/201610","6602/0437/201610","51/201610","51/0437/201610","0437/201610","Transp","6572/Transp/201502",{"$f":"+CONCATENATE(VLOOKUP(F50098,Cadastro!$Q$3:$R$162,2,FALSE),\"/\",S50098,\"/\",H50098)","v":"43/Transp/201502"},"Transp/201502","6572/201502","6572/0627/201502","43/201502","43/0627/201502","0627/201502",0,0,0,0,0,0,0,0,0,0]
[null,"06602","0621","201603",null,"06572","0655","201507",null,"Transp","6602/Transp/201603",{"$f":"IF(J50187=0,0,+CONCATENATE(VLOOKUP(B50187,Cadastro!$Q$3:$R$162,2,FALSE),\"/\",J50187,\"/\",D50187))","v":"51/Transp/201603"},"Transp/201603","6602/201603","6602/0621/201603","51/201603","51/0621/201603","0621/201603","Transp","6572/Transp/201507",{"$f":"+CONCATENATE(VLOOKUP(F50187,Cadastro!$Q$3:$R$162,2,FALSE),\"/\",S50187,\"/\",H50187)","v":"43/Transp/201507"},"Transp/201507","6572/201507","6572/0655/201507","43/201507","43/0655/201507","0655/201507",1801682.06,214363.62,1666047.82,200554.18,1220644.82,200554.18,424684.24,108230.69,314289.28999999998,55894.42]
[null,"06602","0655","201612",null,"06572","0746","201504",null,"Transp","6602/Transp/201612",{"$f":"IF(J50268=0,0,+CONCATENATE(VLOOKUP(B50268,Cadastro!$Q$3:$R$162,2,FALSE),\"/\",J50268,\"/\",D50268))","v":"51/Transp/201612"},"Transp/201612","6602/201612","6602/0655/201612","51/201612","51/0655/201612","0655/201612","RF","6572/RF/201504",{"$f":"+CONCATENATE(VLOOKUP(F50268,Cadastro!$Q$3:$R$162,2,FALSE),\"/\",S50268,\"/\",H50268)","v":"43/RF/201504"},"RF/201504","6572/201504","6572/0746/201504","43/201504","43/0746/201504","0746/201504",218462.12,0,237994.6,0,252188.73,0,-6626.24,0,68777.31,0]
[null,"06602","0739","201608",null,"06572","0747","201512",null,"RF","6602/RF/201608",{"$f":"IF(J50288=0,0,+CONCATENATE(VLOOKUP(B50288,Cadastro!$Q$3:$R$162,2,FALSE),\"/\",J50288,\"/\",D50288))","v":"51/RF/201608"},"RF/201608","6602/201608","6602/0739/201608","51/201608","51/0739/201608","0739/201608","RF","6572/RF/201512",{"$f":"+CONCATENATE(VLOOKUP(F50288,Cadastro!$Q$3:$R$162,2,FALSE),\"/\",S50288,\"/\",H50288)","v":"43/RF/201512"},"RF/201512","6572/201512","6572/0747/201512","43/201512","43/0747/201512","0747/201512",0,0,0,0,0,0,0,0,0,0]
[null,"06602","0775","201602",null,"06572","0859","201501",null,"RF","6602/RF/201602",{"$f":"IF(J50361=0,0,+CONCATENATE(VLOOKUP(B50361,Cadastro!$Q$3:$R$162,2,FALSE),\"/\",J50361,\"/\",D50361))","v":"51/RF/201602"},"RF/201602","6602/201602","6602/0775/201602","51/201602","51/0775/201602","0775/201602","RF","6572/RF/201501",{"$f":"+CONCATENATE(VLOOKUP(F50361,Cadastro!$Q$3:$R$162,2,FALSE),\"/\",S50361,\"/\",H50361)","v":"43/RF/201501"},"RF/201501","6572/201501","6572/0859/201501","43/201501","43/0859/201501","0859/201501",0,0,0,0,0,0,0,0,0,0]
[null,"06602","0977","201603",null,"06572","0980","201509",null,"Pes","6602/Pes/201603",{"$f":"IF(J50453=0,0,+CONCATENATE(VLOOKUP(B50453,Cadastro!$Q$3:$R$162,2,FALSE),\"/\",J50453,\"/\",D50453))","v":"51/Pes/201603"},"Pes/201603","6602/201603","6602/0977/201603","51/201603","51/0977/201603","0977/201603","Pes","6572/Pes/201509",{"$f":"+CONCATENATE(VLOOKUP(F50453,Cadastro!$Q$3:$R$162,2,FALSE),\"/\",S50453,\"/\",H50453)","v":"43/Pes/201509"},"Pes/201509","6572/201509","6572/0980/201509","43/201509","43/0980/201509","0980/201509",0,0,0,0,0,0,0,114.7,0,0]
[null,"06602","0980","201611",null,"06572","0982","201505",null,"Pes","6602/Pes/201611",{"$f":"IF(J50473=0,0,+CONCATENATE(VLOOKUP(B50473,Cadastro!$Q$3:$R$162,2,FALSE),\"/\",J50473,\"/\",D50473))","v":"51/Pes/201611"},"Pes/201611","6602/201611","6602/0980/201611","51/201611","51/0980/201611","0980/201611","Pes","6572/Pes/201505",{"$f":"+CONCATENATE(VLOOKUP(F50473,Cadastro!$Q$3:$R$162,2,FALSE),\"/\",S50473,\"/\",H50473)","v":"43/Pes/201505"},"Pes/201505","6572/201505","6572/0982/201505","43/201505","43/0982/201505","0982/201505",0,258872.23,0,251262.03,0,311096.23,0,20500.82,0,163462.74]
[null,"06602","1162","201608",null,"06572","0992","201502",null,"Rur","6602/Rur/201608",{"$f":"IF(J50554=0,0,+CONCATENATE(VLOOKUP(B50554,Cadastro!$Q$3:$R$162,2,FALSE),\"/\",J50554,\"/\",D50554))","v":"51/Rur/201608"},"Rur/201608","6602/201608","6602/1162/201608","51/201608","51/1162/201608","1162/201608","VGBL","6572/VGBL/201502",{"$f":"+CONCATENATE(VLOOKUP(F50554,Cadastro!$Q$3:$R$162,2,FALSE),\"/\",S50554,\"/\",H50554)","v":"43/VGBL/201502"},"VGBL/201502","6572/201502","6572/0992/201502","43/201502","43/0992/201502","0992/201502",0,0,0,0,0,0,0,0,0,0]
[null,"06602","1391","201606",null,"06572","1066","201512",null,"Pes","6602/Pes/201606",{"$f":"IF(J50624=0,0,+CONCATENATE(VLOOKUP(B50624,Cadastro!$Q$3:$R$162,2,FALSE),\"/\",J50624,\"/\",D50624))","v":"51/Pes/201606"},"Pes/201606","6602/201606","6602/1391/201606","51/201606","51/1391/201606","1391/201606","Hab","6572/Hab/201512",{"$f":"+CONCATENATE(VLOOKUP(F50624,Cadastro!$Q$3:$R$162,2,FALSE),\"/\",S50624,\"/\",H50624)","v":"43/Hab/201512"},"Hab/201512","6572/201512","6572/1066/201512","43/201512","43/1066/201512","1066/201512",0,0,0,0,0,0,0,0,0,0]
[null,"06653","0167","201609",null,"06572","1108","201503",null,"Pat","6653/Pat/201609",{"$f":"IF(J50723=0,0,+CONCATENATE(VLOOKUP(B50723,Cadastro!$Q$3:$R$162,2,FALSE),\"/\",J50723,\"/\",D50723))","v":"22/Pat/201609"},"Pat/201609","6653/201609","6653/0167/201609","22/201609","22/0167/201609","0167/201609","Rur","6572/Rur/201503",{"$f":"+CONCATENATE(VLOOKUP(F50723,Cadastro!$Q$3:$R$162,2,FALSE),\"/\",S50723,\"/\",H50723)","v":"43/Rur/201503"},"Rur/201503","6572/201503","6572/1108/201503","43/201503","43/1108/201503","1108/201503",172865.17,0,27920.680000000022,0,68704.38,0,141233.98000000001,0,37274,0]
[null,"06653","0173","201601",null,"06572","1109","201507",null,"Pat","6653/Pat/201601",{"$f":"IF(J50739=0,0,+CONCATENATE(VLOOKUP(B50739,Cadastro!$Q$3:$R$162,2,FALSE),\"/\",J50739,\"/\",D50739))","v":"22/Pat/201601"},"Pat/201601","6653/201601","6653/0173/201601","22/201601","22/0173/201601","0173/201601","Rur","6572/Rur/201507",{"$f":"+CONCATENATE(VLOOKUP(F50739,Cadastro!$Q$3:$R$162,2,FALSE),\"/\",S50739,\"/\",H50739)","v":"43/Rur/201507"},"Rur/201507","6572/201507","6572/1109/201507","43/201507","43/1109/201507","1109/201507",0,0,0,0,0,0,0,0,0,0]
[null,"06653","0520","201602",null,"06572","1285","201508",null,"Aut","6653/Aut/201602",{"$f":"IF(J50824=0,0,+CONCATENATE(VLOOKUP(B50824,Cadastro!$Q$3:$R$162,2,FALSE),\"/\",J50824,\"/\",D50824))","v":"22/Aut/201602"},"Aut/201602","6653/201602","6653/0520/201602","22/201602","22/0520/201602","0520/201602",{"$error":"#N/A"},{"$error":"#N/A"},{"$f":"+CONCATENATE(VLOOKUP(F50824,Cadastro!$Q$3:$R$162,2,FALSE),\"/\",S50824,\"/\",H50824)","v":{"$error":"#N/A"}},{"$error":"#N/A"},"6572/201508","6572/1285/201508","43/201508","43/1285/201508","1285/201508",0,0,0,0,0,0,0,0,0,0]
[null,"06653","0553","201605",null,"06572","1377","201511",null,"Aut","6653/Aut/201605",{"$f":"IF(J50887=0,0,+CONCATENATE(VLOOKUP(B50887,Cadastro!$Q$3:$R$162,2,FALSE),\"/\",J50887,\"/\",D50887))","v":"22/Aut/201605"},"Aut/201605","6653/201605","6653/0553/201605","22/201605","22/0553/201605","0553/201605","Pes","6572/Pes/201511",{"$f":"+CONCATENATE(VLOOKUP(F50887,Cadastro!$Q$3:$R$162,2,FALSE),\"/\",S50887,\"/\",H50887)","v":"43/Pes/201511"},"Pes/201511","6572/201511","6572/1377/201511","43/201511","43/1377/201511","1377/201511",0,0,0,0,0,0,0,0,0,0]
[null,"06653","0621","201606",null,"06572","1383","201512",null,"Transp","6653/Transp/201606",{"$f":"IF(J50924=0,0,+CONCATENATE(VLOOKUP(B50924,Cadastro!$Q$3:$R$162,2,FALSE),\"/\",J50924,\"/\",D50924))","v":"22/Transp/201606"},"Transp/201606","6653/201606","6653/0621/201606","22/201606","22/0621/201606","0621/201606","Pes","6572/Pes/201512",{"$f":"+CONCATENATE(VLOOKUP(F50924,Cadastro!$Q$3:$R$162,2,FALSE),\"/\",S50924,\"/\",H50924)","v":"43/Pes/201512"},"Pes/201512","6572/201512","6572/1383/201512","43/201512","43/1383/201512","1383/201512",0,0,0,0,0,0,0,0,0,0]
[null,"06653","0776","201607",null,"06572","1428","201501",null,"RF","6653/RF/201607",{"$f":"IF(J51009=0,0,+CONCATENATE(VLOOKUP(B51009,Cadastro!$Q$3:$R$162,2,FALSE),\"/\",J51009,\"/\",D51009))","v":"22/RF/201607"},"RF/201607","6653/201607","6653/0776/201607","22/201607","22/0776/201607","0776/201607","Mar","6572/Mar/201501",{"$f":"+CONCATENATE(VLOOKUP(F51009,Cadastro!$Q$3:$R$162,2,FALSE),\"/\",S51009,\"/\",H51009)","v":"43/Mar/201501"},"Mar/201501","6572/201501","6572/1428/201501","43/201501","43/1428/201501","1428/201501",1389282.88,0,627571.56999999983,0,212761.21999999997,0,1781.6899999999987,0,153800.57999999999,0]
[null,"06653","0981","201604",null,"06572","1597","201510",null,"Pes",{"$f":"IF(J51090=0,0,+CONCATENATE(VALUE(B51090),\"/\",J51090,\"/\",D51090))","v":"6653/Pes/201604"},{"$f":"IF(J51090=0,0,+CONCATENATE(VLOOKUP(B51090,Cadastro!$Q$3:$R$162,2,FALSE),\"/\",J51090,\"/\",D51090))","v":"22/Pes/201604"},"Pes/201604","6653/201604","6653/0981/201604","22/201604","22/0981/201604","0981/201604","Aero","6572/Aero/201510",{"$f":"+CONCATENATE(VLOOKUP(F51090,Cadastro!$Q$3:$R$162,2,FALSE),\"/\",S51090,\"/\",H51090)","v":"43/Aero/201510"},"Aero/201510","6572/201510","6572/1597/201510","43/201510","43/1597/201510","1597/201510",0,0,0,0,0,0,0,0,0,0]
[null,"06653","0993","201604",null,"06602","0116","201510",null,"Pes","6653/Pes/201604",{"$f":"IF(J51150=0,0,+CONCATENATE(VLOOKUP(B51150,Cadastro!$Q$3:$R$162,2,FALSE),\"/\",J51150,\"/\",D51150))","v":"22/Pes/201604"},"Pes/201604","6653/201604","6653/0993/201604","22/201604","22/0993/201604","0993/201604","Pat","6602/Pat/201510",{"$f":"+CONCATENATE(VLOOKUP(F51150,Cadastro!$Q$3:$R$162,2,FALSE),\"/\",S51150,\"/\",H51150)","v":"51/Pat/201510"},"Pat/201510","6602/201510","6602/0116/201510","51/201510","51/0116/201510","0116/201510",1484403.63,9632.8799999999992,1075167.3899999999,-14006.94,1121213.49,52916.62,836024.94,46377.42,385550.25,22445.48]
[null,"06653","1068","201608",null,"06602","0171","201502",null,"Hab","6653/Hab/201608",{"$f":"IF(J51190=0,0,+CONCATENATE(VLOOKUP(B51190,Cadastro!$Q$3:$R$162,2,FALSE),\"/\",J51190,\"/\",D51190))","v":"22/Hab/201608"},"Hab/201608","6653/201608","6653/1068/201608","22/201608","22/1068/201608","1068/201608","Pat","6602/Pat/201502",{"$f":"+CONCATENATE(VLOOKUP(F51190,Cadastro!$Q$3:$R$162,2,FALSE),\"/\",S51190,\"/\",H51190)","v":"51/Pat/201502"},"Pat/201502","6602/201502","6602/0171/201502","51/201502","51/0171/201502","0171/201502",10367299.810000001,183358.43,10367299.810000001,174923.43,10367299.810000001,77447.27,1166803.1400000001,-8681.93,414692,18016.86]
[null,"06653","1384","201609",null,"06602","0433","201503",null,"Pes","6653/Pes/201609",{"$f":"IF(J51275=0,0,+CONCATENATE(VLOOKUP(B51275,Cadastro!$Q$3:$R$162,2,FALSE),\"/\",J51275,\"/\",D51275))","v":"22/Pes/201609"},"Pes/201609","6653/201609","6653/1384/201609","22/201609","22/1384/201609","1384/201609","Mar","6602/Mar/201503",{"$f":"+CONCATENATE(VLOOKUP(F51275,Cadastro!$Q$3:$R$162,2,FALSE),\"/\",S51275,\"/\",H51275)","v":"51/Mar/201503"},"Mar/201503","6602/201503","6602/0433/201503","51/201503","51/0433/201503","0433/201503",0,0,0,0,0,0,0,0,0,0]
[null,"06688","0111","201610",null,"06602","0542","201504",null,"Pat","6688/Pat/201610",{"$f":"IF(J51360=0,0,+CONCATENATE(VLOOKUP(B51360,Cadastro!$Q$3:$R$162,2,FALSE),\"/\",J51360,\"/\",D51360))","v":"31/Pat/201610"},"Pat/201610","6688/201610","6688/0111/201610","31/201610","31/0111/201610","0111/201610","Aut","6602/Aut/201504",{"$f":"+CONCATENATE(VLOOKUP(F51360,Cadastro!$Q$3:$R$162,2,FALSE),\"/\",S51360,\"/\",H51360)","v":"51/Aut/201504"},"Aut/201504","6602/201504","6602/0542/201504","51/201504","51/0542/201504","0542/201504",0,4180825.51,0,4180825.51,0,3198785.77,150340.99,1899709.64,0,562775.1]
[null,"06688","0141","201603",null,"06602","0622","201509",null,"Pat","6688/Pat/201603",{"$f":"IF(J51413=0,0,+CONCATENATE(VLOOKUP(B51413,Cadastro!$Q$3:$R$162,2,FALSE),\"/\",J51413,\"/\",D51413))","v":"31/Pat/201603"},"Pat/201603","6688/201603","6688/0141/201603","31/201603","31/0141/201603","0141/201603","Transp","6602/Transp/201509",{"$f":"+CONCATENATE(VLOOKUP(F51413,Cadastro!$Q$3:$R$162,2,FALSE),\"/\",S51413,\"/\",H51413)","v":"51/Transp/201509"},"Transp/201509","6602/201509","6602/0622/201509","51/201509","51/0622/201509","0622/201509",0,1010127.9,0,657362.53,0,644869.6,0,-130770.96999999974,0,226053.24]
[null,"06688","0196","201602",null,"06602","0654","201508",null,"Pat","6688/Pat/201602",{"$f":"IF(J51460=0,0,+CONCATENATE(VLOOKUP(B51460,Cadastro!$Q$3:$R$162,2,FALSE),\"/\",J51460,\"/\",D51460))","v":"31/Pat/201602"},"Pat/201602","6688/201602","6688/0196/201602","31/201602","31/0196/201602","0196/201602","Transp","6602/Transp/201508",{"$f":"+CONCATENATE(VLOOKUP(F51460,Cadastro!$Q$3:$R$162,2,FALSE),\"/\",S51460,\"/\",H51460)","v":"51/Transp/201508"},"Transp/201508","6602/201508","6602/0654/201508","51/201508","51/0654/201508","0654/201508",0,704179.87,0,711016.8,0,723032.92,0,295427.33,0,169628.51]
[null,"06688","0437","201603",null,"06602","0748","201509",null,"Aero","6688/Aero/201603",{"$f":"IF(J51545=0,0,+CONCATENATE(VLOOKUP(B51545,Cadastro!$Q$3:$R$162,2,FALSE),\"/\",J51545,\"/\",D51545))","v":"31/Aero/201603"},"Aero/201603","6688/201603","6688/0437/201603","31/201603","31/0437/201603","0437/201603","RF","6602/RF/201509",{"$f":"+CONCATENATE(VLOOKUP(F51545,Cadastro!$Q$3:$R$162,2,FALSE),\"/\",S51545,\"/\",H51545)","v":"51/RF/201509"},"RF/201509","6602/201509","6602/0748/201509","51/201509","51/0748/201509","0748/201509",0,0,0,0,0,0,0,0,0,0]
[null,"06688","0588","201612",null,"06602","0936","201506",null,"Dpvat","6688/Dpvat/201612",{"$f":"IF(J51626=0,0,+CONCATENATE(VLOOKUP(B51626,Cadastro!$Q$3:$R$162,2,FALSE),\"/\",J51626,\"/\",D51626))","v":"31/Dpvat/201612"},"Dpvat/201612","6688/201612","6688/0588/201612","31/201612","31/0588/201612","0588/201612","Pes","6602/Pes/201506",{"$f":"+CONCATENATE(VLOOKUP(F51626,Cadastro!$Q$3:$R$162,2,FALSE),\"/\",S51626,\"/\",H51626)","v":"51/Pes/201506"},"Pes/201506","6602/201506","6602/0936/201506","51/201506","51/0936/201506","0936/201506",0,0,0,0,0,0,0,0,0,0]
[null,"06688","0632","201602",null,"06602","0981","201508",null,"Transp","6688/Transp/201602",{"$f":"IF(J51676=0,0,+CONCATENATE(VLOOKUP(B51676,Cadastro!$Q$3:$R$162,2,FALSE),\"/\",J51676,\"/\",D51676))","v":"31/Transp/201602"},"Transp/201602","6688/201602","6688/0632/201602","31/201602","31/0632/201602","0632/201602","Pes","6602/Pes/201508",{"$f":"+CONCATENATE(VLOOKUP(F51676,Cadastro!$Q$3:$R$162,2,FALSE),\"/\",S51676,\"/\",H51676)","v":"51/Pes/201508"},"Pes/201508","6602/201508","6602/0981/201508","51/201508","51/0981/201508","0981/201508",0,0,0,0,0,0,0,0,0,0]
[null,"06688","0658","201604",null,"06602","1066","201510",null,"Transp","6688/Transp/201604",{"$f":"IF(J51726=0,0,+CONCATENATE(VLOOKUP(B51726,Cadastro!$Q$3:$R$162,2,FALSE),\"/\",J51726,\"/\",D51726))","v":"31/Transp/201604"},"Transp/201604","6688/201604","6688/0658/201604","31/201604","31/0658/201604","0658/201604","Hab","6602/Hab/201510",{"$f":"+CONCATENATE(VLOOKUP(F51726,Cadastro!$Q$3:$R$162,2,FALSE),\"/\",S51726,\"/\",H51726)","v":"51/Hab/201510"},"Hab/201510","6602/201510","6602/1066/201510","51/201510","51/1066/201510","1066/201510",0,0,0,0,0,0,0,0,0,0]
[null,"06688","0977","201605",null,"06602","1381","201511",null,"Pes","6688/Pes/201605",{"$f":"IF(J51811=0,0,+CONCATENATE(VLOOKUP(B51811,Cadastro!$Q$3:$R$162,2,FALSE),\"/\",J51811,\"/\",D51811))","v":"31/Pes/201605"},"Pes/201605","6688/201605","6688/0977/201605","31/201605","31/0977/201605","0977/201605","Pes","6602/Pes/201511",{"$f":"+CONCATENATE(VLOOKUP(F51811,Cadastro!$Q$3:$R$162,2,FALSE),\"/\",S51811,\"/\",H51811)","v":"51/Pes/201511"},"Pes/201511","6602/201511","6602/1381/201511","51/201511","51/1381/201511","1381/201511",0,0,0,0,0,4.75,0,0,0,0.47]
[null,"06688","0982","201601",null,"06602","1417","201507",null,"Pes","6688/Pes/201601",{"$f":"IF(J51831=0,0,+CONCATENATE(VLOOKUP(B51831,Cadastro!$Q$3:$R$162,2,FALSE),\"/\",J51831,\"/\",D51831))","v":"31/Pes/201601"},"Pes/201601","6688/201601","6688/0982/201601","31/201601","31/0982/201601","0982/201601","Mar","6602/Mar/201507",{"$f":"+CONCATENATE(VLOOKUP(F51831,Cadastro!$Q$3:$R$162,2,FALSE),\"/\",S51831,\"/\",H51831)","v":"51/Mar/201507"},"Mar/201507","6602/201507","6602/1417/201507","51/201507","51/1417/201507","1417/201507",804.96,0,804.96,0,-732.29,3050.73,54785,0,0,0.3]
[null,"06688","1162","201601",null,"06653","0173","201502",null,"Rur","6688/Rur/201601",{"$f":"IF(J51939=0,0,+CONCATENATE(VLOOKUP(B51939,Cadastro!$Q$3:$R$162,2,FALSE),\"/\",J51939,\"/\",D51939))","v":"31/Rur/201601"},"Rur/201601","6688/201601","6688/1162/201601","31/201601","31/1162/201601","1162/201601","Pat","6653/Pat/201502",{"$f":"+CONCATENATE(VLOOKUP(F51939,Cadastro!$Q$3:$R$162,2,FALSE),\"/\",S51939,\"/\",H51939)","v":"22/Pat/201502"},"Pat/201502","6653/201502","6653/0173/201502","22/201502","22/0173/201502","0173/201502",0,0,0,0,0,0,101.79,0,0,0]
[null,"06696","0114","201610",null,"06653","0378","201511",null,"Pat","6696/Pat/201610",{"$f":"IF(J51996=0,0,+CONCATENATE(VLOOKUP(B51996,Cadastro!$Q$3:$R$162,2,FALSE),\"/\",J51996,\"/\",D51996))","v":"13/Pat/201610"},"Pat/201610","6696/201610","6696/0114/201610","13/201610","13/0114/201610","0114/201610","Res","6653/Res/201511",{"$f":"+CONCATENATE(VLOOKUP(F51996,Cadastro!$Q$3:$R$162,2,FALSE),\"/\",S51996,\"/\",H51996)","v":"22/Res/201511"},"Res/201511","6653/201511","6653/0378/201511","22/201511","22/0378/201511","0378/201511",0,0,0,0,0,0,0,0,0,0]
[null,"06696","0173","201611",null,"06653","0542","201512",null,"Pat","6696/Pat/201611",{"$f":"IF(J52081=0,0,+CONCATENATE(VLOOKUP(B52081,Cadastro!$Q$3:$R$162,2,FALSE),\"/\",J52081,\"/\",D52081))","v":"13/Pat/201611"},"Pat/201611","6696/201611","6696/0173/201611","13/201611","13/0173/201611","0173/201611","Aut","6653/Aut/201512",{"$f":"+CONCATENATE(VLOOKUP(F52081,Cadastro!$Q$3:$R$162,2,FALSE),\"/\",S52081,\"/\",H52081)","v":"22/Aut/201512"},"Aut/201512","6653/201512","6653/0542/201512","22/201512","22/0542/201512","0542/201512",0,0,0,0,0,0,0,0,0,0]
[null,"06696","0234","201603",null,"06653","0588","201504",null,"RE","6696/RE/201603",{"$f":"IF(J52097=0,0,+CONCATENATE(VLOOKUP(B52097,Cadastro!$Q$3:$R$162,2,FALSE),\"/\",J52097,\"/\",D52097))","v":"13/RE/201603"},"RE/201603","6696/201603","6696/0234/201603","13/201603","13/0234/201603","0234/201603","Dpvat","6653/Dpvat/201504",{"$f":"+CONCATENATE(VLOOKUP(F52097,Cadastro!$Q$3:$R$162,2,FALSE),\"/\",S52097,\"/\",H52097)","v":"22/Dpvat/201504"},"Dpvat/201504","6653/201504","6653/0588/201504","22/201504","22/0588/201504","0588/201504",0,5722020.8200000003,0,5722020.8200000003,0,5620864.9299999997,0,4951021.3899999997,0,83154.53]
[null,"06696","0437","201612",null,"06653","0776","201501",null,"Aero","6696/Aero/201612",{"$f":"IF(J52202=0,0,+CONCATENATE(VLOOKUP(B52202,Cadastro!$Q$3:$R$162,2,FALSE),\"/\",J52202,\"/\",D52202))","v":"13/Aero/201612"},"Aero/201612","6696/201612","6696/0437/201612","13/201612","13/0437/201612","0437/201612","RF","6653/RF/201501",{"$f":"+CONCATENATE(VLOOKUP(F52202,Cadastro!$Q$3:$R$162,2,FALSE),\"/\",S52202,\"/\",H52202)","v":"22/RF/201501"},"RF/201501","6653/201501","6653/0776/201501","22/201501","22/0776/201501","0776/201501",0,-236434.51,0,-1165459.95,0,335386.85000000009,0,-639.16000000000167,0,227142.16]
[null,"06696","0525","201612",null,"06653","0969","201502",null,"Aut","6696/Aut/201612",{"$f":"IF(J52262=0,0,+CONCATENATE(VLOOKUP(B52262,Cadastro!$Q$3:$R$162,2,FALSE),\"/\",J52262,\"/\",D52262))","v":"13/Aut/201612"},"Aut/201612","6696/201612","6696/0525/201612","13/201612","13/0525/201612","0525/201612","Pes","6653/Pes/201502",{"$f":"+CONCATENATE(VLOOKUP(F52262,Cadastro!$Q$3:$R$162,2,FALSE),\"/\",S52262,\"/\",H52262)","v":"22/Pes/201502"},"Pes/201502","6653/201502","6653/0969/201502","22/201502","22/0969/201502","0969/201502",0,0,0,0,0,0,0,0,0,0]
[null,"06696","0621","201601",null,"06653","0990","201503",null,"Transp","6696/Transp/201601",{"$f":"IF(J52347=0,0,+CONCATENATE(VLOOKUP(B52347,Cadastro!$Q$3:$R$162,2,FALSE),\"/\",J52347,\"/\",D52347))","v":"13/Transp/201601"},"Transp/201601","6696/201601","6696/0621/201601","13/201601","13/0621/201601","0621/201601","Pes","6653/Pes/201503",{"$f":"+CONCATENATE(VLOOKUP(F52347,Cadastro!$Q$3:$R$162,2,FALSE),\"/\",S52347,\"/\",H52347)","v":"22/Pes/201503"},"Pes/201503","6653/201503","6653/0990/201503","22/201503","22/0990/201503","0990/201503",1046889.81,128945.29,909242.77,128945.29,1178580.22,136589.41,702757.73,57907.729999999996,287295.81,11159.95]
[null,"06696","0622","201609",null,"06653","0991","201511",null,"Transp","6696/Transp/201609",{"$f":"IF(J52367=0,0,+CONCATENATE(VLOOKUP(B52367,Cadastro!$Q$3:$R$162,2,FALSE),\"/\",J52367,\"/\",D52367))","v":"13/Transp/201609"},"Transp/201609","6696/201609","6696/0622/201609","13/201609","13/0622/201609","0622/201609","Pes","6653/Pes/201511",{"$f":"+CONCATENATE(VLOOKUP(F52367,Cadastro!$Q$3:$R$162,2,FALSE),\"/\",S52367,\"/\",H52367)","v":"22/Pes/201511"},"Pes/201511","6653/201511","6653/0991/201511","22/201511","22/0991/201511","0991/201511",1347143.79,0,1173095.58,0,248039.79,0,564513.72,0,100210.33,0]
[null,"06696","0656","201611",null,"06653","1329","201504",null,"Transp","6696/Transp/201611",{"$f":"IF(J52465=0,0,+CONCATENATE(VLOOKUP(B52465,Cadastro!$Q$3:$R$162,2,FALSE),\"/\",J52465,\"/\",D52465))","v":"13/Transp/201611"},"Transp/201611","6696/201611","6696/0656/201611","13/201611","13/0656/201611","0656/201611","Pes","6653/Pes/201504",{"$f":"+CONCATENATE(VLOOKUP(F52465,Cadastro!$Q$3:$R$162,2,FALSE),\"/\",S52465,\"/\",H52465)","v":"22/Pes/201504"},"Pes/201504","6653/201504","6653/1329/201504","22/201504","22/1329/201504","1329/201504",86475.92,0,78471.100000000006,0,97015.59,0,1000,0,21446.44,0]
[null,"06696","0746","201606",null,"06653","1387","201511",null,"RF","6696/RF/201606",{"$f":"IF(J52532=0,0,+CONCATENATE(VLOOKUP(B52532,Cadastro!$Q$3:$R$162,2,FALSE),\"/\",J52532,\"/\",D52532))","v":"13/RF/201606"},"RF/201606","6696/201606","6696/0746/201606","13/201606","13/0746/201606","0746/201606","Pes","6653/Pes/201511",{"$f":"+CONCATENATE(VLOOKUP(F52532,Cadastro!$Q$3:$R$162,2,FALSE),\"/\",S52532,\"/\",H52532)","v":"22/Pes/201511"},"Pes/201511","6653/201511","6653/1387/201511","22/201511","22/1387/201511","1387/201511",0,0,0,0,0,0,0,0,0,0]
[null,"06696","0747","201610",null,"06653","1391","201503",null,"RF","6696/RF/201610",{"$f":"IF(J52548=0,0,+CONCATENATE(VLOOKUP(B52548,Cadastro!$Q$3:$R$162,2,FALSE),\"/\",J52548,\"/\",D52548))","v":"13/RF/201610"},"RF/201610","6696/201610","6696/0747/201610","13/201610","13/0747/201610","0747/201610","Pes","6653/Pes/201503",{"$f":"+CONCATENATE(VLOOKUP(F52548,Cadastro!$Q$3:$R$162,2,FALSE),\"/\",S52548,\"/\",H52548)","v":"22/Pes/201503"},"Pes/201503","6653/201503","6653/1391/201503","22/201503","22/1391/201503","1391/201503",0,0,0,0,0,0,0,0,0,0]
[null,"06696","0859","201611",null,"06688","0116","201504",null,"RF","6696/RF/201611",{"$f":"IF(J52633=0,0,+CONCATENATE(VLOOKUP(B52633,Cadastro!$Q$3:$R$162,2,FALSE),\"/\",J52633,\"/\",D52633))","v":"13/RF/201611"},"RF/201611","6696/201611","6696/0859/201611","13/201611","13/0859/201611","0859/201611","Pat","6688/Pat/201504",{"$f":"+CONCATENATE(VLOOKUP(F52633,Cadastro!$Q$3:$R$162,2,FALSE),\"/\",S52633,\"/\",H52633)","v":"31/Pat/201504"},"Pat/201504","6688/201504","6688/0116/201504","31/201504","31/0116/201504","0116/201504",0,0,0,0,0,0,0,0,0,0]
[null,"06696","0981","201610",null,"06688","0310","201503",null,"Pes","6696/Pes/201610",{"$f":"IF(J52728=0,0,+CONCATENATE(VLOOKUP(B52728,Cadastro!$Q$3:$R$162,2,FALSE),\"/\",J52728,\"/\",D52728))","v":"13/Pes/201610"},"Pes/201610","6696/201610","6696/0981/201610","13/201610","13/0981/201610","0981/201610","Res","6688/Res/201503",{"$f":"+CONCATENATE(VLOOKUP(F52728,Cadastro!$Q$3:$R$162,2,FALSE),\"/\",S52728,\"/\",H52728)","v":"31/Res/201503"},"Res/201503","6688/201503","6688/0310/201503","31/201503","31/0310/201503","0310/201503",0,0,0,0,0,0,0,0,0,0]
[null,"06696","0990","201608",null,"06688","0457","201501",null,"Pes","6696/Pes/201608",{"$f":"IF(J52798=0,0,+CONCATENATE(VLOOKUP(B52798,Cadastro!$Q$3:$R$162,2,FALSE),\"/\",J52798,\"/\",D52798))","v":"13/Pes/201608"},"Pes/201608","6696/201608","6696/0990/201608","13/201608","13/0990/201608","0990/201608","Mar","6688/Mar/201501",{"$f":"+CONCATENATE(VLOOKUP(F52798,Cadastro!$Q$3:$R$162,2,FALSE),\"/\",S52798,\"/\",H52798)","v":"31/Mar/201501"},"Mar/201501","6688/201501","6688/0457/201501","31/201501","31/0457/201501","0457/201501",0,0,0,0,0,0,0,0,0,0]
[null,"06696","0992","201604",null,"06688","0520","201509",null,"VGBL","6696/VGBL/201604",{"$f":"IF(J52818=0,0,+CONCATENATE(VLOOKUP(B52818,Cadastro!$Q$3:$R$162,2,FALSE),\"/\",J52818,\"/\",D52818))","v":"13/VGBL/201604"},"VGBL/201604","6696/201604","6696/0992/201604","13/201604","13/0992/201604","0992/201604","Aut","6688/Aut/201509",{"$f":"+CONCATENATE(VLOOKUP(F52818,Cadastro!$Q$3:$R$162,2,FALSE),\"/\",S52818,\"/\",H52818)","v":"31/Aut/201509"},"Aut/201509","6688/201509","6688/0520/201509","31/201509","31/0520/201509","0520/201509",0,0,0,0,0,0,0,0,0,0]
[null,"06696","1101","201605",null,"06688","0622","201510",null,"Rur","6696/Rur/201605",{"$f":"IF(J52903=0,0,+CONCATENATE(VLOOKUP(B52903,Cadastro!$Q$3:$R$162,2,FALSE),\"/\",J52903,\"/\",D52903))","v":"13/Rur/201605"},"Rur/201605","6696/201605","6696/1101/201605","13/201605","13/1101/201605","1101/201605","Transp","6688/Transp/201510",{"$f":"+CONCATENATE(VLOOKUP(F52903,Cadastro!$Q$3:$R$162,2,FALSE),\"/\",S52903,\"/\",H52903)","v":"31/Transp/201510"},"Transp/201510","6688/201510","6688/0622/201510","31/201510","31/0622/201510","0622/201510",0,0,0,0,0,0,0,70.010000000000005,0,0]
[null,"06696","1108","201609",null,"06688","0745","201502",null,"Rur","6696/Rur/201609",{"$f":"IF(J52991=0,0,+CONCATENATE(VLOOKUP(B52991,Cadastro!$Q$3:$R$162,2,FALSE),\"/\",J52991,\"/\",D52991))","v":"13/Rur/201609"},"Rur/201609","6696/201609","6696/1108/201609","13/201609","13/1108/201609","1108/201609","RF","6688/RF/201502",{"$f":"+CONCATENATE(VLOOKUP(F52991,Cadastro!$Q$3:$R$162,2,FALSE),\"/\",S52991,\"/\",H52991)","v":"31/RF/201502"},"RF/201502","6688/201502","6688/0745/201502","31/201502","31/0745/201502","0745/201502",0,0,0,0,0,0,0,25924.94,0,0]
[null,"06696","1109","201609",null,"06688","0746","201502",null,"Rur","6696/Rur/201609",{"$f":"IF(J53003=0,0,+CONCATENATE(VLOOKUP(B53003,Cadastro!$Q$3:$R$162,2,FALSE),\"/\",J53003,\"/\",D53003))","v":"13/Rur/201609"},"Rur/201609","6696/201609","6696/1109/201609","13/201609","13/1109/201609","1109/201609","RF","6688/RF/201502",{"$f":"+CONCATENATE(VLOOKUP(F53003,Cadastro!$Q$3:$R$162,2,FALSE),\"/\",S53003,\"/\",H53003)","v":"31/RF/201502"},"RF/201502","6688/201502","6688/0746/201502","31/201502","31/0746/201502","0746/201502",0,0,0,0,0,0,0,0,0,0]
[null,"06696","1329","201606",null,"06688","0982","201511",null,"Pes","6696/Pes/201606",{"$f":"IF(J53084=0,0,+CONCATENATE(VLOOKUP(B53084,Cadastro!$Q$3:$R$162,2,FALSE),\"/\",J53084,\"/\",D53084))","v":"13/Pes/201606"},"Pes/201606","6696/201606","6696/1329/201606","13/201606","13/1329/201606","1329/201606","Pes","6688/Pes/201511",{"$f":"+CONCATENATE(VLOOKUP(F53084,Cadastro!$Q$3:$R$162,2,FALSE),\"/\",S53084,\"/\",H53084)","v":"31/Pes/201511"},"Pes/201511","6688/201511","6688/0982/201511","31/201511","31/0982/201511","0982/201511",0,804.96,0,804.96,0,-441.06,0,130398.87,0,0]
[null,"06696","1386","201607",null,"06688","1108","201512",null,"Pes","6696/Pes/201607",{"$f":"IF(J53169=0,0,+CONCATENATE(VLOOKUP(B53169,Cadastro!$Q$3:$R$162,2,FALSE),\"/\",J53169,\"/\",D53169))","v":"13/Pes/201607"},"Pes/201607","6696/201607","6696/1386/201607","13/201607","13/1386/201607","1386/201607","Rur","6688/Rur/201512",{"$f":"+CONCATENATE(VLOOKUP(F53169,Cadastro!$Q$3:$R$162,2,FALSE),\"/\",S53169,\"/\",H53169)","v":"31/Rur/201512"},"Rur/201512","6688/201512","6688/1108/201512","31/201512","31/1108/201512","1108/201512",0,0,0,0,0,0,0,0,0,0]
[null,"06751","0111","201608",null,"06696","0116","201504",null,"Pat","6751/Pat/201608",{"$f":"IF(J53254=0,0,+CONCATENATE(VLOOKUP(B53254,Cadastro!$Q$3:$R$162,2,FALSE),\"/\",J53254,\"/\",D53254))","v":"72/Pat/201608"},"Pat/201608","6751/201608","6751/0111/201608","72/201608","72/0111/201608","0111/201608","Pat","6696/Pat/201504",{"$f":"+CONCATENATE(VLOOKUP(F53254,Cadastro!$Q$3:$R$162,2,FALSE),\"/\",S53254,\"/\",H53254)","v":"13/Pat/201504"},"Pat/201504","6696/201504","6696/0116/201504","13/201504","13/0116/201504","0116/201504",0,0,0,0,0,0,-938.49,0,0,0]
[null,"06751","0112","201611",null,"06696","0118","201507",null,"Pat","6751/Pat/201611",{"$f":"IF(J53269=0,0,+CONCATENATE(VLOOKUP(B53269,Cadastro!$Q$3:$R$162,2,FALSE),\"/\",J53269,\"/\",D53269))","v":"72/Pat/201611"},"Pat/201611","6751/201611","6751/0112/201611","72/201611","72/0112/201611","0112/201611","Pat","6696/Pat/201507",{"$f":"+CONCATENATE(VLOOKUP(F53269,Cadastro!$Q$3:$R$162,2,FALSE),\"/\",S53269,\"/\",H53269)","v":"13/Pat/201507"},"Pat/201507","6696/201507","6696/0118/201507","13/201507","13/0118/201507","0118/201507",0,0,0,0,0,0,0,0,0,0]
[null,"06751","0171","201612",null,"06696","0272","201508",null,"Pat","6751/Pat/201612",{"$f":"IF(J53354=0,0,+CONCATENATE(VLOOKUP(B53354,Cadastro!$Q$3:$R$162,2,FALSE),\"/\",J53354,\"/\",D53354))","v":"72/Pat/201612"},"Pat/201612","6751/201612","6751/0171/201612","72/201612","72/0171/201612","0171/201612","RE","6696/RE/201508",{"$f":"+CONCATENATE(VLOOKUP(F53354,Cadastro!$Q$3:$R$162,2,FALSE),\"/\",S53354,\"/\",H53354)","v":"13/RE/201508"},"RE/201508","6696/201508","6696/0272/201508","13/201508","13/0272/201508","0272/201508",31126432.809999999,0,31126432.809999999,0,20889953.030000001,0,6008934.5,0,9709605.3800000008,0]
[null,"06751","0433","201609",null,"06696","0437","201505",null,"Mar","6751/Mar/201609",{"$f":"IF(J53435=0,0,+CONCATENATE(VLOOKUP(B53435,Cadastro!$Q$3:$R$162,2,FALSE),\"/\",J53435,\"/\",D53435))","v":"72/Mar/201609"},"Mar/201609","6751/201609","6751/0433/201609","72/201609","72/0433/201609","0433/201609","Aero","6696/Aero/201505",{"$f":"+CONCATENATE(VLOOKUP(F53435,Cadastro!$Q$3:$R$162,2,FALSE),\"/\",S53435,\"/\",H53435)","v":"13/Aero/201505"},"Aero/201505","6696/201505","6696/0437/201505","13/201505","13/0437/201505","0437/201505",0,0,0,0,0,0,0,0,0,0]
[null,"06751","0437","201603",null,"06696","0457","201511",null,"Aero","6751/Aero/201603",{"$f":"IF(J53453=0,0,+CONCATENATE(VLOOKUP(B53453,Cadastro!$Q$3:$R$162,2,FALSE),\"/\",J53453,\"/\",D53453))","v":"72/Aero/201603"},"Aero/201603","6751/201603","6751/0437/201603","72/201603","72/0437/201603","0437/201603","Mar","6696/Mar/201511",{"$f":"+CONCATENATE(VLOOKUP(F53453,Cadastro!$Q$3:$R$162,2,FALSE),\"/\",S53453,\"/\",H53453)","v":"13/Mar/201511"},"Mar/201511","6696/201511","6696/0457/201511","13/201511","13/0457/201511","0457/201511",0,0,0,0,0,0,0,0,0,0]
[null,"06751","0544","201605",null,"06696","0544","201501",null,"Aut","6751/Aut/201605",{"$f":"IF(J53539=0,0,+CONCATENATE(VLOOKUP(B53539,Cadastro!$Q$3:$R$162,2,FALSE),\"/\",J53539,\"/\",D53539))","v":"72/Aut/201605"},"Aut/201605","6751/201605","6751/0544/201605","72/201605","72/0544/201605","0544/201605","Aut","6696/Aut/201501",{"$f":"+CONCATENATE(VLOOKUP(F53539,Cadastro!$Q$3:$R$162,2,FALSE),\"/\",S53539,\"/\",H53539)","v":"13/Aut/201501"},"Aut/201501","6696/201501","6696/0544/201501","13/201501","13/0544/201501","0544/201501",0,0,0,0,0,0,0,0,0,0]
[null,"06751","0628","201602",null,"06696","0627","201510",null,"Transp","6751/Transp/201602",{"$f":"IF(J53620=0,0,+CONCATENATE(VLOOKUP(B53620,Cadastro!$Q$3:$R$162,2,FALSE),\"/\",J53620,\"/\",D53620))","v":"72/Transp/201602"},"Transp/201602","6751/201602","6751/0628/201602","72/201602","72/0628/201602","0628/201602","Transp","6696/Transp/201510",{"$f":"+CONCATENATE(VLOOKUP(F53620,Cadastro!$Q$3:$R$162,2,FALSE),\"/\",S53620,\"/\",H53620)","v":"13/Transp/201510"},"Transp/201510","6696/201510","6696/0627/201510","13/201510","13/0627/201510","0627/201510",34823.39,0,34866.83,0,42864.57,0,7047.39,0,5103.42,0]
[null,"06751","0658","201603",null,"06696","0656","201511",null,"Transp","6751/Transp/201603",{"$f":"IF(J53705=0,0,+CONCATENATE(VLOOKUP(B53705,Cadastro!$Q$3:$R$162,2,FALSE),\"/\",J53705,\"/\",D53705))","v":"72/Transp/201603"},"Transp/201603","6751/201603","6751/0658/201603","72/201603","72/0658/201603","0658/201603","Transp","6696/Transp/201511",{"$f":"+CONCATENATE(VLOOKUP(F53705,Cadastro!$Q$3:$R$162,2,FALSE),\"/\",S53705,\"/\",H53705)","v":"13/Transp/201511"},"Transp/201511","6696/201511","6696/0656/201511","13/201511","13/0656/201511","0656/201511",0,93546.4,0,91631.18,0,90097.06,0,0,0,18318.47]
[null,"06751","0740","201602",null,"06696","0658","201510",null,"RF","6751/RF/201602",{"$f":"IF(J53716=0,0,+CONCATENATE(VLOOKUP(B53716,Cadastro!$Q$3:$R$162,2,FALSE),\"/\",J53716,\"/\",D53716))","v":"72/RF/201602"},"RF/201602","6751/201602","6751/0740/201602","72/201602","72/0740/201602","0740/201602","Transp","6696/Transp/201510",{"$f":"+CONCATENATE(VLOOKUP(F53716,Cadastro!$Q$3:$R$162,2,FALSE),\"/\",S53716,\"/\",H53716)","v":"13/Transp/201510"},"Transp/201510","6696/201510","6696/0658/201510","13/201510","13/0658/201510","0658/201510",0,0,0,0,0,0,0,0,0,0]
[null,"06751","0929","201607",null,"06696","0749","201503",null,"Pes","6751/Pes/201607",{"$f":"IF(J53805=0,0,+CONCATENATE(VLOOKUP(B53805,Cadastro!$Q$3:$R$162,2,FALSE),\"/\",J53805,\"/\",D53805))","v":"72/Pes/201607"},"Pes/201607","6751/201607","6751/0929/201607","72/201607","72/0929/201607","0929/201607","RF","6696/RF/201503",{"$f":"+CONCATENATE(VLOOKUP(F53805,Cadastro!$Q$3:$R$162,2,FALSE),\"/\",S53805,\"/\",H53805)","v":"13/RF/201503"},"RF/201503","6696/201503","6696/0749/201503","13/201503","13/0749/201503","0749/201503",707.4,0,707.91,0,598.63,0,0,0,7.79,0]
[null,"06751","0987","201608",null,"06696","0870","201504",null,"Pes","6751/Pes/201608",{"$f":"IF(J53890=0,0,+CONCATENATE(VLOOKUP(B53890,Cadastro!$Q$3:$R$162,2,FALSE),\"/\",J53890,\"/\",D53890))","v":"72/Pes/201608"},"Pes/201608","6751/201608","6751/0987/201608","72/201608","72/0987/201608","0987/201608","RF","6696/RF/201504",{"$f":"+CONCATENATE(VLOOKUP(F53890,Cadastro!$Q$3:$R$162,2,FALSE),\"/\",S53890,\"/\",H53890)","v":"13/RF/201504"},"RF/201504","6696/201504","6696/0870/201504","13/201504","13/0870/201504","0870/201504",0,0,0,0,0,0,0,0,0,0]
[null,"06751","0990","201612",null,"06696","0929","201508",null,"Pes","6751/Pes/201612",{"$f":"IF(J53906=0,0,+CONCATENATE(VLOOKUP(B53906,Cadastro!$Q$3:$R$162,2,FALSE),\"/\",J53906,\"/\",D53906))","v":"72/Pes/201612"},"Pes/201612","6751/201612","6751/0990/201612","72/201612","72/0990/201612","0990/201612","Pes","6696/Pes/201508",{"$f":"+CONCATENATE(VLOOKUP(F53906,Cadastro!$Q$3:$R$162,2,FALSE),\"/\",S53906,\"/\",H53906)","v":"13/Pes/201508"},"Pes/201508","6696/201508","6696/0929/201508","13/201508","13/0929/201508","0929/201508",-35.369999999999997,0,-31.509999999999998,0,357.01,0,10426.049999999999,0,18.23,0]
[null,"06751","1104","201601",null,"06696","0982","201509",null,"Rur","6751/Rur/201601",{"$f":"IF(J53979=0,0,+CONCATENATE(VLOOKUP(B53979,Cadastro!$Q$3:$R$162,2,FALSE),\"/\",J53979,\"/\",D53979))","v":"72/Rur/201601"},"Rur/201601","6751/201601","6751/1104/201601","72/201601","72/1104/201601","1104/201601","Pes","6696/Pes/201509",{"$f":"+CONCATENATE(VLOOKUP(F53979,Cadastro!$Q$3:$R$162,2,FALSE),\"/\",S53979,\"/\",H53979)","v":"13/Pes/201509"},"Pes/201509","6696/201509","6696/0982/201509","13/201509","13/0982/201509","0982/201509",0,0,0,0,0,0,0,0,0,0]
[null,"06751","1279","201601",null,"06696","0993","201509",null,"Out","6751/Out/201601",{"$f":"IF(J54075=0,0,+CONCATENATE(VLOOKUP(B54075,Cadastro!$Q$3:$R$162,2,FALSE),\"/\",J54075,\"/\",D54075))","v":"72/Out/201601"},"Out/201601","6751/201601","6751/1279/201601","72/201601","72/1279/201601","1279/201601","Pes","6696/Pes/201509",{"$f":"+CONCATENATE(VLOOKUP(F54075,Cadastro!$Q$3:$R$162,2,FALSE),\"/\",S54075,\"/\",H54075)","v":"13/Pes/201509"},"Pes/201509","6696/201509","6696/0993/201509","13/201509","13/0993/201509","0993/201509",0,0,0,0,0,0,0,0,0,0]
[null,"06751","1384","201610",null,"06696","1102","201506",null,"Pes","6751/Pes/201610",{"$f":"IF(J54156=0,0,+CONCATENATE(VLOOKUP(B54156,Cadastro!$Q$3:$R$162,2,FALSE),\"/\",J54156,\"/\",D54156))","v":"72/Pes/201610"},"Pes/201610","6751/201610","6751/1384/201610","72/201610","72/1384/201610","1384/201610","Rur","6696/Rur/201506",{"$f":"+CONCATENATE(VLOOKUP(F54156,Cadastro!$Q$3:$R$162,2,FALSE),\"/\",S54156,\"/\",H54156)","v":"13/Rur/201506"},"Rur/201506","6696/201506","6696/1102/201506","13/201506","13/1102/201506","1102/201506",0,0,0,0,0,0,0,0,0,0]
[null,"06751","1390","201606",null,"06696","1104","201502",null,"Pes","6751/Pes/201606",{"$f":"IF(J54176=0,0,+CONCATENATE(VLOOKUP(B54176,Cadastro!$Q$3:$R$162,2,FALSE),\"/\",J54176,\"/\",D54176))","v":"72/Pes/201606"},"Pes/201606","6751/201606","6751/1390/201606","72/201606","72/1390/201606","1390/201606","Rur","6696/Rur/201502",{"$f":"+CONCATENATE(VLOOKUP(F54176,Cadastro!$Q$3:$R$162,2,FALSE),\"/\",S54176,\"/\",H54176)","v":"13/Rur/201502"},"Rur/201502","6696/201502","6696/1104/201502","13/201502","13/1104/201502","1104/201502",0,0,0,0,0,0,0,0,0,0]
[null,"06785","0112","201612",null,"06696","1109","201508",null,"Pat","6785/Pat/201612",{"$f":"IF(J54242=0,0,+CONCATENATE(VLOOKUP(B54242,Cadastro!$Q$3:$R$162,2,FALSE),\"/\",J54242,\"/\",D54242))","v":"15/Pat/201612"},"Pat/201612","6785/201612","6785/0112/201612","15/201612","15/0112/201612","0112/201612","Rur","6696/Rur/201508",{"$f":"+CONCATENATE(VLOOKUP(F54242,Cadastro!$Q$3:$R$162,2,FALSE),\"/\",S54242,\"/\",H54242)","v":"13/Rur/201508"},"Rur/201508","6696/201508","6696/1109/201508","13/201508","13/1109/201508","1109/201508",0,0,0,0,0,0,0,0,0,0]
[null,"06785","0196","201603",null,"06696","1369","201511",null,{"$f":"IF(C54341=0,0,+VLOOKUP(C54341,$AQ$4:$AR$130,2,FALSE))","v":"Pat"},"6785/Pat/201603",{"$f":"IF(J54341=0,0,+CONCATENATE(VLOOKUP(B54341,Cadastro!$Q$3:$R$162,2,FALSE),\"/\",J54341,\"/\",D54341))","v":"15/Pat/201603"},"Pat/201603","6785/201603","6785/0196/201603","15/201603","15/0196/201603","0196/201603",{"$f":"+VLOOKUP(G54341,$AQ$4:$AR$130,2,FALSE)","v":"Pes"},"6696/Pes/201511",{"$f":"+CONCATENATE(VLOOKUP(F54341,Cadastro!$Q$3:$R$162,2,FALSE),\"/\",S54341,\"/\",H54341)","v":"13/Pes/201511"},"Pes/201511","6696/201511","6696/1369/201511","13/201511","13/1369/201511","1369/201511",0,0,0,0,0,0,0,0,0,0]
[null,"06785","0234","201611",null,"06696","1380","201507",null,"RE","6785/RE/201611",{"$f":"IF(J54361=0,0,+CONCATENATE(VLOOKUP(B54361,Cadastro!$Q$3:$R$162,2,FALSE),\"/\",J54361,\"/\",D54361))","v":"15/RE/201611"},"RE/201611","6785/201611","6785/0234/201611","15/201611","15/0234/201611","0234/201611","Pes","6696/Pes/201507",{"$f":"+CONCATENATE(VLOOKUP(F54361,Cadastro!$Q$3:$R$162,2,FALSE),\"/\",S54361,\"/\",H54361)","v":"13/Pes/201507"},"Pes/201507","6696/201507","6696/1380/201507","13/201507","13/1380/201507","1380/201507",0,0,0,0,0,0,0,0,0,0]
[null,"06785","0435","201608",null,"06696","1391","201504",null,"Aero","6785/Aero/201608",{"$f":"IF(J54442=0,0,+CONCATENATE(VLOOKUP(B54442,Cadastro!$Q$3:$R$162,2,FALSE),\"/\",J54442,\"/\",D54442))","v":"15/Aero/201608"},"Aero/201608","6785/201608","6785/0435/201608","15/201608","15/0435/201608","0435/201608","Pes","6696/Pes/201504",{"$f":"+CONCATENATE(VLOOKUP(F54442,Cadastro!$Q$3:$R$162,2,FALSE),\"/\",S54442,\"/\",H54442)","v":"13/Pes/201504"},"Pes/201504","6696/201504","6696/1391/201504","13/201504","13/1391/201504","1391/201504",0,0,0,0,0,0,0,0,0,0]
[null,"06785","0524","201611",null,"06718","0819","201508",null,"Aut","6785/Aut/201611",{"$f":"IF(J54505=0,0,+CONCATENATE(VLOOKUP(B54505,Cadastro!$Q$3:$R$162,2,FALSE),\"/\",J54505,\"/\",D54505))","v":"15/Aut/201611"},"Aut/201611","6785/201611","6785/0524/201611","15/201611","15/0524/201611","0524/201611","RF","6718/RF/201508",{"$f":"+CONCATENATE(VLOOKUP(F54505,Cadastro!$Q$3:$R$162,2,FALSE),\"/\",S54505,\"/\",H54505)","v":"16/RF/201508"},"RF/201508","6718/201508","6718/0819/201508","16/201508","16/0819/201508","0819/201508",0,0,0,0,0,0,0,0,0,0]
[null,"06785","0627","201609",null,"06751","0167","201508",null,"Transp","6785/Transp/201609",{"$f":"IF(J54611=0,0,+CONCATENATE(VLOOKUP(B54611,Cadastro!$Q$3:$R$162,2,FALSE),\"/\",J54611,\"/\",D54611))","v":"15/Transp/201609"},"Transp/201609","6785/201609","6785/0627/201609","15/201609","15/0627/201609","0627/201609","Pat","6751/Pat/201508",{"$f":"+CONCATENATE(VLOOKUP(F54611,Cadastro!$Q$3:$R$162,2,FALSE),\"/\",S54611,\"/\",H54611)","v":"72/Pat/201508"},"Pat/201508","6751/201508","6751/0167/201508","72/201508","72/0167/201508","0167/201508",0,471686.31,0,-108762.31,0,179052.41000000003,0,-430675.81000000006,0,116898.28]
[null,"06785","0632","201601",null,"06751","0171","201512",null,"Transp","6785/Transp/201601",{"$f":"IF(J54627=0,0,+CONCATENATE(VLOOKUP(B54627,Cadastro!$Q$3:$R$162,2,FALSE),\"/\",J54627,\"/\",D54627))","v":"15/Transp/201601"},"Transp/201601","6785/201601","6785/0632/201601","15/201601","15/0632/201601","0632/201601","Pat","6751/Pat/201512",{"$f":"+CONCATENATE(VLOOKUP(F54627,Cadastro!$Q$3:$R$162,2,FALSE),\"/\",S54627,\"/\",H54627)","v":"72/Pat/201512"},"Pat/201512","6751/201512","6751/0171/201512","72/201512","72/0171/201512","0171/201512",0,22216108.41,0,21940155.75,0,10451578.970000001,0,1620230.9,0,4571094.3099999996]
[null,"06785","0739","201602",null,"06751","0435","201501",null,"RF","6785/RF/201602",{"$f":"IF(J54712=0,0,+CONCATENATE(VLOOKUP(B54712,Cadastro!$Q$3:$R$162,2,FALSE),\"/\",J54712,\"/\",D54712))","v":"15/RF/201602"},"RF/201602","6785/201602","6785/0739/201602","15/201602","15/0739/201602","0739/201602","Aero","6751/Aero/201501",{"$f":"+CONCATENATE(VLOOKUP(F54712,Cadastro!$Q$3:$R$162,2,FALSE),\"/\",S54712,\"/\",H54712)","v":"72/Aero/201501"},"Aero/201501","6751/201501","6751/0435/201501","72/201501","72/0435/201501","0435/201501",0,0,0,0,0,0,0,0,0,0]
[null,"06785","0746","201610",null,"06751","0523","201509",null,"RF","6785/RF/201610",{"$f":"IF(J54768=0,0,+CONCATENATE(VLOOKUP(B54768,Cadastro!$Q$3:$R$162,2,FALSE),\"/\",J54768,\"/\",D54768))","v":"15/RF/201610"},"RF/201610","6785/201610","6785/0746/201610","15/201610","15/0746/201610","0746/201610","Transp","6751/Transp/201509",{"$f":"+CONCATENATE(VLOOKUP(F54768,Cadastro!$Q$3:$R$162,2,FALSE),\"/\",S54768,\"/\",H54768)","v":"72/Transp/201509"},"Transp/201509","6751/201509","6751/0523/201509","72/201509","72/0523/201509","0523/201509",0,0,0,0,0,0,0,0,0,0]
[null,"06785","0750","201606",null,"06751","0544","201505",null,"RF",{"$f":"IF(J54812=0,0,+CONCATENATE(VALUE(B54812),\"/\",J54812,\"/\",D54812))","v":"6785/RF/201606"},{"$f":"IF(J54812=0,0,+CONCATENATE(VLOOKUP(B54812,Cadastro!$Q$3:$R$162,2,FALSE),\"/\",J54812,\"/\",D54812))","v":"15/RF/201606"},{"$f":"IF(J54812=0,0,+CONCATENATE(J54812,\"/\",D54812))","v":"RF/201606"},"6785/201606","6785/0750/201606","15/201606","15/0750/201606","0750/201606","Aut",{"$f":"+CONCATENATE(VALUE(F54812),\"/\",S54812,\"/\",H54812)","v":"6751/Aut/201505"},{"$f":"+CONCATENATE(VLOOKUP(F54812,Cadastro!$Q$3:$R$162,2,FALSE),\"/\",S54812,\"/\",H54812)","v":"72/Aut/201505"},{"$f":"+CONCATENATE(S54812,\"/\",H54812)","v":"Aut/201505"},"6751/201505","6751/0544/201505","72/201505","72/0544/201505","0544/201505",0,0,0,0,0,0,0,0,0,0]
[null,"06785","0929","201607",null,"06751","0628","201506",null,"Pes","6785/Pes/201607",{"$f":"IF(J54897=0,0,+CONCATENATE(VLOOKUP(B54897,Cadastro!$Q$3:$R$162,2,FALSE),\"/\",J54897,\"/\",D54897))","v":"15/Pes/201607"},"Pes/201607","6785/201607","6785/0929/201607","15/201607","15/0929/201607","0929/201607","Transp","6751/Transp/201506",{"$f":"+CONCATENATE(VLOOKUP(F54897,Cadastro!$Q$3:$R$162,2,FALSE),\"/\",S54897,\"/\",H54897)","v":"72/Transp/201506"},"Transp/201506","6751/201506","6751/0628/201506","72/201506","72/0628/201506","0628/201506",1823035.18,51653.43,1820167.95,44872.63,1976319.18,43046.219999999994,515917.05,35147.53,685682.64,6322.48]
[null,"06785","0984","201604",null,"06751","0658","201503",null,"Pes","6785/Pes/201604",{"$f":"IF(J54978=0,0,+CONCATENATE(VLOOKUP(B54978,Cadastro!$Q$3:$R$162,2,FALSE),\"/\",J54978,\"/\",D54978))","v":"15/Pes/201604"},"Pes/201604","6785/201604","6785/0984/201604","15/201604","15/0984/201604","0984/201604","Transp","6751/Transp/201503",{"$f":"+CONCATENATE(VLOOKUP(F54978,Cadastro!$Q$3:$R$162,2,FALSE),\"/\",S54978,\"/\",H54978)","v":"72/Transp/201503"},"Transp/201503","6751/201503","6751/0658/201503","72/201503","72/0658/201503","0658/201503",18306857.52,0,18306857.52,0,18718131.100000001,0,2802913.76,0,6958478.8499999996,0]
[null,"06785","0993","201609",null,"06751","0748","201508",null,"Pes","6785/Pes/201609",{"$f":"IF(J55031=0,0,+CONCATENATE(VLOOKUP(B55031,Cadastro!$Q$3:$R$162,2,FALSE),\"/\",J55031,\"/\",D55031))","v":"15/Pes/201609"},"Pes/201609","6785/201609","6785/0993/201609","15/201609","15/0993/201609","0993/201609","RF","6751/RF/201508",{"$f":"+CONCATENATE(VLOOKUP(F55031,Cadastro!$Q$3:$R$162,2,FALSE),\"/\",S55031,\"/\",H55031)","v":"72/RF/201508"},"RF/201508","6751/201508","6751/0748/201508","72/201508","72/0748/201508","0748/201508",124440886.09,0,124280636.85000001,0,131389018.2,0,48982892.719999999,0,48310490.920000002,0]
[null,"06785","1066","201612",null,"06751","0929","201511",null,"Hab","6785/Hab/201612",{"$f":"IF(J55082=0,0,+CONCATENATE(VLOOKUP(B55082,Cadastro!$Q$3:$R$162,2,FALSE),\"/\",J55082,\"/\",D55082))","v":"15/Hab/201612"},"Hab/201612","6785/201612","6785/1066/201612","15/201612","15/1066/201612","1066/201612","Pes","6751/Pes/201511",{"$f":"+CONCATENATE(VLOOKUP(F55082,Cadastro!$Q$3:$R$162,2,FALSE),\"/\",S55082,\"/\",H55082)","v":"72/Pes/201511"},"Pes/201511","6751/201511","6751/0929/201511","72/201511","72/0929/201511","0929/201511",0,11783.36,0,11783.36,0,11784.19,0,-955.13,0,4882.72]
[null,"06785","1106","201609",null,"06751","0987","201508",null,"Rur","6785/Rur/201609",{"$f":"IF(J55163=0,0,+CONCATENATE(VLOOKUP(B55163,Cadastro!$Q$3:$R$162,2,FALSE),\"/\",J55163,\"/\",D55163))","v":"15/Rur/201609"},"Rur/201609","6785/201609","6785/1106/201609","15/201609","15/1106/201609","1106/201609","Pes","6751/Pes/201508",{"$f":"+CONCATENATE(VLOOKUP(F55163,Cadastro!$Q$3:$R$162,2,FALSE),\"/\",S55163,\"/\",H55163)","v":"72/Pes/201508"},"Pes/201508","6751/201508","6751/0987/201508","72/201508","72/0987/201508","0987/201508",0,0,0,0,0,0,0,0,0,0]
[null,"06785","1164","201610",null,"06751","1102","201509",null,"Rur","6785/Rur/201610",{"$f":"IF(J55248=0,0,+CONCATENATE(VLOOKUP(B55248,Cadastro!$Q$3:$R$162,2,FALSE),\"/\",J55248,\"/\",D55248))","v":"15/Rur/201610"},"Rur/201610","6785/201610","6785/1164/201610","15/201610","15/1164/201610","1164/201610","Rur","6751/Rur/201509",{"$f":"+CONCATENATE(VLOOKUP(F55248,Cadastro!$Q$3:$R$162,2,FALSE),\"/\",S55248,\"/\",H55248)","v":"72/Rur/201509"},"Rur/201509","6751/201509","6751/1102/201509","72/201509","72/1102/201509","1102/201509",0,0,0,0,0,0,0,0,0,0]
[null,"06785","1336","201608",null,"06751","1108","201507",null,"Pes","6785/Pes/201608",{"$f":"IF(J55294=0,0,+CONCATENATE(VLOOKUP(B55294,Cadastro!$Q$3:$R$162,2,FALSE),\"/\",J55294,\"/\",D55294))","v":"15/Pes/201608"},"Pes/201608","6785/201608","6785/1336/201608","15/201608","15/1336/201608","1336/201608","Rur","6751/Rur/201507",{"$f":"+CONCATENATE(VLOOKUP(F55294,Cadastro!$Q$3:$R$162,2,FALSE),\"/\",S55294,\"/\",H55294)","v":"72/Rur/201507"},"Rur/201507","6751/201507","6751/1108/201507","72/201507","72/1108/201507","1108/201507",0,0,0,0,0,0,0,0,0,0]
[null,"06785","1384","201602",null,"06751","1279","201501",null,"Pes","6785/Pes/201602",{"$f":"IF(J55348=0,0,+CONCATENATE(VLOOKUP(B55348,Cadastro!$Q$3:$R$162,2,FALSE),\"/\",J55348,\"/\",D55348))","v":"15/Pes/201602"},"Pes/201602","6785/201602","6785/1384/201602","15/201602","15/1384/201602","1384/201602","Out","6751/Out/201501",{"$f":"+CONCATENATE(VLOOKUP(F55348,Cadastro!$Q$3:$R$162,2,FALSE),\"/\",S55348,\"/\",H55348)","v":"72/Out/201501"},"Out/201501","6751/201501","6751/1279/201501","72/201501","72/1279/201501","1279/201501",0,0,0,0,0,0,0,0,14865.12,0]
[null,"06785","1535","201607",null,"06751","1387","201502",null,"Aero","6785/Aero/201607",{"$f":"IF(J55433=0,0,+CONCATENATE(VLOOKUP(B55433,Cadastro!$Q$3:$R$162,2,FALSE),\"/\",J55433,\"/\",D55433))","v":"15/Aero/201607"},"Aero/201607","6785/201607","6785/1535/201607","15/201607","15/1535/201607","1535/201607","Pes","6751/Pes/201502",{"$f":"+CONCATENATE(VLOOKUP(F55433,Cadastro!$Q$3:$R$162,2,FALSE),\"/\",S55433,\"/\",H55433)","v":"72/Pes/201502"},"Pes/201502","6751/201502","6751/1387/201502","72/201502","72/1387/201502","1387/201502",0,0,0,0,0,0,0,0,0,0]
[null,"06793","0116","201604",null,"06785","0112","201511",null,"Pat","6793/Pat/201604",{"$f":"IF(J55514=0,0,+CONCATENATE(VLOOKUP(B55514,Cadastro!$Q$3:$R$162,2,FALSE),\"/\",J55514,\"/\",D55514))","v":"42/Pat/201604"},"Pat/201604","6793/201604","6793/0116/201604","42/201604","42/0116/201604","0116/201604","Pat","6785/Pat/201511",{"$f":"+CONCATENATE(VLOOKUP(F55514,Cadastro!$Q$3:$R$162,2,FALSE),\"/\",S55514,\"/\",H55514)","v":"15/Pat/201511"},"Pat/201511","6785/201511","6785/0112/201511","15/201511","15/0112/201511","0112/201511",0,0,0,0,0,0,0,0,0,0]
[null,"06793","0167","201611",null,"06785","0118","201506",null,{"$f":"IF(C55557=0,0,+VLOOKUP(C55557,$AQ$4:$AR$130,2,FALSE))","v":"Pat"},"6793/Pat/201611",{"$f":"IF(J55557=0,0,+CONCATENATE(VLOOKUP(B55557,Cadastro!$Q$3:$R$162,2,FALSE),\"/\",J55557,\"/\",D55557))","v":"42/Pat/201611"},"Pat/201611","6793/201611","6793/0167/201611","42/201611","42/0167/201611","0167/201611",{"$f":"+VLOOKUP(G55557,$AQ$4:$AR$130,2,FALSE)","v":"Pat"},"6785/Pat/201506",{"$f":"+CONCATENATE(VLOOKUP(F55557,Cadastro!$Q$3:$R$162,2,FALSE),\"/\",S55557,\"/\",H55557)","v":"15/Pat/201506"},"Pat/201506","6785/201506","6785/0118/201506","15/201506","15/0118/201506","0118/201506",0,34671.86,0,31414.880000000001,0,31216.41,0,837.14,0,1758.44]
[null,"06793","0433","201611",null,"06785","0196","201507",null,"Mar","6793/Mar/201611",{"$f":"IF(J55618=0,0,+CONCATENATE(VLOOKUP(B55618,Cadastro!$Q$3:$R$162,2,FALSE),\"/\",J55618,\"/\",D55618))","v":"42/Mar/201611"},"Mar/201611","6793/201611","6793/0433/201611","42/201611","42/0433/201611","0433/201611","Pat","6785/Pat/201507",{"$f":"+CONCATENATE(VLOOKUP(F55618,Cadastro!$Q$3:$R$162,2,FALSE),\"/\",S55618,\"/\",H55618)","v":"15/Pat/201507"},"Pat/201507","6785/201507","6785/0196/201507","15/201507","15/0196/201507","0196/201507",0,0,0,0,0,0,0,0,0,0]
[null,"06793","0589","201607",null,"06785","0433","201504",null,"Dpvat","6793/Dpvat/201607",{"$f":"IF(J55699=0,0,+CONCATENATE(VLOOKUP(B55699,Cadastro!$Q$3:$R$162,2,FALSE),\"/\",J55699,\"/\",D55699))","v":"42/Dpvat/201607"},"Dpvat/201607","6793/201607","6793/0589/201607","42/201607","42/0589/201607","0589/201607","Mar","6785/Mar/201504",{"$f":"+CONCATENATE(VLOOKUP(F55699,Cadastro!$Q$3:$R$162,2,FALSE),\"/\",S55699,\"/\",H55699)","v":"15/Mar/201504"},"Mar/201504","6785/201504","6785/0433/201504","15/201504","15/0433/201504","0433/201504",0,0,0,0,0,0,0,0,0,0]
[null,"06793","0622","201603",null,"06785","0435","201512",null,"Transp","6793/Transp/201603",{"$f":"IF(J55719=0,0,+CONCATENATE(VLOOKUP(B55719,Cadastro!$Q$3:$R$162,2,FALSE),\"/\",J55719,\"/\",D55719))","v":"42/Transp/201603"},"Transp/201603","6793/201603","6793/0622/201603","42/201603","42/0622/201603","0622/201603","Aero","6785/Aero/201512",{"$f":"+CONCATENATE(VLOOKUP(F55719,Cadastro!$Q$3:$R$162,2,FALSE),\"/\",S55719,\"/\",H55719)","v":"15/Aero/201512"},"Aero/201512","6785/201512","6785/0435/201512","15/201512","15/0435/201512","0435/201512",0,0,0,0,0,0,0,0,0,0]
[null,"06793","0747","201608",null,"06785","0553","201505",null,"RF","6793/RF/201608",{"$f":"IF(J55820=0,0,+CONCATENATE(VLOOKUP(B55820,Cadastro!$Q$3:$R$162,2,FALSE),\"/\",J55820,\"/\",D55820))","v":"42/RF/201608"},"RF/201608","6793/201608","6793/0747/201608","42/201608","42/0747/201608","0747/201608","Aut","6785/Aut/201505",{"$f":"+CONCATENATE(VLOOKUP(F55820,Cadastro!$Q$3:$R$162,2,FALSE),\"/\",S55820,\"/\",H55820)","v":"15/Aut/201505"},"Aut/201505","6785/201505","6785/0553/201505","15/201505","15/0553/201505","0553/201505",0,0,0,0,0,0,0,0,0,0]
[null,"06793","0870","201610",null,"06785","0627","201509",null,"RF","6793/RF/201610",{"$f":"IF(J55884=0,0,+CONCATENATE(VLOOKUP(B55884,Cadastro!$Q$3:$R$162,2,FALSE),\"/\",J55884,\"/\",D55884))","v":"42/RF/201610"},"RF/201610","6793/201610","6793/0870/201610","42/201610","42/0870/201610","0870/201610","Transp","6785/Transp/201509",{"$f":"+CONCATENATE(VLOOKUP(F55884,Cadastro!$Q$3:$R$162,2,FALSE),\"/\",S55884,\"/\",H55884)","v":"15/Transp/201509"},"Transp/201509","6785/201509","6785/0627/201509","15/201509","15/0627/201509","0627/201509",0,0,0,0,0,0,0,0,0,0]
[null,"06793","0993","201611",null,"06785","0656","201510",null,"Pes","6793/Pes/201611",{"$f":"IF(J55969=0,0,+CONCATENATE(VLOOKUP(B55969,Cadastro!$Q$3:$R$162,2,FALSE),\"/\",J55969,\"/\",D55969))","v":"42/Pes/201611"},"Pes/201611","6793/201611","6793/0993/201611","42/201611","42/0993/201611","0993/201611","Transp","6785/Transp/201510",{"$f":"+CONCATENATE(VLOOKUP(F55969,Cadastro!$Q$3:$R$162,2,FALSE),\"/\",S55969,\"/\",H55969)","v":"15/Transp/201510"},"Transp/201510","6785/201510","6785/0656/201510","15/201510","15/0656/201510","0656/201510",1244603.42,0,1237422.68,0,1189213.97,0,647575.6,0,40087.42,0]
[null,"06793","1108","201603",null,"06785","0739","201502",null,"Rur","6793/Rur/201603",{"$f":"IF(J55985=0,0,+CONCATENATE(VLOOKUP(B55985,Cadastro!$Q$3:$R$162,2,FALSE),\"/\",J55985,\"/\",D55985))","v":"42/Rur/201603"},"Rur/201603","6793/201603","6793/1108/201603","42/201603","42/1108/201603","1108/201603","RF","6785/RF/201502",{"$f":"+CONCATENATE(VLOOKUP(F55985,Cadastro!$Q$3:$R$162,2,FALSE),\"/\",S55985,\"/\",H55985)","v":"15/RF/201502"},"RF/201502","6785/201502","6785/0739/201502","15/201502","15/0739/201502","0739/201502",0,0,0,0,0,0,0,0,0,0]
[null,"06831","0171","201601",null,"06785","0750","201504",null,"Pat","6831/Pat/201601",{"$f":"IF(J56083=0,0,+CONCATENATE(VLOOKUP(B56083,Cadastro!$Q$3:$R$162,2,FALSE),\"/\",J56083,\"/\",D56083))","v":"67/Pat/201601"},"Pat/201601","6831/201601","6831/0171/201601","67/201601","67/0171/201601","0171/201601","RF","6785/RF/201504",{"$f":"+CONCATENATE(VLOOKUP(F56083,Cadastro!$Q$3:$R$162,2,FALSE),\"/\",S56083,\"/\",H56083)","v":"15/RF/201504"},"RF/201504","6785/201504","6785/0750/201504","15/201504","15/0750/201504","0750/201504",0,0,0,0,0,0,0,0,0,0]
[null,"06831","0589","201604",null,"06785","0860","201511",null,"Dpvat","6831/Dpvat/201604",{"$f":"IF(J56150=0,0,+CONCATENATE(VLOOKUP(B56150,Cadastro!$Q$3:$R$162,2,FALSE),\"/\",J56150,\"/\",D56150))","v":"67/Dpvat/201604"},"Dpvat/201604","6831/201604","6831/0589/201604","67/201604","67/0589/201604","0589/201604","RF","6785/RF/201511",{"$f":"+CONCATENATE(VLOOKUP(F56150,Cadastro!$Q$3:$R$162,2,FALSE),\"/\",S56150,\"/\",H56150)","v":"15/RF/201511"},"RF/201511","6785/201511","6785/0860/201511","15/201511","15/0860/201511","0860/201511",0,0,0,0,0,0,0,0,0,0]
[null,"06831","0655","201604",null,"06785","0929","201507",null,"Transp","6831/Transp/201604",{"$f":"IF(J56170=0,0,+CONCATENATE(VLOOKUP(B56170,Cadastro!$Q$3:$R$162,2,FALSE),\"/\",J56170,\"/\",D56170))","v":"67/Transp/201604"},"Transp/201604","6831/201604","6831/0655/201604","67/201604","67/0655/201604","0655/201604","Pes","6785/Pes/201507",{"$f":"+CONCATENATE(VLOOKUP(F56170,Cadastro!$Q$3:$R$162,2,FALSE),\"/\",S56170,\"/\",H56170)","v":"15/Pes/201507"},"Pes/201507","6785/201507","6785/0929/201507","15/201507","15/0929/201507","0929/201507",0,2016951.25,0,2016951.25,0,2529140.17,0,33280.5,0,918252.3]
[null,"06831","0993","201609",null,"06785","0984","201508",null,"Pes","6831/Pes/201609",{"$f":"IF(J56255=0,0,+CONCATENATE(VLOOKUP(B56255,Cadastro!$Q$3:$R$162,2,FALSE),\"/\",J56255,\"/\",D56255))","v":"67/Pes/201609"},"Pes/201609","6831/201609","6831/0993/201609","67/201609","67/0993/201609","0993/201609","Pes","6785/Pes/201508",{"$f":"+CONCATENATE(VLOOKUP(F56255,Cadastro!$Q$3:$R$162,2,FALSE),\"/\",S56255,\"/\",H56255)","v":"15/Pes/201508"},"Pes/201508","6785/201508","6785/0984/201508","15/201508","15/0984/201508","0984/201508",3145996.54,15203559.720000001,3026358.84,15203559.720000001,2948474.1799999997,15739647.82,746316.11,1093814.82,732314.29,5730185.4000000004]
[null,"06866","0141","201608",null,"06785","1066","201503",null,"Pat","6866/Pat/201608",{"$f":"IF(J56346=0,0,+CONCATENATE(VLOOKUP(B56346,Cadastro!$Q$3:$R$162,2,FALSE),\"/\",J56346,\"/\",D56346))","v":"20/Pat/201608"},"Pat/201608","6866/201608","6866/0141/201608","20/201608","20/0141/201608","0141/201608","Hab","6785/Hab/201503",{"$f":"+CONCATENATE(VLOOKUP(F56346,Cadastro!$Q$3:$R$162,2,FALSE),\"/\",S56346,\"/\",H56346)","v":"15/Hab/201503"},"Hab/201503","6785/201503","6785/1066/201503","15/201503","15/1066/201503","1066/201503",0,0,0,0,0,0,0,0,0,0]
[null,"06866","0351","201610",null,"06785","1105","201505",null,"Res","6866/Res/201610",{"$f":"IF(J56420=0,0,+CONCATENATE(VLOOKUP(B56420,Cadastro!$Q$3:$R$162,2,FALSE),\"/\",J56420,\"/\",D56420))","v":"20/Res/201610"},"Res/201610","6866/201610","6866/0351/201610","20/201610","20/0351/201610","0351/201610","Rur","6785/Rur/201505",{"$f":"+CONCATENATE(VLOOKUP(F56420,Cadastro!$Q$3:$R$162,2,FALSE),\"/\",S56420,\"/\",H56420)","v":"15/Rur/201505"},"Rur/201505","6785/201505","6785/1105/201505","15/201505","15/1105/201505","1105/201505",0,0,0,0,0,0,0,0,0,0]
[null,"06866","0433","201612",null,"06785","1107","201501",null,"Mar","6866/Mar/201612",{"$f":"IF(J56440=0,0,+CONCATENATE(VLOOKUP(B56440,Cadastro!$Q$3:$R$162,2,FALSE),\"/\",J56440,\"/\",D56440))","v":"20/Mar/201612"},"Mar/201612","6866/201612","6866/0433/201612","20/201612","20/0433/201612","0433/201612","Rur","6785/Rur/201501",{"$f":"+CONCATENATE(VLOOKUP(F56440,Cadastro!$Q$3:$R$162,2,FALSE),\"/\",S56440,\"/\",H56440)","v":"15/Rur/201501"},"Rur/201501","6785/201501","6785/1107/201501","15/201501","15/1107/201501","1107/201501",0,125895.37,0,-54399.070000000007,0,95008.719999999972,0,96946.979999999981,0,28953.37]
[null,"06866","0740","201609",null,"06785","1164","201510",null,"RF","6866/RF/201609",{"$f":"IF(J56521=0,0,+CONCATENATE(VLOOKUP(B56521,Cadastro!$Q$3:$R$162,2,FALSE),\"/\",J56521,\"/\",D56521))","v":"20/RF/201609"},"RF/201609","6866/201609","6866/0740/201609","20/201609","20/0740/201609","0740/201609","Rur","6785/Rur/201510",{"$f":"+CONCATENATE(VLOOKUP(F56521,Cadastro!$Q$3:$R$162,2,FALSE),\"/\",S56521,\"/\",H56521)","v":"15/Rur/201510"},"Rur/201510","6785/201510","6785/1164/201510","15/201510","15/1164/201510","1164/201510",0,0,0,0,0,0,0,0,0,0]
[null,"06866","0977","201601",null,"06785","1381","201502",null,"Pes","6866/Pes/201601",{"$f":"IF(J56609=0,0,+CONCATENATE(VLOOKUP(B56609,Cadastro!$Q$3:$R$162,2,FALSE),\"/\",J56609,\"/\",D56609))","v":"20/Pes/201601"},"Pes/201601","6866/201601","6866/0977/201601","20/201601","20/0977/201601","0977/201601","Pes","6785/Pes/201502",{"$f":"+CONCATENATE(VLOOKUP(F56609,Cadastro!$Q$3:$R$162,2,FALSE),\"/\",S56609,\"/\",H56609)","v":"15/Pes/201502"},"Pes/201502","6785/201502","6785/1381/201502","15/201502","15/1381/201502","1381/201502",94325460.680000007,1789.9,94325460.680000007,1789.9,82111604.799999997,4116.75,10706377.770000001,0,8154458.2400000002,973.28]
[null,"06866","0986","201606",null,"06785","1528","201507",null,"Pes","6866/Pes/201606",{"$f":"IF(J56686=0,0,+CONCATENATE(VLOOKUP(B56686,Cadastro!$Q$3:$R$162,2,FALSE),\"/\",J56686,\"/\",D56686))","v":"20/Pes/201606"},"Pes/201606","6866/201606","6866/0986/201606","20/201606","20/0986/201606","0986/201606","Aero","6785/Aero/201507",{"$f":"+CONCATENATE(VLOOKUP(F56686,Cadastro!$Q$3:$R$162,2,FALSE),\"/\",S56686,\"/\",H56686)","v":"15/Aero/201507"},"Aero/201507","6785/201507","6785/1528/201507","15/201507","15/1528/201507","1528/201507",0,0,0,0,0,0,0,0,0,0]
[null,"06866","0990","201602",null,"06785","1597","201503",null,"Pes","6866/Pes/201602",{"$f":"IF(J56706=0,0,+CONCATENATE(VLOOKUP(B56706,Cadastro!$Q$3:$R$162,2,FALSE),\"/\",J56706,\"/\",D56706))","v":"20/Pes/201602"},"Pes/201602","6866/201602","6866/0990/201602","20/201602","20/0990/201602","0990/201602","Aero","6785/Aero/201503",{"$f":"+CONCATENATE(VLOOKUP(F56706,Cadastro!$Q$3:$R$162,2,FALSE),\"/\",S56706,\"/\",H56706)","v":"15/Aero/201503"},"Aero/201503","6785/201503","6785/1597/201503","15/201503","15/1597/201503","1597/201503",7172420.29,0,7172420.29,0,7171483.5899999999,0,-50576.09,0,2319982.37,0]
[null,"06866","1163","201603",null,"06793","0118","201504",null,"Rur","6866/Rur/201603",{"$f":"IF(J56791=0,0,+CONCATENATE(VLOOKUP(B56791,Cadastro!$Q$3:$R$162,2,FALSE),\"/\",J56791,\"/\",D56791))","v":"20/Rur/201603"},"Rur/201603","6866/201603","6866/1163/201603","20/201603","20/1163/201603","1163/201603","Pat","6793/Pat/201504",{"$f":"+CONCATENATE(VLOOKUP(F56791,Cadastro!$Q$3:$R$162,2,FALSE),\"/\",S56791,\"/\",H56791)","v":"42/Pat/201504"},"Pat/201504","6793/201504","6793/0118/201504","42/201504","42/0118/201504","0118/201504",0,0,0,0,0,120.72,0,-23.54,0,-4.4000000000000004]
[null,"06866","1377","201612",null,"06793","0433","201501",null,"Pes","6866/Pes/201612",{"$f":"IF(J56872=0,0,+CONCATENATE(VLOOKUP(B56872,Cadastro!$Q$3:$R$162,2,FALSE),\"/\",J56872,\"/\",D56872))","v":"20/Pes/201612"},"Pes/201612","6866/201612","6866/1377/201612","20/201612","20/1377/201612","1377/201612","Mar","6793/Mar/201501",{"$f":"+CONCATENATE(VLOOKUP(F56872,Cadastro!$Q$3:$R$162,2,FALSE),\"/\",S56872,\"/\",H56872)","v":"42/Mar/201501"},"Mar/201501","6793/201501","6793/0433/201501","42/201501","42/0433/201501","0433/201501",5882134.2300000004,0,5882134.2300000004,0,989921.22,0,48827.82,0,2066378,0]
[null,"06866","1381","201607",null,"06793","0435","201508",null,"Pes","6866/Pes/201607",{"$f":"IF(J56891=0,0,+CONCATENATE(VLOOKUP(B56891,Cadastro!$Q$3:$R$162,2,FALSE),\"/\",J56891,\"/\",D56891))","v":"20/Pes/201607"},"Pes/201607","6866/201607","6866/1381/201607","20/201607","20/1381/201607","1381/201607","Aero","6793/Aero/201508",{"$f":"+CONCATENATE(VLOOKUP(F56891,Cadastro!$Q$3:$R$162,2,FALSE),\"/\",S56891,\"/\",H56891)","v":"42/Aero/201508"},"Aero/201508","6793/201508","6793/0435/201508","42/201508","42/0435/201508","0435/201508",5315048.99,0,5315048.99,0,7220236.6900000004,0,4795167.3099999996,0,653538.73,0]
[null,"06866","1392","201604",null,"06793","0621","201505",null,"VGBL","6866/VGBL/201604",{"$f":"IF(J56972=0,0,+CONCATENATE(VLOOKUP(B56972,Cadastro!$Q$3:$R$162,2,FALSE),\"/\",J56972,\"/\",D56972))","v":"20/VGBL/201604"},"VGBL/201604","6866/201604","6866/1392/201604","20/201604","20/1392/201604","1392/201604","Transp","6793/Transp/201505",{"$f":"+CONCATENATE(VLOOKUP(F56972,Cadastro!$Q$3:$R$162,2,FALSE),\"/\",S56972,\"/\",H56972)","v":"42/Transp/201505"},"Transp/201505","6793/201505","6793/0621/201505","42/201505","42/0621/201505","0621/201505",1645405354.5599999,0,1645405354.5599999,0,0,0,0,0,9142774.9199999999,0]
[null,"06912","0141","201605",null,"06793","0745","201506",null,"Pat","6912/Pat/201605",{"$f":"IF(J57057=0,0,+CONCATENATE(VLOOKUP(B57057,Cadastro!$Q$3:$R$162,2,FALSE),\"/\",J57057,\"/\",D57057))","v":"46/Pat/201605"},"Pat/201605","6912/201605","6912/0141/201605","46/201605","46/0141/201605","0141/201605","RF","6793/RF/201506",{"$f":"+CONCATENATE(VLOOKUP(F57057,Cadastro!$Q$3:$R$162,2,FALSE),\"/\",S57057,\"/\",H57057)","v":"42/RF/201506"},"RF/201506","6793/201506","6793/0745/201506","42/201506","42/0745/201506","0745/201506",0,0,0,0,0,0,0,0,0,0]
[null,"06912","0310","201611",null,"06793","0860","201512",null,"Res","6912/Res/201611",{"$f":"IF(J57135=0,0,+CONCATENATE(VLOOKUP(B57135,Cadastro!$Q$3:$R$162,2,FALSE),\"/\",J57135,\"/\",D57135))","v":"46/Res/201611"},"Res/201611","6912/201611","6912/0310/201611","46/201611","46/0310/201611","0310/201611","RF","6793/RF/201512",{"$f":"+CONCATENATE(VLOOKUP(F57135,Cadastro!$Q$3:$R$162,2,FALSE),\"/\",S57135,\"/\",H57135)","v":"42/RF/201512"},"RF/201512","6793/201512","6793/0860/201512","42/201512","42/0860/201512","0860/201512",0,0,0,0,0,0,0,0,0,0]
[null,"06912","0378","201609",null,"06793","0929","201510",null,{"$f":"IF(C57157=0,0,+VLOOKUP(C57157,$AQ$4:$AR$130,2,FALSE))","v":"Res"},"6912/Res/201609",{"$f":"IF(J57157=0,0,+CONCATENATE(VLOOKUP(B57157,Cadastro!$Q$3:$R$162,2,FALSE),\"/\",J57157,\"/\",D57157))","v":"46/Res/201609"},"Res/201609","6912/201609","6912/0378/201609","46/201609","46/0378/201609","0378/201609",{"$f":"+VLOOKUP(G57157,$AQ$4:$AR$130,2,FALSE)","v":"Pes"},"6793/Pes/201510",{"$f":"+CONCATENATE(VLOOKUP(F57157,Cadastro!$Q$3:$R$162,2,FALSE),\"/\",S57157,\"/\",H57157)","v":"42/Pes/201510"},"Pes/201510","6793/201510","6793/0929/201510","42/201510","42/0929/201510","0929/201510",0,12068.17,0,12068.17,0,12126.61,0,-20722.52,0,7551.17]
[null,"06912","0531","201610",null,"06793","1107","201511",null,"Aut","6912/Aut/201610",{"$f":"IF(J57242=0,0,+CONCATENATE(VLOOKUP(B57242,Cadastro!$Q$3:$R$162,2,FALSE),\"/\",J57242,\"/\",D57242))","v":"46/Aut/201610"},"Aut/201610","6912/201610","6912/0531/201610","46/201610","46/0531/201610","0531/201610","Rur","6793/Rur/201511",{"$f":"+CONCATENATE(VLOOKUP(F57242,Cadastro!$Q$3:$R$162,2,FALSE),\"/\",S57242,\"/\",H57242)","v":"42/Rur/201511"},"Rur/201511","6793/201511","6793/1107/201511","42/201511","42/1107/201511","1107/201511",0,0,0,0,0,0,0,0,0,0]
[null,"06912","0627","201611",null,"06793","1597","201512",null,"Transp","6912/Transp/201611",{"$f":"IF(J57327=0,0,+CONCATENATE(VLOOKUP(B57327,Cadastro!$Q$3:$R$162,2,FALSE),\"/\",J57327,\"/\",D57327))","v":"46/Transp/201611"},"Transp/201611","6912/201611","6912/0627/201611","46/201611","46/0627/201611","0627/201611","Aero","6793/Aero/201512",{"$f":"+CONCATENATE(VLOOKUP(F57327,Cadastro!$Q$3:$R$162,2,FALSE),\"/\",S57327,\"/\",H57327)","v":"42/Aero/201512"},"Aero/201512","6793/201512","6793/1597/201512","42/201512","42/1597/201512","1597/201512",0,0,0,0,0,0,0,0,0,0]
[null,"06912","0655","201610",null,"06831","0173","201511",null,"Transp","6912/Transp/201610",{"$f":"IF(J57398=0,0,+CONCATENATE(VLOOKUP(B57398,Cadastro!$Q$3:$R$162,2,FALSE),\"/\",J57398,\"/\",D57398))","v":"46/Transp/201610"},"Transp/201610","6912/201610","6912/0655/201610","46/201610","46/0655/201610","0655/201610","Pat","6831/Pat/201511",{"$f":"+CONCATENATE(VLOOKUP(F57398,Cadastro!$Q$3:$R$162,2,FALSE),\"/\",S57398,\"/\",H57398)","v":"67/Pat/201511"},"Pat/201511","6831/201511","6831/0173/201511","67/201511","67/0173/201511","0173/201511",0,0,0,0,0,0,0,0,0,0]
[null,"06912","0739","201603",null,"06831","0274","201504",null,"RF","6912/RF/201603",{"$f":"IF(J57427=0,0,+CONCATENATE(VLOOKUP(B57427,Cadastro!$Q$3:$R$162,2,FALSE),\"/\",J57427,\"/\",D57427))","v":"46/RF/201603"},"RF/201603","6912/201603","6912/0739/201603","46/201603","46/0739/201603","0739/201603","RE","6831/RE/201504",{"$f":"+CONCATENATE(VLOOKUP(F57427,Cadastro!$Q$3:$R$162,2,FALSE),\"/\",S57427,\"/\",H57427)","v":"67/RE/201504"},"RE/201504","6831/201504","6831/0274/201504","67/201504","67/0274/201504","0274/201504",0,0,0,0,0,0,0,0,0,0]
[null,"06912","0860","201612",null,"06831","0544","201501",null,"RF","6912/RF/201612",{"$f":"IF(J57508=0,0,+CONCATENATE(VLOOKUP(B57508,Cadastro!$Q$3:$R$162,2,FALSE),\"/\",J57508,\"/\",D57508))","v":"46/RF/201612"},"RF/201612","6912/201612","6912/0860/201612","46/201612","46/0860/201612","0860/201612","Aut","6831/Aut/201501",{"$f":"+CONCATENATE(VLOOKUP(F57508,Cadastro!$Q$3:$R$162,2,FALSE),\"/\",S57508,\"/\",H57508)","v":"67/Aut/201501"},"Aut/201501","6831/201501","6831/0544/201501","67/201501","67/0544/201501","0544/201501",0,0,0,0,0,0,0,0,0,0]
[null,"06912","0990","201601",null,"06831","0654","201502",null,"Pes","6912/Pes/201601",{"$f":"IF(J57593=0,0,+CONCATENATE(VLOOKUP(B57593,Cadastro!$Q$3:$R$162,2,FALSE),\"/\",J57593,\"/\",D57593))","v":"46/Pes/201601"},"Pes/201601","6912/201601","6912/0990/201601","46/201601","46/0990/201601","0990/201601","Transp","6831/Transp/201502",{"$f":"+CONCATENATE(VLOOKUP(F57593,Cadastro!$Q$3:$R$162,2,FALSE),\"/\",S57593,\"/\",H57593)","v":"67/Transp/201502"},"Transp/201502","6831/201502","6831/0654/201502","67/201502","67/0654/201502","0654/201502",0,0,0,0,394.03,0,0,0,157.63,0]
[null,"06912","0993","201609",null,"06831","0655","201510",null,"Pes","6912/Pes/201609",{"$f":"IF(J57613=0,0,+CONCATENATE(VLOOKUP(B57613,Cadastro!$Q$3:$R$162,2,FALSE),\"/\",J57613,\"/\",D57613))","v":"46/Pes/201609"},"Pes/201609","6912/201609","6912/0993/201609","46/201609","46/0993/201609","0993/201609","Transp","6831/Transp/201510",{"$f":"+CONCATENATE(VLOOKUP(F57613,Cadastro!$Q$3:$R$162,2,FALSE),\"/\",S57613,\"/\",H57613)","v":"67/Transp/201510"},"Transp/201510","6831/201510","6831/0655/201510","67/201510","67/0655/201510","0655/201510",339922.5,0,339922.5,0,1318642.76,0,985789.54,0,796216.09,0]
[null,"06912","1433","201611",null,"06831","0936","201512",null,"Mar","6912/Mar/201611",{"$f":"IF(J57711=0,0,+CONCATENATE(VLOOKUP(B57711,Cadastro!$Q$3:$R$162,2,FALSE),\"/\",J57711,\"/\",D57711))","v":"46/Mar/201611"},"Mar/201611","6912/201611","6912/1433/201611","46/201611","46/1433/201611","1433/201611","Pes","6831/Pes/201512",{"$f":"+CONCATENATE(VLOOKUP(F57711,Cadastro!$Q$3:$R$162,2,FALSE),\"/\",S57711,\"/\",H57711)","v":"67/Pes/201512"},"Pes/201512","6831/201512","6831/0936/201512","67/201512","67/0936/201512","0936/201512",0,0,0,0,0,0,0,0,0,0]
[null,"06921","0116","201606",null,"06831","0993","201507",null,"Pat","6921/Pat/201606",{"$f":"IF(J57778=0,0,+CONCATENATE(VLOOKUP(B57778,Cadastro!$Q$3:$R$162,2,FALSE),\"/\",J57778,\"/\",D57778))","v":"45/Pat/201606"},"Pat/201606","6921/201606","6921/0116/201606","45/201606","45/0116/201606","0116/201606","Pes","6831/Pes/201507",{"$f":"+CONCATENATE(VLOOKUP(F57778,Cadastro!$Q$3:$R$162,2,FALSE),\"/\",S57778,\"/\",H57778)","v":"67/Pes/201507"},"Pes/201507","6831/201507","6831/0993/201507","67/201507","67/0993/201507","0993/201507",0,2640700.4500000002,0,2550774.16,69.760000000000005,2548312.17,-4.75,589911.34,14.49,598112.96]
[null,"06921","0141","201602",null,"06831","1068","201503",null,"Pat","6921/Pat/201602",{"$f":"IF(J57798=0,0,+CONCATENATE(VLOOKUP(B57798,Cadastro!$Q$3:$R$162,2,FALSE),\"/\",J57798,\"/\",D57798))","v":"45/Pat/201602"},"Pat/201602","6921/201602","6921/0141/201602","45/201602","45/0141/201602","0141/201602","Hab","6831/Hab/201503",{"$f":"+CONCATENATE(VLOOKUP(F57798,Cadastro!$Q$3:$R$162,2,FALSE),\"/\",S57798,\"/\",H57798)","v":"67/Hab/201503"},"Hab/201503","6831/201503","6831/1068/201503","67/201503","67/1068/201503","1068/201503",28.67,0,28.67,0,10.51,0,0.8,0,1.48,0]
[null,"06921","0351","201611",null,"06831","1299","201512",null,"Res","6921/Res/201611",{"$f":"IF(J57879=0,0,+CONCATENATE(VLOOKUP(B57879,Cadastro!$Q$3:$R$162,2,FALSE),\"/\",J57879,\"/\",D57879))","v":"45/Res/201611"},"Res/201611","6921/201611","6921/0351/201611","45/201611","45/0351/201611","0351/201611","Out","6831/Out/201512",{"$f":"+CONCATENATE(VLOOKUP(F57879,Cadastro!$Q$3:$R$162,2,FALSE),\"/\",S57879,\"/\",H57879)","v":"67/Out/201512"},"Out/201512","6831/201512","6831/1299/201512","67/201512","67/1299/201512","1299/201512",382.75,0,382.75,0,580.9,0,117117.83,0,230.5,0]
[null,"06921","0589","201602",null,"06866","0234","201504",null,"Dpvat","6921/Dpvat/201602",{"$f":"IF(J57974=0,0,+CONCATENATE(VLOOKUP(B57974,Cadastro!$Q$3:$R$162,2,FALSE),\"/\",J57974,\"/\",D57974))","v":"45/Dpvat/201602"},"Dpvat/201602","6921/201602","6921/0589/201602","45/201602","45/0589/201602","0589/201602","RE","6866/RE/201504",{"$f":"+CONCATENATE(VLOOKUP(F57974,Cadastro!$Q$3:$R$162,2,FALSE),\"/\",S57974,\"/\",H57974)","v":"20/RE/201504"},"RE/201504","6866/201504","6866/0234/201504","20/201504","20/0234/201504","0234/201504",0,0,0,0,0,0,0,0,0,0]
[null,"06921","0654","201612",null,"06866","0621","201501",null,"Transp","6921/Transp/201612",{"$f":"IF(J58044=0,0,+CONCATENATE(VLOOKUP(B58044,Cadastro!$Q$3:$R$162,2,FALSE),\"/\",J58044,\"/\",D58044))","v":"45/Transp/201612"},"Transp/201612","6921/201612","6921/0654/201612","45/201612","45/0654/201612","0654/201612","Transp","6866/Transp/201501",{"$f":"+CONCATENATE(VLOOKUP(F58044,Cadastro!$Q$3:$R$162,2,FALSE),\"/\",S58044,\"/\",H58044)","v":"20/Transp/201501"},"Transp/201501","6866/201501","6866/0621/201501","20/201501","20/0621/201501","0621/201501",0,0,0,0,0,0,0,0,0,0]
[null,"06921","0739","201608",null,"06866","0622","201509",null,"RF","6921/RF/201608",{"$f":"IF(J58064=0,0,+CONCATENATE(VLOOKUP(B58064,Cadastro!$Q$3:$R$162,2,FALSE),\"/\",J58064,\"/\",D58064))","v":"45/RF/201608"},"RF/201608","6921/201608","6921/0739/201608","45/201608","45/0739/201608","0739/201608","Transp","6866/Transp/201509",{"$f":"+CONCATENATE(VLOOKUP(F58064,Cadastro!$Q$3:$R$162,2,FALSE),\"/\",S58064,\"/\",H58064)","v":"20/Transp/201509"},"Transp/201509","6866/201509","6866/0622/201509","20/201509","20/0622/201509","0622/201509",0,0,0,0,0,0,0,0,0,0]
[null,"06921","0860","201609",null,"06866","0977","201510",null,"RF","6921/RF/201609",{"$f":"IF(J58149=0,0,+CONCATENATE(VLOOKUP(B58149,Cadastro!$Q$3:$R$162,2,FALSE),\"/\",J58149,\"/\",D58149))","v":"45/RF/201609"},"RF/201609","6921/201609","6921/0860/201609","45/201609","45/0860/201609","0860/201609","Pes","6866/Pes/201510",{"$f":"+CONCATENATE(VLOOKUP(F58149,Cadastro!$Q$3:$R$162,2,FALSE),\"/\",S58149,\"/\",H58149)","v":"20/Pes/201510"},"Pes/201510","6866/201510","6866/0977/201510","20/201510","20/0977/201510","0977/201510",0,102864716.70999999,0,102864716.70999999,0,83365889.010000005,0,14073546.33,0,14972383.560000001]
[null,"06921","1101","201601",null,"06866","0990","201502",null,"Rur","6921/Rur/201601",{"$f":"IF(J58237=0,0,+CONCATENATE(VLOOKUP(B58237,Cadastro!$Q$3:$R$162,2,FALSE),\"/\",J58237,\"/\",D58237))","v":"45/Rur/201601"},"Rur/201601","6921/201601","6921/1101/201601","45/201601","45/1101/201601","1101/201601","Pes","6866/Pes/201502",{"$f":"+CONCATENATE(VLOOKUP(F58237,Cadastro!$Q$3:$R$162,2,FALSE),\"/\",S58237,\"/\",H58237)","v":"20/Pes/201502"},"Pes/201502","6866/201502","6866/0990/201502","20/201502","20/0990/201502","0990/201502",0,7791637.54,0,7791637.54,0,7792589.5700000003,0,-204791.28,0,2529476.02]
[null,"06921","1102","201601",null,"06866","0991","201502",null,"Rur","6921/Rur/201601",{"$f":"IF(J58249=0,0,+CONCATENATE(VLOOKUP(B58249,Cadastro!$Q$3:$R$162,2,FALSE),\"/\",J58249,\"/\",D58249))","v":"45/Rur/201601"},"Rur/201601","6921/201601","6921/1102/201601","45/201601","45/1102/201601","1102/201601","Pes","6866/Pes/201502",{"$f":"+CONCATENATE(VLOOKUP(F58249,Cadastro!$Q$3:$R$162,2,FALSE),\"/\",S58249,\"/\",H58249)","v":"20/Pes/201502"},"Pes/201502","6866/201502","6866/0991/201502","20/201502","20/0991/201502","0991/201502",0,0,0,0,0,0,0,-1683273.56,0,0]
[null,"06947","0111","201609",null,"06866","1163","201511",null,"Pat","6947/Pat/201609",{"$f":"IF(J58330=0,0,+CONCATENATE(VLOOKUP(B58330,Cadastro!$Q$3:$R$162,2,FALSE),\"/\",J58330,\"/\",D58330))","v":"77/Pat/201609"},"Pat/201609","6947/201609","6947/0111/201609","77/201609","77/0111/201609","0111/201609","Rur","6866/Rur/201511",{"$f":"+CONCATENATE(VLOOKUP(F58330,Cadastro!$Q$3:$R$162,2,FALSE),\"/\",S58330,\"/\",H58330)","v":"20/Rur/201511"},"Rur/201511","6866/201511","6866/1163/201511","20/201511","20/1163/201511","1163/201511",0,0,0,0,0,0,0,0,0,0]
[null,"06947","0171","201610",null,"06866","1381","201511",null,"Pat","6947/Pat/201610",{"$f":"IF(J58415=0,0,+CONCATENATE(VLOOKUP(B58415,Cadastro!$Q$3:$R$162,2,FALSE),\"/\",J58415,\"/\",D58415))","v":"77/Pat/201610"},"Pat/201610","6947/201610","6947/0171/201610","77/201610","77/0171/201610","0171/201610","Pes","6866/Pes/201511",{"$f":"+CONCATENATE(VLOOKUP(F58415,Cadastro!$Q$3:$R$162,2,FALSE),\"/\",S58415,\"/\",H58415)","v":"20/Pes/201511"},"Pes/201511","6866/201511","6866/1381/201511","20/201511","20/1381/201511","1381/201511",0,6611740.04,0,6466422.7400000002,0,7636023.8100000005,0,4679853.5600000005,0,946420]
[null,"06947","0196","201607",null,"06866","1384","201508",null,"Pat","6947/Pat/201607",{"$f":"IF(J58436=0,0,+CONCATENATE(VLOOKUP(B58436,Cadastro!$Q$3:$R$162,2,FALSE),\"/\",J58436,\"/\",D58436))","v":"77/Pat/201607"},"Pat/201607","6947/201607","6947/0196/201607","77/201607","77/0196/201607","0196/201607","Pes","6866/Pes/201508",{"$f":"+CONCATENATE(VLOOKUP(F58436,Cadastro!$Q$3:$R$162,2,FALSE),\"/\",S58436,\"/\",H58436)","v":"20/Pes/201508"},"Pes/201508","6866/201508","6866/1384/201508","20/201508","20/1384/201508","1384/201508",0,80586.080000000002,0,80586.080000000002,0,81384.53,0,2288.39,0,10712]
[null,"06947","0433","201602",null,"06912","0111","201503",null,"Mar","6947/Mar/201602",{"$f":"IF(J58515=0,0,+CONCATENATE(VLOOKUP(B58515,Cadastro!$Q$3:$R$162,2,FALSE),\"/\",J58515,\"/\",D58515))","v":"77/Mar/201602"},"Mar/201602","6947/201602","6947/0433/201602","77/201602","77/0433/201602","0433/201602","Pat","6912/Pat/201503",{"$f":"+CONCATENATE(VLOOKUP(F58515,Cadastro!$Q$3:$R$162,2,FALSE),\"/\",S58515,\"/\",H58515)","v":"46/Pat/201503"},"Pat/201503","6912/201503","6912/0111/201503","46/201503","46/0111/201503","0111/201503",0,0,0,0,0,0,0,0,0,0]
[null,"06947","0525","201603",null,"06912","0171","201504",null,"Aut","6947/Aut/201603",{"$f":"IF(J58600=0,0,+CONCATENATE(VLOOKUP(B58600,Cadastro!$Q$3:$R$162,2,FALSE),\"/\",J58600,\"/\",D58600))","v":"77/Aut/201603"},"Aut/201603","6947/201603","6947/0525/201603","77/201603","77/0525/201603","0525/201603","Pat","6912/Pat/201504",{"$f":"+CONCATENATE(VLOOKUP(F58600,Cadastro!$Q$3:$R$162,2,FALSE),\"/\",S58600,\"/\",H58600)","v":"46/Pat/201504"},"Pat/201504","6912/201504","6912/0171/201504","46/201504","46/0171/201504","0171/201504",0,0,0,0,0,0,0,0,0,0]
[null,"06947","0621","201604",null,"06912","0433","201505",null,"Transp","6947/Transp/201604",{"$f":"IF(J58685=0,0,+CONCATENATE(VLOOKUP(B58685,Cadastro!$Q$3:$R$162,2,FALSE),\"/\",J58685,\"/\",D58685))","v":"77/Transp/201604"},"Transp/201604","6947/201604","6947/0621/201604","77/201604","77/0621/201604","0621/201604","Mar","6912/Mar/201505",{"$f":"+CONCATENATE(VLOOKUP(F58685,Cadastro!$Q$3:$R$162,2,FALSE),\"/\",S58685,\"/\",H58685)","v":"46/Mar/201505"},"Mar/201505","6912/201505","6912/0433/201505","46/201505","46/0433/201505","0433/201505",0,0,0,0,0,0,0,0,0,0]
[null,"06947","0622","201606",null,"06912","0435","201507",null,"Transp","6947/Transp/201606",{"$f":"IF(J58699=0,0,+CONCATENATE(VLOOKUP(B58699,Cadastro!$Q$3:$R$162,2,FALSE),\"/\",J58699,\"/\",D58699))","v":"77/Transp/201606"},"Transp/201606","6947/201606","6947/0622/201606","77/201606","77/0622/201606","0622/201606","Aero","6912/Aero/201507",{"$f":"+CONCATENATE(VLOOKUP(F58699,Cadastro!$Q$3:$R$162,2,FALSE),\"/\",S58699,\"/\",H58699)","v":"46/Aero/201507"},"Aero/201507","6912/201507","6912/0435/201507","46/201507","46/0435/201507","0435/201507",0,0,0,0,0,0,0,0,0,0]
[null,"06947","0656","201608",null,"06912","0553","201509",null,"Transp","6947/Transp/201608",{"$f":"IF(J58785=0,0,+CONCATENATE(VLOOKUP(B58785,Cadastro!$Q$3:$R$162,2,FALSE),\"/\",J58785,\"/\",D58785))","v":"77/Transp/201608"},"Transp/201608","6947/201608","6947/0656/201608","77/201608","77/0656/201608","0656/201608","Aut","6912/Aut/201509",{"$f":"+CONCATENATE(VLOOKUP(F58785,Cadastro!$Q$3:$R$162,2,FALSE),\"/\",S58785,\"/\",H58785)","v":"46/Aut/201509"},"Aut/201509","6912/201509","6912/0553/201509","46/201509","46/0553/201509","0553/201509",0,0,0,0,0,0,0,0,0,0]
[null,"06947","0750","201605",null,"06912","0638","201506",null,"RF","6947/RF/201605",{"$f":"IF(J58866=0,0,+CONCATENATE(VLOOKUP(B58866,Cadastro!$Q$3:$R$162,2,FALSE),\"/\",J58866,\"/\",D58866))","v":"77/RF/201605"},"RF/201605","6947/201605","6947/0750/201605","77/201605","77/0750/201605","0750/201605","Transp","6912/Transp/201506",{"$f":"+CONCATENATE(VLOOKUP(F58866,Cadastro!$Q$3:$R$162,2,FALSE),\"/\",S58866,\"/\",H58866)","v":"46/Transp/201506"},"Transp/201506","6912/201506","6912/0638/201506","46/201506","46/0638/201506","0638/201506",0,0,0,0,0,0,0,0,0,0]
[null,"06947","0936","201606",null,"06912","0739","201507",null,"Pes","6947/Pes/201606",{"$f":"IF(J58951=0,0,+CONCATENATE(VLOOKUP(B58951,Cadastro!$Q$3:$R$162,2,FALSE),\"/\",J58951,\"/\",D58951))","v":"77/Pes/201606"},"Pes/201606","6947/201606","6947/0936/201606","77/201606","77/0936/201606","0936/201606","RF","6912/RF/201507",{"$f":"+CONCATENATE(VLOOKUP(F58951,Cadastro!$Q$3:$R$162,2,FALSE),\"/\",S58951,\"/\",H58951)","v":"46/RF/201507"},"RF/201507","6912/201507","6912/0739/201507","46/201507","46/0739/201507","0739/201507",0,0,0,0,0,0,0,0,0,0]
[null,"06947","0969","201605",null,"06912","0740","201506",null,"Pes","6947/Pes/201605",{"$f":"IF(J58962=0,0,+CONCATENATE(VLOOKUP(B58962,Cadastro!$Q$3:$R$162,2,FALSE),\"/\",J58962,\"/\",D58962))","v":"77/Pes/201605"},"Pes/201605","6947/201605","6947/0969/201605","77/201605","77/0969/201605","0969/201605","RF","6912/RF/201506",{"$f":"+CONCATENATE(VLOOKUP(F58962,Cadastro!$Q$3:$R$162,2,FALSE),\"/\",S58962,\"/\",H58962)","v":"46/RF/201506"},"RF/201506","6912/201506","6912/0740/201506","46/201506","46/0740/201506","0740/201506",61.34,0,61.34,0,1239.5999999999999,0,30.03,0,0.13,0]
[null,"06947","0991","201610",null,"06912","0969","201511",null,"Pes","6947/Pes/201610",{"$f":"IF(J59051=0,0,+CONCATENATE(VLOOKUP(B59051,Cadastro!$Q$3:$R$162,2,FALSE),\"/\",J59051,\"/\",D59051))","v":"77/Pes/201610"},"Pes/201610","6947/201610","6947/0991/201610","77/201610","77/0991/201610","0991/201610","Pes","6912/Pes/201511",{"$f":"+CONCATENATE(VLOOKUP(F59051,Cadastro!$Q$3:$R$162,2,FALSE),\"/\",S59051,\"/\",H59051)","v":"46/Pes/201511"},"Pes/201511","6912/201511","6912/0969/201511","46/201511","46/0969/201511","0969/201511",0,0,0,0,0,0,0,0,0,0]
[null,"06947","1101","201611",null,"06912","0993","201512",null,"Rur","6947/Rur/201611",{"$f":"IF(J59136=0,0,+CONCATENATE(VLOOKUP(B59136,Cadastro!$Q$3:$R$162,2,FALSE),\"/\",J59136,\"/\",D59136))","v":"77/Rur/201611"},"Rur/201611","6947/201611","6947/1101/201611","77/201611","77/1101/201611","1101/201611","Pes","6912/Pes/201512",{"$f":"+CONCATENATE(VLOOKUP(F59136,Cadastro!$Q$3:$R$162,2,FALSE),\"/\",S59136,\"/\",H59136)","v":"46/Pes/201512"},"Pes/201512","6912/201512","6912/0993/201512","46/201512","46/0993/201512","0993/201512",0,940308.65,0,940308.65,0,2169474.96,0,-47572.61,0,1495339.06]
[null,"06947","1103","201603",null,"06912","1162","201504",null,"Rur","6947/Rur/201603",{"$f":"IF(J59152=0,0,+CONCATENATE(VLOOKUP(B59152,Cadastro!$Q$3:$R$162,2,FALSE),\"/\",J59152,\"/\",D59152))","v":"77/Rur/201603"},"Rur/201603","6947/201603","6947/1103/201603","77/201603","77/1103/201603","1103/201603","Rur","6912/Rur/201504",{"$f":"+CONCATENATE(VLOOKUP(F59152,Cadastro!$Q$3:$R$162,2,FALSE),\"/\",S59152,\"/\",H59152)","v":"46/Rur/201504"},"Rur/201504","6912/201504","6912/1162/201504","46/201504","46/1162/201504","1162/201504",0,0,0,0,0,0,0,0,0,0]
[null,"06947","1109","201604",null,"06912","1433","201505",null,"Rur","6947/Rur/201604",{"$f":"IF(J59225=0,0,+CONCATENATE(VLOOKUP(B59225,Cadastro!$Q$3:$R$162,2,FALSE),\"/\",J59225,\"/\",D59225))","v":"77/Rur/201604"},"Rur/201604","6947/201604","6947/1109/201604","77/201604","77/1109/201604","1109/201604","Mar","6912/Mar/201505",{"$f":"+CONCATENATE(VLOOKUP(F59225,Cadastro!$Q$3:$R$162,2,FALSE),\"/\",S59225,\"/\",H59225)","v":"46/Mar/201505"},"Mar/201505","6912/201505","6912/1433/201505","46/201505","46/1433/201505","1433/201505",0,0,0,0,0,0,0,0,0,0]
[null,"06947","1392","201604",null,"06921","0141","201505",null,"VGBL",{"$f":"IF(J59321=0,0,+CONCATENATE(VALUE(B59321),\"/\",J59321,\"/\",D59321))","v":"6947/VGBL/201604"},{"$f":"IF(J59321=0,0,+CONCATENATE(VLOOKUP(B59321,Cadastro!$Q$3:$R$162,2,FALSE),\"/\",J59321,\"/\",D59321))","v":"77/VGBL/201604"},{"$f":"IF(J59321=0,0,+CONCATENATE(J59321,\"/\",D59321))","v":"VGBL/201604"},"6947/201604","6947/1392/201604","77/201604","77/1392/201604","1392/201604","Pat",{"$f":"+CONCATENATE(VALUE(F59321),\"/\",S59321,\"/\",H59321)","v":"6921/Pat/201505"},{"$f":"+CONCATENATE(VLOOKUP(F59321,Cadastro!$Q$3:$R$162,2,FALSE),\"/\",S59321,\"/\",H59321)","v":"45/Pat/201505"},{"$f":"+CONCATENATE(S59321,\"/\",H59321)","v":"Pat/201505"},"6921/201505","6921/0141/201505","45/201505","45/0141/201505","0141/201505",251519.35999999999,0,251519.35999999999,0,0,0.57999999999999996,0,0,0,0.03]
[null,"06998","0173","201601",null,"06921","0378","201502",null,"Pat","6998/Pat/201601",{"$f":"IF(J59402=0,0,+CONCATENATE(VLOOKUP(B59402,Cadastro!$Q$3:$R$162,2,FALSE),\"/\",J59402,\"/\",D59402))","v":"27/Pat/201601"},"Pat/201601","6998/201601","6998/0173/201601","27/201601","27/0173/201601","0173/201601","Res","6921/Res/201502",{"$f":"+CONCATENATE(VLOOKUP(F59402,Cadastro!$Q$3:$R$162,2,FALSE),\"/\",S59402,\"/\",H59402)","v":"45/Res/201502"},"Res/201502","6921/201502","6921/0378/201502","45/201502","45/0378/201502","0378/201502",0,0,0,0,0,0,0,0,0,0]
[null,"06998","0234","201609",null,"06921","0433","201510",null,"RE","6998/RE/201609",{"$f":"IF(J59422=0,0,+CONCATENATE(VLOOKUP(B59422,Cadastro!$Q$3:$R$162,2,FALSE),\"/\",J59422,\"/\",D59422))","v":"27/RE/201609"},"RE/201609","6998/201609","6998/0234/201609","27/201609","27/0234/201609","0234/201609","Mar","6921/Mar/201510",{"$f":"+CONCATENATE(VLOOKUP(F59422,Cadastro!$Q$3:$R$162,2,FALSE),\"/\",S59422,\"/\",H59422)","v":"45/Mar/201510"},"Mar/201510","6921/201510","6921/0433/201510","45/201510","45/0433/201510","0433/201510",0,0,0,0,0,0,0,0,0,0]
[null,"06998","0588","201603",null,"06921","0589","201504",null,"Dpvat","6998/Dpvat/201603",{"$f":"IF(J59488=0,0,+CONCATENATE(VLOOKUP(B59488,Cadastro!$Q$3:$R$162,2,FALSE),\"/\",J59488,\"/\",D59488))","v":"27/Dpvat/201603"},"Dpvat/201603","6998/201603","6998/0588/201603","27/201603","27/0588/201603","0588/201603","Dpvat","6921/Dpvat/201504",{"$f":"+CONCATENATE(VLOOKUP(F59488,Cadastro!$Q$3:$R$162,2,FALSE),\"/\",S59488,\"/\",H59488)","v":"45/Dpvat/201504"},"Dpvat/201504","6921/201504","6921/0589/201504","45/201504","45/0589/201504","0589/201504",3450765.61,0,3450765.61,0,3381093.61,0,2937328.62,0,48322.68,0]
[null,"06998","0746","201606",null,"06921","0740","201507",null,"RF","6998/RF/201606",{"$f":"IF(J59587=0,0,+CONCATENATE(VLOOKUP(B59587,Cadastro!$Q$3:$R$162,2,FALSE),\"/\",J59587,\"/\",D59587))","v":"27/RF/201606"},"RF/201606","6998/201606","6998/0746/201606","27/201606","27/0746/201606","0746/201606","RF","6921/RF/201507",{"$f":"+CONCATENATE(VLOOKUP(F59587,Cadastro!$Q$3:$R$162,2,FALSE),\"/\",S59587,\"/\",H59587)","v":"45/RF/201507"},"RF/201507","6921/201507","6921/0740/201507","45/201507","45/0740/201507","0740/201507",0,0,0,0,0,0,0,0,0,0]
[null,"06998","0748","201602",null,"06921","0746","201503",null,"RF","6998/RF/201602",{"$f":"IF(J59607=0,0,+CONCATENATE(VLOOKUP(B59607,Cadastro!$Q$3:$R$162,2,FALSE),\"/\",J59607,\"/\",D59607))","v":"27/RF/201602"},"RF/201602","6998/201602","6998/0748/201602","27/201602","27/0748/201602","0748/201602","RF","6921/RF/201503",{"$f":"+CONCATENATE(VLOOKUP(F59607,Cadastro!$Q$3:$R$162,2,FALSE),\"/\",S59607,\"/\",H59607)","v":"45/RF/201503"},"RF/201503","6921/201503","6921/0746/201503","45/201503","45/0746/201503","0746/201503",4344755.34,146668.88,3078965.3899999997,146668.88,1296126.4800000002,171426.35,214889.03999999992,88751.87,100615.84,53941.66]
[null,"06998","0859","201611",null,"06921","0977","201512",null,"RF","6998/RF/201611",{"$f":"IF(J59688=0,0,+CONCATENATE(VLOOKUP(B59688,Cadastro!$Q$3:$R$162,2,FALSE),\"/\",J59688,\"/\",D59688))","v":"27/RF/201611"},"RF/201611","6998/201611","6998/0859/201611","27/201611","27/0859/201611","0859/201611","Pes","6921/Pes/201512",{"$f":"+CONCATENATE(VLOOKUP(F59688,Cadastro!$Q$3:$R$162,2,FALSE),\"/\",S59688,\"/\",H59688)","v":"45/Pes/201512"},"Pes/201512","6921/201512","6921/0977/201512","45/201512","45/0977/201512","0977/201512",0,619.79,0,619.79,0,602.54999999999995,0,-112.36,0,229.33]
[null,"06998","1068","201602",null,"06921","1101","201503",null,"Hab","6998/Hab/201602",{"$f":"IF(J59751=0,0,+CONCATENATE(VLOOKUP(B59751,Cadastro!$Q$3:$R$162,2,FALSE),\"/\",J59751,\"/\",D59751))","v":"27/Hab/201602"},"Hab/201602","6998/201602","6998/1068/201602","27/201602","27/1068/201602","1068/201602","Rur","6921/Rur/201503",{"$f":"+CONCATENATE(VLOOKUP(F59751,Cadastro!$Q$3:$R$162,2,FALSE),\"/\",S59751,\"/\",H59751)","v":"45/Rur/201503"},"Rur/201503","6921/201503","6921/1101/201503","45/201503","45/1101/201503","1101/201503",0,0,0,0,0,0,0,0,0,0]
[null,"08141","0994","201612",null,"06947","0115","201501",null,"VGBL","8141/VGBL/201612",{"$f":"IF(J59857=0,0,+CONCATENATE(VLOOKUP(B59857,Cadastro!$Q$3:$R$162,2,FALSE),\"/\",J59857,\"/\",D59857))","v":"22/VGBL/201612"},"VGBL/201612","8141/201612","8141/0994/201612","22/201612","22/0994/201612","0994/201612","Pat","6947/Pat/201501",{"$f":"+CONCATENATE(VLOOKUP(F59857,Cadastro!$Q$3:$R$162,2,FALSE),\"/\",S59857,\"/\",H59857)","v":"77/Pat/201501"},"Pat/201501","6947/201501","6947/0115/201501","77/201501","77/0115/201501","0115/201501",27862868.23,0,27862868.23,0,0,0,0,0,316343.61,0]
[null,"08141","1391","201604",null,"06947","0116","201505",null,"Pes","8141/Pes/201604",{"$f":"IF(J59873=0,0,+CONCATENATE(VLOOKUP(B59873,Cadastro!$Q$3:$R$162,2,FALSE),\"/\",J59873,\"/\",D59873))","v":"22/Pes/201604"},"Pes/201604","8141/201604","8141/1391/201604","22/201604","22/1391/201604","1391/201604","Pat","6947/Pat/201505",{"$f":"+CONCATENATE(VLOOKUP(F59873,Cadastro!$Q$3:$R$162,2,FALSE),\"/\",S59873,\"/\",H59873)","v":"77/Pat/201505"},"Pat/201505","6947/201505","6947/0116/201505","77/201505","77/0116/201505","0116/201505",7973951.29,0,7973951.29,0,6275823.2400000002,0,578246.17000000004,0,490.71,0]
[null,"08737","0118","201605",null,"06947","0234","201506",null,"Pat","8737/Pat/201605",{"$f":"IF(J59958=0,0,+CONCATENATE(VLOOKUP(B59958,Cadastro!$Q$3:$R$162,2,FALSE),\"/\",J59958,\"/\",D59958))","v":"2/Pat/201605"},"Pat/201605","8737/201605","8737/0118/201605","2/201605","2/0118/201605","0118/201605","RE","6947/RE/201506",{"$f":"+CONCATENATE(VLOOKUP(F59958,Cadastro!$Q$3:$R$162,2,FALSE),\"/\",S59958,\"/\",H59958)","v":"77/RE/201506"},"RE/201506","6947/201506","6947/0234/201506","77/201506","77/0234/201506","0234/201506",671645.67,0,630232.82000000007,0,415298.86000000004,0,311766.18,0,98847.93,0]
[null,"08737","0195","201601",null,"06947","0378","201502",null,"Pat","8737/Pat/201601",{"$f":"IF(J60014=0,0,+CONCATENATE(VLOOKUP(B60014,Cadastro!$Q$3:$R$162,2,FALSE),\"/\",J60014,\"/\",D60014))","v":"2/Pat/201601"},"Pat/201601","8737/201601","8737/0195/201601","2/201601","2/0195/201601","0195/201601","Res","6947/Res/201502",{"$f":"+CONCATENATE(VLOOKUP(F60014,Cadastro!$Q$3:$R$162,2,FALSE),\"/\",S60014,\"/\",H60014)","v":"77/Res/201502"},"Res/201502","6947/201502","6947/0378/201502","77/201502","77/0378/201502","0378/201502",4001619.33,0,4010756.36,0,4333938.88,0,918393.76,0,2621327.15,0]
[null,"08737","0272","201609",null,"06947","0437","201510",null,"RE","8737/RE/201609",{"$f":"IF(J60058=0,0,+CONCATENATE(VLOOKUP(B60058,Cadastro!$Q$3:$R$162,2,FALSE),\"/\",J60058,\"/\",D60058))","v":"2/RE/201609"},"RE/201609","8737/201609","8737/0272/201609","2/201609","2/0272/201609","0272/201609","Aero","6947/Aero/201510",{"$f":"+CONCATENATE(VLOOKUP(F60058,Cadastro!$Q$3:$R$162,2,FALSE),\"/\",S60058,\"/\",H60058)","v":"77/Aero/201510"},"Aero/201510","6947/201510","6947/0437/201510","77/201510","77/0437/201510","0437/201510",0,0,0,0,0,0,0,0,0,0]
[null,"08737","0435","201610",null,"06947","0531","201511",null,"Aero","8737/Aero/201610",{"$f":"IF(J60143=0,0,+CONCATENATE(VLOOKUP(B60143,Cadastro!$Q$3:$R$162,2,FALSE),\"/\",J60143,\"/\",D60143))","v":"2/Aero/201610"},"Aero/201610","8737/201610","8737/0435/201610","2/201610","2/0435/201610","0435/201610","Aut","6947/Aut/201511",{"$f":"+CONCATENATE(VLOOKUP(F60143,Cadastro!$Q$3:$R$162,2,FALSE),\"/\",S60143,\"/\",H60143)","v":"77/Aut/201511"},"Aut/201511","6947/201511","6947/0531/201511","77/201511","77/0531/201511","0531/201511",0,0,0,0,0,0,0,0,0,0]
[null,"08737","0526","201607",null,"06947","0627","201508",null,"Aut","8737/Aut/201607",{"$f":"IF(J60224=0,0,+CONCATENATE(VLOOKUP(B60224,Cadastro!$Q$3:$R$162,2,FALSE),\"/\",J60224,\"/\",D60224))","v":"2/Aut/201607"},"Aut/201607","8737/201607","8737/0526/201607","2/201607","2/0526/201607","0526/201607","Transp","6947/Transp/201508",{"$f":"+CONCATENATE(VLOOKUP(F60224,Cadastro!$Q$3:$R$162,2,FALSE),\"/\",S60224,\"/\",H60224)","v":"77/Transp/201508"},"Transp/201508","6947/201508","6947/0627/201508","77/201508","77/0627/201508","0627/201508",0,0,0,0,0,0,0,0,0,0]
[null,"08737","0553","201612",null,"06947","0655","201501",null,"Aut","8737/Aut/201612",{"$f":"IF(J60277=0,0,+CONCATENATE(VLOOKUP(B60277,Cadastro!$Q$3:$R$162,2,FALSE),\"/\",J60277,\"/\",D60277))","v":"2/Aut/201612"},"Aut/201612","8737/201612","8737/0553/201612","2/201612","2/0553/201612","0553/201612","Transp","6947/Transp/201501",{"$f":"+CONCATENATE(VLOOKUP(F60277,Cadastro!$Q$3:$R$162,2,FALSE),\"/\",S60277,\"/\",H60277)","v":"77/Transp/201501"},"Transp/201501","6947/201501","6947/0655/201501","77/201501","77/0655/201501","0655/201501",-37461.199999999997,0,-37461.199999999997,0,558505.31000000006,0,689289.55,0,85182.2,0]
[null,"08737","0623","201603",null,"06947","0740","201504",null,"Transp","8737/Transp/201603",{"$f":"IF(J60328=0,0,+CONCATENATE(VLOOKUP(B60328,Cadastro!$Q$3:$R$162,2,FALSE),\"/\",J60328,\"/\",D60328))","v":"2/Transp/201603"},"Transp/201603","8737/201603","8737/0623/201603","2/201603","2/0623/201603","0623/201603","RF","6947/RF/201504",{"$f":"+CONCATENATE(VLOOKUP(F60328,Cadastro!$Q$3:$R$162,2,FALSE),\"/\",S60328,\"/\",H60328)","v":"77/RF/201504"},"RF/201504","6947/201504","6947/0740/201504","77/201504","77/0740/201504","0740/201504",0,0,0,0,0,0,0,0,0,0]
[null,"08737","0652","201612",null,"06947","0859","201501",null,"Transp",{"$f":"IF(J60409=0,0,+CONCATENATE(VALUE(B60409),\"/\",J60409,\"/\",D60409))","v":"8737/Transp/201612"},{"$f":"IF(J60409=0,0,+CONCATENATE(VLOOKUP(B60409,Cadastro!$Q$3:$R$162,2,FALSE),\"/\",J60409,\"/\",D60409))","v":"2/Transp/201612"},{"$f":"IF(J60409=0,0,+CONCATENATE(J60409,\"/\",D60409))","v":"Transp/201612"},"8737/201612","8737/0652/201612","2/201612","2/0652/201612","0652/201612","RF",{"$f":"+CONCATENATE(VALUE(F60409),\"/\",S60409,\"/\",H60409)","v":"6947/RF/201501"},{"$f":"+CONCATENATE(VLOOKUP(F60409,Cadastro!$Q$3:$R$162,2,FALSE),\"/\",S60409,\"/\",H60409)","v":"77/RF/201501"},{"$f":"+CONCATENATE(S60409,\"/\",H60409)","v":"RF/201501"},"6947/201501","6947/0859/201501","77/201501","77/0859/201501","0859/201501",0,0,0,0,0,0,0,0,0,0]
[null,"08737","0746","201601",null,"06947","0980","201502",null,"RF","8737/RF/201601",{"$f":"IF(J60494=0,0,+CONCATENATE(VLOOKUP(B60494,Cadastro!$Q$3:$R$162,2,FALSE),\"/\",J60494,\"/\",D60494))","v":"2/RF/201601"},"RF/201601","8737/201601","8737/0746/201601","2/201601","2/0746/201601","0746/201601","Pes","6947/Pes/201502",{"$f":"+CONCATENATE(VLOOKUP(F60494,Cadastro!$Q$3:$R$162,2,FALSE),\"/\",S60494,\"/\",H60494)","v":"77/Pes/201502"},"Pes/201502","6947/201502","6947/0980/201502","77/201502","77/0980/201502","0980/201502",0,0,0,0,0,0,0,0,0,0]
[null,"08737","0749","201611",null,"06947","0987","201512",null,"RF","8737/RF/201611",{"$f":"IF(J60540=0,0,+CONCATENATE(VLOOKUP(B60540,Cadastro!$Q$3:$R$162,2,FALSE),\"/\",J60540,\"/\",D60540))","v":"2/RF/201611"},"RF/201611","8737/201611","8737/0749/201611","2/201611","2/0749/201611","0749/201611","Pes","6947/Pes/201512",{"$f":"+CONCATENATE(VLOOKUP(F60540,Cadastro!$Q$3:$R$162,2,FALSE),\"/\",S60540,\"/\",H60540)","v":"77/Pes/201512"},"Pes/201512","6947/201512","6947/0987/201512","77/201512","77/0987/201512","0987/201512",-389053.25,554349.51,-613985.79,554349.51,164409.17000000001,554358.81000000006,-85022.13,105514.78,45526.559999999998,88635.9]
[null,"08737","0859","201605",null,"06947","0994","201506",null,"RF","8737/RF/201605",{"$f":"IF(J60594=0,0,+CONCATENATE(VLOOKUP(B60594,Cadastro!$Q$3:$R$162,2,FALSE),\"/\",J60594,\"/\",D60594))","v":"2/RF/201605"},"RF/201605","8737/201605","8737/0859/201605","2/201605","2/0859/201605","0859/201605","VGBL","6947/VGBL/201506",{"$f":"+CONCATENATE(VLOOKUP(F60594,Cadastro!$Q$3:$R$162,2,FALSE),\"/\",S60594,\"/\",H60594)","v":"77/VGBL/201506"},"VGBL/201506","6947/201506","6947/0994/201506","77/201506","77/0994/201506","0994/201506",0,1240391.8700000001,0,1240391.8700000001,0,0,0,0,0,0]
[null,"08737","0980","201606",null,"06947","1104","201507",null,"Pes","8737/Pes/201606",{"$f":"IF(J60679=0,0,+CONCATENATE(VLOOKUP(B60679,Cadastro!$Q$3:$R$162,2,FALSE),\"/\",J60679,\"/\",D60679))","v":"2/Pes/201606"},"Pes/201606","8737/201606","8737/0980/201606","2/201606","2/0980/201606","0980/201606","Rur","6947/Rur/201507",{"$f":"+CONCATENATE(VLOOKUP(F60679,Cadastro!$Q$3:$R$162,2,FALSE),\"/\",S60679,\"/\",H60679)","v":"77/Rur/201507"},"Rur/201507","6947/201507","6947/1104/201507","77/201507","77/1104/201507","1104/201507",0,0,0,0,0,0,0,0,0,0]
[null,"08737","0990","201603",null,"06947","1162","201504",null,"Pes","8737/Pes/201603",{"$f":"IF(J60760=0,0,+CONCATENATE(VLOOKUP(B60760,Cadastro!$Q$3:$R$162,2,FALSE),\"/\",J60760,\"/\",D60760))","v":"2/Pes/201603"},"Pes/201603","8737/201603","8737/0990/201603","2/201603","2/0990/201603","0990/201603","Rur","6947/Rur/201504",{"$f":"+CONCATENATE(VLOOKUP(F60760,Cadastro!$Q$3:$R$162,2,FALSE),\"/\",S60760,\"/\",H60760)","v":"77/Rur/201504"},"Rur/201504","6947/201504","6947/1162/201504","77/201504","77/1162/201504","1162/201504",0,0,0,0,0,0,0,0,0,0]
[null,"08737","0993","201610",null,"06947","1198","201511",null,"Pes","8737/Pes/201610",{"$f":"IF(J60803=0,0,+CONCATENATE(VLOOKUP(B60803,Cadastro!$Q$3:$R$162,2,FALSE),\"/\",J60803,\"/\",D60803))","v":"2/Pes/201610"},"Pes/201610","8737/201610","8737/0993/201610","2/201610","2/0993/201610","0993/201610","Rur","6947/Rur/201511",{"$f":"+CONCATENATE(VLOOKUP(F60803,Cadastro!$Q$3:$R$162,2,FALSE),\"/\",S60803,\"/\",H60803)","v":"77/Rur/201511"},"Rur/201511","6947/201511","6947/1198/201511","77/201511","77/1198/201511","1198/201511",903290.97,0,835080.09,0,785444.25,0,554248.32000000007,-17.11,236525.85,0]
[null,"08737","1068","201611",null,"06998","0115","201512",null,"Hab","8737/Hab/201611",{"$f":"IF(J60864=0,0,+CONCATENATE(VLOOKUP(B60864,Cadastro!$Q$3:$R$162,2,FALSE),\"/\",J60864,\"/\",D60864))","v":"2/Hab/201611"},"Hab/201611","8737/201611","8737/1068/201611","2/201611","2/1068/201611","1068/201611","Pat","6998/Pat/201512",{"$f":"+CONCATENATE(VLOOKUP(F60864,Cadastro!$Q$3:$R$162,2,FALSE),\"/\",S60864,\"/\",H60864)","v":"27/Pat/201512"},"Pat/201512","6998/201512","6998/0115/201512","27/201512","27/0115/201512","0115/201512",0,0,0,0,0,0,0,0,0,0]
[null,"08737","1107","201608",null,"06998","0351","201509",null,"Rur","8737/Rur/201608",{"$f":"IF(J60945=0,0,+CONCATENATE(VLOOKUP(B60945,Cadastro!$Q$3:$R$162,2,FALSE),\"/\",J60945,\"/\",D60945))","v":"2/Rur/201608"},"Rur/201608","8737/201608","8737/1107/201608","2/201608","2/1107/201608","1107/201608","Res","6998/Res/201509",{"$f":"+CONCATENATE(VLOOKUP(F60945,Cadastro!$Q$3:$R$162,2,FALSE),\"/\",S60945,\"/\",H60945)","v":"27/Res/201509"},"Res/201509","6998/201509","6998/0351/201509","27/201509","27/0351/201509","0351/201509",0,0,0,0,0,0,0,0,0,0]
[null,"08737","1109","201604",null,"06998","0435","201505",null,"Rur","8737/Rur/201604",{"$f":"IF(J60965=0,0,+CONCATENATE(VLOOKUP(B60965,Cadastro!$Q$3:$R$162,2,FALSE),\"/\",J60965,\"/\",D60965))","v":"2/Rur/201604"},"Rur/201604","8737/201604","8737/1109/201604","2/201604","2/1109/201604","1109/201604","Aero","6998/Aero/201505",{"$f":"+CONCATENATE(VLOOKUP(F60965,Cadastro!$Q$3:$R$162,2,FALSE),\"/\",S60965,\"/\",H60965)","v":"27/Aero/201505"},"Aero/201505","6998/201505","6998/0435/201505","27/201505","27/0435/201505","0435/201505",0,0,0,0,0,0,0,0,0,0]
[null,"08737","1329","201609",null,"06998","0739","201510",null,"Pes","8737/Pes/201609",{"$f":"IF(J61066=0,0,+CONCATENATE(VLOOKUP(B61066,Cadastro!$Q$3:$R$162,2,FALSE),\"/\",J61066,\"/\",D61066))","v":"2/Pes/201609"},"Pes/201609","8737/201609","8737/1329/201609","2/201609","2/1329/201609","1329/201609","RF","6998/RF/201510",{"$f":"+CONCATENATE(VLOOKUP(F61066,Cadastro!$Q$3:$R$162,2,FALSE),\"/\",S61066,\"/\",H61066)","v":"27/RF/201510"},"RF/201510","6998/201510","6998/0739/201510","27/201510","27/0739/201510","0739/201510",0,0,0,0,0,0,0,0,0,0]
[null,"08737","1383","201601",null,"06998","0749","201502",null,"Pes","8737/Pes/201601",{"$f":"IF(J61130=0,0,+CONCATENATE(VLOOKUP(B61130,Cadastro!$Q$3:$R$162,2,FALSE),\"/\",J61130,\"/\",D61130))","v":"2/Pes/201601"},"Pes/201601","8737/201601","8737/1383/201601","2/201601","2/1383/201601","1383/201601","RF","6998/RF/201502",{"$f":"+CONCATENATE(VLOOKUP(F61130,Cadastro!$Q$3:$R$162,2,FALSE),\"/\",S61130,\"/\",H61130)","v":"27/RF/201502"},"RF/201502","6998/201502","6998/0749/201502","27/201502","27/0749/201502","0749/201502",0,228977.27,0,37517.399999999994,0,161001.59999999998,0,38960.569999999992,0,26738.55]
[null,"08737","1417","201602",null,"06998","0870","201503",null,"Mar","8737/Mar/201602",{"$f":"IF(J61215=0,0,+CONCATENATE(VLOOKUP(B61215,Cadastro!$Q$3:$R$162,2,FALSE),\"/\",J61215,\"/\",D61215))","v":"2/Mar/201602"},"Mar/201602","8737/201602","8737/1417/201602","2/201602","2/1417/201602","1417/201602","RF","6998/RF/201503",{"$f":"+CONCATENATE(VLOOKUP(F61215,Cadastro!$Q$3:$R$162,2,FALSE),\"/\",S61215,\"/\",H61215)","v":"27/RF/201503"},"RF/201503","6998/201503","6998/0870/201503","27/201503","27/0870/201503","0870/201503",425229.93,0,323086.76,0,446333.3,0,668064.33000000007,0,74576.820000000007,0]
[null,"08737","1428","201606",null,"06998","0981","201507",null,"Mar","8737/Mar/201606",{"$f":"IF(J61231=0,0,+CONCATENATE(VLOOKUP(B61231,Cadastro!$Q$3:$R$162,2,FALSE),\"/\",J61231,\"/\",D61231))","v":"2/Mar/201606"},"Mar/201606","8737/201606","8737/1428/201606","2/201606","2/1428/201606","1428/201606","Pes","6998/Pes/201507",{"$f":"+CONCATENATE(VLOOKUP(F61231,Cadastro!$Q$3:$R$162,2,FALSE),\"/\",S61231,\"/\",H61231)","v":"27/Pes/201507"},"Pes/201507","6998/201507","6998/0981/201507","27/201507","27/0981/201507","0981/201507",0,0,0,0,0,0,0,0,0,0]
[null,"09938","0589","201608",null,"06998","1164","201509",null,"Dpvat","9938/Dpvat/201608",{"$f":"IF(J61329=0,0,+CONCATENATE(VLOOKUP(B61329,Cadastro!$Q$3:$R$162,2,FALSE),\"/\",J61329,\"/\",D61329))","v":"65/Dpvat/201608"},"Dpvat/201608","9938/201608","9938/0589/201608","65/201608","65/0589/201608","0589/201608","Rur","6998/Rur/201509",{"$f":"+CONCATENATE(VLOOKUP(F61329,Cadastro!$Q$3:$R$162,2,FALSE),\"/\",S61329,\"/\",H61329)","v":"27/Rur/201509"},"Rur/201509","6998/201509","6998/1164/201509","27/201509","27/1164/201509","1164/201509",0,0,0,0,0,0,0,0,0,0]
[null,"09938","0992","201601",null,"08141","1392","201508",null,"VGBL","9938/VGBL/201601",{"$f":"IF(J61400=0,0,+CONCATENATE(VLOOKUP(B61400,Cadastro!$Q$3:$R$162,2,FALSE),\"/\",J61400,\"/\",D61400))","v":"65/VGBL/201601"},"VGBL/201601","9938/201601","9938/0992/201601","65/201601","65/0992/201601","0992/201601","VGBL","8141/VGBL/201508",{"$f":"+CONCATENATE(VLOOKUP(F61400,Cadastro!$Q$3:$R$162,2,FALSE),\"/\",S61400,\"/\",H61400)","v":"22/VGBL/201508"},"VGBL/201508","8141/201508","8141/1392/201508","22/201508","22/1392/201508","1392/201508",0,345800755.16000003,0,345800755.16000003,0,0,0,-133675.20000000001,0,5097072.83]
[null,"09938","0993","201605",null,"08737","0111","201512",null,"Pes","9938/Pes/201605",{"$f":"IF(J61416=0,0,+CONCATENATE(VLOOKUP(B61416,Cadastro!$Q$3:$R$162,2,FALSE),\"/\",J61416,\"/\",D61416))","v":"65/Pes/201605"},"Pes/201605","9938/201605","9938/0993/201605","65/201605","65/0993/201605","0993/201605","Pat","8737/Pat/201512",{"$f":"+CONCATENATE(VLOOKUP(F61416,Cadastro!$Q$3:$R$162,2,FALSE),\"/\",S61416,\"/\",H61416)","v":"2/Pat/201512"},"Pat/201512","8737/201512","8737/0111/201512","2/201512","2/0111/201512","0111/201512",2585766.69,0,2353659.8199999998,0,2234415.25,0,88201.34,1075.9000000000001,444386.33,0]
[null,"09938","1392","201605",null,"08737","0171","201501",null,"VGBL","9938/VGBL/201605",{"$f":"IF(J61501=0,0,+CONCATENATE(VLOOKUP(B61501,Cadastro!$Q$3:$R$162,2,FALSE),\"/\",J61501,\"/\",D61501))","v":"65/VGBL/201605"},"VGBL/201605","9938/201605","9938/1392/201605","65/201605","65/1392/201605","1392/201605","Pat","8737/Pat/201501",{"$f":"+CONCATENATE(VLOOKUP(F61501,Cadastro!$Q$3:$R$162,2,FALSE),\"/\",S61501,\"/\",H61501)","v":"2/Pat/201501"},"Pat/201501","8737/201501","8737/0171/201501","2/201501","2/0171/201501","0171/201501",89838822.079999998,2406719.0299999998,89838822.079999998,2083392.65,0,740408.35,0,429960.24,0,243509.21]
[null,0,0,0,null,"08737","0310","201508",null,0,0,{"$f":"IF(J61592=0,0,+CONCATENATE(VLOOKUP(B61592,Cadastro!$Q$3:$R$162,2,FALSE),\"/\",J61592,\"/\",D61592))","v":0},0,0,0,0,0,0,"Res","8737/Res/201508",{"$f":"+CONCATENATE(VLOOKUP(F61592,Cadastro!$Q$3:$R$162,2,FALSE),\"/\",S61592,\"/\",H61592)","v":"2/Res/201508"},"Res/201508","8737/201508","8737/0310/201508","2/201508","2/0310/201508","0310/201508",0,5902589.3200000003,0,4627422.7200000007,0,2285391.5,0,657393.4,0,565801.87]
[null,0,0,0,null,"08737","0437","201510",null,0,0,{"$f":"IF(J61666=0,0,+CONCATENATE(VLOOKUP(B61666,Cadastro!$Q$3:$R$162,2,FALSE),\"/\",J61666,\"/\",D61666))","v":0},0,0,0,0,0,0,"Aero","8737/Aero/201510",{"$f":"+CONCATENATE(VLOOKUP(F61666,Cadastro!$Q$3:$R$162,2,FALSE),\"/\",S61666,\"/\",H61666)","v":"2/Aero/201510"},"Aero/201510","8737/201510","8737/0437/201510","2/201510","2/0437/201510","0437/201510",0,0,0,0,0,0,0,0,0,0]
[null,0,0,0,null,"08737","0520","201506",null,0,0,{"$f":"IF(J61686=0,0,+CONCATENATE(VLOOKUP(B61686,Cadastro!$Q$3:$R$162,2,FALSE),\"/\",J61686,\"/\",D61686))","v":0},0,0,0,0,0,0,"Aut","8737/Aut/201506",{"$f":"+CONCATENATE(VLOOKUP(F61686,Cadastro!$Q$3:$R$162,2,FALSE),\"/\",S61686,\"/\",H61686)","v":"2/Aut/201506"},"Aut/201506","8737/201506","8737/0520/201506","2/201506","2/0520/201506","0520/201506",0,19359.27,0,19359.27,0,6264.91,0,-1957.62,0,852.56]
[null,0,0,0,null,"08737","0544","201503",null,0,0,{"$f":"IF(J61767=0,0,+CONCATENATE(VLOOKUP(B61767,Cadastro!$Q$3:$R$162,2,FALSE),\"/\",J61767,\"/\",D61767))","v":0},0,0,0,0,0,0,"Aut","8737/Aut/201503",{"$f":"+CONCATENATE(VLOOKUP(F61767,Cadastro!$Q$3:$R$162,2,FALSE),\"/\",S61767,\"/\",H61767)","v":"2/Aut/201503"},"Aut/201503","8737/201503","8737/0544/201503","2/201503","2/0544/201503","0544/201503",0,0,0,0,0,0,0,0,0,0]
[null,0,0,0,null,"08737","0627","201507",null,0,0,{"$f":"IF(J61855=0,0,+CONCATENATE(VLOOKUP(B61855,Cadastro!$Q$3:$R$162,2,FALSE),\"/\",J61855,\"/\",D61855))","v":0},0,0,0,0,0,0,"Transp","8737/Transp/201507",{"$f":"+CONCATENATE(VLOOKUP(F61855,Cadastro!$Q$3:$R$162,2,FALSE),\"/\",S61855,\"/\",H61855)","v":"2/Transp/201507"},"Transp/201507","8737/201507","8737/0627/201507","2/201507","2/0627/201507","0627/201507",0,0,0,0,0,0,0,0,0,0]
[null,0,0,0,null,"08737","0628","201507",null,0,0,{"$f":"IF(J61867=0,0,+CONCATENATE(VLOOKUP(B61867,Cadastro!$Q$3:$R$162,2,FALSE),\"/\",J61867,\"/\",D61867))","v":0},0,0,0,0,0,0,"Transp","8737/Transp/201507",{"$f":"+CONCATENATE(VLOOKUP(F61867,Cadastro!$Q$3:$R$162,2,FALSE),\"/\",S61867,\"/\",H61867)","v":"2/Transp/201507"},"Transp/201507","8737/201507","8737/0628/201507","2/201507","2/0628/201507","0628/201507",0,0,0,0,0,0,0,0,0,0]
[null,0,0,0,null,"08737","0656","201508",null,0,0,{"$f":"IF(J61952=0,0,+CONCATENATE(VLOOKUP(B61952,Cadastro!$Q$3:$R$162,2,FALSE),\"/\",J61952,\"/\",D61952))","v":0},0,0,0,0,0,0,"Transp","8737/Transp/201508",{"$f":"+CONCATENATE(VLOOKUP(F61952,Cadastro!$Q$3:$R$162,2,FALSE),\"/\",S61952,\"/\",H61952)","v":"2/Transp/201508"},"Transp/201508","8737/201508","8737/0656/201508","2/201508","2/0656/201508","0656/201508",0,16160.48,0,15882.41,0,2232.3399999999997,0,243266.85,0,567.12]
[null,0,0,0,null,"08737","0748","201509",null,0,0,{"$f":"IF(J62037=0,0,+CONCATENATE(VLOOKUP(B62037,Cadastro!$Q$3:$R$162,2,FALSE),\"/\",J62037,\"/\",D62037))","v":0},0,0,0,0,0,0,"RF","8737/RF/201509",{"$f":"+CONCATENATE(VLOOKUP(F62037,Cadastro!$Q$3:$R$162,2,FALSE),\"/\",S62037,\"/\",H62037)","v":"2/RF/201509"},"RF/201509","8737/201509","8737/0748/201509","2/201509","2/0748/201509","0748/201509",0,-4691956.58,0,-5577797.3399999999,0,-51294.790000000037,0,54459.260000000242,0,53368.02]
[null,0,0,0,null,"08737","0860","201506",null,0,0,{"$f":"IF(J62118=0,0,+CONCATENATE(VLOOKUP(B62118,Cadastro!$Q$3:$R$162,2,FALSE),\"/\",J62118,\"/\",D62118))","v":0},0,0,0,0,0,0,"RF","8737/RF/201506",{"$f":"+CONCATENATE(VLOOKUP(F62118,Cadastro!$Q$3:$R$162,2,FALSE),\"/\",S62118,\"/\",H62118)","v":"2/RF/201506"},"RF/201506","8737/201506","8737/0860/201506","2/201506","2/0860/201506","0860/201506",0,0,0,0,0,0,0,-13.24,0,0]
[null,0,0,0,null,"08737","0929","201501",null,0,{"$f":"IF(J62137=0,0,+CONCATENATE(VALUE(B62137),\"/\",J62137,\"/\",D62137))","v":0},{"$f":"IF(J62137=0,0,+CONCATENATE(VLOOKUP(B62137,Cadastro!$Q$3:$R$162,2,FALSE),\"/\",J62137,\"/\",D62137))","v":0},{"$f":"IF(J62137=0,0,+CONCATENATE(J62137,\"/\",D62137))","v":0},0,0,0,0,0,"Pes",{"$f":"+CONCATENATE(VALUE(F62137),\"/\",S62137,\"/\",H62137)","v":"8737/Pes/201501"},{"$f":"+CONCATENATE(VLOOKUP(F62137,Cadastro!$Q$3:$R$162,2,FALSE),\"/\",S62137,\"/\",H62137)","v":"2/Pes/201501"},{"$f":"+CONCATENATE(S62137,\"/\",H62137)","v":"Pes/201501"},"8737/201501","8737/0929/201501","2/201501","2/0929/201501","0929/201501",0,0,0,0,0,0,0,0,0,0]
[null,0,0,0,null,"08737","0983","201502",null,0,0,{"$f":"IF(J62222=0,0,+CONCATENATE(VLOOKUP(B62222,Cadastro!$Q$3:$R$162,2,FALSE),\"/\",J62222,\"/\",D62222))","v":0},0,0,0,0,0,0,"Pes","8737/Pes/201502",{"$f":"+CONCATENATE(VLOOKUP(F62222,Cadastro!$Q$3:$R$162,2,FALSE),\"/\",S62222,\"/\",H62222)","v":"2/Pes/201502"},"Pes/201502","8737/201502","8737/0983/201502","2/201502","2/0983/201502","0983/201502",0,0,0,0,0,0,0,0,0,0]
[null,0,0,0,null,"08737","0992","201511",null,0,0,{"$f":"IF(J62303=0,0,+CONCATENATE(VLOOKUP(B62303,Cadastro!$Q$3:$R$162,2,FALSE),\"/\",J62303,\"/\",D62303))","v":0},0,0,0,0,0,0,"VGBL","8737/VGBL/201511",{"$f":"+CONCATENATE(VLOOKUP(F62303,Cadastro!$Q$3:$R$162,2,FALSE),\"/\",S62303,\"/\",H62303)","v":"2/VGBL/201511"},"VGBL/201511","8737/201511","8737/0992/201511","2/201511","2/0992/201511","0992/201511",0,0,0,0,0,0,0,0,0,0]
[null,0,0,0,null,"08737","1101","201505",null,0,0,{"$f":"IF(J62381=0,0,+CONCATENATE(VLOOKUP(B62381,Cadastro!$Q$3:$R$162,2,FALSE),\"/\",J62381,\"/\",D62381))","v":0},0,0,0,0,0,0,"Rur","8737/Rur/201505",{"$f":"+CONCATENATE(VLOOKUP(F62381,Cadastro!$Q$3:$R$162,2,FALSE),\"/\",S62381,\"/\",H62381)","v":"2/Rur/201505"},"Rur/201505","8737/201505","8737/1101/201505","2/201505","2/1101/201505","1101/201505",0,0,0,0,0,0,0,0,0,0]
[null,0,0,0,null,"08737","1103","201503",null,0,0,{"$f":"IF(J62403=0,0,+CONCATENATE(VLOOKUP(B62403,Cadastro!$Q$3:$R$162,2,FALSE),\"/\",J62403,\"/\",D62403))","v":0},0,0,0,0,0,0,"Rur","8737/Rur/201503",{"$f":"+CONCATENATE(VLOOKUP(F62403,Cadastro!$Q$3:$R$162,2,FALSE),\"/\",S62403,\"/\",H62403)","v":"2/Rur/201503"},"Rur/201503","8737/201503","8737/1103/201503","2/201503","2/1103/201503","1103/201503",0,0,0,0,0,0,0,0,0,0]
[null,0,0,0,null,"08737","1130","201504",null,0,0,{"$f":"IF(J62488=0,0,+CONCATENATE(VLOOKUP(B62488,Cadastro!$Q$3:$R$162,2,FALSE),\"/\",J62488,\"/\",D62488))","v":0},0,0,0,0,0,0,"Rur","8737/Rur/201504",{"$f":"+CONCATENATE(VLOOKUP(F62488,Cadastro!$Q$3:$R$162,2,FALSE),\"/\",S62488,\"/\",H62488)","v":"2/Rur/201504"},"Rur/201504","8737/201504","8737/1130/201504","2/201504","2/1130/201504","1130/201504",0,0,0,0,0,0,0,0,0,0]
[null,0,0,0,null,"08737","1329","201505",null,0,0,{"$f":"IF(J62573=0,0,+CONCATENATE(VLOOKUP(B62573,Cadastro!$Q$3:$R$162,2,FALSE),\"/\",J62573,\"/\",D62573))","v":0},0,0,0,0,0,0,"Pes","8737/Pes/201505",{"$f":"+CONCATENATE(VLOOKUP(F62573,Cadastro!$Q$3:$R$162,2,FALSE),\"/\",S62573,\"/\",H62573)","v":"2/Pes/201505"},"Pes/201505","8737/201505","8737/1329/201505","2/201505","2/1329/201505","1329/201505",0,0,0,0,0,0,0,0,0,0]
[null,0,0,0,null,"08737","1329","201512",null,0,0,{"$f":"IF(J62580=0,0,+CONCATENATE(VLOOKUP(B62580,Cadastro!$Q$3:$R$162,2,FALSE),\"/\",J62580,\"/\",D62580))","v":0},0,0,0,0,0,0,"Pes","8737/Pes/201512",{"$f":"+CONCATENATE(VLOOKUP(F62580,Cadastro!$Q$3:$R$162,2,FALSE),\"/\",S62580,\"/\",H62580)","v":"2/Pes/201512"},"Pes/201512","8737/201512","8737/1329/201512","2/201512","2/1329/201512","1329/201512",0,0,0,0,0,0,0,0,0,0]
[null,0,0,0,null,"08737","1386","201509",null,0,0,{"$f":"IF(J62673=0,0,+CONCATENATE(VLOOKUP(B62673,Cadastro!$Q$3:$R$162,2,FALSE),\"/\",J62673,\"/\",D62673))","v":0},0,0,0,0,0,0,"Pes","8737/Pes/201509",{"$f":"+CONCATENATE(VLOOKUP(F62673,Cadastro!$Q$3:$R$162,2,FALSE),\"/\",S62673,\"/\",H62673)","v":"2/Pes/201509"},"Pes/201509","8737/201509","8737/1386/201509","2/201509","2/1386/201509","1386/201509",0,0,0,0,0,0,0,0,0,0]
[null,0,0,0,null,"08737","1433","201506",null,0,0,{"$f":"IF(J62754=0,0,+CONCATENATE(VLOOKUP(B62754,Cadastro!$Q$3:$R$162,2,FALSE),\"/\",J62754,\"/\",D62754))","v":0},0,0,0,0,0,0,"Mar","8737/Mar/201506",{"$f":"+CONCATENATE(VLOOKUP(F62754,Cadastro!$Q$3:$R$162,2,FALSE),\"/\",S62754,\"/\",H62754)","v":"2/Mar/201506"},"Mar/201506","8737/201506","8737/1433/201506","2/201506","2/1433/201506","1433/201506",0,0,0,0,0,0,0,0,0,0]
[null,0,0,0,null,"08737","1528","201502",null,0,0,{"$f":"IF(J62774=0,0,+CONCATENATE(VLOOKUP(B62774,Cadastro!$Q$3:$R$162,2,FALSE),\"/\",J62774,\"/\",D62774))","v":0},0,0,0,0,0,0,"Aero","8737/Aero/201502",{"$f":"+CONCATENATE(VLOOKUP(F62774,Cadastro!$Q$3:$R$162,2,FALSE),\"/\",S62774,\"/\",H62774)","v":"2/Aero/201502"},"Aero/201502","8737/201502","8737/1528/201502","2/201502","2/1528/201502","1528/201502",0,-3933.14,0,-250599.84000000003,0,159,0,35.790000000968575,0,19470.66]
[null,0,0,0,null,"09938","0589","201511",null,0,0,{"$f":"IF(J62843=0,0,+CONCATENATE(VLOOKUP(B62843,Cadastro!$Q$3:$R$162,2,FALSE),\"/\",J62843,\"/\",D62843))","v":0},0,0,0,0,0,0,"Dpvat","9938/Dpvat/201511",{"$f":"+CONCATENATE(VLOOKUP(F62843,Cadastro!$Q$3:$R$162,2,FALSE),\"/\",S62843,\"/\",H62843)","v":"65/Dpvat/201511"},"Dpvat/201511","9938/201511","9938/0589/201511","65/201511","65/0589/201511","0589/201511",0,0,0,0,0,0,0,0,0,0]
[null,0,0,0,null,"09938","0994","201511",null,0,0,{"$f":"IF(J62939=0,0,+CONCATENATE(VLOOKUP(B62939,Cadastro!$Q$3:$R$162,2,FALSE),\"/\",J62939,\"/\",D62939))","v":0},0,0,0,0,0,0,"VGBL","9938/VGBL/201511",{"$f":"+CONCATENATE(VLOOKUP(F62939,Cadastro!$Q$3:$R$162,2,FALSE),\"/\",S62939,\"/\",H62939)","v":"65/VGBL/201511"},"VGBL/201511","9938/201511","9938/0994/201511","65/201511","65/0994/201511","0994/201511",0,80702.820000000007,0,80702.820000000007,0,0,0,0,0,0]
[null,0,0,0,null,0,0,0,null,0,0,{"$f":"IF(J63024=0,0,+CONCATENATE(VLOOKUP(B63024,Cadastro!$Q$3:$R$162,2,FALSE),\"/\",J63024,\"/\",D63024))","v":0},0,0,0,0,0,0,{"$error":"#N/A"},{"$error":"#N/A"},{"$f":"+CONCATENATE(VLOOKUP(F63024,Cadastro!$Q$3:$R$162,2,FALSE),\"/\",S63024,\"/\",H63024)","v":{"$error":"#N/A"}},{"$error":"#N/A"},"0/0","0/0/0",{"$error":"#N/A"},{"$error":"#N/A"},"0/0",0,0,0,0,0,0,0,0,0,0]
[null,0,0,0,null,0,0,0,null,0,0,{"$f":"IF(J63044=0,0,+CONCATENATE(VLOOKUP(B63044,Cadastro!$Q$3:$R$162,2,FALSE),\"/\",J63044,\"/\",D63044))","v":0},0,0,0,0,0,0,{"$error":"#N/A"},{"$error":"#N/A"},{"$f":"+CONCATENATE(VLOOKUP(F63044,Cadastro!$Q$3:$R$162,2,FALSE),\"/\",S63044,\"/\",H63044)","v":{"$error":"#N/A"}},{"$error":"#N/A"},"0/0","0/0/0",{"$error":"#N/A"},{"$error":"#N/A"},"0/0",0,0,0,0,0,0,0,0,0,0]
[null,0,0,0,null,0,0,0,null,0,0,{"$f":"IF(J63106=0,0,+CONCATENATE(VLOOKUP(B63106,Cadastro!$Q$3:$R$162,2,FALSE),\"/\",J63106,\"/\",D63106))","v":0},0,0,0,0,0,0,{"$error":"#N/A"},{"$error":"#N/A"},{"$f":"+CONCATENATE(VLOOKUP(F63106,Cadastro!$Q$3:$R$162,2,FALSE),\"/\",S63106,\"/\",H63106)","v":{"$error":"#N/A"}},{"$error":"#N/A"},"0/0","0/0/0",{"$error":"#N/A"},{"$error":"#N/A"},"0/0",0,0,0,0,0,0,0,0,0,0]
[null,0,0,0,null,0,0,0,null,0,0,{"$f":"IF(J63209=0,0,+CONCATENATE(VLOOKUP(B63209,Cadastro!$Q$3:$R$162,2,FALSE),\"/\",J63209,\"/\",D63209))","v":0},0,0,0,0,0,0,{"$error":"#N/A"},{"$error":"#N/A"},{"$f":"+CONCATENATE(VLOOKUP(F63209,Cadastro!$Q$3:$R$162,2,FALSE),\"/\",S63209,\"/\",H63209)","v":{"$error":"#N/A"}},{"$error":"#N/A"},"0/0","0/0/0",{"$error":"#N/A"},{"$error":"#N/A"},"0/0",0,0,0,0,0,0,0,0,0,0]
[null,0,0,0,null,0,0,0,null,0,0,{"$f":"IF(J63290=0,0,+CONCATENATE(VLOOKUP(B63290,Cadastro!$Q$3:$R$162,2,FALSE),\"/\",J63290,\"/\",D63290))","v":0},0,0,0,0,0,0,{"$error":"#N/A"},{"$error":"#N/A"},{"$f":"+CONCATENATE(VLOOKUP(F63290,Cadastro!$Q$3:$R$162,2,FALSE),\"/\",S63290,\"/\",H63290)","v":{"$error":"#N/A"}},{"$error":"#N/A"},"0/0","0/0/0",{"$error":"#N/A"},{"$error":"#N/A"},"0/0",0,0,0,0,0,0,0,0,0,0]
[null,0,0,0,null,0,0,0,null,0,0,{"$f":"IF(J63310=0,0,+CONCATENATE(VLOOKUP(B63310,Cadastro!$Q$3:$R$162,2,FALSE),\"/\",J63310,\"/\",D63310))","v":0},0,0,0,0,0,0,{"$error":"#N/A"},{"$error":"#N/A"},{"$f":"+CONCATENATE(VLOOKUP(F63310,Cadastro!$Q$3:$R$162,2,FALSE),\"/\",S63310,\"/\",H63310)","v":{"$error":"#N/A"}},{"$error":"#N/A"},"0/0","0/0/0",{"$error":"#N/A"},{"$error":"#N/A"},"0/0",0,0,0,0,0,0,0,0,0,0]
[null,0,0,0,null,0,0,0,null,0,0,{"$f":"IF(J63369=0,0,+CONCATENATE(VLOOKUP(B63369,Cadastro!$Q$3:$R$162,2,FALSE),\"/\",J63369,\"/\",D63369))","v":0},0,0,0,0,0,0,{"$error":"#N/A"},{"$error":"#N/A"},{"$f":"+CONCATENATE(VLOOKUP(F63369,Cadastro!$Q$3:$R$162,2,FALSE),\"/\",S63369,\"/\",H63369)","v":{"$error":"#N/A"}},{"$error":"#N/A"},"0/0","0/0/0",{"$error":"#N/A"},{"$error":"#N/A"},"0/0",0,0,0,0,0,0,0,0,0,0]
[null,0,0,0,null,0,0,0,null,0,0,{"$f":"IF(J63475=0,0,+CONCATENATE(VLOOKUP(B63475,Cadastro!$Q$3:$R$162,2,FALSE),\"/\",J63475,\"/\",D63475))","v":0},0,0,0,0,0,0,{"$error":"#N/A"},{"$error":"#N/A"},{"$f":"+CONCATENATE(VLOOKUP(F63475,Cadastro!$Q$3:$R$162,2,FALSE),\"/\",S63475,\"/\",H63475)","v":{"$error":"#N/A"}},{"$error":"#N/A"},"0/0","0/0/0",{"$error":"#N/A"},{"$error":"#N/A"},"0/0",0,0,0,0,0,0,0,0,0,0]
[null,0,0,0,null,0,0,0,null,0,0,{"$f":"IF(J63495=0,0,+CONCATENATE(VLOOKUP(B63495,Cadastro!$Q$3:$R$162,2,FALSE),\"/\",J63495,\"/\",D63495))","v":0},0,0,0,0,0,0,{"$error":"#N/A"},{"$error":"#N/A"},{"$f":"+CONCATENATE(VLOOKUP(F63495,Cadastro!$Q$3:$R$162,2,FALSE),\"/\",S63495,\"/\",H63495)","v":{"$error":"#N/A"}},{"$error":"#N/A"},"0/0","0/0/0",{"$error":"#N/A"},{"$error":"#N/A"},"0/0",0,0,0,0,0,0,0,0,0,0]
[null,0,0,0,null,0,0,0,null,0,0,{"$f":"IF(J63580=0,0,+CONCATENATE(VLOOKUP(B63580,Cadastro!$Q$3:$R$162,2,FALSE),\"/\",J63580,\"/\",D63580))","v":0},0,0,0,0,0,0,{"$error":"#N/A"},{"$error":"#N/A"},{"$f":"+CONCATENATE(VLOOKUP(F63580,Cadastro!$Q$3:$R$162,2,FALSE),\"/\",S63580,\"/\",H63580)","v":{"$error":"#N/A"}},{"$error":"#N/A"},"0/0","0/0/0",{"$error":"#N/A"},{"$error":"#N/A"},"0/0",0,0,0,0,0,0,0,0,0,0]
[null,0,0,0,null,0,0,0,null,0,0,{"$f":"IF(J63632=0,0,+CONCATENATE(VLOOKUP(B63632,Cadastro!$Q$3:$R$162,2,FALSE),\"/\",J63632,\"/\",D63632))","v":0},0,0,0,0,0,0,{"$error":"#N/A"},{"$error":"#N/A"},{"$f":"+CONCATENATE(VLOOKUP(F63632,Cadastro!$Q$3:$R$162,2,FALSE),\"/\",S63632,\"/\",H63632)","v":{"$error":"#N/A"}},{"$error":"#N/A"},"0/0","0/0/0",{"$error":"#N/A"},{"$error":"#N/A"},"0/0",0,0,0,0,0,0,0,0,0,0]
[null,0,0,0,null,0,0,0,null,0,0,{"$f":"IF(J63680=0,0,+CONCATENATE(VLOOKUP(B63680,Cadastro!$Q$3:$R$162,2,FALSE),\"/\",J63680,\"/\",D63680))","v":0},0,0,0,0,0,0,{"$error":"#N/A"},{"$error":"#N/A"},{"$f":"+CONCATENATE(VLOOKUP(F63680,Cadastro!$Q$3:$R$162,2,FALSE),\"/\",S63680,\"/\",H63680)","v":{"$error":"#N/A"}},{"$error":"#N/A"},"0/0","0/0/0",{"$error":"#N/A"},{"$error":"#N/A"},"0/0",0,0,0,0,0,0,0,0,0,0]
[null,0,0,0,null,0,0,0,null,0,0,{"$f":"IF(J63761=0,0,+CONCATENATE(VLOOKUP(B63761,Cadastro!$Q$3:$R$162,2,FALSE),\"/\",J63761,\"/\",D63761))","v":0},0,0,0,0,0,0,{"$error":"#N/A"},{"$error":"#N/A"},{"$f":"+CONCATENATE(VLOOKUP(F63761,Cadastro!$Q$3:$R$162,2,FALSE),\"/\",S63761,\"/\",H63761)","v":{"$error":"#N/A"}},{"$error":"#N/A"},"0/0","0/0/0",{"$error":"#N/A"},{"$error":"#N/A"},"0/0",0,0,0,0,0,0,0,0,0,0]
[null,0,0,0,null,0,0,0,null,0,0,{"$f":"IF(J63846=0,0,+CONCATENATE(VLOOKUP(B63846,Cadastro!$Q$3:$R$162,2,FALSE),\"/\",J63846,\"/\",D63846))","v":0},0,0,0,0,0,0,{"$error":"#N/A"},{"$error":"#N/A"},{"$f":"+CONCATENATE(VLOOKUP(F63846,Cadastro!$Q$3:$R$162,2,FALSE),\"/\",S63846,\"/\",H63846)","v":{"$error":"#N/A"}},{"$error":"#N/A"},"0/0","0/0/0",{"$error":"#N/A"},{"$error":"#N/A"},"0/0",0,0,0,0,0,0,0,0,0,0]
[null,0,0,0,null,0,0,0,null,0,0,{"$f":"IF(J63895=0,0,+CONCATENATE(VLOOKUP(B63895,Cadastro!$Q$3:$R$162,2,FALSE),\"/\",J63895,\"/\",D63895))","v":0},0,0,0,0,0,0,{"$error":"#N/A"},{"$error":"#N/A"},{"$f":"+CONCATENATE(VLOOKUP(F63895,Cadastro!$Q$3:$R$162,2,FALSE),\"/\",S63895,\"/\",H63895)","v":{"$error":"#N/A"}},{"$error":"#N/A"},"0/0","0/0/0",{"$error":"#N/A"},{"$error":"#N/A"},"0/0",0,0,0,0,0,0,0,0,0,0]
[null,0,0,0,null,0,0,0,null,0,0,{"$f":"IF(J63946=0,0,+CONCATENATE(VLOOKUP(B63946,Cadastro!$Q$3:$R$162,2,FALSE),\"/\",J63946,\"/\",D63946))","v":0},0,0,0,0,0,0,{"$error":"#N/A"},{"$error":"#N/A"},{"$f":"+CONCATENATE(VLOOKUP(F63946,Cadastro!$Q$3:$R$162,2,FALSE),\"/\",S63946,\"/\",H63946)","v":{"$error":"#N/A"}},{"$error":"#N/A"},"0/0","0/0/0",{"$error":"#N/A"},{"$error":"#N/A"},"0/0",0,0,0,0,0,0,0,0,0,0]
[null,0,0,0,null,0,0,0,null,0,0,{"$f":"IF(J64031=0,0,+CONCATENATE(VLOOKUP(B64031,Cadastro!$Q$3:$R$162,2,FALSE),\"/\",J64031,\"/\",D64031))","v":0},0,0,0,0,0,0,{"$error":"#N/A"},{"$error":"#N/A"},{"$f":"+CONCATENATE(VLOOKUP(F64031,Cadastro!$Q$3:$R$162,2,FALSE),\"/\",S64031,\"/\",H64031)","v":{"$error":"#N/A"}},{"$error":"#N/A"},"0/0","0/0/0",{"$error":"#N/A"},{"$error":"#N/A"},"0/0",0,0,0,0,0,0,0,0,0,0]
[null,0,0,0,null,0,0,0,null,0,0,{"$f":"IF(J64112=0,0,+CONCATENATE(VLOOKUP(B64112,Cadastro!$Q$3:$R$162,2,FALSE),\"/\",J64112,\"/\",D64112))","v":0},0,0,0,0,0,0,{"$error":"#N/A"},{"$error":"#N/A"},{"$f":"+CONCATENATE(VLOOKUP(F64112,Cadastro!$Q$3:$R$162,2,FALSE),\"/\",S64112,\"/\",H64112)","v":{"$error":"#N/A"}},{"$error":"#N/A"},"0/0","0/0/0",{"$error":"#N/A"},{"$error":"#N/A"},"0/0",0,0,0,0,0,0,0,0,0,0]
[null,0,0,0,null,0,0,0,null,0,0,{"$f":"IF(J64158=0,0,+CONCATENATE(VLOOKUP(B64158,Cadastro!$Q$3:$R$162,2,FALSE),\"/\",J64158,\"/\",D64158))","v":0},0,0,0,0,0,0,{"$error":"#N/A"},{"$error":"#N/A"},{"$f":"+CONCATENATE(VLOOKUP(F64158,Cadastro!$Q$3:$R$162,2,FALSE),\"/\",S64158,\"/\",H64158)","v":{"$error":"#N/A"}},{"$error":"#N/A"},"0/0","0/0/0",{"$error":"#N/A"},{"$error":"#N/A"},"0/0",0,0,0,0,0,0,0,0,0,0]
[null,0,0,0,null,0,0,0,null,0,0,{"$f":"IF(J64216=0,0,+CONCATENATE(VLOOKUP(B64216,Cadastro!$Q$3:$R$162,2,FALSE),\"/\",J64216,\"/\",D64216))","v":0},0,0,0,0,0,0,{"$error":"#N/A"},{"$error":"#N/A"},{"$f":"+CONCATENATE(VLOOKUP(F64216,Cadastro!$Q$3:$R$162,2,FALSE),\"/\",S64216,\"/\",H64216)","v":{"$error":"#N/A"}},{"$error":"#N/A"},"0/0","0/0/0",{"$error":"#N/A"},{"$error":"#N/A"},"0/0",0,0,0,0,0,0,0,0,0,0]
[null,0,0,0,null,0,0,0,null,0,0,{"$f":"IF(J64297=0,0,+CONCATENATE(VLOOKUP(B64297,Cadastro!$Q$3:$R$162,2,FALSE),\"/\",J64297,\"/\",D64297))","v":0},0,0,0,0,0,0,{"$error":"#N/A"},{"$error":"#N/A"},{"$f":"+CONCATENATE(VLOOKUP(F64297,Cadastro!$Q$3:$R$162,2,FALSE),\"/\",S64297,\"/\",H64297)","v":{"$error":"#N/A"}},{"$error":"#N/A"},"0/0","0/0/0",{"$error":"#N/A"},{"$error":"#N/A"},"0/0",0,0,0,0,0,0,0,0,0,0]
[null,0,0,0,null,0,0,0,null,0,0,{"$f":"IF(J64382=0,0,+CONCATENATE(VLOOKUP(B64382,Cadastro!$Q$3:$R$162,2,FALSE),\"/\",J64382,\"/\",D64382))","v":0},0,0,0,0,0,0,{"$error":"#N/A"},{"$error":"#N/A"},{"$f":"+CONCATENATE(VLOOKUP(F64382,Cadastro!$Q$3:$R$162,2,FALSE),\"/\",S64382,\"/\",H64382)","v":{"$error":"#N/A"}},{"$error":"#N/A"},"0/0","0/0/0",{"$error":"#N/A"},{"$error":"#N/A"},"0/0",0,0,0,0,0,0,0,0,0,0]
[null,0,0,0,null,0,0,0,null,0,0,{"$f":"IF(J64421=0,0,+CONCATENATE(VLOOKUP(B64421,Cadastro!$Q$3:$R$162,2,FALSE),\"/\",J64421,\"/\",D64421))","v":0},0,0,0,0,0,0,{"$error":"#N/A"},{"$error":"#N/A"},{"$f":"+CONCATENATE(VLOOKUP(F64421,Cadastro!$Q$3:$R$162,2,FALSE),\"/\",S64421,\"/\",H64421)","v":{"$error":"#N/A"}},{"$error":"#N/A"},"0/0","0/0/0",{"$error":"#N/A"},{"$error":"#N/A"},"0/0",0,0,0,0,0,0,0,0,0,0]
[null,0,0,0,null,0,0,0,null,0,0,{"$f":"IF(J64482=0,0,+CONCATENATE(VLOOKUP(B64482,Cadastro!$Q$3:$R$162,2,FALSE),\"/\",J64482,\"/\",D64482))","v":0},0,0,0,0,0,0,{"$error":"#N/A"},{"$error":"#N/A"},{"$f":"+CONCATENATE(VLOOKUP(F64482,Cadastro!$Q$3:$R$162,2,FALSE),\"/\",S64482,\"/\",H64482)","v":{"$error":"#N/A"}},{"$error":"#N/A"},"0/0","0/0/0",{"$error":"#N/A"},{"$error":"#N/A"},"0/0",0,0,0,0,0,0,0,0,0,0]
[null,0,0,0,null,0,0,0,null,0,0,{"$f":"IF(J64567=0,0,+CONCATENATE(VLOOKUP(B64567,Cadastro!$Q$3:$R$162,2,FALSE),\"/\",J64567,\"/\",D64567))","v":0},0,0,0,0,0,0,{"$error":"#N/A"},{"$error":"#N/A"},{"$f":"+CONCATENATE(VLOOKUP(F64567,Cadastro!$Q$3:$R$162,2,FALSE),\"/\",S64567,\"/\",H64567)","v":{"$error":"#N/A"}},{"$error":"#N/A"},"0/0","0/0/0",{"$error":"#N/A"},{"$error":"#N/A"},"0/0",0,0,0,0,0,0,0,0,0,0]
[null,0,0,0,null,0,0,0,null,0,0,{"$f":"IF(J64648=0,0,+CONCATENATE(VLOOKUP(B64648,Cadastro!$Q$3:$R$162,2,FALSE),\"/\",J64648,\"/\",D64648))","v":0},0,0,0,0,0,0,{"$error":"#N/A"},{"$error":"#N/A"},{"$f":"+CONCATENATE(VLOOKUP(F64648,Cadastro!$Q$3:$R$162,2,FALSE),\"/\",S64648,\"/\",H64648)","v":{"$error":"#N/A"}},{"$error":"#N/A"},"0/0","0/0/0",{"$error":"#N/A"},{"$error":"#N/A"},"0/0",0,0,0,0,0,0,0,0,0,0]
[null,0,0,0,null,0,0,0,null,0,0,{"$f":"IF(J64684=0,0,+CONCATENATE(VLOOKUP(B64684,Cadastro!$Q$3:$R$162,2,FALSE),\"/\",J64684,\"/\",D64684))","v":0},0,0,0,0,0,0,{"$error":"#N/A"},{"$error":"#N/A"},{"$f":"+CONCATENATE(VLOOKUP(F64684,Cadastro!$Q$3:$R$162,2,FALSE),\"/\",S64684,\"/\",H64684)","v":{"$error":"#N/A"}},{"$error":"#N/A"},"0/0","0/0/0",{"$error":"#N/A"},{"$error":"#N/A"},"0/0",0,0,0,0,0,0,0,0,0,0]
[null,0,0,0,null,0,0,0,null,0,0,{"$f":"IF(J64752=0,0,+CONCATENATE(VLOOKUP(B64752,Cadastro!$Q$3:$R$162,2,FALSE),\"/\",J64752,\"/\",D64752))","v":0},0,0,0,0,0,0,{"$error":"#N/A"},{"$error":"#N/A"},{"$f":"+CONCATENATE(VLOOKUP(F64752,Cadastro!$Q$3:$R$162,2,FALSE),\"/\",S64752,\"/\",H64752)","v":{"$error":"#N/A"}},{"$error":"#N/A"},"0/0","0/0/0",{"$error":"#N/A"},{"$error":"#N/A"},"0/0",0,0,0,0,0,0,0,0,0,0]
[null,0,0,0,null,0,0,0,null,0,0,{"$f":"IF(J64833=0,0,+CONCATENATE(VLOOKUP(B64833,Cadastro!$Q$3:$R$162,2,FALSE),\"/\",J64833,\"/\",D64833))","v":0},0,0,0,0,0,0,{"$error":"#N/A"},{"$error":"#N/A"},{"$f":"+CONCATENATE(VLOOKUP(F64833,Cadastro!$Q$3:$R$162,2,FALSE),\"/\",S64833,\"/\",H64833)","v":{"$error":"#N/A"}},{"$error":"#N/A"},"0/0","0/0/0",{"$error":"#N/A"},{"$error":"#N/A"},"0/0",0,0,0,0,0,0,0,0,0,0]
[null,0,0,0,null,0,0,0,null,0,0,{"$f":"IF(J64853=0,0,+CONCATENATE(VLOOKUP(B64853,Cadastro!$Q$3:$R$162,2,FALSE),\"/\",J64853,\"/\",D64853))","v":0},0,0,0,0,0,0,{"$error":"#N/A"},{"$error":"#N/A"},{"$f":"+CONCATENATE(VLOOKUP(F64853,Cadastro!$Q$3:$R$162,2,FALSE),\"/\",S64853,\"/\",H64853)","v":{"$error":"#N/A"}},{"$error":"#N/A"},"0/0","0/0/0",{"$error":"#N/A"},{"$error":"#N/A"},"0/0",0,0,0,0,0,0,0,0,0,0]
[null,0,0,0,null,0,0,0,null,0,0,{"$f":"IF(J64947=0,0,+CONCATENATE(VLOOKUP(B64947,Cadastro!$Q$3:$R$162,2,FALSE),\"/\",J64947,\"/\",D64947))","v":0},0,0,0,0,0,0,{"$error":"#N/A"},{"$error":"#N/A"},{"$f":"+CONCATENATE(VLOOKUP(F64947,Cadastro!$Q$3:$R$162,2,FALSE),\"/\",S64947,\"/\",H64947)","v":{"$error":"#N/A"}},{"$error":"#N/A"},"0/0","0/0/0",{"$error":"#N/A"},{"$error":"#N/A"},"0/0",0,0,0,0,0,0,0,0,0,0]
[null,0,0,0,null,0,0,0,null,0,0,{"$f":"IF(J65018=0,0,+CONCATENATE(VLOOKUP(B65018,Cadastro!$Q$3:$R$162,2,FALSE),\"/\",J65018,\"/\",D65018))","v":0},0,0,0,0,0,0,{"$error":"#N/A"},{"$error":"#N/A"},{"$f":"+CONCATENATE(VLOOKUP(F65018,Cadastro!$Q$3:$R$162,2,FALSE),\"/\",S65018,\"/\",H65018)","v":{"$error":"#N/A"}},{"$error":"#N/A"},"0/0","0/0/0",{"$error":"#N/A"},{"$error":"#N/A"},"0/0",0,0,0,0,0,0,0,0,0,0]
[null,0,0,0,null,0,0,0,null,0,0,{"$f":"IF(J65103=0,0,+CONCATENATE(VLOOKUP(B65103,Cadastro!$Q$3:$R$162,2,FALSE),\"/\",J65103,\"/\",D65103))","v":0},0,0,0,0,0,0,{"$error":"#N/A"},{"$error":"#N/A"},{"$f":"+CONCATENATE(VLOOKUP(F65103,Cadastro!$Q$3:$R$162,2,FALSE),\"/\",S65103,\"/\",H65103)","v":{"$error":"#N/A"}},{"$error":"#N/A"},"0/0","0/0/0",{"$error":"#N/A"},{"$error":"#N/A"},"0/0",0,0,0,0,0,0,0,0,0,0]
[null,0,0,0,null,0,0,0,null,0,0,{"$f":"IF(J65119=0,0,+CONCATENATE(VLOOKUP(B65119,Cadastro!$Q$3:$R$162,2,FALSE),\"/\",J65119,\"/\",D65119))","v":0},0,0,0,0,0,0,{"$error":"#N/A"},{"$error":"#N/A"},{"$f":"+CONCATENATE(VLOOKUP(F65119,Cadastro!$Q$3:$R$162,2,FALSE),\"/\",S65119,\"/\",H65119)","v":{"$error":"#N/A"}},{"$error":"#N/A"},"0/0","0/0/0",{"$error":"#N/A"},{"$error":"#N/A"},"0/0",0,0,0,0,0,0,0,0,0,0]
[null,0,0,0,null,0,0,0,null,0,0,{"$f":"IF(J65210=0,0,+CONCATENATE(VLOOKUP(B65210,Cadastro!$Q$3:$R$162,2,FALSE),\"/\",J65210,\"/\",D65210))","v":0},0,0,0,0,0,0,{"$error":"#N/A"},{"$error":"#N/A"},{"$f":"+CONCATENATE(VLOOKUP(F65210,Cadastro!$Q$3:$R$162,2,FALSE),\"/\",S65210,\"/\",H65210)","v":{"$error":"#N/A"}},{"$error":"#N/A"},"0/0","0/0/0",{"$error":"#N/A"},{"$error":"#N/A"},"0/0",0,0,0,0,0,0,0,0,0,0]
[null,0,0,0,null,0,0,0,null,0,0,{"$f":"IF(J65288=0,0,+CONCATENATE(VLOOKUP(B65288,Cadastro!$Q$3:$R$162,2,FALSE),\"/\",J65288,\"/\",D65288))","v":0},0,0,0,0,0,0,{"$error":"#N/A"},{"$error":"#N/A"},{"$f":"+CONCATENATE(VLOOKUP(F65288,Cadastro!$Q$3:$R$162,2,FALSE),\"/\",S65288,\"/\",H65288)","v":{"$error":"#N/A"}},{"$error":"#N/A"},"0/0","0/0/0",{"$error":"#N/A"},{"$error":"#N/A"},"0/0",0,0,0,0,0,0,0,0,0,0]
[null,0,0,0,null,0,0,0,null,0,0,{"$f":"IF(J65304=0,0,+CONCATENATE(VLOOKUP(B65304,Cadastro!$Q$3:$R$162,2,FALSE),\"/\",J65304,\"/\",D65304))","v":0},0,0,0,0,0,0,{"$error":"#N/A"},{"$error":"#N/A"},{"$f":"+CONCATENATE(VLOOKUP(F65304,Cadastro!$Q$3:$R$162,2,FALSE),\"/\",S65304,\"/\",H65304)","v":{"$error":"#N/A"}},{"$error":"#N/A"},"0/0","0/0/0",{"$error":"#N/A"},{"$error":"#N/A"},"0/0",0,0,0,0,0,0,0,0,0,0]
[null,0,0,0,null,0,0,0,null,0,0,{"$f":"IF(J65389=0,0,+CONCATENATE(VLOOKUP(B65389,Cadastro!$Q$3:$R$162,2,FALSE),\"/\",J65389,\"/\",D65389))","v":0},0,0,0,0,0,0,{"$error":"#N/A"},{"$error":"#N/A"},{"$f":"+CONCATENATE(VLOOKUP(F65389,Cadastro!$Q$3:$R$162,2,FALSE),\"/\",S65389,\"/\",H65389)","v":{"$error":"#N/A"}},{"$error":"#N/A"},"0/0","0/0/0",{"$error":"#N/A"},{"$error":"#N/A"},"0/0",0,0,0,0,0,0,0,0,0,0]
[null,0,0,0,null,0,0,0,null,0,0,{"$f":"IF(J65473=0,0,+CONCATENATE(VLOOKUP(B65473,Cadastro!$Q$3:$R$162,2,FALSE),\"/\",J65473,\"/\",D65473))","v":0},0,0,0,0,0,0,{"$error":"#N/A"},{"$error":"#N/A"},{"$f":"+CONCATENATE(VLOOKUP(F65473,Cadastro!$Q$3:$R$162,2,FALSE),\"/\",S65473,\"/\",H65473)","v":{"$error":"#N/A"}},{"$error":"#N/A"},"0/0","0/0/0",{"$error":"#N/A"},{"$error":"#N/A"},"0/0",0,0,0,0,0,0,0,0,0,0]
[null,0,0,0,null,0,0,0,null,0,0,{"$f":"IF(J65554=0,0,+CONCATENATE(VLOOKUP(B65554,Cadastro!$Q$3:$R$162,2,FALSE),\"/\",J65554,\"/\",D65554))","v":0},0,0,0,0,0,0,{"$error":"#N/A"},{"$error":"#N/A"},{"$f":"+CONCATENATE(VLOOKUP(F65554,Cadastro!$Q$3:$R$162,2,FALSE),\"/\",S65554,\"/\",H65554)","v":{"$error":"#N/A"}},{"$error":"#N/A"},"0/0","0/0/0",{"$error":"#N/A"},{"$error":"#N/A"},"0/0",0,0,0,0,0,0,0,0,0,0]
[null,0,0,0,null,0,0,0,null,0,0,{"$f":"IF(J65574=0,0,+CONCATENATE(VLOOKUP(B65574,Cadastro!$Q$3:$R$162,2,FALSE),\"/\",J65574,\"/\",D65574))","v":0},0,0,0,0,0,0,{"$error":"#N/A"},{"$error":"#N/A"},{"$f":"+CONCATENATE(VLOOKUP(F65574,Cadastro!$Q$3:$R$162,2,FALSE),\"/\",S65574,\"/\",H65574)","v":{"$error":"#N/A"}},{"$error":"#N/A"},"0/0","0/0/0",{"$error":"#N/A"},{"$error":"#N/A"},"0/0",0,0,0,0,0,0,0,0,0,0]
[null,0,0,0,null,0,0,0,null,0,0,{"$f":"IF(J65655=0,0,+CONCATENATE(VLOOKUP(B65655,Cadastro!$Q$3:$R$162,2,FALSE),\"/\",J65655,\"/\",D65655))","v":0},0,0,0,0,0,0,{"$error":"#N/A"},{"$error":"#N/A"},{"$f":"+CONCATENATE(VLOOKUP(F65655,Cadastro!$Q$3:$R$162,2,FALSE),\"/\",S65655,\"/\",H65655)","v":{"$error":"#N/A"}},{"$error":"#N/A"},"0/0","0/0/0",{"$error":"#N/A"},{"$error":"#N/A"},"0/0",0,0,0,0,0,0,0,0,0,0]
[null,0,0,0,null,0,0,0,null,0,0,{"$f":"IF(J65740=0,0,+CONCATENATE(VLOOKUP(B65740,Cadastro!$Q$3:$R$162,2,FALSE),\"/\",J65740,\"/\",D65740))","v":0},0,0,0,0,0,0,{"$error":"#N/A"},{"$error":"#N/A"},{"$f":"+CONCATENATE(VLOOKUP(F65740,Cadastro!$Q$3:$R$162,2,FALSE),\"/\",S65740,\"/\",H65740)","v":{"$error":"#N/A"}},{"$error":"#N/A"},"0/0","0/0/0",{"$error":"#N/A"},{"$error":"#N/A"},"0/0",0,0,0,0,0,0,0,0,0,0]
[null,0,0,0,null,0,0,0,null,0,0,{"$f":"IF(J65753=0,0,+CONCATENATE(VLOOKUP(B65753,Cadastro!$Q$3:$R$162,2,FALSE),\"/\",J65753,\"/\",D65753))","v":0},0,0,0,0,0,0,{"$error":"#N/A"},{"$error":"#N/A"},{"$f":"+CONCATENATE(VLOOKUP(F65753,Cadastro!$Q$3:$R$162,2,FALSE),\"/\",S65753,\"/\",H65753)","v":{"$error":"#N/A"}},{"$error":"#N/A"},"0/0","0/0/0",{"$error":"#N/A"},{"$error":"#N/A"},"0/0",0,0,0,0,0,0,0,0,0,0]
[null,0,0,0,null,0,0,0,null,0,0,{"$f":"IF(J65754=0,0,+CONCATENATE(VLOOKUP(B65754,Cadastro!$Q$3:$R$162,2,FALSE),\"/\",J65754,\"/\",D65754))","v":0},0,0,0,0,0,0,{"$error":"#N/A"},{"$error":"#N/A"},{"$f":"+CONCATENATE(VLOOKUP(F65754,Cadastro!$Q$3:$R$162,2,FALSE),\"/\",S65754,\"/\",H65754)","v":{"$error":"#N/A"}},{"$error":"#N/A"},"0/0","0/0/0",{"$error":"#N/A"},{"$error":"#N/A"},"0/0",0,0,0,0,0,0,0,0,0,0]
[null,0,0,0,null,0,0,0,null,0,0,{"$f":"IF(J65755=0,0,+CONCATENATE(VLOOKUP(B65755,Cadastro!$Q$3:$R$162,2,FALSE),\"/\",J65755,\"/\",D65755))","v":0},0,0,0,0,0,0,{"$error":"#N/A"},{"$error":"#N/A"},{"$f":"+CONCATENATE(VLOOKUP(F65755,Cadastro!$Q$3:$R$162,2,FALSE),\"/\",S65755,\"/\",H65755)","v":{"$error":"#N/A"}},{"$error":"#N/A"},"0/0","0/0/0",{"$error":"#N/A"},{"$error":"#N/A"},"0/0",0,0,0,0,0,0,0,0,0,0]
[null,0,0,0,null,0,0,0,null,0,0,{"$f":"IF(J65756=0,0,+CONCATENATE(VLOOKUP(B65756,Cadastro!$Q$3:$R$162,2,FALSE),\"/\",J65756,\"/\",D65756))","v":0},0,0,0,0,0,0,{"$error":"#N/A"},{"$error":"#N/A"},{"$f":"+CONCATENATE(VLOOKUP(F65756,Cadastro!$Q$3:$R$162,2,FALSE),\"/\",S65756,\"/\",H65756)","v":{"$error":"#N/A"}},{"$error":"#N/A"},"0/0","0/0/0",{"$error":"#N/A"},{"$error":"#N/A"},"0/0",0,0,0,0,0,0,0,0,0,0]
[null,0,0,0,null,0,0,0,null,0,0,{"$f":"IF(J65757=0,0,+CONCATENATE(VLOOKUP(B65757,Cadastro!$Q$3:$R$162,2,FALSE),\"/\",J65757,\"/\",D65757))","v":0},0,0,0,0,0,0,{"$error":"#N/A"},{"$error":"#N/A"},{"$f":"+CONCATENATE(VLOOKUP(F65757,Cadastro!$Q$3:$R$162,2,FALSE),\"/\",S65757,\"/\",H65757)","v":{"$error":"#N/A"}},{"$error":"#N/A"},"0/0","0/0/0",{"$error":"#N/A"},{"$error":"#N/A"},"0/0",0,0,0,0,0,0,0,0,0,0]
[null,0,0,0,null,0,0,0,null,0,0,{"$f":"IF(J65758=0,0,+CONCATENATE(VLOOKUP(B65758,Cadastro!$Q$3:$R$162,2,FALSE),\"/\",J65758,\"/\",D65758))","v":0},0,0,0,0,0,0,{"$error":"#N/A"},{"$error":"#N/A"},{"$f":"+CONCATENATE(VLOOKUP(F65758,Cadastro!$Q$3:$R$162,2,FALSE),\"/\",S65758,\"/\",H65758)","v":{"$error":"#N/A"}},{"$error":"#N/A"},"0/0","0/0/0",{"$error":"#N/A"},{"$error":"#N/A"},"0/0",0,0,0,0,0,0,0,0,0,0]
[null,0,0,0,null,0,0,0,null,0,0,{"$f":"IF(J65759=0,0,+CONCATENATE(VLOOKUP(B65759,Cadastro!$Q$3:$R$162,2,FALSE),\"/\",J65759,\"/\",D65759))","v":0},0,0,0,0,0,0,{"$error":"#N/A"},{"$error":"#N/A"},{"$f":"+CONCATENATE(VLOOKUP(F65759,Cadastro!$Q$3:$R$162,2,FALSE),\"/\",S65759,\"/\",H65759)","v":{"$error":"#N/A"}},{"$error":"#N/A"},"0/0","0/0/0",{"$error":"#N/A"},{"$error":"#N/A"},"0/0",0,0,0,0,0,0,0,0,0,0]
[null,0,0,0,null,0,0,0,null,0,0,{"$f":"IF(J65760=0,0,+CONCATENATE(VLOOKUP(B65760,Cadastro!$Q$3:$R$162,2,FALSE),\"/\",J65760,\"/\",D65760))","v":0},0,0,0,0,0,0,{"$error":"#N/A"},{"$error":"#N/A"},{"$f":"+CONCATENATE(VLOOKUP(F65760,Cadastro!$Q$3:$R$162,2,FALSE),\"/\",S65760,\"/\",H65760)","v":{"$error":"#N/A"}},{"$error":"#N/A"},"0/0","0/0/0",{"$error":"#N/A"},{"$error":"#N/A"},"0/0",0,0,0,0,0,0,0,0,0,0]
[null,0,0,0,null,0,0,0,null,0,0,{"$f":"IF(J65761=0,0,+CONCATENATE(VLOOKUP(B65761,Cadastro!$Q$3:$R$162,2,FALSE),\"/\",J65761,\"/\",D65761))","v":0},0,0,0,0,0,0,{"$error":"#N/A"},{"$error":"#N/A"},{"$f":"+CONCATENATE(VLOOKUP(F65761,Cadastro!$Q$3:$R$162,2,FALSE),\"/\",S65761,\"/\",H65761)","v":{"$error":"#N/A"}},{"$error":"#N/A"},"0/0","0/0/0",{"$error":"#N/A"},{"$error":"#N/A"},"0/0",0,0,0,0,0,0,0,0,0,0]
[null,0,0,0,null,0,0,0,null,0,0,{"$f":"IF(J65762=0,0,+CONCATENATE(VLOOKUP(B65762,Cadastro!$Q$3:$R$162,2,FALSE),\"/\",J65762,\"/\",D65762))","v":0},0,0,0,0,0,0,{"$error":"#N/A"},{"$error":"#N/A"},{"$f":"+CONCATENATE(VLOOKUP(F65762,Cadastro!$Q$3:$R$162,2,FALSE),\"/\",S65762,\"/\",H65762)","v":{"$error":"#N/A"}},{"$error":"#N/A"},"0/0","0/0/0",{"$error":"#N/A"},{"$error":"#N/A"},"0/0",0,0,0,0,0,0,0,0,0,0]
[null,0,0,0,null,0,0,0,null,0,0,{"$f":"IF(J65763=0,0,+CONCATENATE(VLOOKUP(B65763,Cadastro!$Q$3:$R$162,2,FALSE),\"/\",J65763,\"/\",D65763))","v":0},0,0,0,0,0,0,{"$error":"#N/A"},{"$error":"#N/A"},{"$f":"+CONCATENATE(VLOOKUP(F65763,Cadastro!$Q$3:$R$162,2,FALSE),\"/\",S65763,\"/\",H65763)","v":{"$error":"#N/A"}},{"$error":"#N/A"},"0/0","0/0/0",{"$error":"#N/A"},{"$error":"#N/A"},"0/0",0,0,0,0,0,0,0,0,0,0]
[null,0,0,0,null,0,0,0,null,0,0,{"$f":"IF(J65764=0,0,+CONCATENATE(VLOOKUP(B65764,Cadastro!$Q$3:$R$162,2,FALSE),\"/\",J65764,\"/\",D65764))","v":0},0,0,0,0,0,0,{"$error":"#N/A"},{"$error":"#N/A"},{"$f":"+CONCATENATE(VLOOKUP(F65764,Cadastro!$Q$3:$R$162,2,FALSE),\"/\",S65764,\"/\",H65764)","v":{"$error":"#N/A"}},{"$error":"#N/A"},"0/0","0/0/0",{"$error":"#N/A"},{"$error":"#N/A"},"0/0",0,0,0,0,0,0,0,0,0,0]
[null,0,0,0,null,0,0,0,null,0,0,{"$f":"IF(J65765=0,0,+CONCATENATE(VLOOKUP(B65765,Cadastro!$Q$3:$R$162,2,FALSE),\"/\",J65765,\"/\",D65765))","v":0},0,0,0,0,0,0,{"$error":"#N/A"},{"$error":"#N/A"},{"$f":"+CONCATENATE(VLOOKUP(F65765,Cadastro!$Q$3:$R$162,2,FALSE),\"/\",S65765,\"/\",H65765)","v":{"$error":"#N/A"}},{"$error":"#N/A"},"0/0","0/0/0",{"$error":"#N/A"},{"$error":"#N/A"},"0/0",0,0,0,0,0,0,0,0,0,0]
[null,0,0,0,null,0,0,0,null,0,0,{"$f":"IF(J65766=0,0,+CONCATENATE(VLOOKUP(B65766,Cadastro!$Q$3:$R$162,2,FALSE),\"/\",J65766,\"/\",D65766))","v":0},0,0,0,0,0,0,{"$error":"#N/A"},{"$error":"#N/A"},{"$f":"+CONCATENATE(VLOOKUP(F65766,Cadastro!$Q$3:$R$162,2,FALSE),\"/\",S65766,\"/\",H65766)","v":{"$error":"#N/A"}},{"$error":"#N/A"},"0/0","0/0/0",{"$error":"#N/A"},{"$error":"#N/A"},"0/0",0,0,0,0,0,0,0,0,0,0]
[null,0,0,0,null,0,0,0,null,0,0,{"$f":"IF(J65767=0,0,+CONCATENATE(VLOOKUP(B65767,Cadastro!$Q$3:$R$162,2,FALSE),\"/\",J65767,\"/\",D65767))","v":0},0,0,0,0,0,0,{"$error":"#N/A"},{"$error":"#N/A"},{"$f":"+CONCATENATE(VLOOKUP(F65767,Cadastro!$Q$3:$R$162,2,FALSE),\"/\",S65767,\"/\",H65767)","v":{"$error":"#N/A"}},{"$error":"#N/A"},"0/0","0/0/0",{"$error":"#N/A"},{"$error":"#N/A"},"0/0",0,0,0,0,0,0,0,0,0,0]
[null,0,0,0,null,0,0,0,null,0,0,{"$f":"IF(J65768=0,0,+CONCATENATE(VLOOKUP(B65768,Cadastro!$Q$3:$R$162,2,FALSE),\"/\",J65768,\"/\",D65768))","v":0},0,0,0,0,0,0,{"$error":"#N/A"},{"$error":"#N/A"},{"$f":"+CONCATENATE(VLOOKUP(F65768,Cadastro!$Q$3:$R$162,2,FALSE),\"/\",S65768,\"/\",H65768)","v":{"$error":"#N/A"}},{"$error":"#N/A"},"0/0","0/0/0",{"$error":"#N/A"},{"$error":"#N/A"},"0/0",0,0,0,0,0,0,0,0,0,0]
[null,0,0,0,null,0,0,0,null,0,0,{"$f":"IF(J65769=0,0,+CONCATENATE(VLOOKUP(B65769,Cadastro!$Q$3:$R$162,2,FALSE),\"/\",J65769,\"/\",D65769))","v":0},0,0,0,0,0,0,{"$error":"#N/A"},{"$error":"#N/A"},{"$f":"+CONCATENATE(VLOOKUP(F65769,Cadastro!$Q$3:$R$162,2,FALSE),\"/\",S65769,\"/\",H65769)","v":{"$error":"#N/A"}},{"$error":"#N/A"},"0/0","0/0/0",{"$error":"#N/A"},{"$error":"#N/A"},"0/0",0,0,0,0,0,0,0,0,0,0]
[null,0,0,0,null,0,0,0,null,0,0,{"$f":"IF(J65770=0,0,+CONCATENATE(VLOOKUP(B65770,Cadastro!$Q$3:$R$162,2,FALSE),\"/\",J65770,\"/\",D65770))","v":0},0,0,0,0,0,0,{"$error":"#N/A"},{"$error":"#N/A"},{"$f":"+CONCATENATE(VLOOKUP(F65770,Cadastro!$Q$3:$R$162,2,FALSE),\"/\",S65770,\"/\",H65770)","v":{"$error":"#N/A"}},{"$error":"#N/A"},"0/0","0/0/0",{"$error":"#N/A"},{"$error":"#N/A"},"0/0",0,0,0,0,0,0,0,0,0,0]
[null,0,0,0,null,0,0,0,null,0,0,{"$f":"IF(J65771=0,0,+CONCATENATE(VLOOKUP(B65771,Cadastro!$Q$3:$R$162,2,FALSE),\"/\",J65771,\"/\",D65771))","v":0},0,0,0,0,0,0,{"$error":"#N/A"},{"$error":"#N/A"},{"$f":"+CONCATENATE(VLOOKUP(F65771,Cadastro!$Q$3:$R$162,2,FALSE),\"/\",S65771,\"/\",H65771)","v":{"$error":"#N/A"}},{"$error":"#N/A"},"0/0","0/0/0",{"$error":"#N/A"},{"$error":"#N/A"},"0/0",0,0,0,0,0,0,0,0,0,0]
[null,0,0,0,null,0,0,0,null,0,0,{"$f":"IF(J65772=0,0,+CONCATENATE(VLOOKUP(B65772,Cadastro!$Q$3:$R$162,2,FALSE),\"/\",J65772,\"/\",D65772))","v":0},0,0,0,0,0,0,{"$error":"#N/A"},{"$error":"#N/A"},{"$f":"+CONCATENATE(VLOOKUP(F65772,Cadastro!$Q$3:$R$162,2,FALSE),\"/\",S65772,\"/\",H65772)","v":{"$error":"#N/A"}},{"$error":"#N/A"},"0/0","0/0/0",{"$error":"#N/A"},{"$error":"#N/A"},"0/0",0,0,0,0,0,0,0,0,0,0]
[null,0,0,0,null,0,0,0,null,0,0,{"$f":"IF(J65773=0,0,+CONCATENATE(VLOOKUP(B65773,Cadastro!$Q$3:$R$162,2,FALSE),\"/\",J65773,\"/\",D65773))","v":0},0,0,0,0,0,0,{"$error":"#N/A"},{"$error":"#N/A"},{"$f":"+CONCATENATE(VLOOKUP(F65773,Cadastro!$Q$3:$R$162,2,FALSE),\"/\",S65773,\"/\",H65773)","v":{"$error":"#N/A"}},{"$error":"#N/A"},"0/0","0/0/0",{"$error":"#N/A"},{"$error":"#N/A"},"0/0",0,0,0,0,0,0,0,0,0,0]
[null,0,0,0,null,0,0,0,null,0,0,{"$f":"IF(J65774=0,0,+CONCATENATE(VLOOKUP(B65774,Cadastro!$Q$3:$R$162,2,FALSE),\"/\",J65774,\"/\",D65774))","v":0},0,0,0,0,0,0,{"$error":"#N/A"},{"$error":"#N/A"},{"$f":"+CONCATENATE(VLOOKUP(F65774,Cadastro!$Q$3:$R$162,2,FALSE),\"/\",S65774,\"/\",H65774)","v":{"$error":"#N/A"}},{"$error":"#N/A"},"0/0","0/0/0",{"$error":"#N/A"},{"$error":"#N/A"},"0/0",0,0,0,0,0,0,0,0,0,0]
[null,0,0,0,null,0,0,0,null,0,0,{"$f":"IF(J65775=0,0,+CONCATENATE(VLOOKUP(B65775,Cadastro!$Q$3:$R$162,2,FALSE),\"/\",J65775,\"/\",D65775))","v":0},0,0,0,0,0,0,{"$error":"#N/A"},{"$error":"#N/A"},{"$f":"+CONCATENATE(VLOOKUP(F65775,Cadastro!$Q$3:$R$162,2,FALSE),\"/\",S65775,\"/\",H65775)","v":{"$error":"#N/A"}},{"$error":"#N/A"},"0/0","0/0/0",{"$error":"#N/A"},{"$error":"#N/A"},"0/0",0,0,0,0,0,0,0,0,0,0]
[null,0,0,0,null,0,0,0,null,0,0,{"$f":"IF(J65776=0,0,+CONCATENATE(VLOOKUP(B65776,Cadastro!$Q$3:$R$162,2,FALSE),\"/\",J65776,\"/\",D65776))","v":0},0,0,0,0,0,0,{"$error":"#N/A"},{"$error":"#N/A"},{"$f":"+CONCATENATE(VLOOKUP(F65776,Cadastro!$Q$3:$R$162,2,FALSE),\"/\",S65776,\"/\",H65776)","v":{"$error":"#N/A"}},{"$error":"#N/A"},"0/0","0/0/0",{"$error":"#N/A"},{"$error":"#N/A"},"0/0",0,0,0,0,0,0,0,0,0,0]
[null,0,0,0,null,0,0,0,null,0,0,{"$f":"IF(J65777=0,0,+CONCATENATE(VLOOKUP(B65777,Cadastro!$Q$3:$R$162,2,FALSE),\"/\",J65777,\"/\",D65777))","v":0},0,0,0,0,0,0,{"$error":"#N/A"},{"$error":"#N/A"},{"$f":"+CONCATENATE(VLOOKUP(F65777,Cadastro!$Q$3:$R$162,2,FALSE),\"/\",S65777,\"/\",H65777)","v":{"$error":"#N/A"}},{"$error":"#N/A"},"0/0","0/0/0",{"$error":"#N/A"},{"$error":"#N/A"},"0/0",0,0,0,0,0,0,0,0,0,0]
[null,0,0,0,null,0,0,0,null,0,0,{"$f":"IF(J65778=0,0,+CONCATENATE(VLOOKUP(B65778,Cadastro!$Q$3:$R$162,2,FALSE),\"/\",J65778,\"/\",D65778))","v":0},0,0,0,0,0,0,{"$error":"#N/A"},{"$error":"#N/A"},{"$f":"+CONCATENATE(VLOOKUP(F65778,Cadastro!$Q$3:$R$162,2,FALSE),\"/\",S65778,\"/\",H65778)","v":{"$error":"#N/A"}},{"$error":"#N/A"},"0/0","0/0/0",{"$error":"#N/A"},{"$error":"#N/A"},"0/0",0,0,0,0,0,0,0,0,0,0]
[null,0,0,0,null,0,0,0,null,0,0,{"$f":"IF(J65779=0,0,+CONCATENATE(VLOOKUP(B65779,Cadastro!$Q$3:$R$162,2,FALSE),\"/\",J65779,\"/\",D65779))","v":0},0,0,0,0,0,0,{"$error":"#N/A"},{"$error":"#N/A"},{"$f":"+CONCATENATE(VLOOKUP(F65779,Cadastro!$Q$3:$R$162,2,FALSE),\"/\",S65779,\"/\",H65779)","v":{"$error":"#N/A"}},{"$error":"#N/A"},"0/0","0/0/0",{"$error":"#N/A"},{"$error":"#N/A"},"0/0",0,0,0,0,0,0,0,0,0,0]
[null,0,0,0,null,0,0,0,null,0,0,{"$f":"IF(J65780=0,0,+CONCATENATE(VLOOKUP(B65780,Cadastro!$Q$3:$R$162,2,FALSE),\"/\",J65780,\"/\",D65780))","v":0},0,0,0,0,0,0,{"$error":"#N/A"},{"$error":"#N/A"},{"$f":"+CONCATENATE(VLOOKUP(F65780,Cadastro!$Q$3:$R$162,2,FALSE),\"/\",S65780,\"/\",H65780)","v":{"$error":"#N/A"}},{"$error":"#N/A"},"0/0","0/0/0",{"$error":"#N/A"},{"$error":"#N/A"},"0/0",0,0,0,0,0,0,0,0,0,0]
[null,0,0,0,null,0,0,0,null,0,0,{"$f":"IF(J65781=0,0,+CONCATENATE(VLOOKUP(B65781,Cadastro!$Q$3:$R$162,2,FALSE),\"/\",J65781,\"/\",D65781))","v":0},0,0,0,0,0,0,{"$error":"#N/A"},{"$error":"#N/A"},{"$f":"+CONCATENATE(VLOOKUP(F65781,Cadastro!$Q$3:$R$162,2,FALSE),\"/\",S65781,\"/\",H65781)","v":{"$error":"#N/A"}},{"$error":"#N/A"},"0/0","0/0/0",{"$error":"#N/A"},{"$error":"#N/A"},"0/0",0,0,0,0,0,0,0,0,0,0]
[null,0,0,0,null,0,0,0,null,0,0,{"$f":"IF(J65782=0,0,+CONCATENATE(VLOOKUP(B65782,Cadastro!$Q$3:$R$162,2,FALSE),\"/\",J65782,\"/\",D65782))","v":0},0,0,0,0,0,0,{"$error":"#N/A"},{"$error":"#N/A"},{"$f":"+CONCATENATE(VLOOKUP(F65782,Cadastro!$Q$3:$R$162,2,FALSE),\"/\",S65782,\"/\",H65782)","v":{"$error":"#N/A"}},{"$error":"#N/A"},"0/0","0/0/0",{"$error":"#N/A"},{"$error":"#N/A"},"0/0",0,0,0,0,0,0,0,0,0,0]
[null,0,0,0,null,0,0,0,null,0,0,{"$f":"IF(J65783=0,0,+CONCATENATE(VLOOKUP(B65783,Cadastro!$Q$3:$R$162,2,FALSE),\"/\",J65783,\"/\",D65783))","v":0},0,0,0,0,0,0,{"$error":"#N/A"},{"$error":"#N/A"},{"$f":"+CONCATENATE(VLOOKUP(F65783,Cadastro!$Q$3:$R$162,2,FALSE),\"/\",S65783,\"/\",H65783)","v":{"$error":"#N/A"}},{"$error":"#N/A"},"0/0","0/0/0",{"$error":"#N/A"},{"$error":"#N/A"},"0/0",0,0,0,0,0,0,0,0,0,0]
[null,0,0,0,null,0,0,0,null,0,0,{"$f":"IF(J65784=0,0,+CONCATENATE(VLOOKUP(B65784,Cadastro!$Q$3:$R$162,2,FALSE),\"/\",J65784,\"/\",D65784))","v":0},0,0,0,0,0,0,{"$error":"#N/A"},{"$error":"#N/A"},{"$f":"+CONCATENATE(VLOOKUP(F65784,Cadastro!$Q$3:$R$162,2,FALSE),\"/\",S65784,\"/\",H65784)","v":{"$error":"#N/A"}},{"$error":"#N/A"},"0/0","0/0/0",{"$error":"#N/A"},{"$error":"#N/A"},"0/0",0,0,0,0,0,0,0,0,0,0]
[null,0,0,0,null,0,0,0,null,0,{"$f":"IF(J65785=0,0,+CONCATENATE(VALUE(B65785),\"/\",J65785,\"/\",D65785))","v":0},{"$f":"IF(J65785=0,0,+CONCATENATE(VLOOKUP(B65785,Cadastro!$Q$3:$R$162,2,FALSE),\"/\",J65785,\"/\",D65785))","v":0},{"$f":"IF(J65785=0,0,+CONCATENATE(J65785,\"/\",D65785))","v":0},0,0,0,0,0,{"$error":"#N/A"},{"$f":"+CONCATENATE(VALUE(F65785),\"/\",S65785,\"/\",H65785)","v":{"$error":"#N/A"}},{"$f":"+CONCATENATE(VLOOKUP(F65785,Cadastro!$Q$3:$R$162,2,FALSE),\"/\",S65785,\"/\",H65785)","v":{"$error":"#N/A"}},{"$f":"+CONCATENATE(S65785,\"/\",H65785)","v":{"$error":"#N/A"}},"0/0","0/0/0",{"$error":"#N/A"},{"$error":"#N/A"},"0/0",0,0,0,0,0,0,0,0,0,0]
[null,0,0,0,null,0,0,0,null,0,0,{"$f":"IF(J65786=0,0,+CONCATENATE(VLOOKUP(B65786,Cadastro!$Q$3:$R$162,2,FALSE),\"/\",J65786,\"/\",D65786))","v":0},0,0,0,0,0,0,{"$error":"#N/A"},{"$error":"#N/A"},{"$f":"+CONCATENATE(VLOOKUP(F65786,Cadastro!$Q$3:$R$162,2,FALSE),\"/\",S65786,\"/\",H65786)","v":{"$error":"#N/A"}},{"$error":"#N/A"},"0/0","0/0/0",{"$error":"#N/A"},{"$error":"#N/A"},"0/0",0,0,0,0,0,0,0,0,0,0]
[null,0,0,0,null,0,0,0,null,0,0,{"$f":"IF(J65787=0,0,+CONCATENATE(VLOOKUP(B65787,Cadastro!$Q$3:$R$162,2,FALSE),\"/\",J65787,\"/\",D65787))","v":0},0,0,0,0,0,0,{"$error":"#N/A"},{"$error":"#N/A"},{"$f":"+CONCATENATE(VLOOKUP(F65787,Cadastro!$Q$3:$R$162,2,FALSE),\"/\",S65787,\"/\",H65787)","v":{"$error":"#N/A"}},{"$error":"#N/A"},"0/0","0/0/0",{"$error":"#N/A"},{"$error":"#N/A"},"0/0",0,0,0,0,0,0,0,0,0,0]
[null,0,0,0,null,0,0,0,null,0,0,{"$f":"IF(J65788=0,0,+CONCATENATE(VLOOKUP(B65788,Cadastro!$Q$3:$R$162,2,FALSE),\"/\",J65788,\"/\",D65788))","v":0},0,0,0,0,0,0,{"$error":"#N/A"},{"$error":"#N/A"},{"$f":"+CONCATENATE(VLOOKUP(F65788,Cadastro!$Q$3:$R$162,2,FALSE),\"/\",S65788,\"/\",H65788)","v":{"$error":"#N/A"}},{"$error":"#N/A"},"0/0","0/0/0",{"$error":"#N/A"},{"$error":"#N/A"},"0/0",0,0,0,0,0,0,0,0,0,0]
[null,0,0,0,null,0,0,0,null,0,0,{"$f":"IF(J65789=0,0,+CONCATENATE(VLOOKUP(B65789,Cadastro!$Q$3:$R$162,2,FALSE),\"/\",J65789,\"/\",D65789))","v":0},0,0,0,0,0,0,{"$error":"#N/A"},{"$error":"#N/A"},{"$f":"+CONCATENATE(VLOOKUP(F65789,Cadastro!$Q$3:$R$162,2,FALSE),\"/\",S65789,\"/\",H65789)","v":{"$error":"#N/A"}},{"$error":"#N/A"},"0/0","0/0/0",{"$error":"#N/A"},{"$error":"#N/A"},"0/0",0,0,0,0,0,0,0,0,0,0]
[null,0,0,0,null,0,0,0,null,0,0,{"$f":"IF(J65790=0,0,+CONCATENATE(VLOOKUP(B65790,Cadastro!$Q$3:$R$162,2,FALSE),\"/\",J65790,\"/\",D65790))","v":0},0,0,0,0,0,0,{"$error":"#N/A"},{"$error":"#N/A"},{"$f":"+CONCATENATE(VLOOKUP(F65790,Cadastro!$Q$3:$R$162,2,FALSE),\"/\",S65790,\"/\",H65790)","v":{"$error":"#N/A"}},{"$error":"#N/A"},"0/0","0/0/0",{"$error":"#N/A"},{"$error":"#N/A"},"0/0",0,0,0,0,0,0,0,0,0,0]
[null,0,0,0,null,0,0,0,null,0,0,{"$f":"IF(J65791=0,0,+CONCATENATE(VLOOKUP(B65791,Cadastro!$Q$3:$R$162,2,FALSE),\"/\",J65791,\"/\",D65791))","v":0},0,0,0,0,0,0,{"$error":"#N/A"},{"$error":"#N/A"},{"$f":"+CONCATENATE(VLOOKUP(F65791,Cadastro!$Q$3:$R$162,2,FALSE),\"/\",S65791,\"/\",H65791)","v":{"$error":"#N/A"}},{"$error":"#N/A"},"0/0","0/0/0",{"$error":"#N/A"},{"$error":"#N/A"},"0/0",0,0,0,0,0,0,0,0,0,0]
[null,0,0,0,null,0,0,0,null,0,0,{"$f":"IF(J65792=0,0,+CONCATENATE(VLOOKUP(B65792,Cadastro!$Q$3:$R$162,2,FALSE),\"/\",J65792,\"/\",D65792))","v":0},0,0,0,0,0,0,{"$error":"#N/A"},{"$error":"#N/A"},{"$f":"+CONCATENATE(VLOOKUP(F65792,Cadastro!$Q$3:$R$162,2,FALSE),\"/\",S65792,\"/\",H65792)","v":{"$error":"#N/A"}},{"$error":"#N/A"},"0/0","0/0/0",{"$error":"#N/A"},{"$error":"#N/A"},"0/0",0,0,0,0,0,0,0,0,0,0]
[null,0,0,0,null,0,0,0,null,0,0,{"$f":"IF(J65793=0,0,+CONCATENATE(VLOOKUP(B65793,Cadastro!$Q$3:$R$162,2,FALSE),\"/\",J65793,\"/\",D65793))","v":0},0,0,0,0,0,0,{"$error":"#N/A"},{"$error":"#N/A"},{"$f":"+CONCATENATE(VLOOKUP(F65793,Cadastro!$Q$3:$R$162,2,FALSE),\"/\",S65793,\"/\",H65793)","v":{"$error":"#N/A"}},{"$error":"#N/A"},"0/0","0/0/0",{"$error":"#N/A"},{"$error":"#N/A"},"0/0",0,0,0,0,0,0,0,0,0,0]
[null,0,0,0,null,0,0,0,null,0,0,{"$f":"IF(J65794=0,0,+CONCATENATE(VLOOKUP(B65794,Cadastro!$Q$3:$R$162,2,FALSE),\"/\",J65794,\"/\",D65794))","v":0},0,0,0,0,0,0,{"$error":"#N/A"},{"$error":"#N/A"},{"$f":"+CONCATENATE(VLOOKUP(F65794,Cadastro!$Q$3:$R$162,2,FALSE),\"/\",S65794,\"/\",H65794)","v":{"$error":"#N/A"}},{"$error":"#N/A"},"0/0","0/0/0",{"$error":"#N/A"},{"$error":"#N/A"},"0/0",0,0,0,0,0,0,0,0,0,0]
[null,0,0,0,null,0,0,0,null,0,0,{"$f":"IF(J65795=0,0,+CONCATENATE(VLOOKUP(B65795,Cadastro!$Q$3:$R$162,2,FALSE),\"/\",J65795,\"/\",D65795))","v":0},0,0,0,0,0,0,{"$error":"#N/A"},{"$error":"#N/A"},{"$f":"+CONCATENATE(VLOOKUP(F65795,Cadastro!$Q$3:$R$162,2,FALSE),\"/\",S65795,\"/\",H65795)","v":{"$error":"#N/A"}},{"$error":"#N/A"},"0/0","0/0/0",{"$error":"#N/A"},{"$error":"#N/A"},"0/0",0,0,0,0,0,0,0,0,0,0]
[null,0,0,0,null,0,0,0,null,0,0,{"$f":"IF(J65796=0,0,+CONCATENATE(VLOOKUP(B65796,Cadastro!$Q$3:$R$162,2,FALSE),\"/\",J65796,\"/\",D65796))","v":0},0,0,0,0,0,0,{"$error":"#N/A"},{"$error":"#N/A"},{"$f":"+CONCATENATE(VLOOKUP(F65796,Cadastro!$Q$3:$R$162,2,FALSE),\"/\",S65796,\"/\",H65796)","v":{"$error":"#N/A"}},{"$error":"#N/A"},"0/0","0/0/0",{"$error":"#N/A"},{"$error":"#N/A"},"0/0",0,0,0,0,0,0,0,0,0,0]
[null,0,0,0,null,0,0,0,null,{"$f":"IF(C65797=0,0,+VLOOKUP(C65797,$AQ$4:$AR$130,2,FALSE))","v":0},0,{"$f":"IF(J65797=0,0,+CONCATENATE(VLOOKUP(B65797,Cadastro!$Q$3:$R$162,2,FALSE),\"/\",J65797,\"/\",D65797))","v":0},0,0,0,0,0,0,{"$f":"+VLOOKUP(G65797,$AQ$4:$AR$130,2,FALSE)","v":{"$error":"#N/A"}},{"$error":"#N/A"},{"$f":"+CONCATENATE(VLOOKUP(F65797,Cadastro!$Q$3:$R$162,2,FALSE),\"/\",S65797,\"/\",H65797)","v":{"$error":"#N/A"}},{"$error":"#N/A"},"0/0","0/0/0",{"$error":"#N/A"},{"$error":"#N/A"},"0/0",0,0,0,0,0,0,0,0,0,0]
[null,0,0,0,null,0,0,0,null,0,0,{"$f":"IF(J65798=0,0,+CONCATENATE(VLOOKUP(B65798,Cadastro!$Q$3:$R$162,2,FALSE),\"/\",J65798,\"/\",D65798))","v":0},0,0,0,0,0,0,{"$error":"#N/A"},{"$error":"#N/A"},{"$f":"+CONCATENATE(VLOOKUP(F65798,Cadastro!$Q$3:$R$162,2,FALSE),\"/\",S65798,\"/\",H65798)","v":{"$error":"#N/A"}},{"$error":"#N/A"},"0/0","0/0/0",{"$error":"#N/A"},{"$error":"#N/A"},"0/0",0,0,0,0,0,0,0,0,0,0]
[null,0,0,0,null,0,0,0,null,0,0,{"$f":"IF(J65799=0,0,+CONCATENATE(VLOOKUP(B65799,Cadastro!$Q$3:$R$162,2,FALSE),\"/\",J65799,\"/\",D65799))","v":0},0,0,0,0,0,0,{"$error":"#N/A"},{"$error":"#N/A"},{"$f":"+CONCATENATE(VLOOKUP(F65799,Cadastro!$Q$3:$R$162,2,FALSE),\"/\",S65799,\"/\",H65799)","v":{"$error":"#N/A"}},{"$error":"#N/A"},"0/0","0/0/0",{"$error":"#N/A"},{"$error":"#N/A"},"0/0",0,0,0,0,0,0,0,0,0,0]
[null,0,0,0,null,0,0,0,null,0,0,{"$f":"IF(J65800=0,0,+CONCATENATE(VLOOKUP(B65800,Cadastro!$Q$3:$R$162,2,FALSE),\"/\",J65800,\"/\",D65800))","v":0},0,0,0,0,0,0,{"$error":"#N/A"},{"$error":"#N/A"},{"$f":"+CONCATENATE(VLOOKUP(F65800,Cadastro!$Q$3:$R$162,2,FALSE),\"/\",S65800,\"/\",H65800)","v":{"$error":"#N/A"}},{"$error":"#N/A"},"0/0","0/0/0",{"$error":"#N/A"},{"$error":"#N/A"},"0/0",0,0,0,0,0,0,0,0,0,0]
[null,0,0,0,null,0,0,0,null,0,0,{"$f":"IF(J65801=0,0,+CONCATENATE(VLOOKUP(B65801,Cadastro!$Q$3:$R$162,2,FALSE),\"/\",J65801,\"/\",D65801))","v":0},0,0,0,0,0,0,{"$error":"#N/A"},{"$error":"#N/A"},{"$f":"+CONCATENATE(VLOOKUP(F65801,Cadastro!$Q$3:$R$162,2,FALSE),\"/\",S65801,\"/\",H65801)","v":{"$error":"#N/A"}},{"$error":"#N/A"},"0/0","0/0/0",{"$error":"#N/A"},{"$error":"#N/A"},"0/0",0,0,0,0,0,0,0,0,0,0]
[null,0,0,0,null,0,0,0,null,0,0,{"$f":"IF(J65802=0,0,+CONCATENATE(VLOOKUP(B65802,Cadastro!$Q$3:$R$162,2,FALSE),\"/\",J65802,\"/\",D65802))","v":0},0,0,0,0,0,0,{"$error":"#N/A"},{"$error":"#N/A"},{"$f":"+CONCATENATE(VLOOKUP(F65802,Cadastro!$Q$3:$R$162,2,FALSE),\"/\",S65802,\"/\",H65802)","v":{"$error":"#N/A"}},{"$error":"#N/A"},"0/0","0/0/0",{"$error":"#N/A"},{"$error":"#N/A"},"0/0",0,0,0,0,0,0,0,0,0,0]
[null,0,0,0,null,0,0,0,null,0,0,{"$f":"IF(J65803=0,0,+CONCATENATE(VLOOKUP(B65803,Cadastro!$Q$3:$R$162,2,FALSE),\"/\",J65803,\"/\",D65803))","v":0},0,0,0,0,0,0,{"$error":"#N/A"},{"$error":"#N/A"},{"$f":"+CONCATENATE(VLOOKUP(F65803,Cadastro!$Q$3:$R$162,2,FALSE),\"/\",S65803,\"/\",H65803)","v":{"$error":"#N/A"}},{"$error":"#N/A"},"0/0","0/0/0",{"$error":"#N/A"},{"$error":"#N/A"},"0/0",0,0,0,0,0,0,0,0,0,0]
[null,0,0,0,null,0,0,0,null,0,0,{"$f":"IF(J65804=0,0,+CONCATENATE(VLOOKUP(B65804,Cadastro!$Q$3:$R$162,2,FALSE),\"/\",J65804,\"/\",D65804))","v":0},0,0,0,0,0,0,{"$error":"#N/A"},{"$error":"#N/A"},{"$f":"+CONCATENATE(VLOOKUP(F65804,Cadastro!$Q$3:$R$162,2,FALSE),\"/\",S65804,\"/\",H65804)","v":{"$error":"#N/A"}},{"$error":"#N/A"},"0/0","0/0/0",{"$error":"#N/A"},{"$error":"#N/A"},"0/0",0,0,0,0,0,0,0,0,0,0]
[null,0,0,0,null,0,0,0,null,0,0,{"$f":"IF(J65805=0,0,+CONCATENATE(VLOOKUP(B65805,Cadastro!$Q$3:$R$162,2,FALSE),\"/\",J65805,\"/\",D65805))","v":0},0,0,0,0,0,0,{"$error":"#N/A"},{"$error":"#N/A"},{"$f":"+CONCATENATE(VLOOKUP(F65805,Cadastro!$Q$3:$R$162,2,FALSE),\"/\",S65805,\"/\",H65805)","v":{"$error":"#N/A"}},{"$error":"#N/A"},"0/0","0/0/0",{"$error":"#N/A"},{"$error":"#N/A"},"0/0",0,0,0,0,0,0,0,0,0,0]
[null,0,0,0,null,0,0,0,null,0,0,{"$f":"IF(J65806=0,0,+CONCATENATE(VLOOKUP(B65806,Cadastro!$Q$3:$R$162,2,FALSE),\"/\",J65806,\"/\",D65806))","v":0},0,0,0,0,0,0,{"$error":"#N/A"},{"$error":"#N/A"},{"$f":"+CONCATENATE(VLOOKUP(F65806,Cadastro!$Q$3:$R$162,2,FALSE),\"/\",S65806,\"/\",H65806)","v":{"$error":"#N/A"}},{"$error":"#N/A"},"0/0","0/0/0",{"$error":"#N/A"},{"$error":"#N/A"},"0/0",0,0,0,0,0,0,0,0,0,0]
[null,0,0,0,null,0,0,0,null,0,0,{"$f":"IF(J65807=0,0,+CONCATENATE(VLOOKUP(B65807,Cadastro!$Q$3:$R$162,2,FALSE),\"/\",J65807,\"/\",D65807))","v":0},0,0,0,0,0,0,{"$error":"#N/A"},{"$error":"#N/A"},{"$f":"+CONCATENATE(VLOOKUP(F65807,Cadastro!$Q$3:$R$162,2,FALSE),\"/\",S65807,\"/\",H65807)","v":{"$error":"#N/A"}},{"$error":"#N/A"},"0/0","0/0/0",{"$error":"#N/A"},{"$error":"#N/A"},"0/0",0,0,0,0,0,0,0,0,0,0]
[null,0,0,0,null,0,0,0,null,0,0,{"$f":"IF(J65808=0,0,+CONCATENATE(VLOOKUP(B65808,Cadastro!$Q$3:$R$162,2,FALSE),\"/\",J65808,\"/\",D65808))","v":0},0,0,0,0,0,0,{"$error":"#N/A"},{"$error":"#N/A"},{"$f":"+CONCATENATE(VLOOKUP(F65808,Cadastro!$Q$3:$R$162,2,FALSE),\"/\",S65808,\"/\",H65808)","v":{"$error":"#N/A"}},{"$error":"#N/A"},"0/0","0/0/0",{"$error":"#N/A"},{"$error":"#N/A"},"0/0",0,0,0,0,0,0,0,0,0,0]
[null,0,0,0,null,0,0,0,null,0,0,{"$f":"IF(J65809=0,0,+CONCATENATE(VLOOKUP(B65809,Cadastro!$Q$3:$R$162,2,FALSE),\"/\",J65809,\"/\",D65809))","v":0},0,0,0,0,0,0,{"$error":"#N/A"},{"$error":"#N/A"},{"$f":"+CONCATENATE(VLOOKUP(F65809,Cadastro!$Q$3:$R$162,2,FALSE),\"/\",S65809,\"/\",H65809)","v":{"$error":"#N/A"}},{"$error":"#N/A"},"0/0","0/0/0",{"$error":"#N/A"},{"$error":"#N/A"},"0/0",0,0,0,0,0,0,0,0,0,0]
[null,0,0,0,null,0,0,0,null,0,0,{"$f":"IF(J65810=0,0,+CONCATENATE(VLOOKUP(B65810,Cadastro!$Q$3:$R$162,2,FALSE),\"/\",J65810,\"/\",D65810))","v":0},0,0,0,0,0,0,{"$error":"#N/A"},{"$error":"#N/A"},{"$f":"+CONCATENATE(VLOOKUP(F65810,Cadastro!$Q$3:$R$162,2,FALSE),\"/\",S65810,\"/\",H65810)","v":{"$error":"#N/A"}},{"$error":"#N/A"},"0/0","0/0/0",{"$error":"#N/A"},{"$error":"#N/A"},"0/0",0,0,0,0,0,0,0,0,0,0]
[null,0,0,0,null,0,0,0,null,0,0,{"$f":"IF(J65811=0,0,+CONCATENATE(VLOOKUP(B65811,Cadastro!$Q$3:$R$162,2,FALSE),\"/\",J65811,\"/\",D65811))","v":0},0,0,0,0,0,0,{"$error":"#N/A"},{"$error":"#N/A"},{"$f":"+CONCATENATE(VLOOKUP(F65811,Cadastro!$Q$3:$R$162,2,FALSE),\"/\",S65811,\"/\",H65811)","v":{"$error":"#N/A"}},{"$error":"#N/A"},"0/0","0/0/0",{"$error":"#N/A"},{"$error":"#N/A"},"0/0",0,0,0,0,0,0,0,0,0,0]
[null,0,0,0,null,0,0,0,null,0,0,{"$f":"IF(J65812=0,0,+CONCATENATE(VLOOKUP(B65812,Cadastro!$Q$3:$R$162,2,FALSE),\"/\",J65812,\"/\",D65812))","v":0},0,0,0,0,0,0,{"$error":"#N/A"},{"$error":"#N/A"},{"$f":"+CONCATENATE(VLOOKUP(F65812,Cadastro!$Q$3:$R$162,2,FALSE),\"/\",S65812,\"/\",H65812)","v":{"$error":"#N/A"}},{"$error":"#N/A"},"0/0","0/0/0",{"$error":"#N/A"},{"$error":"#N/A"},"0/0",0,0,0,0,0,0,0,0,0,0]
[null,0,0,0,null,0,0,0,null,0,0,{"$f":"IF(J65813=0,0,+CONCATENATE(VLOOKUP(B65813,Cadastro!$Q$3:$R$162,2,FALSE),\"/\",J65813,\"/\",D65813))","v":0},0,0,0,0,0,0,{"$error":"#N/A"},{"$error":"#N/A"},{"$f":"+CONCATENATE(VLOOKUP(F65813,Cadastro!$Q$3:$R$162,2,FALSE),\"/\",S65813,\"/\",H65813)","v":{"$error":"#N/A"}},{"$error":"#N/A"},"0/0","0/0/0",{"$error":"#N/A"},{"$error":"#N/A"},"0/0",0,0,0,0,0,0,0,0,0,0]
[null,0,0,0,null,0,0,0,null,0,0,{"$f":"IF(J65814=0,0,+CONCATENATE(VLOOKUP(B65814,Cadastro!$Q$3:$R$162,2,FALSE),\"/\",J65814,\"/\",D65814))","v":0},0,0,0,0,0,0,{"$error":"#N/A"},{"$error":"#N/A"},{"$f":"+CONCATENATE(VLOOKUP(F65814,Cadastro!$Q$3:$R$162,2,FALSE),\"/\",S65814,\"/\",H65814)","v":{"$error":"#N/A"}},{"$error":"#N/A"},"0/0","0/0/0",{"$error":"#N/A"},{"$error":"#N/A"},"0/0",0,0,0,0,0,0,0,0,0,0]
[null,0,0,0,null,0,0,0,null,0,0,{"$f":"IF(J65815=0,0,+CONCATENATE(VLOOKUP(B65815,Cadastro!$Q$3:$R$162,2,FALSE),\"/\",J65815,\"/\",D65815))","v":0},0,0,0,0,0,0,{"$error":"#N/A"},{"$error":"#N/A"},{"$f":"+CONCATENATE(VLOOKUP(F65815,Cadastro!$Q$3:$R$162,2,FALSE),\"/\",S65815,\"/\",H65815)","v":{"$error":"#N/A"}},{"$error":"#N/A"},"0/0","0/0/0",{"$error":"#N/A"},{"$error":"#N/A"},"0/0",0,0,0,0,0,0,0,0,0,0]
[null,0,0,0,null,0,0,0,null,0,0,{"$f":"IF(J65816=0,0,+CONCATENATE(VLOOKUP(B65816,Cadastro!$Q$3:$R$162,2,FALSE),\"/\",J65816,\"/\",D65816))","v":0},0,0,0,0,0,0,{"$error":"#N/A"},{"$error":"#N/A"},{"$f":"+CONCATENATE(VLOOKUP(F65816,Cadastro!$Q$3:$R$162,2,FALSE),\"/\",S65816,\"/\",H65816)","v":{"$error":"#N/A"}},{"$error":"#N/A"},"0/0","0/0/0",{"$error":"#N/A"},{"$error":"#N/A"},"0/0",0,0,0,0,0,0,0,0,0,0]
[null,0,0,0,null,0,0,0,null,0,0,{"$f":"IF(J65817=0,0,+CONCATENATE(VLOOKUP(B65817,Cadastro!$Q$3:$R$162,2,FALSE),\"/\",J65817,\"/\",D65817))","v":0},0,0,0,0,0,0,{"$error":"#N/A"},{"$error":"#N/A"},{"$f":"+CONCATENATE(VLOOKUP(F65817,Cadastro!$Q$3:$R$162,2,FALSE),\"/\",S65817,\"/\",H65817)","v":{"$error":"#N/A"}},{"$error":"#N/A"},"0/0","0/0/0",{"$error":"#N/A"},{"$error":"#N/A"},"0/0",0,0,0,0,0,0,0,0,0,0]
[null,0,0,0,null,0,0,0,null,0,0,{"$f":"IF(J65818=0,0,+CONCATENATE(VLOOKUP(B65818,Cadastro!$Q$3:$R$162,2,FALSE),\"/\",J65818,\"/\",D65818))","v":0},0,0,0,0,0,0,{"$error":"#N/A"},{"$error":"#N/A"},{"$f":"+CONCATENATE(VLOOKUP(F65818,Cadastro!$Q$3:$R$162,2,FALSE),\"/\",S65818,\"/\",H65818)","v":{"$error":"#N/A"}},{"$error":"#N/A"},"0/0","0/0/0",{"$error":"#N/A"},{"$error":"#N/A"},"0/0",0,0,0,0,0,0,0,0,0,0]
[null,0,0,0,null,0,0,0,null,0,0,{"$f":"IF(J65819=0,0,+CONCATENATE(VLOOKUP(B65819,Cadastro!$Q$3:$R$162,2,FALSE),\"/\",J65819,\"/\",D65819))","v":0},0,0,0,0,0,0,{"$error":"#N/A"},{"$error":"#N/A"},{"$f":"+CONCATENATE(VLOOKUP(F65819,Cadastro!$Q$3:$R$162,2,FALSE),\"/\",S65819,\"/\",H65819)","v":{"$error":"#N/A"}},{"$error":"#N/A"},"0/0","0/0/0",{"$error":"#N/A"},{"$error":"#N/A"},"0/0",0,0,0,0,0,0,0,0,0,0]
[null,0,0,0,null,0,0,0,null,0,0,{"$f":"IF(J65820=0,0,+CONCATENATE(VLOOKUP(B65820,Cadastro!$Q$3:$R$162,2,FALSE),\"/\",J65820,\"/\",D65820))","v":0},0,0,0,0,0,0,{"$error":"#N/A"},{"$error":"#N/A"},{"$f":"+CONCATENATE(VLOOKUP(F65820,Cadastro!$Q$3:$R$162,2,FALSE),\"/\",S65820,\"/\",H65820)","v":{"$error":"#N/A"}},{"$error":"#N/A"},"0/0","0/0/0",{"$error":"#N/A"},{"$error":"#N/A"},"0/0",0,0,0,0,0,0,0,0,0,0]
[null,0,0,0,null,0,0,0,null,0,0,{"$f":"IF(J65821=0,0,+CONCATENATE(VLOOKUP(B65821,Cadastro!$Q$3:$R$162,2,FALSE),\"/\",J65821,\"/\",D65821))","v":0},0,0,0,0,0,0,{"$error":"#N/A"},{"$error":"#N/A"},{"$f":"+CONCATENATE(VLOOKUP(F65821,Cadastro!$Q$3:$R$162,2,FALSE),\"/\",S65821,\"/\",H65821)","v":{"$error":"#N/A"}},{"$error":"#N/A"},"0/0","0/0/0",{"$error":"#N/A"},{"$error":"#N/A"},"0/0",0,0,0,0,0,0,0,0,0,0]
[null,0,0,0,null,0,0,0,null,0,0,{"$f":"IF(J65822=0,0,+CONCATENATE(VLOOKUP(B65822,Cadastro!$Q$3:$R$162,2,FALSE),\"/\",J65822,\"/\",D65822))","v":0},0,0,0,0,0,0,{"$error":"#N/A"},{"$error":"#N/A"},{"$f":"+CONCATENATE(VLOOKUP(F65822,Cadastro!$Q$3:$R$162,2,FALSE),\"/\",S65822,\"/\",H65822)","v":{"$error":"#N/A"}},{"$error":"#N/A"},"0/0","0/0/0",{"$error":"#N/A"},{"$error":"#N/A"},"0/0",0,0,0,0,0,0,0,0,0,0]
[null,0,0,0,null,0,0,0,null,0,0,{"$f":"IF(J65823=0,0,+CONCATENATE(VLOOKUP(B65823,Cadastro!$Q$3:$R$162,2,FALSE),\"/\",J65823,\"/\",D65823))","v":0},0,0,0,0,0,0,{"$error":"#N/A"},{"$error":"#N/A"},{"$f":"+CONCATENATE(VLOOKUP(F65823,Cadastro!$Q$3:$R$162,2,FALSE),\"/\",S65823,\"/\",H65823)","v":{"$error":"#N/A"}},{"$error":"#N/A"},"0/0","0/0/0",{"$error":"#N/A"},{"$error":"#N/A"},"0/0",0,0,0,0,0,0,0,0,0,0]
[null,0,0,0,null,0,0,0,null,0,0,{"$f":"IF(J65824=0,0,+CONCATENATE(VLOOKUP(B65824,Cadastro!$Q$3:$R$162,2,FALSE),\"/\",J65824,\"/\",D65824))","v":0},0,0,0,0,0,0,{"$error":"#N/A"},{"$error":"#N/A"},{"$f":"+CONCATENATE(VLOOKUP(F65824,Cadastro!$Q$3:$R$162,2,FALSE),\"/\",S65824,\"/\",H65824)","v":{"$error":"#N/A"}},{"$error":"#N/A"},"0/0","0/0/0",{"$error":"#N/A"},{"$error":"#N/A"},"0/0",0,0,0,0,0,0,0,0,0,0]
[null,0,0,0,null,0,0,0,null,0,0,{"$f":"IF(J65825=0,0,+CONCATENATE(VLOOKUP(B65825,Cadastro!$Q$3:$R$162,2,FALSE),\"/\",J65825,\"/\",D65825))","v":0},0,0,0,0,0,0,{"$error":"#N/A"},{"$error":"#N/A"},{"$f":"+CONCATENATE(VLOOKUP(F65825,Cadastro!$Q$3:$R$162,2,FALSE),\"/\",S65825,\"/\",H65825)","v":{"$error":"#N/A"}},{"$error":"#N/A"},"0/0","0/0/0",{"$error":"#N/A"},{"$error":"#N/A"},"0/0",0,0,0,0,0,0,0,0,0,0]
[null,0,0,0,null,0,0,0,null,0,0,{"$f":"IF(J65826=0,0,+CONCATENATE(VLOOKUP(B65826,Cadastro!$Q$3:$R$162,2,FALSE),\"/\",J65826,\"/\",D65826))","v":0},0,0,0,0,0,0,{"$error":"#N/A"},{"$error":"#N/A"},{"$f":"+CONCATENATE(VLOOKUP(F65826,Cadastro!$Q$3:$R$162,2,FALSE),\"/\",S65826,\"/\",H65826)","v":{"$error":"#N/A"}},{"$error":"#N/A"},"0/0","0/0/0",{"$error":"#N/A"},{"$error":"#N/A"},"0/0",0,0,0,0,0,0,0,0,0,0]
[null,0,0,0,null,0,0,0,null,0,0,{"$f":"IF(J65827=0,0,+CONCATENATE(VLOOKUP(B65827,Cadastro!$Q$3:$R$162,2,FALSE),\"/\",J65827,\"/\",D65827))","v":0},0,0,0,0,0,0,{"$error":"#N/A"},{"$error":"#N/A"},{"$f":"+CONCATENATE(VLOOKUP(F65827,Cadastro!$Q$3:$R$162,2,FALSE),\"/\",S65827,\"/\",H65827)","v":{"$error":"#N/A"}},{"$error":"#N/A"},"0/0","0/0/0",{"$error":"#N/A"},{"$error":"#N/A"},"0/0",0,0,0,0,0,0,0,0,0,0]
[null,0,0,0,null,0,0,0,null,0,0,{"$f":"IF(J65828=0,0,+CONCATENATE(VLOOKUP(B65828,Cadastro!$Q$3:$R$162,2,FALSE),\"/\",J65828,\"/\",D65828))","v":0},0,0,0,0,0,0,{"$error":"#N/A"},{"$error":"#N/A"},{"$f":"+CONCATENATE(VLOOKUP(F65828,Cadastro!$Q$3:$R$162,2,FALSE),\"/\",S65828,\"/\",H65828)","v":{"$error":"#N/A"}},{"$error":"#N/A"},"0/0","0/0/0",{"$error":"#N/A"},{"$error":"#N/A"},"0/0",0,0,0,0,0,0,0,0,0,0]
[null,0,0,0,null,0,0,0,null,0,0,{"$f":"IF(J65829=0,0,+CONCATENATE(VLOOKUP(B65829,Cadastro!$Q$3:$R$162,2,FALSE),\"/\",J65829,\"/\",D65829))","v":0},0,0,0,0,0,0,{"$error":"#N/A"},{"$error":"#N/A"},{"$f":"+CONCATENATE(VLOOKUP(F65829,Cadastro!$Q$3:$R$162,2,FALSE),\"/\",S65829,\"/\",H65829)","v":{"$error":"#N/A"}},{"$error":"#N/A"},"0/0","0/0/0",{"$error":"#N/A"},{"$error":"#N/A"},"0/0",0,0,0,0,0,0,0,0,0,0]
[null,0,0,0,null,0,0,0,null,0,0,{"$f":"IF(J65830=0,0,+CONCATENATE(VLOOKUP(B65830,Cadastro!$Q$3:$R$162,2,FALSE),\"/\",J65830,\"/\",D65830))","v":0},0,0,0,0,0,0,{"$error":"#N/A"},{"$error":"#N/A"},{"$f":"+CONCATENATE(VLOOKUP(F65830,Cadastro!$Q$3:$R$162,2,FALSE),\"/\",S65830,\"/\",H65830)","v":{"$error":"#N/A"}},{"$error":"#N/A"},"0/0","0/0/0",{"$error":"#N/A"},{"$error":"#N/A"},"0/0",0,0,0,0,0,0,0,0,0,0]
[null,0,0,0,null,0,0,0,null,0,0,{"$f":"IF(J65831=0,0,+CONCATENATE(VLOOKUP(B65831,Cadastro!$Q$3:$R$162,2,FALSE),\"/\",J65831,\"/\",D65831))","v":0},0,0,0,0,0,0,{"$error":"#N/A"},{"$error":"#N/A"},{"$f":"+CONCATENATE(VLOOKUP(F65831,Cadastro!$Q$3:$R$162,2,FALSE),\"/\",S65831,\"/\",H65831)","v":{"$error":"#N/A"}},{"$error":"#N/A"},"0/0","0/0/0",{"$error":"#N/A"},{"$error":"#N/A"},"0/0",0,0,0,0,0,0,0,0,0,0]
[null,0,0,0,null,0,0,0,null,0,0,{"$f":"IF(J65832=0,0,+CONCATENATE(VLOOKUP(B65832,Cadastro!$Q$3:$R$162,2,FALSE),\"/\",J65832,\"/\",D65832))","v":0},0,0,0,0,0,0,{"$error":"#N/A"},{"$error":"#N/A"},{"$f":"+CONCATENATE(VLOOKUP(F65832,Cadastro!$Q$3:$R$162,2,FALSE),\"/\",S65832,\"/\",H65832)","v":{"$error":"#N/A"}},{"$error":"#N/A"},"0/0","0/0/0",{"$error":"#N/A"},{"$error":"#N/A"},"0/0",0,0,0,0,0,0,0,0,0,0]
[null,0,0,0,null,0,0,0,null,0,0,{"$f":"IF(J65833=0,0,+CONCATENATE(VLOOKUP(B65833,Cadastro!$Q$3:$R$162,2,FALSE),\"/\",J65833,\"/\",D65833))","v":0},0,0,0,0,0,0,{"$error":"#N/A"},{"$error":"#N/A"},{"$f":"+CONCATENATE(VLOOKUP(F65833,Cadastro!$Q$3:$R$162,2,FALSE),\"/\",S65833,\"/\",H65833)","v":{"$error":"#N/A"}},{"$error":"#N/A"},"0/0","0/0/0",{"$error":"#N/A"},{"$error":"#N/A"},"0/0",0,0,0,0,0,0,0,0,0,0]
[null,0,0,0,null,0,0,0,null,0,0,{"$f":"IF(J65834=0,0,+CONCATENATE(VLOOKUP(B65834,Cadastro!$Q$3:$R$162,2,FALSE),\"/\",J65834,\"/\",D65834))","v":0},0,0,0,0,0,0,{"$error":"#N/A"},{"$error":"#N/A"},{"$f":"+CONCATENATE(VLOOKUP(F65834,Cadastro!$Q$3:$R$162,2,FALSE),\"/\",S65834,\"/\",H65834)","v":{"$error":"#N/A"}},{"$error":"#N/A"},"0/0","0/0/0",{"$error":"#N/A"},{"$error":"#N/A"},"0/0",0,0,0,0,0,0,0,0,0,0]
[null,0,0,0,null,0,0,0,null,0,0,{"$f":"IF(J65835=0,0,+CONCATENATE(VLOOKUP(B65835,Cadastro!$Q$3:$R$162,2,FALSE),\"/\",J65835,\"/\",D65835))","v":0},0,0,0,0,0,0,{"$error":"#N/A"},{"$error":"#N/A"},{"$f":"+CONCATENATE(VLOOKUP(F65835,Cadastro!$Q$3:$R$162,2,FALSE),\"/\",S65835,\"/\",H65835)","v":{"$error":"#N/A"}},{"$error":"#N/A"},"0/0","0/0/0",{"$error":"#N/A"},{"$error":"#N/A"},"0/0",0,0,0,0,0,0,0,0,0,0]
[null,0,0,0,null,0,0,0,null,0,0,{"$f":"IF(J65836=0,0,+CONCATENATE(VLOOKUP(B65836,Cadastro!$Q$3:$R$162,2,FALSE),\"/\",J65836,\"/\",D65836))","v":0},0,0,0,0,0,0,{"$error":"#N/A"},{"$error":"#N/A"},{"$f":"+CONCATENATE(VLOOKUP(F65836,Cadastro!$Q$3:$R$162,2,FALSE),\"/\",S65836,\"/\",H65836)","v":{"$error":"#N/A"}},{"$error":"#N/A"},"0/0","0/0/0",{"$error":"#N/A"},{"$error":"#N/A"},"0/0",0,0,0,0,0,0,0,0,0,0]
[null,0,0,0,null,0,0,0,null,0,0,{"$f":"IF(J65837=0,0,+CONCATENATE(VLOOKUP(B65837,Cadastro!$Q$3:$R$162,2,FALSE),\"/\",J65837,\"/\",D65837))","v":0},0,0,0,0,0,0,{"$error":"#N/A"},{"$error":"#N/A"},{"$f":"+CONCATENATE(VLOOKUP(F65837,Cadastro!$Q$3:$R$162,2,FALSE),\"/\",S65837,\"/\",H65837)","v":{"$error":"#N/A"}},{"$error":"#N/A"},"0/0","0/0/0",{"$error":"#N/A"},{"$error":"#N/A"},"0/0",0,0,0,0,0,0,0,0,0,0]
[null,0,0,0,null,0,0,0,null,0,0,{"$f":"IF(J65838=0,0,+CONCATENATE(VLOOKUP(B65838,Cadastro!$Q$3:$R$162,2,FALSE),\"/\",J65838,\"/\",D65838))","v":0},0,0,0,0,0,0,{"$error":"#N/A"},{"$error":"#N/A"},{"$f":"+CONCATENATE(VLOOKUP(F65838,Cadastro!$Q$3:$R$162,2,FALSE),\"/\",S65838,\"/\",H65838)","v":{"$error":"#N/A"}},{"$error":"#N/A"},"0/0","0/0/0",{"$error":"#N/A"},{"$error":"#N/A"},"0/0",0,0,0,0,0,0,0,0,0,0]
[null,0,0,0,null,0,0,0,null,0,0,{"$f":"IF(J65839=0,0,+CONCATENATE(VLOOKUP(B65839,Cadastro!$Q$3:$R$162,2,FALSE),\"/\",J65839,\"/\",D65839))","v":0},0,0,0,0,0,0,{"$error":"#N/A"},{"$error":"#N/A"},{"$f":"+CONCATENATE(VLOOKUP(F65839,Cadastro!$Q$3:$R$162,2,FALSE),\"/\",S65839,\"/\",H65839)","v":{"$error":"#N/A"}},{"$error":"#N/A"},"0/0","0/0/0",{"$error":"#N/A"},{"$error":"#N/A"},"0/0",0,0,0,0,0,0,0,0,0,0]
[null,0,0,0,null,0,0,0,null,0,0,{"$f":"IF(J65840=0,0,+CONCATENATE(VLOOKUP(B65840,Cadastro!$Q$3:$R$162,2,FALSE),\"/\",J65840,\"/\",D65840))","v":0},0,0,0,0,0,0,{"$error":"#N/A"},{"$error":"#N/A"},{"$f":"+CONCATENATE(VLOOKUP(F65840,Cadastro!$Q$3:$R$162,2,FALSE),\"/\",S65840,\"/\",H65840)","v":{"$error":"#N/A"}},{"$error":"#N/A"},"0/0","0/0/0",{"$error":"#N/A"},{"$error":"#N/A"},"0/0",0,0,0,0,0,0,0,0,0,0]
[null,0,0,0,null,0,0,0,null,0,0,{"$f":"IF(J65841=0,0,+CONCATENATE(VLOOKUP(B65841,Cadastro!$Q$3:$R$162,2,FALSE),\"/\",J65841,\"/\",D65841))","v":0},0,0,0,0,0,0,{"$error":"#N/A"},{"$error":"#N/A"},{"$f":"+CONCATENATE(VLOOKUP(F65841,Cadastro!$Q$3:$R$162,2,FALSE),\"/\",S65841,\"/\",H65841)","v":{"$error":"#N/A"}},{"$error":"#N/A"},"0/0","0/0/0",{"$error":"#N/A"},{"$error":"#N/A"},"0/0",0,0,0,0,0,0,0,0,0,0]
[null,0,0,0,null,0,0,0,null,0,0,{"$f":"IF(J65842=0,0,+CONCATENATE(VLOOKUP(B65842,Cadastro!$Q$3:$R$162,2,FALSE),\"/\",J65842,\"/\",D65842))","v":0},0,0,0,0,0,0,{"$error":"#N/A"},{"$error":"#N/A"},{"$f":"+CONCATENATE(VLOOKUP(F65842,Cadastro!$Q$3:$R$162,2,FALSE),\"/\",S65842,\"/\",H65842)","v":{"$error":"#N/A"}},{"$error":"#N/A"},"0/0","0/0/0",{"$error":"#N/A"},{"$error":"#N/A"},"0/0",0,0,0,0,0,0,0,0,0,0]
[null,0,0,0,null,0,0,0,null,0,0,{"$f":"IF(J65843=0,0,+CONCATENATE(VLOOKUP(B65843,Cadastro!$Q$3:$R$162,2,FALSE),\"/\",J65843,\"/\",D65843))","v":0},0,0,0,0,0,0,{"$error":"#N/A"},{"$error":"#N/A"},{"$f":"+CONCATENATE(VLOOKUP(F65843,Cadastro!$Q$3:$R$162,2,FALSE),\"/\",S65843,\"/\",H65843)","v":{"$error":"#N/A"}},{"$error":"#N/A"},"0/0","0/0/0",{"$error":"#N/A"},{"$error":"#N/A"},"0/0",0,0,0,0,0,0,0,0,0,0]
[null,0,0,0,null,0,0,0,null,0,0,{"$f":"IF(J65844=0,0,+CONCATENATE(VLOOKUP(B65844,Cadastro!$Q$3:$R$162,2,FALSE),\"/\",J65844,\"/\",D65844))","v":0},0,0,0,0,0,0,{"$error":"#N/A"},{"$error":"#N/A"},{"$f":"+CONCATENATE(VLOOKUP(F65844,Cadastro!$Q$3:$R$162,2,FALSE),\"/\",S65844,\"/\",H65844)","v":{"$error":"#N/A"}},{"$error":"#N/A"},"0/0","0/0/0",{"$error":"#N/A"},{"$error":"#N/A"},"0/0",0,0,0,0,0,0,0,0,0,0]
[null,0,0,0,null,0,0,0,null,0,0,{"$f":"IF(J65845=0,0,+CONCATENATE(VLOOKUP(B65845,Cadastro!$Q$3:$R$162,2,FALSE),\"/\",J65845,\"/\",D65845))","v":0},0,0,0,0,0,0,{"$error":"#N/A"},{"$error":"#N/A"},{"$f":"+CONCATENATE(VLOOKUP(F65845,Cadastro!$Q$3:$R$162,2,FALSE),\"/\",S65845,\"/\",H65845)","v":{"$error":"#N/A"}},{"$error":"#N/A"},"0/0","0/0/0",{"$error":"#N/A"},{"$error":"#N/A"},"0/0",0,0,0,0,0,0,0,0,0,0]
[null,0,0,0,null,0,0,0,null,0,0,{"$f":"IF(J65846=0,0,+CONCATENATE(VLOOKUP(B65846,Cadastro!$Q$3:$R$162,2,FALSE),\"/\",J65846,\"/\",D65846))","v":0},0,0,0,0,0,0,{"$error":"#N/A"},{"$error":"#N/A"},{"$f":"+CONCATENATE(VLOOKUP(F65846,Cadastro!$Q$3:$R$162,2,FALSE),\"/\",S65846,\"/\",H65846)","v":{"$error":"#N/A"}},{"$error":"#N/A"},"0/0","0/0/0",{"$error":"#N/A"},{"$error":"#N/A"},"0/0",0,0,0,0,0,0,0,0,0,0]
[null,0,0,0,null,0,0,0,null,0,0,{"$f":"IF(J65847=0,0,+CONCATENATE(VLOOKUP(B65847,Cadastro!$Q$3:$R$162,2,FALSE),\"/\",J65847,\"/\",D65847))","v":0},0,0,0,0,0,0,{"$error":"#N/A"},{"$error":"#N/A"},{"$f":"+CONCATENATE(VLOOKUP(F65847,Cadastro!$Q$3:$R$162,2,FALSE),\"/\",S65847,\"/\",H65847)","v":{"$error":"#N/A"}},{"$error":"#N/A"},"0/0","0/0/0",{"$error":"#N/A"},{"$error":"#N/A"},"0/0",0,0,0,0,0,0,0,0,0,0]
[null,0,0,0,null,0,0,0,null,0,0,{"$f":"IF(J65848=0,0,+CONCATENATE(VLOOKUP(B65848,Cadastro!$Q$3:$R$162,2,FALSE),\"/\",J65848,\"/\",D65848))","v":0},0,0,0,0,0,0,{"$error":"#N/A"},{"$error":"#N/A"},{"$f":"+CONCATENATE(VLOOKUP(F65848,Cadastro!$Q$3:$R$162,2,FALSE),\"/\",S65848,\"/\",H65848)","v":{"$error":"#N/A"}},{"$error":"#N/A"},"0/0","0/0/0",{"$error":"#N/A"},{"$error":"#N/A"},"0/0",0,0,0,0,0,0,0,0,0,0]
[null,0,0,0,null,0,0,0,null,0,{"$f":"IF(J65849=0,0,+CONCATENATE(VALUE(B65849),\"/\",J65849,\"/\",D65849))","v":0},{"$f":"IF(J65849=0,0,+CONCATENATE(VLOOKUP(B65849,Cadastro!$Q$3:$R$162,2,FALSE),\"/\",J65849,\"/\",D65849))","v":0},{"$f":"IF(J65849=0,0,+CONCATENATE(J65849,\"/\",D65849))","v":0},0,0,0,0,0,{"$error":"#N/A"},{"$f":"+CONCATENATE(VALUE(F65849),\"/\",S65849,\"/\",H65849)","v":{"$error":"#N/A"}},{"$f":"+CONCATENATE(VLOOKUP(F65849,Cadastro!$Q$3:$R$162,2,FALSE),\"/\",S65849,\"/\",H65849)","v":{"$error":"#N/A"}},{"$f":"+CONCATENATE(S65849,\"/\",H65849)","v":{"$error":"#N/A"}},"0/0","0/0/0",{"$error":"#N/A"},{"$error":"#N/A"},"0/0",0,0,0,0,0,0,0,0,0,0]
[null,0,0,0,null,0,0,0,null,0,0,{"$f":"IF(J65850=0,0,+CONCATENATE(VLOOKUP(B65850,Cadastro!$Q$3:$R$162,2,FALSE),\"/\",J65850,\"/\",D65850))","v":0},0,0,0,0,0,0,{"$error":"#N/A"},{"$error":"#N/A"},{"$f":"+CONCATENATE(VLOOKUP(F65850,Cadastro!$Q$3:$R$162,2,FALSE),\"/\",S65850,\"/\",H65850)","v":{"$error":"#N/A"}},{"$error":"#N/A"},"0/0","0/0/0",{"$error":"#N/A"},{"$error":"#N/A"},"0/0",0,0,0,0,0,0,0,0,0,0]
[null,0,0,0,null,0,0,0,null,0,0,{"$f":"IF(J65851=0,0,+CONCATENATE(VLOOKUP(B65851,Cadastro!$Q$3:$R$162,2,FALSE),\"/\",J65851,\"/\",D65851))","v":0},0,0,0,0,0,0,{"$error":"#N/A"},{"$error":"#N/A"},{"$f":"+CONCATENATE(VLOOKUP(F65851,Cadastro!$Q$3:$R$162,2,FALSE),\"/\",S65851,\"/\",H65851)","v":{"$error":"#N/A"}},{"$error":"#N/A"},"0/0","0/0/0",{"$error":"#N/A"},{"$error":"#N/A"},"0/0",0,0,0,0,0,0,0,0,0,0]
[null,0,0,0,null,0,0,0,null,0,0,{"$f":"IF(J65852=0,0,+CONCATENATE(VLOOKUP(B65852,Cadastro!$Q$3:$R$162,2,FALSE),\"/\",J65852,\"/\",D65852))","v":0},0,0,0,0,0,0,{"$error":"#N/A"},{"$error":"#N/A"},{"$f":"+CONCATENATE(VLOOKUP(F65852,Cadastro!$Q$3:$R$162,2,FALSE),\"/\",S65852,\"/\",H65852)","v":{"$error":"#N/A"}},{"$error":"#N/A"},"0/0","0/0/0",{"$error":"#N/A"},{"$error":"#N/A"},"0/0",0,0,0,0,0,0,0,0,0,0]
[null,0,0,0,null,0,0,0,null,0,0,{"$f":"IF(J65853=0,0,+CONCATENATE(VLOOKUP(B65853,Cadastro!$Q$3:$R$162,2,FALSE),\"/\",J65853,\"/\",D65853))","v":0},0,0,0,0,0,0,{"$error":"#N/A"},{"$error":"#N/A"},{"$f":"+CONCATENATE(VLOOKUP(F65853,Cadastro!$Q$3:$R$162,2,FALSE),\"/\",S65853,\"/\",H65853)","v":{"$error":"#N/A"}},{"$error":"#N/A"},"0/0","0/0/0",{"$error":"#N/A"},{"$error":"#N/A"},"0/0",0,0,0,0,0,0,0,0,0,0]
[null,0,0,0,null,0,0,0,null,0,0,{"$f":"IF(J65854=0,0,+CONCATENATE(VLOOKUP(B65854,Cadastro!$Q$3:$R$162,2,FALSE),\"/\",J65854,\"/\",D65854))","v":0},0,0,0,0,0,0,{"$error":"#N/A"},{"$error":"#N/A"},{"$f":"+CONCATENATE(VLOOKUP(F65854,Cadastro!$Q$3:$R$162,2,FALSE),\"/\",S65854,\"/\",H65854)","v":{"$error":"#N/A"}},{"$error":"#N/A"},"0/0","0/0/0",{"$error":"#N/A"},{"$error":"#N/A"},"0/0",0,0,0,0,0,0,0,0,0,0]
[null,0,0,0,null,0,0,0,null,0,0,{"$f":"IF(J65855=0,0,+CONCATENATE(VLOOKUP(B65855,Cadastro!$Q$3:$R$162,2,FALSE),\"/\",J65855,\"/\",D65855))","v":0},0,0,0,0,0,0,{"$error":"#N/A"},{"$error":"#N/A"},{"$f":"+CONCATENATE(VLOOKUP(F65855,Cadastro!$Q$3:$R$162,2,FALSE),\"/\",S65855,\"/\",H65855)","v":{"$error":"#N/A"}},{"$error":"#N/A"},"0/0","0/0/0",{"$error":"#N/A"},{"$error":"#N/A"},"0/0",0,0,0,0,0,0,0,0,0,0]
[null,0,0,0,null,0,0,0,null,0,0,{"$f":"IF(J65856=0,0,+CONCATENATE(VLOOKUP(B65856,Cadastro!$Q$3:$R$162,2,FALSE),\"/\",J65856,\"/\",D65856))","v":0},0,0,0,0,0,0,{"$error":"#N/A"},{"$error":"#N/A"},{"$f":"+CONCATENATE(VLOOKUP(F65856,Cadastro!$Q$3:$R$162,2,FALSE),\"/\",S65856,\"/\",H65856)","v":{"$error":"#N/A"}},{"$error":"#N/A"},"0/0","0/0/0",{"$error":"#N/A"},{"$error":"#N/A"},"0/0",0,0,0,0,0,0,0,0,0,0]
[null,0,0,0,null,0,0,0,null,0,0,{"$f":"IF(J65857=0,0,+CONCATENATE(VLOOKUP(B65857,Cadastro!$Q$3:$R$162,2,FALSE),\"/\",J65857,\"/\",D65857))","v":0},0,0,0,0,0,0,{"$error":"#N/A"},{"$error":"#N/A"},{"$f":"+CONCATENATE(VLOOKUP(F65857,Cadastro!$Q$3:$R$162,2,FALSE),\"/\",S65857,\"/\",H65857)","v":{"$error":"#N/A"}},{"$error":"#N/A"},"0/0","0/0/0",{"$error":"#N/A"},{"$error":"#N/A"},"0/0",0,0,0,0,0,0,0,0,0,0]
[null,0,0,0,null,0,0,0,null,0,0,{"$f":"IF(J65858=0,0,+CONCATENATE(VLOOKUP(B65858,Cadastro!$Q$3:$R$162,2,FALSE),\"/\",J65858,\"/\",D65858))","v":0},0,0,0,0,0,0,{"$error":"#N/A"},{"$error":"#N/A"},{"$f":"+CONCATENATE(VLOOKUP(F65858,Cadastro!$Q$3:$R$162,2,FALSE),\"/\",S65858,\"/\",H65858)","v":{"$error":"#N/A"}},{"$error":"#N/A"},"0/0","0/0/0",{"$error":"#N/A"},{"$error":"#N/A"},"0/0",0,0,0,0,0,0,0,0,0,0]
[null,0,0,0,null,0,0,0,null,0,0,{"$f":"IF(J65859=0,0,+CONCATENATE(VLOOKUP(B65859,Cadastro!$Q$3:$R$162,2,FALSE),\"/\",J65859,\"/\",D65859))","v":0},0,0,0,0,0,0,{"$error":"#N/A"},{"$error":"#N/A"},{"$f":"+CONCATENATE(VLOOKUP(F65859,Cadastro!$Q$3:$R$162,2,FALSE),\"/\",S65859,\"/\",H65859)","v":{"$error":"#N/A"}},{"$error":"#N/A"},"0/0","0/0/0",{"$error":"#N/A"},{"$error":"#N/A"},"0/0",0,0,0,0,0,0,0,0,0,0]
[null,0,0,0,null,0,0,0,null,0,0,{"$f":"IF(J65860=0,0,+CONCATENATE(VLOOKUP(B65860,Cadastro!$Q$3:$R$162,2,FALSE),\"/\",J65860,\"/\",D65860))","v":0},0,0,0,0,0,0,{"$error":"#N/A"},{"$error":"#N/A"},{"$f":"+CONCATENATE(VLOOKUP(F65860,Cadastro!$Q$3:$R$162,2,FALSE),\"/\",S65860,\"/\",H65860)","v":{"$error":"#N/A"}},{"$error":"#N/A"},"0/0","0/0/0",{"$error":"#N/A"},{"$error":"#N/A"},"0/0",0,0,0,0,0,0,0,0,0,0]
[null,0,0,0,null,0,0,0,null,{"$f":"IF(C65861=0,0,+VLOOKUP(C65861,$AQ$4:$AR$130,2,FALSE))","v":0},0,{"$f":"IF(J65861=0,0,+CONCATENATE(VLOOKUP(B65861,Cadastro!$Q$3:$R$162,2,FALSE),\"/\",J65861,\"/\",D65861))","v":0},0,0,0,0,0,0,{"$f":"+VLOOKUP(G65861,$AQ$4:$AR$130,2,FALSE)","v":{"$error":"#N/A"}},{"$error":"#N/A"},{"$f":"+CONCATENATE(VLOOKUP(F65861,Cadastro!$Q$3:$R$162,2,FALSE),\"/\",S65861,\"/\",H65861)","v":{"$error":"#N/A"}},{"$error":"#N/A"},"0/0","0/0/0",{"$error":"#N/A"},{"$error":"#N/A"},"0/0",0,0,0,0,0,0,0,0,0,0]
[null,0,0,0,null,0,0,0,null,0,0,{"$f":"IF(J65862=0,0,+CONCATENATE(VLOOKUP(B65862,Cadastro!$Q$3:$R$162,2,FALSE),\"/\",J65862,\"/\",D65862))","v":0},0,0,0,0,0,0,{"$error":"#N/A"},{"$error":"#N/A"},{"$f":"+CONCATENATE(VLOOKUP(F65862,Cadastro!$Q$3:$R$162,2,FALSE),\"/\",S65862,\"/\",H65862)","v":{"$error":"#N/A"}},{"$error":"#N/A"},"0/0","0/0/0",{"$error":"#N/A"},{"$error":"#N/A"},"0/0",0,0,0,0,0,0,0,0,0,0]
[null,0,0,0,null,0,0,0,null,0,0,{"$f":"IF(J65863=0,0,+CONCATENATE(VLOOKUP(B65863,Cadastro!$Q$3:$R$162,2,FALSE),\"/\",J65863,\"/\",D65863))","v":0},0,0,0,0,0,0,{"$error":"#N/A"},{"$error":"#N/A"},{"$f":"+CONCATENATE(VLOOKUP(F65863,Cadastro!$Q$3:$R$162,2,FALSE),\"/\",S65863,\"/\",H65863)","v":{"$error":"#N/A"}},{"$error":"#N/A"},"0/0","0/0/0",{"$error":"#N/A"},{"$error":"#N/A"},"0/0",0,0,0,0,0,0,0,0,0,0]
[null,0,0,0,null,0,0,0,null,0,0,{"$f":"IF(J65864=0,0,+CONCATENATE(VLOOKUP(B65864,Cadastro!$Q$3:$R$162,2,FALSE),\"/\",J65864,\"/\",D65864))","v":0},0,0,0,0,0,0,{"$error":"#N/A"},{"$error":"#N/A"},{"$f":"+CONCATENATE(VLOOKUP(F65864,Cadastro!$Q$3:$R$162,2,FALSE),\"/\",S65864,\"/\",H65864)","v":{"$error":"#N/A"}},{"$error":"#N/A"},"0/0","0/0/0",{"$error":"#N/A"},{"$error":"#N/A"},"0/0",0,0,0,0,0,0,0,0,0,0]
[null,0,0,0,null,0,0,0,null,0,0,{"$f":"IF(J65865=0,0,+CONCATENATE(VLOOKUP(B65865,Cadastro!$Q$3:$R$162,2,FALSE),\"/\",J65865,\"/\",D65865))","v":0},0,0,0,0,0,0,{"$error":"#N/A"},{"$error":"#N/A"},{"$f":"+CONCATENATE(VLOOKUP(F65865,Cadastro!$Q$3:$R$162,2,FALSE),\"/\",S65865,\"/\",H65865)","v":{"$error":"#N/A"}},{"$error":"#N/A"},"0/0","0/0/0",{"$error":"#N/A"},{"$error":"#N/A"},"0/0",0,0,0,0,0,0,0,0,0,0]
[null,0,0,0,null,0,0,0,null,0,0,{"$f":"IF(J65866=0,0,+CONCATENATE(VLOOKUP(B65866,Cadastro!$Q$3:$R$162,2,FALSE),\"/\",J65866,\"/\",D65866))","v":0},0,0,0,0,0,0,{"$error":"#N/A"},{"$error":"#N/A"},{"$f":"+CONCATENATE(VLOOKUP(F65866,Cadastro!$Q$3:$R$162,2,FALSE),\"/\",S65866,\"/\",H65866)","v":{"$error":"#N/A"}},{"$error":"#N/A"},"0/0","0/0/0",{"$error":"#N/A"},{"$error":"#N/A"},"0/0",0,0,0,0,0,0,0,0,0,0]
[null,0,0,0,null,0,0,0,null,0,0,{"$f":"IF(J65867=0,0,+CONCATENATE(VLOOKUP(B65867,Cadastro!$Q$3:$R$162,2,FALSE),\"/\",J65867,\"/\",D65867))","v":0},0,0,0,0,0,0,{"$error":"#N/A"},{"$error":"#N/A"},{"$f":"+CONCATENATE(VLOOKUP(F65867,Cadastro!$Q$3:$R$162,2,FALSE),\"/\",S65867,\"/\",H65867)","v":{"$error":"#N/A"}},{"$error":"#N/A"},"0/0","0/0/0",{"$error":"#N/A"},{"$error":"#N/A"},"0/0",0,0,0,0,0,0,0,0,0,0]
[null,0,0,0,null,0,0,0,null,0,0,{"$f":"IF(J65868=0,0,+CONCATENATE(VLOOKUP(B65868,Cadastro!$Q$3:$R$162,2,FALSE),\"/\",J65868,\"/\",D65868))","v":0},0,0,0,0,0,0,{"$error":"#N/A"},{"$error":"#N/A"},{"$f":"+CONCATENATE(VLOOKUP(F65868,Cadastro!$Q$3:$R$162,2,FALSE),\"/\",S65868,\"/\",H65868)","v":{"$error":"#N/A"}},{"$error":"#N/A"},"0/0","0/0/0",{"$error":"#N/A"},{"$error":"#N/A"},"0/0",0,0,0,0,0,0,0,0,0,0]
[null,0,0,0,null,0,0,0,null,0,0,{"$f":"IF(J65869=0,0,+CONCATENATE(VLOOKUP(B65869,Cadastro!$Q$3:$R$162,2,FALSE),\"/\",J65869,\"/\",D65869))","v":0},0,0,0,0,0,0,{"$error":"#N/A"},{"$error":"#N/A"},{"$f":"+CONCATENATE(VLOOKUP(F65869,Cadastro!$Q$3:$R$162,2,FALSE),\"/\",S65869,\"/\",H65869)","v":{"$error":"#N/A"}},{"$error":"#N/A"},"0/0","0/0/0",{"$error":"#N/A"},{"$error":"#N/A"},"0/0",0,0,0,0,0,0,0,0,0,0]
[null,0,0,0,null,0,0,0,null,0,0,{"$f":"IF(J65870=0,0,+CONCATENATE(VLOOKUP(B65870,Cadastro!$Q$3:$R$162,2,FALSE),\"/\",J65870,\"/\",D65870))","v":0},0,0,0,0,0,0,{"$error":"#N/A"},{"$error":"#N/A"},{"$f":"+CONCATENATE(VLOOKUP(F65870,Cadastro!$Q$3:$R$162,2,FALSE),\"/\",S65870,\"/\",H65870)","v":{"$error":"#N/A"}},{"$error":"#N/A"},"0/0","0/0/0",{"$error":"#N/A"},{"$error":"#N/A"},"0/0",0,0,0,0,0,0,0,0,0,0]
[null,0,0,0,null,0,0,0,null,0,0,{"$f":"IF(J65871=0,0,+CONCATENATE(VLOOKUP(B65871,Cadastro!$Q$3:$R$162,2,FALSE),\"/\",J65871,\"/\",D65871))","v":0},0,0,0,0,0,0,{"$error":"#N/A"},{"$error":"#N/A"},{"$f":"+CONCATENATE(VLOOKUP(F65871,Cadastro!$Q$3:$R$162,2,FALSE),\"/\",S65871,\"/\",H65871)","v":{"$error":"#N/A"}},{"$error":"#N/A"},"0/0","0/0/0",{"$error":"#N/A"},{"$error":"#N/A"},"0/0",0,0,0,0,0,0,0,0,0,0]
[null,0,0,0,null,0,0,0,null,0,0,{"$f":"IF(J65872=0,0,+CONCATENATE(VLOOKUP(B65872,Cadastro!$Q$3:$R$162,2,FALSE),\"/\",J65872,\"/\",D65872))","v":0},0,0,0,0,0,0,{"$error":"#N/A"},{"$error":"#N/A"},{"$f":"+CONCATENATE(VLOOKUP(F65872,Cadastro!$Q$3:$R$162,2,FALSE),\"/\",S65872,\"/\",H65872)","v":{"$error":"#N/A"}},{"$error":"#N/A"},"0/0","0/0/0",{"$error":"#N/A"},{"$error":"#N/A"},"0/0",0,0,0,0,0,0,0,0,0,0]
[null,0,0,0,null,0,0,0,null,0,0,{"$f":"IF(J65873=0,0,+CONCATENATE(VLOOKUP(B65873,Cadastro!$Q$3:$R$162,2,FALSE),\"/\",J65873,\"/\",D65873))","v":0},0,0,0,0,0,0,{"$error":"#N/A"},{"$error":"#N/A"},{"$f":"+CONCATENATE(VLOOKUP(F65873,Cadastro!$Q$3:$R$162,2,FALSE),\"/\",S65873,\"/\",H65873)","v":{"$error":"#N/A"}},{"$error":"#N/A"},"0/0","0/0/0",{"$error":"#N/A"},{"$error":"#N/A"},"0/0",0,0,0,0,0,0,0,0,0,0]
[null,0,0,0,null,0,0,0,null,0,0,{"$f":"IF(J65874=0,0,+CONCATENATE(VLOOKUP(B65874,Cadastro!$Q$3:$R$162,2,FALSE),\"/\",J65874,\"/\",D65874))","v":0},0,0,0,0,0,0,{"$error":"#N/A"},{"$error":"#N/A"},{"$f":"+CONCATENATE(VLOOKUP(F65874,Cadastro!$Q$3:$R$162,2,FALSE),\"/\",S65874,\"/\",H65874)","v":{"$error":"#N/A"}},{"$error":"#N/A"},"0/0","0/0/0",{"$error":"#N/A"},{"$error":"#N/A"},"0/0",0,0,0,0,0,0,0,0,0,0]
[null,0,0,0,null,0,0,0,null,0,0,{"$f":"IF(J65875=0,0,+CONCATENATE(VLOOKUP(B65875,Cadastro!$Q$3:$R$162,2,FALSE),\"/\",J65875,\"/\",D65875))","v":0},0,0,0,0,0,0,{"$error":"#N/A"},{"$error":"#N/A"},{"$f":"+CONCATENATE(VLOOKUP(F65875,Cadastro!$Q$3:$R$162,2,FALSE),\"/\",S65875,\"/\",H65875)","v":{"$error":"#N/A"}},{"$error":"#N/A"},"0/0","0/0/0",{"$error":"#N/A"},{"$error":"#N/A"},"0/0",0,0,0,0,0,0,0,0,0,0]
[null,0,0,0,null,0,0,0,null,0,0,{"$f":"IF(J65876=0,0,+CONCATENATE(VLOOKUP(B65876,Cadastro!$Q$3:$R$162,2,FALSE),\"/\",J65876,\"/\",D65876))","v":0},0,0,0,0,0,0,{"$error":"#N/A"},{"$error":"#N/A"},{"$f":"+CONCATENATE(VLOOKUP(F65876,Cadastro!$Q$3:$R$162,2,FALSE),\"/\",S65876,\"/\",H65876)","v":{"$error":"#N/A"}},{"$error":"#N/A"},"0/0","0/0/0",{"$error":"#N/A"},{"$error":"#N/A"},"0/0",0,0,0,0,0,0,0,0,0,0]
[null,0,0,0,null,0,0,0,null,0,0,{"$f":"IF(J65877=0,0,+CONCATENATE(VLOOKUP(B65877,Cadastro!$Q$3:$R$162,2,FALSE),\"/\",J65877,\"/\",D65877))","v":0},0,0,0,0,0,0,{"$error":"#N/A"},{"$error":"#N/A"},{"$f":"+CONCATENATE(VLOOKUP(F65877,Cadastro!$Q$3:$R$162,2,FALSE),\"/\",S65877,\"/\",H65877)","v":{"$error":"#N/A"}},{"$error":"#N/A"},"0/0","0/0/0",{"$error":"#N/A"},{"$error":"#N/A"},"0/0",0,0,0,0,0,0,0,0,0,0]
[null,0,0,0,null,0,0,0,null,0,0,{"$f":"IF(J65878=0,0,+CONCATENATE(VLOOKUP(B65878,Cadastro!$Q$3:$R$162,2,FALSE),\"/\",J65878,\"/\",D65878))","v":0},0,0,0,0,0,0,{"$error":"#N/A"},{"$error":"#N/A"},{"$f":"+CONCATENATE(VLOOKUP(F65878,Cadastro!$Q$3:$R$162,2,FALSE),\"/\",S65878,\"/\",H65878)","v":{"$error":"#N/A"}},{"$error":"#N/A"},"0/0","0/0/0",{"$error":"#N/A"},{"$error":"#N/A"},"0/0",0,0,0,0,0,0,0,0,0,0]
[null,0,0,0,null,0,0,0,null,0,0,{"$f":"IF(J65879=0,0,+CONCATENATE(VLOOKUP(B65879,Cadastro!$Q$3:$R$162,2,FALSE),\"/\",J65879,\"/\",D65879))","v":0},0,0,0,0,0,0,{"$error":"#N/A"},{"$error":"#N/A"},{"$f":"+CONCATENATE(VLOOKUP(F65879,Cadastro!$Q$3:$R$162,2,FALSE),\"/\",S65879,\"/\",H65879)","v":{"$error":"#N/A"}},{"$error":"#N/A"},"0/0","0/0/0",{"$error":"#N/A"},{"$error":"#N/A"},"0/0",0,0,0,0,0,0,0,0,0,0]
[null,0,0,0,null,0,0,0,null,0,0,{"$f":"IF(J65880=0,0,+CONCATENATE(VLOOKUP(B65880,Cadastro!$Q$3:$R$162,2,FALSE),\"/\",J65880,\"/\",D65880))","v":0},0,0,0,0,0,0,{"$error":"#N/A"},{"$error":"#N/A"},{"$f":"+CONCATENATE(VLOOKUP(F65880,Cadastro!$Q$3:$R$162,2,FALSE),\"/\",S65880,\"/\",H65880)","v":{"$error":"#N/A"}},{"$error":"#N/A"},"0/0","0/0/0",{"$error":"#N/A"},{"$error":"#N/A"},"0/0",0,0,0,0,0,0,0,0,0,0]
[null,0,0,0,null,0,0,0,null,0,0,{"$f":"IF(J65881=0,0,+CONCATENATE(VLOOKUP(B65881,Cadastro!$Q$3:$R$162,2,FALSE),\"/\",J65881,\"/\",D65881))","v":0},0,0,0,0,0,0,{"$error":"#N/A"},{"$error":"#N/A"},{"$f":"+CONCATENATE(VLOOKUP(F65881,Cadastro!$Q$3:$R$162,2,FALSE),\"/\",S65881,\"/\",H65881)","v":{"$error":"#N/A"}},{"$error":"#N/A"},"0/0","0/0/0",{"$error":"#N/A"},{"$error":"#N/A"},"0/0",0,0,0,0,0,0,0,0,0,0]
[null,0,0,0,null,0,0,0,null,0,0,{"$f":"IF(J65882=0,0,+CONCATENATE(VLOOKUP(B65882,Cadastro!$Q$3:$R$162,2,FALSE),\"/\",J65882,\"/\",D65882))","v":0},0,0,0,0,0,0,{"$error":"#N/A"},{"$error":"#N/A"},{"$f":"+CONCATENATE(VLOOKUP(F65882,Cadastro!$Q$3:$R$162,2,FALSE),\"/\",S65882,\"/\",H65882)","v":{"$error":"#N/A"}},{"$error":"#N/A"},"0/0","0/0/0",{"$error":"#N/A"},{"$error":"#N/A"},"0/0",0,0,0,0,0,0,0,0,0,0]
[null,0,0,0,null,0,0,0,null,0,0,{"$f":"IF(J65883=0,0,+CONCATENATE(VLOOKUP(B65883,Cadastro!$Q$3:$R$162,2,FALSE),\"/\",J65883,\"/\",D65883))","v":0},0,0,0,0,0,0,{"$error":"#N/A"},{"$error":"#N/A"},{"$f":"+CONCATENATE(VLOOKUP(F65883,Cadastro!$Q$3:$R$162,2,FALSE),\"/\",S65883,\"/\",H65883)","v":{"$error":"#N/A"}},{"$error":"#N/A"},"0/0","0/0/0",{"$error":"#N/A"},{"$error":"#N/A"},"0/0",0,0,0,0,0,0,0,0,0,0]
[null,0,0,0,null,0,0,0,null,0,0,{"$f":"IF(J65884=0,0,+CONCATENATE(VLOOKUP(B65884,Cadastro!$Q$3:$R$162,2,FALSE),\"/\",J65884,\"/\",D65884))","v":0},0,0,0,0,0,0,{"$error":"#N/A"},{"$error":"#N/A"},{"$f":"+CONCATENATE(VLOOKUP(F65884,Cadastro!$Q$3:$R$162,2,FALSE),\"/\",S65884,\"/\",H65884)","v":{"$error":"#N/A"}},{"$error":"#N/A"},"0/0","0/0/0",{"$error":"#N/A"},{"$error":"#N/A"},"0/0",0,0,0,0,0,0,0,0,0,0]
[null,0,0,0,null,0,0,0,null,0,0,{"$f":"IF(J65885=0,0,+CONCATENATE(VLOOKUP(B65885,Cadastro!$Q$3:$R$162,2,FALSE),\"/\",J65885,\"/\",D65885))","v":0},0,0,0,0,0,0,{"$error":"#N/A"},{"$error":"#N/A"},{"$f":"+CONCATENATE(VLOOKUP(F65885,Cadastro!$Q$3:$R$162,2,FALSE),\"/\",S65885,\"/\",H65885)","v":{"$error":"#N/A"}},{"$error":"#N/A"},"0/0","0/0/0",{"$error":"#N/A"},{"$error":"#N/A"},"0/0",0,0,0,0,0,0,0,0,0,0]
[null,0,0,0,null,0,0,0,null,0,0,{"$f":"IF(J65886=0,0,+CONCATENATE(VLOOKUP(B65886,Cadastro!$Q$3:$R$162,2,FALSE),\"/\",J65886,\"/\",D65886))","v":0},0,0,0,0,0,0,{"$error":"#N/A"},{"$error":"#N/A"},{"$f":"+CONCATENATE(VLOOKUP(F65886,Cadastro!$Q$3:$R$162,2,FALSE),\"/\",S65886,\"/\",H65886)","v":{"$error":"#N/A"}},{"$error":"#N/A"},"0/0","0/0/0",{"$error":"#N/A"},{"$error":"#N/A"},"0/0",0,0,0,0,0,0,0,0,0,0]
[null,0,0,0,null,0,0,0,null,0,0,{"$f":"IF(J65887=0,0,+CONCATENATE(VLOOKUP(B65887,Cadastro!$Q$3:$R$162,2,FALSE),\"/\",J65887,\"/\",D65887))","v":0},0,0,0,0,0,0,{"$error":"#N/A"},{"$error":"#N/A"},{"$f":"+CONCATENATE(VLOOKUP(F65887,Cadastro!$Q$3:$R$162,2,FALSE),\"/\",S65887,\"/\",H65887)","v":{"$error":"#N/A"}},{"$error":"#N/A"},"0/0","0/0/0",{"$error":"#N/A"},{"$error":"#N/A"},"0/0",0,0,0,0,0,0,0,0,0,0]
[null,0,0,0,null,0,0,0,null,0,0,{"$f":"IF(J65888=0,0,+CONCATENATE(VLOOKUP(B65888,Cadastro!$Q$3:$R$162,2,FALSE),\"/\",J65888,\"/\",D65888))","v":0},0,0,0,0,0,0,{"$error":"#N/A"},{"$error":"#N/A"},{"$f":"+CONCATENATE(VLOOKUP(F65888,Cadastro!$Q$3:$R$162,2,FALSE),\"/\",S65888,\"/\",H65888)","v":{"$error":"#N/A"}},{"$error":"#N/A"},"0/0","0/0/0",{"$error":"#N/A"},{"$error":"#N/A"},"0/0",0,0,0,0,0,0,0,0,0,0]
[null,0,0,0,null,0,0,0,null,0,0,{"$f":"IF(J65889=0,0,+CONCATENATE(VLOOKUP(B65889,Cadastro!$Q$3:$R$162,2,FALSE),\"/\",J65889,\"/\",D65889))","v":0},0,0,0,0,0,0,{"$error":"#N/A"},{"$error":"#N/A"},{"$f":"+CONCATENATE(VLOOKUP(F65889,Cadastro!$Q$3:$R$162,2,FALSE),\"/\",S65889,\"/\",H65889)","v":{"$error":"#N/A"}},{"$error":"#N/A"},"0/0","0/0/0",{"$error":"#N/A"},{"$error":"#N/A"},"0/0",0,0,0,0,0,0,0,0,0,0]
[null,0,0,0,null,0,0,0,null,0,0,{"$f":"IF(J65890=0,0,+CONCATENATE(VLOOKUP(B65890,Cadastro!$Q$3:$R$162,2,FALSE),\"/\",J65890,\"/\",D65890))","v":0},0,0,0,0,0,0,{"$error":"#N/A"},{"$error":"#N/A"},{"$f":"+CONCATENATE(VLOOKUP(F65890,Cadastro!$Q$3:$R$162,2,FALSE),\"/\",S65890,\"/\",H65890)","v":{"$error":"#N/A"}},{"$error":"#N/A"},"0/0","0/0/0",{"$error":"#N/A"},{"$error":"#N/A"},"0/0",0,0,0,0,0,0,0,0,0,0]
[null,0,0,0,null,0,0,0,null,0,0,{"$f":"IF(J65891=0,0,+CONCATENATE(VLOOKUP(B65891,Cadastro!$Q$3:$R$162,2,FALSE),\"/\",J65891,\"/\",D65891))","v":0},0,0,0,0,0,0,{"$error":"#N/A"},{"$error":"#N/A"},{"$f":"+CONCATENATE(VLOOKUP(F65891,Cadastro!$Q$3:$R$162,2,FALSE),\"/\",S65891,\"/\",H65891)","v":{"$error":"#N/A"}},{"$error":"#N/A"},"0/0","0/0/0",{"$error":"#N/A"},{"$error":"#N/A"},"0/0",0,0,0,0,0,0,0,0,0,0]
[null,0,0,0,null,0,0,0,null,0,0,{"$f":"IF(J65892=0,0,+CONCATENATE(VLOOKUP(B65892,Cadastro!$Q$3:$R$162,2,FALSE),\"/\",J65892,\"/\",D65892))","v":0},0,0,0,0,0,0,{"$error":"#N/A"},{"$error":"#N/A"},{"$f":"+CONCATENATE(VLOOKUP(F65892,Cadastro!$Q$3:$R$162,2,FALSE),\"/\",S65892,\"/\",H65892)","v":{"$error":"#N/A"}},{"$error":"#N/A"},"0/0","0/0/0",{"$error":"#N/A"},{"$error":"#N/A"},"0/0",0,0,0,0,0,0,0,0,0,0]
[null,0,0,0,null,0,0,0,null,0,0,{"$f":"IF(J65893=0,0,+CONCATENATE(VLOOKUP(B65893,Cadastro!$Q$3:$R$162,2,FALSE),\"/\",J65893,\"/\",D65893))","v":0},0,0,0,0,0,0,{"$error":"#N/A"},{"$error":"#N/A"},{"$f":"+CONCATENATE(VLOOKUP(F65893,Cadastro!$Q$3:$R$162,2,FALSE),\"/\",S65893,\"/\",H65893)","v":{"$error":"#N/A"}},{"$error":"#N/A"},"0/0","0/0/0",{"$error":"#N/A"},{"$error":"#N/A"},"0/0",0,0,0,0,0,0,0,0,0,0]
[null,0,0,0,null,0,0,0,null,0,0,{"$f":"IF(J65894=0,0,+CONCATENATE(VLOOKUP(B65894,Cadastro!$Q$3:$R$162,2,FALSE),\"/\",J65894,\"/\",D65894))","v":0},0,0,0,0,0,0,{"$error":"#N/A"},{"$error":"#N/A"},{"$f":"+CONCATENATE(VLOOKUP(F65894,Cadastro!$Q$3:$R$162,2,FALSE),\"/\",S65894,\"/\",H65894)","v":{"$error":"#N/A"}},{"$error":"#N/A"},"0/0","0/0/0",{"$error":"#N/A"},{"$error":"#N/A"},"0/0",0,0,0,0,0,0,0,0,0,0]
[null,0,0,0,null,0,0,0,null,0,0,{"$f":"IF(J65895=0,0,+CONCATENATE(VLOOKUP(B65895,Cadastro!$Q$3:$R$162,2,FALSE),\"/\",J65895,\"/\",D65895))","v":0},0,0,0,0,0,0,{"$error":"#N/A"},{"$error":"#N/A"},{"$f":"+CONCATENATE(VLOOKUP(F65895,Cadastro!$Q$3:$R$162,2,FALSE),\"/\",S65895,\"/\",H65895)","v":{"$error":"#N/A"}},{"$error":"#N/A"},"0/0","0/0/0",{"$error":"#N/A"},{"$error":"#N/A"},"0/0",0,0,0,0,0,0,0,0,0,0]
[null,0,0,0,null,0,0,0,null,0,0,{"$f":"IF(J65896=0,0,+CONCATENATE(VLOOKUP(B65896,Cadastro!$Q$3:$R$162,2,FALSE),\"/\",J65896,\"/\",D65896))","v":0},0,0,0,0,0,0,{"$error":"#N/A"},{"$error":"#N/A"},{"$f":"+CONCATENATE(VLOOKUP(F65896,Cadastro!$Q$3:$R$162,2,FALSE),\"/\",S65896,\"/\",H65896)","v":{"$error":"#N/A"}},{"$error":"#N/A"},"0/0","0/0/0",{"$error":"#N/A"},{"$error":"#N/A"},"0/0",0,0,0,0,0,0,0,0,0,0]
[null,0,0,0,null,0,0,0,null,0,0,{"$f":"IF(J65897=0,0,+CONCATENATE(VLOOKUP(B65897,Cadastro!$Q$3:$R$162,2,FALSE),\"/\",J65897,\"/\",D65897))","v":0},0,0,0,0,0,0,{"$error":"#N/A"},{"$error":"#N/A"},{"$f":"+CONCATENATE(VLOOKUP(F65897,Cadastro!$Q$3:$R$162,2,FALSE),\"/\",S65897,\"/\",H65897)","v":{"$error":"#N/A"}},{"$error":"#N/A"},"0/0","0/0/0",{"$error":"#N/A"},{"$error":"#N/A"},"0/0",0,0,0,0,0,0,0,0,0,0]
[null,0,0,0,null,0,0,0,null,0,0,{"$f":"IF(J65898=0,0,+CONCATENATE(VLOOKUP(B65898,Cadastro!$Q$3:$R$162,2,FALSE),\"/\",J65898,\"/\",D65898))","v":0},0,0,0,0,0,0,{"$error":"#N/A"},{"$error":"#N/A"},{"$f":"+CONCATENATE(VLOOKUP(F65898,Cadastro!$Q$3:$R$162,2,FALSE),\"/\",S65898,\"/\",H65898)","v":{"$error":"#N/A"}},{"$error":"#N/A"},"0/0","0/0/0",{"$error":"#N/A"},{"$error":"#N/A"},"0/0",0,0,0,0,0,0,0,0,0,0]
[null,0,0,0,null,0,0,0,null,0,0,{"$f":"IF(J65899=0,0,+CONCATENATE(VLOOKUP(B65899,Cadastro!$Q$3:$R$162,2,FALSE),\"/\",J65899,\"/\",D65899))","v":0},0,0,0,0,0,0,{"$error":"#N/A"},{"$error":"#N/A"},{"$f":"+CONCATENATE(VLOOKUP(F65899,Cadastro!$Q$3:$R$162,2,FALSE),\"/\",S65899,\"/\",H65899)","v":{"$error":"#N/A"}},{"$error":"#N/A"},"0/0","0/0/0",{"$error":"#N/A"},{"$error":"#N/A"},"0/0",0,0,0,0,0,0,0,0,0,0]
[null,0,0,0,null,0,0,0,null,0,0,{"$f":"IF(J65900=0,0,+CONCATENATE(VLOOKUP(B65900,Cadastro!$Q$3:$R$162,2,FALSE),\"/\",J65900,\"/\",D65900))","v":0},0,0,0,0,0,0,{"$error":"#N/A"},{"$error":"#N/A"},{"$f":"+CONCATENATE(VLOOKUP(F65900,Cadastro!$Q$3:$R$162,2,FALSE),\"/\",S65900,\"/\",H65900)","v":{"$error":"#N/A"}},{"$error":"#N/A"},"0/0","0/0/0",{"$error":"#N/A"},{"$error":"#N/A"},"0/0",0,0,0,0,0,0,0,0,0,0]
[null,0,0,0,null,0,0,0,null,0,0,{"$f":"IF(J65901=0,0,+CONCATENATE(VLOOKUP(B65901,Cadastro!$Q$3:$R$162,2,FALSE),\"/\",J65901,\"/\",D65901))","v":0},0,0,0,0,0,0,{"$error":"#N/A"},{"$error":"#N/A"},{"$f":"+CONCATENATE(VLOOKUP(F65901,Cadastro!$Q$3:$R$162,2,FALSE),\"/\",S65901,\"/\",H65901)","v":{"$error":"#N/A"}},{"$error":"#N/A"},"0/0","0/0/0",{"$error":"#N/A"},{"$error":"#N/A"},"0/0",0,0,0,0,0,0,0,0,0,0]
[null,0,0,0,null,0,0,0,null,0,0,{"$f":"IF(J65902=0,0,+CONCATENATE(VLOOKUP(B65902,Cadastro!$Q$3:$R$162,2,FALSE),\"/\",J65902,\"/\",D65902))","v":0},0,0,0,0,0,0,{"$error":"#N/A"},{"$error":"#N/A"},{"$f":"+CONCATENATE(VLOOKUP(F65902,Cadastro!$Q$3:$R$162,2,FALSE),\"/\",S65902,\"/\",H65902)","v":{"$error":"#N/A"}},{"$error":"#N/A"},"0/0","0/0/0",{"$error":"#N/A"},{"$error":"#N/A"},"0/0",0,0,0,0,0,0,0,0,0,0]
[null,0,0,0,null,0,0,0,null,0,0,{"$f":"IF(J65903=0,0,+CONCATENATE(VLOOKUP(B65903,Cadastro!$Q$3:$R$162,2,FALSE),\"/\",J65903,\"/\",D65903))","v":0},0,0,0,0,0,0,{"$error":"#N/A"},{"$error":"#N/A"},{"$f":"+CONCATENATE(VLOOKUP(F65903,Cadastro!$Q$3:$R$162,2,FALSE),\"/\",S65903,\"/\",H65903)","v":{"$error":"#N/A"}},{"$error":"#N/A"},"0/0","0/0/0",{"$error":"#N/A"},{"$error":"#N/A"},"0/0",0,0,0,0,0,0,0,0,0,0]
[null,0,0,0,null,0,0,0,null,0,0,{"$f":"IF(J65904=0,0,+CONCATENATE(VLOOKUP(B65904,Cadastro!$Q$3:$R$162,2,FALSE),\"/\",J65904,\"/\",D65904))","v":0},0,0,0,0,0,0,{"$error":"#N/A"},{"$error":"#N/A"},{"$f":"+CONCATENATE(VLOOKUP(F65904,Cadastro!$Q$3:$R$162,2,FALSE),\"/\",S65904,\"/\",H65904)","v":{"$error":"#N/A"}},{"$error":"#N/A"},"0/0","0/0/0",{"$error":"#N/A"},{"$error":"#N/A"},"0/0",0,0,0,0,0,0,0,0,0,0]
[null,0,0,0,null,0,0,0,null,0,0,{"$f":"IF(J65905=0,0,+CONCATENATE(VLOOKUP(B65905,Cadastro!$Q$3:$R$162,2,FALSE),\"/\",J65905,\"/\",D65905))","v":0},0,0,0,0,0,0,{"$error":"#N/A"},{"$error":"#N/A"},{"$f":"+CONCATENATE(VLOOKUP(F65905,Cadastro!$Q$3:$R$162,2,FALSE),\"/\",S65905,\"/\",H65905)","v":{"$error":"#N/A"}},{"$error":"#N/A"},"0/0","0/0/0",{"$error":"#N/A"},{"$error":"#N/A"},"0/0",0,0,0,0,0,0,0,0,0,0]
[null,0,0,0,null,0,0,0,null,0,0,{"$f":"IF(J65906=0,0,+CONCATENATE(VLOOKUP(B65906,Cadastro!$Q$3:$R$162,2,FALSE),\"/\",J65906,\"/\",D65906))","v":0},0,0,0,0,0,0,{"$error":"#N/A"},{"$error":"#N/A"},{"$f":"+CONCATENATE(VLOOKUP(F65906,Cadastro!$Q$3:$R$162,2,FALSE),\"/\",S65906,\"/\",H65906)","v":{"$error":"#N/A"}},{"$error":"#N/A"},"0/0","0/0/0",{"$error":"#N/A"},{"$error":"#N/A"},"0/0",0,0,0,0,0,0,0,0,0,0]
[null,0,0,0,null,0,0,0,null,0,0,{"$f":"IF(J65907=0,0,+CONCATENATE(VLOOKUP(B65907,Cadastro!$Q$3:$R$162,2,FALSE),\"/\",J65907,\"/\",D65907))","v":0},0,0,0,0,0,0,{"$error":"#N/A"},{"$error":"#N/A"},{"$f":"+CONCATENATE(VLOOKUP(F65907,Cadastro!$Q$3:$R$162,2,FALSE),\"/\",S65907,\"/\",H65907)","v":{"$error":"#N/A"}},{"$error":"#N/A"},"0/0","0/0/0",{"$error":"#N/A"},{"$error":"#N/A"},"0/0",0,0,0,0,0,0,0,0,0,0]
[null,0,0,0,null,0,0,0,null,0,0,{"$f":"IF(J65908=0,0,+CONCATENATE(VLOOKUP(B65908,Cadastro!$Q$3:$R$162,2,FALSE),\"/\",J65908,\"/\",D65908))","v":0},0,0,0,0,0,0,{"$error":"#N/A"},{"$error":"#N/A"},{"$f":"+CONCATENATE(VLOOKUP(F65908,Cadastro!$Q$3:$R$162,2,FALSE),\"/\",S65908,\"/\",H65908)","v":{"$error":"#N/A"}},{"$error":"#N/A"},"0/0","0/0/0",{"$error":"#N/A"},{"$error":"#N/A"},"0/0",0,0,0,0,0,0,0,0,0,0]
[null,0,0,0,null,0,0,0,null,0,0,{"$f":"IF(J65909=0,0,+CONCATENATE(VLOOKUP(B65909,Cadastro!$Q$3:$R$162,2,FALSE),\"/\",J65909,\"/\",D65909))","v":0},0,0,0,0,0,0,{"$error":"#N/A"},{"$error":"#N/A"},{"$f":"+CONCATENATE(VLOOKUP(F65909,Cadastro!$Q$3:$R$162,2,FALSE),\"/\",S65909,\"/\",H65909)","v":{"$error":"#N/A"}},{"$error":"#N/A"},"0/0","0/0/0",{"$error":"#N/A"},{"$error":"#N/A"},"0/0",0,0,0,0,0,0,0,0,0,0]
[null,0,0,0,null,0,0,0,null,0,0,{"$f":"IF(J65910=0,0,+CONCATENATE(VLOOKUP(B65910,Cadastro!$Q$3:$R$162,2,FALSE),\"/\",J65910,\"/\",D65910))","v":0},0,0,0,0,0,0,{"$error":"#N/A"},{"$error":"#N/A"},{"$f":"+CONCATENATE(VLOOKUP(F65910,Cadastro!$Q$3:$R$162,2,FALSE),\"/\",S65910,\"/\",H65910)","v":{"$error":"#N/A"}},{"$error":"#N/A"},"0/0","0/0/0",{"$error":"#N/A"},{"$error":"#N/A"},"0/0",0,0,0,0,0,0,0,0,0,0]
[null,0,0,0,null,0,0,0,null,0,0,{"$f":"IF(J65911=0,0,+CONCATENATE(VLOOKUP(B65911,Cadastro!$Q$3:$R$162,2,FALSE),\"/\",J65911,\"/\",D65911))","v":0},0,0,0,0,0,0,{"$error":"#N/A"},{"$error":"#N/A"},{"$f":"+CONCATENATE(VLOOKUP(F65911,Cadastro!$Q$3:$R$162,2,FALSE),\"/\",S65911,\"/\",H65911)","v":{"$error":"#N/A"}},{"$error":"#N/A"},"0/0","0/0/0",{"$error":"#N/A"},{"$error":"#N/A"},"0/0",0,0,0,0,0,0,0,0,0,0]
[null,0,0,0,null,0,0,0,null,0,0,{"$f":"IF(J65912=0,0,+CONCATENATE(VLOOKUP(B65912,Cadastro!$Q$3:$R$162,2,FALSE),\"/\",J65912,\"/\",D65912))","v":0},0,0,0,0,0,0,{"$error":"#N/A"},{"$error":"#N/A"},{"$f":"+CONCATENATE(VLOOKUP(F65912,Cadastro!$Q$3:$R$162,2,FALSE),\"/\",S65912,\"/\",H65912)","v":{"$error":"#N/A"}},{"$error":"#N/A"},"0/0","0/0/0",{"$error":"#N/A"},{"$error":"#N/A"},"0/0",0,0,0,0,0,0,0,0,0,0]
[null,0,0,0,null,0,0,0,null,0,{"$f":"IF(J65913=0,0,+CONCATENATE(VALUE(B65913),\"/\",J65913,\"/\",D65913))","v":0},{"$f":"IF(J65913=0,0,+CONCATENATE(VLOOKUP(B65913,Cadastro!$Q$3:$R$162,2,FALSE),\"/\",J65913,\"/\",D65913))","v":0},{"$f":"IF(J65913=0,0,+CONCATENATE(J65913,\"/\",D65913))","v":0},0,0,0,0,0,{"$error":"#N/A"},{"$f":"+CONCATENATE(VALUE(F65913),\"/\",S65913,\"/\",H65913)","v":{"$error":"#N/A"}},{"$f":"+CONCATENATE(VLOOKUP(F65913,Cadastro!$Q$3:$R$162,2,FALSE),\"/\",S65913,\"/\",H65913)","v":{"$error":"#N/A"}},{"$f":"+CONCATENATE(S65913,\"/\",H65913)","v":{"$error":"#N/A"}},"0/0","0/0/0",{"$error":"#N/A"},{"$error":"#N/A"},"0/0",0,0,0,0,0,0,0,0,0,0]
[null,0,0,0,null,0,0,0,null,0,0,{"$f":"IF(J65914=0,0,+CONCATENATE(VLOOKUP(B65914,Cadastro!$Q$3:$R$162,2,FALSE),\"/\",J65914,\"/\",D65914))","v":0},0,0,0,0,0,0,{"$error":"#N/A"},{"$error":"#N/A"},{"$f":"+CONCATENATE(VLOOKUP(F65914,Cadastro!$Q$3:$R$162,2,FALSE),\"/\",S65914,\"/\",H65914)","v":{"$error":"#N/A"}},{"$error":"#N/A"},"0/0","0/0/0",{"$error":"#N/A"},{"$error":"#N/A"},"0/0",0,0,0,0,0,0,0,0,0,0]
[null,0,0,0,null,0,0,0,null,0,0,{"$f":"IF(J65915=0,0,+CONCATENATE(VLOOKUP(B65915,Cadastro!$Q$3:$R$162,2,FALSE),\"/\",J65915,\"/\",D65915))","v":0},0,0,0,0,0,0,{"$error":"#N/A"},{"$error":"#N/A"},{"$f":"+CONCATENATE(VLOOKUP(F65915,Cadastro!$Q$3:$R$162,2,FALSE),\"/\",S65915,\"/\",H65915)","v":{"$error":"#N/A"}},{"$error":"#N/A"},"0/0","0/0/0",{"$error":"#N/A"},{"$error":"#N/A"},"0/0",0,0,0,0,0,0,0,0,0,0]
[null,0,0,0,null,0,0,0,null,0,0,{"$f":"IF(J65916=0,0,+CONCATENATE(VLOOKUP(B65916,Cadastro!$Q$3:$R$162,2,FALSE),\"/\",J65916,\"/\",D65916))","v":0},0,0,0,0,0,0,{"$error":"#N/A"},{"$error":"#N/A"},{"$f":"+CONCATENATE(VLOOKUP(F65916,Cadastro!$Q$3:$R$162,2,FALSE),\"/\",S65916,\"/\",H65916)","v":{"$error":"#N/A"}},{"$error":"#N/A"},"0/0","0/0/0",{"$error":"#N/A"},{"$error":"#N/A"},"0/0",0,0,0,0,0,0,0,0,0,0]
[null,0,0,0,null,0,0,0,null,0,0,{"$f":"IF(J65917=0,0,+CONCATENATE(VLOOKUP(B65917,Cadastro!$Q$3:$R$162,2,FALSE),\"/\",J65917,\"/\",D65917))","v":0},0,0,0,0,0,0,{"$error":"#N/A"},{"$error":"#N/A"},{"$f":"+CONCATENATE(VLOOKUP(F65917,Cadastro!$Q$3:$R$162,2,FALSE),\"/\",S65917,\"/\",H65917)","v":{"$error":"#N/A"}},{"$error":"#N/A"},"0/0","0/0/0",{"$error":"#N/A"},{"$error":"#N/A"},"0/0",0,0,0,0,0,0,0,0,0,0]
[null,0,0,0,null,0,0,0,null,0,0,{"$f":"IF(J65918=0,0,+CONCATENATE(VLOOKUP(B65918,Cadastro!$Q$3:$R$162,2,FALSE),\"/\",J65918,\"/\",D65918))","v":0},0,0,0,0,0,0,{"$error":"#N/A"},{"$error":"#N/A"},{"$f":"+CONCATENATE(VLOOKUP(F65918,Cadastro!$Q$3:$R$162,2,FALSE),\"/\",S65918,\"/\",H65918)","v":{"$error":"#N/A"}},{"$error":"#N/A"},"0/0","0/0/0",{"$error":"#N/A"},{"$error":"#N/A"},"0/0",0,0,0,0,0,0,0,0,0,0]
[null,0,0,0,null,0,0,0,null,0,0,{"$f":"IF(J65919=0,0,+CONCATENATE(VLOOKUP(B65919,Cadastro!$Q$3:$R$162,2,FALSE),\"/\",J65919,\"/\",D65919))","v":0},0,0,0,0,0,0,{"$error":"#N/A"},{"$error":"#N/A"},{"$f":"+CONCATENATE(VLOOKUP(F65919,Cadastro!$Q$3:$R$162,2,FALSE),\"/\",S65919,\"/\",H65919)","v":{"$error":"#N/A"}},{"$error":"#N/A"},"0/0","0/0/0",{"$error":"#N/A"},{"$error":"#N/A"},"0/0",0,0,0,0,0,0,0,0,0,0]
[null,0,0,0,null,0,0,0,null,0,0,{"$f":"IF(J65920=0,0,+CONCATENATE(VLOOKUP(B65920,Cadastro!$Q$3:$R$162,2,FALSE),\"/\",J65920,\"/\",D65920))","v":0},0,0,0,0,0,0,{"$error":"#N/A"},{"$error":"#N/A"},{"$f":"+CONCATENATE(VLOOKUP(F65920,Cadastro!$Q$3:$R$162,2,FALSE),\"/\",S65920,\"/\",H65920)","v":{"$error":"#N/A"}},{"$error":"#N/A"},"0/0","0/0/0",{"$error":"#N/A"},{"$error":"#N/A"},"0/0",0,0,0,0,0,0,0,0,0,0]
[null,0,0,0,null,0,0,0,null,0,0,{"$f":"IF(J65921=0,0,+CONCATENATE(VLOOKUP(B65921,Cadastro!$Q$3:$R$162,2,FALSE),\"/\",J65921,\"/\",D65921))","v":0},0,0,0,0,0,0,{"$error":"#N/A"},{"$error":"#N/A"},{"$f":"+CONCATENATE(VLOOKUP(F65921,Cadastro!$Q$3:$R$162,2,FALSE),\"/\",S65921,\"/\",H65921)","v":{"$error":"#N/A"}},{"$error":"#N/A"},"0/0","0/0/0",{"$error":"#N/A"},{"$error":"#N/A"},"0/0",0,0,0,0,0,0,0,0,0,0]
[null,0,0,0,null,0,0,0,null,0,0,{"$f":"IF(J65922=0,0,+CONCATENATE(VLOOKUP(B65922,Cadastro!$Q$3:$R$162,2,FALSE),\"/\",J65922,\"/\",D65922))","v":0},0,0,0,0,0,0,{"$error":"#N/A"},{"$error":"#N/A"},{"$f":"+CONCATENATE(VLOOKUP(F65922,Cadastro!$Q$3:$R$162,2,FALSE),\"/\",S65922,\"/\",H65922)","v":{"$error":"#N/A"}},{"$error":"#N/A"},"0/0","0/0/0",{"$error":"#N/A"},{"$error":"#N/A"},"0/0",0,0,0,0,0,0,0,0,0,0]
[null,0,0,0,null,0,0,0,null,0,0,{"$f":"IF(J65923=0,0,+CONCATENATE(VLOOKUP(B65923,Cadastro!$Q$3:$R$162,2,FALSE),\"/\",J65923,\"/\",D65923))","v":0},0,0,0,0,0,0,{"$error":"#N/A"},{"$error":"#N/A"},{"$f":"+CONCATENATE(VLOOKUP(F65923,Cadastro!$Q$3:$R$162,2,FALSE),\"/\",S65923,\"/\",H65923)","v":{"$error":"#N/A"}},{"$error":"#N/A"},"0/0","0/0/0",{"$error":"#N/A"},{"$error":"#N/A"},"0/0",0,0,0,0,0,0,0,0,0,0]
[null,0,0,0,null,0,0,0,null,0,0,{"$f":"IF(J65924=0,0,+CONCATENATE(VLOOKUP(B65924,Cadastro!$Q$3:$R$162,2,FALSE),\"/\",J65924,\"/\",D65924))","v":0},0,0,0,0,0,0,{"$error":"#N/A"},{"$error":"#N/A"},{"$f":"+CONCATENATE(VLOOKUP(F65924,Cadastro!$Q$3:$R$162,2,FALSE),\"/\",S65924,\"/\",H65924)","v":{"$error":"#N/A"}},{"$error":"#N/A"},"0/0","0/0/0",{"$error":"#N/A"},{"$error":"#N/A"},"0/0",0,0,0,0,0,0,0,0,0,0]
[null,0,0,0,null,0,0,0,null,{"$f":"IF(C65925=0,0,+VLOOKUP(C65925,$AQ$4:$AR$130,2,FALSE))","v":0},0,{"$f":"IF(J65925=0,0,+CONCATENATE(VLOOKUP(B65925,Cadastro!$Q$3:$R$162,2,FALSE),\"/\",J65925,\"/\",D65925))","v":0},0,0,0,0,0,0,{"$f":"+VLOOKUP(G65925,$AQ$4:$AR$130,2,FALSE)","v":{"$error":"#N/A"}},{"$error":"#N/A"},{"$f":"+CONCATENATE(VLOOKUP(F65925,Cadastro!$Q$3:$R$162,2,FALSE),\"/\",S65925,\"/\",H65925)","v":{"$error":"#N/A"}},{"$error":"#N/A"},"0/0","0/0/0",{"$error":"#N/A"},{"$error":"#N/A"},"0/0",0,0,0,0,0,0,0,0,0,0]
[null,0,0,0,null,0,0,0,null,0,0,{"$f":"IF(J65926=0,0,+CONCATENATE(VLOOKUP(B65926,Cadastro!$Q$3:$R$162,2,FALSE),\"/\",J65926,\"/\",D65926))","v":0},0,0,0,0,0,0,{"$error":"#N/A"},{"$error":"#N/A"},{"$f":"+CONCATENATE(VLOOKUP(F65926,Cadastro!$Q$3:$R$162,2,FALSE),\"/\",S65926,\"/\",H65926)","v":{"$error":"#N/A"}},{"$error":"#N/A"},"0/0","0/0/0",{"$error":"#N/A"},{"$error":"#N/A"},"0/0",0,0,0,0,0,0,0,0,0,0]
[null,0,0,0,null,0,0,0,null,0,0,{"$f":"IF(J65927=0,0,+CONCATENATE(VLOOKUP(B65927,Cadastro!$Q$3:$R$162,2,FALSE),\"/\",J65927,\"/\",D65927))","v":0},0,0,0,0,0,0,{"$error":"#N/A"},{"$error":"#N/A"},{"$f":"+CONCATENATE(VLOOKUP(F65927,Cadastro!$Q$3:$R$162,2,FALSE),\"/\",S65927,\"/\",H65927)","v":{"$error":"#N/A"}},{"$error":"#N/A"},"0/0","0/0/0",{"$error":"#N/A"},{"$error":"#N/A"},"0/0",0,0,0,0,0,0,0,0,0,0]
[null,0,0,0,null,0,0,0,null,0,0,{"$f":"IF(J65928=0,0,+CONCATENATE(VLOOKUP(B65928,Cadastro!$Q$3:$R$162,2,FALSE),\"/\",J65928,\"/\",D65928))","v":0},0,0,0,0,0,0,{"$error":"#N/A"},{"$error":"#N/A"},{"$f":"+CONCATENATE(VLOOKUP(F65928,Cadastro!$Q$3:$R$162,2,FALSE),\"/\",S65928,\"/\",H65928)","v":{"$error":"#N/A"}},{"$error":"#N/A"},"0/0","0/0/0",{"$error":"#N/A"},{"$error":"#N/A"},"0/0",0,0,0,0,0,0,0,0,0,0]
[null,0,0,0,null,0,0,0,null,0,0,{"$f":"IF(J65929=0,0,+CONCATENATE(VLOOKUP(B65929,Cadastro!$Q$3:$R$162,2,FALSE),\"/\",J65929,\"/\",D65929))","v":0},0,0,0,0,0,0,{"$error":"#N/A"},{"$error":"#N/A"},{"$f":"+CONCATENATE(VLOOKUP(F65929,Cadastro!$Q$3:$R$162,2,FALSE),\"/\",S65929,\"/\",H65929)","v":{"$error":"#N/A"}},{"$error":"#N/A"},"0/0","0/0/0",{"$error":"#N/A"},{"$error":"#N/A"},"0/0",0,0,0,0,0,0,0,0,0,0]
[null,0,0,0,null,0,0,0,null,0,0,{"$f":"IF(J65930=0,0,+CONCATENATE(VLOOKUP(B65930,Cadastro!$Q$3:$R$162,2,FALSE),\"/\",J65930,\"/\",D65930))","v":0},0,0,0,0,0,0,{"$error":"#N/A"},{"$error":"#N/A"},{"$f":"+CONCATENATE(VLOOKUP(F65930,Cadastro!$Q$3:$R$162,2,FALSE),\"/\",S65930,\"/\",H65930)","v":{"$error":"#N/A"}},{"$error":"#N/A"},"0/0","0/0/0",{"$error":"#N/A"},{"$error":"#N/A"},"0/0",0,0,0,0,0,0,0,0,0,0]
[null,0,0,0,null,0,0,0,null,0,0,{"$f":"IF(J65931=0,0,+CONCATENATE(VLOOKUP(B65931,Cadastro!$Q$3:$R$162,2,FALSE),\"/\",J65931,\"/\",D65931))","v":0},0,0,0,0,0,0,{"$error":"#N/A"},{"$error":"#N/A"},{"$f":"+CONCATENATE(VLOOKUP(F65931,Cadastro!$Q$3:$R$162,2,FALSE),\"/\",S65931,\"/\",H65931)","v":{"$error":"#N/A"}},{"$error":"#N/A"},"0/0","0/0/0",{"$error":"#N/A"},{"$error":"#N/A"},"0/0",0,0,0,0,0,0,0,0,0,0]
[null,0,0,0,null,0,0,0,null,0,0,{"$f":"IF(J65932=0,0,+CONCATENATE(VLOOKUP(B65932,Cadastro!$Q$3:$R$162,2,FALSE),\"/\",J65932,\"/\",D65932))","v":0},0,0,0,0,0,0,{"$error":"#N/A"},{"$error":"#N/A"},{"$f":"+CONCATENATE(VLOOKUP(F65932,Cadastro!$Q$3:$R$162,2,FALSE),\"/\",S65932,\"/\",H65932)","v":{"$error":"#N/A"}},{"$error":"#N/A"},"0/0","0/0/0",{"$error":"#N/A"},{"$error":"#N/A"},"0/0",0,0,0,0,0,0,0,0,0,0]
[null,0,0,0,null,0,0,0,null,0,0,{"$f":"IF(J65933=0,0,+CONCATENATE(VLOOKUP(B65933,Cadastro!$Q$3:$R$162,2,FALSE),\"/\",J65933,\"/\",D65933))","v":0},0,0,0,0,0,0,{"$error":"#N/A"},{"$error":"#N/A"},{"$f":"+CONCATENATE(VLOOKUP(F65933,Cadastro!$Q$3:$R$162,2,FALSE),\"/\",S65933,\"/\",H65933)","v":{"$error":"#N/A"}},{"$error":"#N/A"},"0/0","0/0/0",{"$error":"#N/A"},{"$error":"#N/A"},"0/0",0,0,0,0,0,0,0,0,0,0]
[null,0,0,0,null,0,0,0,null,0,0,{"$f":"IF(J65934=0,0,+CONCATENATE(VLOOKUP(B65934,Cadastro!$Q$3:$R$162,2,FALSE),\"/\",J65934,\"/\",D65934))","v":0},0,0,0,0,0,0,{"$error":"#N/A"},{"$error":"#N/A"},{"$f":"+CONCATENATE(VLOOKUP(F65934,Cadastro!$Q$3:$R$162,2,FALSE),\"/\",S65934,\"/\",H65934)","v":{"$error":"#N/A"}},{"$error":"#N/A"},"0/0","0/0/0",{"$error":"#N/A"},{"$error":"#N/A"},"0/0",0,0,0,0,0,0,0,0,0,0]
[null,0,0,0,null,0,0,0,null,0,0,{"$f":"IF(J65935=0,0,+CONCATENATE(VLOOKUP(B65935,Cadastro!$Q$3:$R$162,2,FALSE),\"/\",J65935,\"/\",D65935))","v":0},0,0,0,0,0,0,{"$error":"#N/A"},{"$error":"#N/A"},{"$f":"+CONCATENATE(VLOOKUP(F65935,Cadastro!$Q$3:$R$162,2,FALSE),\"/\",S65935,\"/\",H65935)","v":{"$error":"#N/A"}},{"$error":"#N/A"},"0/0","0/0/0",{"$error":"#N/A"},{"$error":"#N/A"},"0/0",0,0,0,0,0,0,0,0,0,0]
[null,0,0,0,null,0,0,0,null,0,0,{"$f":"IF(J65936=0,0,+CONCATENATE(VLOOKUP(B65936,Cadastro!$Q$3:$R$162,2,FALSE),\"/\",J65936,\"/\",D65936))","v":0},0,0,0,0,0,0,{"$error":"#N/A"},{"$error":"#N/A"},{"$f":"+CONCATENATE(VLOOKUP(F65936,Cadastro!$Q$3:$R$162,2,FALSE),\"/\",S65936,\"/\",H65936)","v":{"$error":"#N/A"}},{"$error":"#N/A"},"0/0","0/0/0",{"$error":"#N/A"},{"$error":"#N/A"},"0/0",0,0,0,0,0,0,0,0,0,0]
[null,0,0,0,null,0,0,0,null,0,0,{"$f":"IF(J65937=0,0,+CONCATENATE(VLOOKUP(B65937,Cadastro!$Q$3:$R$162,2,FALSE),\"/\",J65937,\"/\",D65937))","v":0},0,0,0,0,0,0,{"$error":"#N/A"},{"$error":"#N/A"},{"$f":"+CONCATENATE(VLOOKUP(F65937,Cadastro!$Q$3:$R$162,2,FALSE),\"/\",S65937,\"/\",H65937)","v":{"$error":"#N/A"}},{"$error":"#N/A"},"0/0","0/0/0",{"$error":"#N/A"},{"$error":"#N/A"},"0/0",0,0,0,0,0,0,0,0,0,0]
[null,0,0,0,null,0,0,0,null,0,0,{"$f":"IF(J65938=0,0,+CONCATENATE(VLOOKUP(B65938,Cadastro!$Q$3:$R$162,2,FALSE),\"/\",J65938,\"/\",D65938))","v":0},0,0,0,0,0,0,{"$error":"#N/A"},{"$error":"#N/A"},{"$f":"+CONCATENATE(VLOOKUP(F65938,Cadastro!$Q$3:$R$162,2,FALSE),\"/\",S65938,\"/\",H65938)","v":{"$error":"#N/A"}},{"$error":"#N/A"},"0/0","0/0/0",{"$error":"#N/A"},{"$error":"#N/A"},"0/0",0,0,0,0,0,0,0,0,0,0]
[null,0,0,0,null,0,0,0,null,0,0,{"$f":"IF(J65939=0,0,+CONCATENATE(VLOOKUP(B65939,Cadastro!$Q$3:$R$162,2,FALSE),\"/\",J65939,\"/\",D65939))","v":0},0,0,0,0,0,0,{"$error":"#N/A"},{"$error":"#N/A"},{"$f":"+CONCATENATE(VLOOKUP(F65939,Cadastro!$Q$3:$R$162,2,FALSE),\"/\",S65939,\"/\",H65939)","v":{"$error":"#N/A"}},{"$error":"#N/A"},"0/0","0/0/0",{"$error":"#N/A"},{"$error":"#N/A"},"0/0",0,0,0,0,0,0,0,0,0,0]
[null,0,0,0,null,0,0,0,null,0,0,{"$f":"IF(J65940=0,0,+CONCATENATE(VLOOKUP(B65940,Cadastro!$Q$3:$R$162,2,FALSE),\"/\",J65940,\"/\",D65940))","v":0},0,0,0,0,0,0,{"$error":"#N/A"},{"$error":"#N/A"},{"$f":"+CONCATENATE(VLOOKUP(F65940,Cadastro!$Q$3:$R$162,2,FALSE),\"/\",S65940,\"/\",H65940)","v":{"$error":"#N/A"}},{"$error":"#N/A"},"0/0","0/0/0",{"$error":"#N/A"},{"$error":"#N/A"},"0/0",0,0,0,0,0,0,0,0,0,0]
[null,0,0,0,null,0,0,0,null,0,0,{"$f":"IF(J65941=0,0,+CONCATENATE(VLOOKUP(B65941,Cadastro!$Q$3:$R$162,2,FALSE),\"/\",J65941,\"/\",D65941))","v":0},0,0,0,0,0,0,{"$error":"#N/A"},{"$error":"#N/A"},{"$f":"+CONCATENATE(VLOOKUP(F65941,Cadastro!$Q$3:$R$162,2,FALSE),\"/\",S65941,\"/\",H65941)","v":{"$error":"#N/A"}},{"$error":"#N/A"},"0/0","0/0/0",{"$error":"#N/A"},{"$error":"#N/A"},"0/0",0,0,0,0,0,0,0,0,0,0]
[null,0,0,0,null,0,0,0,null,0,0,{"$f":"IF(J65942=0,0,+CONCATENATE(VLOOKUP(B65942,Cadastro!$Q$3:$R$162,2,FALSE),\"/\",J65942,\"/\",D65942))","v":0},0,0,0,0,0,0,{"$error":"#N/A"},{"$error":"#N/A"},{"$f":"+CONCATENATE(VLOOKUP(F65942,Cadastro!$Q$3:$R$162,2,FALSE),\"/\",S65942,\"/\",H65942)","v":{"$error":"#N/A"}},{"$error":"#N/A"},"0/0","0/0/0",{"$error":"#N/A"},{"$error":"#N/A"},"0/0",0,0,0,0,0,0,0,0,0,0]
[null,0,0,0,null,0,0,0,null,0,0,{"$f":"IF(J65943=0,0,+CONCATENATE(VLOOKUP(B65943,Cadastro!$Q$3:$R$162,2,FALSE),\"/\",J65943,\"/\",D65943))","v":0},0,0,0,0,0,0,{"$error":"#N/A"},{"$error":"#N/A"},{"$f":"+CONCATENATE(VLOOKUP(F65943,Cadastro!$Q$3:$R$162,2,FALSE),\"/\",S65943,\"/\",H65943)","v":{"$error":"#N/A"}},{"$error":"#N/A"},"0/0","0/0/0",{"$error":"#N/A"},{"$error":"#N/A"},"0/0",0,0,0,0,0,0,0,0,0,0]
[null,0,0,0,null,0,0,0,null,0,0,{"$f":"IF(J65944=0,0,+CONCATENATE(VLOOKUP(B65944,Cadastro!$Q$3:$R$162,2,FALSE),\"/\",J65944,\"/\",D65944))","v":0},0,0,0,0,0,0,{"$error":"#N/A"},{"$error":"#N/A"},{"$f":"+CONCATENATE(VLOOKUP(F65944,Cadastro!$Q$3:$R$162,2,FALSE),\"/\",S65944,\"/\",H65944)","v":{"$error":"#N/A"}},{"$error":"#N/A"},"0/0","0/0/0",{"$error":"#N/A"},{"$error":"#N/A"},"0/0",0,0,0,0,0,0,0,0,0,0]
[null,0,0,0,null,0,0,0,null,0,0,{"$f":"IF(J65945=0,0,+CONCATENATE(VLOOKUP(B65945,Cadastro!$Q$3:$R$162,2,FALSE),\"/\",J65945,\"/\",D65945))","v":0},0,0,0,0,0,0,{"$error":"#N/A"},{"$error":"#N/A"},{"$f":"+CONCATENATE(VLOOKUP(F65945,Cadastro!$Q$3:$R$162,2,FALSE),\"/\",S65945,\"/\",H65945)","v":{"$error":"#N/A"}},{"$error":"#N/A"},"0/0","0/0/0",{"$error":"#N/A"},{"$error":"#N/A"},"0/0",0,0,0,0,0,0,0,0,0,0]
[null,0,0,0,null,0,0,0,null,0,0,{"$f":"IF(J65946=0,0,+CONCATENATE(VLOOKUP(B65946,Cadastro!$Q$3:$R$162,2,FALSE),\"/\",J65946,\"/\",D65946))","v":0},0,0,0,0,0,0,{"$error":"#N/A"},{"$error":"#N/A"},{"$f":"+CONCATENATE(VLOOKUP(F65946,Cadastro!$Q$3:$R$162,2,FALSE),\"/\",S65946,\"/\",H65946)","v":{"$error":"#N/A"}},{"$error":"#N/A"},"0/0","0/0/0",{"$error":"#N/A"},{"$error":"#N/A"},"0/0",0,0,0,0,0,0,0,0,0,0]
[null,0,0,0,null,0,0,0,null,0,0,{"$f":"IF(J65947=0,0,+CONCATENATE(VLOOKUP(B65947,Cadastro!$Q$3:$R$162,2,FALSE),\"/\",J65947,\"/\",D65947))","v":0},0,0,0,0,0,0,{"$error":"#N/A"},{"$error":"#N/A"},{"$f":"+CONCATENATE(VLOOKUP(F65947,Cadastro!$Q$3:$R$162,2,FALSE),\"/\",S65947,\"/\",H65947)","v":{"$error":"#N/A"}},{"$error":"#N/A"},"0/0","0/0/0",{"$error":"#N/A"},{"$error":"#N/A"},"0/0",0,0,0,0,0,0,0,0,0,0]
[null,0,0,0,null,0,0,0,null,0,0,{"$f":"IF(J65948=0,0,+CONCATENATE(VLOOKUP(B65948,Cadastro!$Q$3:$R$162,2,FALSE),\"/\",J65948,\"/\",D65948))","v":0},0,0,0,0,0,0,{"$error":"#N/A"},{"$error":"#N/A"},{"$f":"+CONCATENATE(VLOOKUP(F65948,Cadastro!$Q$3:$R$162,2,FALSE),\"/\",S65948,\"/\",H65948)","v":{"$error":"#N/A"}},{"$error":"#N/A"},"0/0","0/0/0",{"$error":"#N/A"},{"$error":"#N/A"},"0/0",0,0,0,0,0,0,0,0,0,0]
[null,0,0,0,null,0,0,0,null,0,0,{"$f":"IF(J65949=0,0,+CONCATENATE(VLOOKUP(B65949,Cadastro!$Q$3:$R$162,2,FALSE),\"/\",J65949,\"/\",D65949))","v":0},0,0,0,0,0,0,{"$error":"#N/A"},{"$error":"#N/A"},{"$f":"+CONCATENATE(VLOOKUP(F65949,Cadastro!$Q$3:$R$162,2,FALSE),\"/\",S65949,\"/\",H65949)","v":{"$error":"#N/A"}},{"$error":"#N/A"},"0/0","0/0/0",{"$error":"#N/A"},{"$error":"#N/A"},"0/0",0,0,0,0,0,0,0,0,0,0]
[null,0,0,0,null,0,0,0,null,0,0,{"$f":"IF(J65950=0,0,+CONCATENATE(VLOOKUP(B65950,Cadastro!$Q$3:$R$162,2,FALSE),\"/\",J65950,\"/\",D65950))","v":0},0,0,0,0,0,0,{"$error":"#N/A"},{"$error":"#N/A"},{"$f":"+CONCATENATE(VLOOKUP(F65950,Cadastro!$Q$3:$R$162,2,FALSE),\"/\",S65950,\"/\",H65950)","v":{"$error":"#N/A"}},{"$error":"#N/A"},"0/0","0/0/0",{"$error":"#N/A"},{"$error":"#N/A"},"0/0",0,0,0,0,0,0,0,0,0,0]
[null,0,0,0,null,0,0,0,null,0,0,{"$f":"IF(J65951=0,0,+CONCATENATE(VLOOKUP(B65951,Cadastro!$Q$3:$R$162,2,FALSE),\"/\",J65951,\"/\",D65951))","v":0},0,0,0,0,0,0,{"$error":"#N/A"},{"$error":"#N/A"},{"$f":"+CONCATENATE(VLOOKUP(F65951,Cadastro!$Q$3:$R$162,2,FALSE),\"/\",S65951,\"/\",H65951)","v":{"$error":"#N/A"}},{"$error":"#N/A"},"0/0","0/0/0",{"$error":"#N/A"},{"$error":"#N/A"},"0/0",0,0,0,0,0,0,0,0,0,0]
[null,0,0,0,null,0,0,0,null,0,0,{"$f":"IF(J65952=0,0,+CONCATENATE(VLOOKUP(B65952,Cadastro!$Q$3:$R$162,2,FALSE),\"/\",J65952,\"/\",D65952))","v":0},0,0,0,0,0,0,{"$error":"#N/A"},{"$error":"#N/A"},{"$f":"+CONCATENATE(VLOOKUP(F65952,Cadastro!$Q$3:$R$162,2,FALSE),\"/\",S65952,\"/\",H65952)","v":{"$error":"#N/A"}},{"$error":"#N/A"},"0/0","0/0/0",{"$error":"#N/A"},{"$error":"#N/A"},"0/0",0,0,0,0,0,0,0,0,0,0]
[null,0,0,0,null,0,0,0,null,0,0,{"$f":"IF(J65953=0,0,+CONCATENATE(VLOOKUP(B65953,Cadastro!$Q$3:$R$162,2,FALSE),\"/\",J65953,\"/\",D65953))","v":0},0,0,0,0,0,0,{"$error":"#N/A"},{"$error":"#N/A"},{"$f":"+CONCATENATE(VLOOKUP(F65953,Cadastro!$Q$3:$R$162,2,FALSE),\"/\",S65953,\"/\",H65953)","v":{"$error":"#N/A"}},{"$error":"#N/A"},"0/0","0/0/0",{"$error":"#N/A"},{"$error":"#N/A"},"0/0",0,0,0,0,0,0,0,0,0,0]
[null,0,0,0,null,0,0,0,null,0,0,{"$f":"IF(J65954=0,0,+CONCATENATE(VLOOKUP(B65954,Cadastro!$Q$3:$R$162,2,FALSE),\"/\",J65954,\"/\",D65954))","v":0},0,0,0,0,0,0,{"$error":"#N/A"},{"$error":"#N/A"},{"$f":"+CONCATENATE(VLOOKUP(F65954,Cadastro!$Q$3:$R$162,2,FALSE),\"/\",S65954,\"/\",H65954)","v":{"$error":"#N/A"}},{"$error":"#N/A"},"0/0","0/0/0",{"$error":"#N/A"},{"$error":"#N/A"},"0/0",0,0,0,0,0,0,0,0,0,0]
[null,0,0,0,null,0,0,0,null,0,0,{"$f":"IF(J65955=0,0,+CONCATENATE(VLOOKUP(B65955,Cadastro!$Q$3:$R$162,2,FALSE),\"/\",J65955,\"/\",D65955))","v":0},0,0,0,0,0,0,{"$error":"#N/A"},{"$error":"#N/A"},{"$f":"+CONCATENATE(VLOOKUP(F65955,Cadastro!$Q$3:$R$162,2,FALSE),\"/\",S65955,\"/\",H65955)","v":{"$error":"#N/A"}},{"$error":"#N/A"},"0/0","0/0/0",{"$error":"#N/A"},{"$error":"#N/A"},"0/0",0,0,0,0,0,0,0,0,0,0]
[null,0,0,0,null,0,0,0,null,0,0,{"$f":"IF(J65956=0,0,+CONCATENATE(VLOOKUP(B65956,Cadastro!$Q$3:$R$162,2,FALSE),\"/\",J65956,\"/\",D65956))","v":0},0,0,0,0,0,0,{"$error":"#N/A"},{"$error":"#N/A"},{"$f":"+CONCATENATE(VLOOKUP(F65956,Cadastro!$Q$3:$R$162,2,FALSE),\"/\",S65956,\"/\",H65956)","v":{"$error":"#N/A"}},{"$error":"#N/A"},"0/0","0/0/0",{"$error":"#N/A"},{"$error":"#N/A"},"0/0",0,0,0,0,0,0,0,0,0,0]
[null,0,0,0,null,0,0,0,null,0,0,{"$f":"IF(J65957=0,0,+CONCATENATE(VLOOKUP(B65957,Cadastro!$Q$3:$R$162,2,FALSE),\"/\",J65957,\"/\",D65957))","v":0},0,0,0,0,0,0,{"$error":"#N/A"},{"$error":"#N/A"},{"$f":"+CONCATENATE(VLOOKUP(F65957,Cadastro!$Q$3:$R$162,2,FALSE),\"/\",S65957,\"/\",H65957)","v":{"$error":"#N/A"}},{"$error":"#N/A"},"0/0","0/0/0",{"$error":"#N/A"},{"$error":"#N/A"},"0/0",0,0,0,0,0,0,0,0,0,0]
[null,0,0,0,null,0,0,0,null,0,0,{"$f":"IF(J65958=0,0,+CONCATENATE(VLOOKUP(B65958,Cadastro!$Q$3:$R$162,2,FALSE),\"/\",J65958,\"/\",D65958))","v":0},0,0,0,0,0,0,{"$error":"#N/A"},{"$error":"#N/A"},{"$f":"+CONCATENATE(VLOOKUP(F65958,Cadastro!$Q$3:$R$162,2,FALSE),\"/\",S65958,\"/\",H65958)","v":{"$error":"#N/A"}},{"$error":"#N/A"},"0/0","0/0/0",{"$error":"#N/A"},{"$error":"#N/A"},"0/0",0,0,0,0,0,0,0,0,0,0]
[null,0,0,0,null,0,0,0,null,0,0,{"$f":"IF(J65959=0,0,+CONCATENATE(VLOOKUP(B65959,Cadastro!$Q$3:$R$162,2,FALSE),\"/\",J65959,\"/\",D65959))","v":0},0,0,0,0,0,0,{"$error":"#N/A"},{"$error":"#N/A"},{"$f":"+CONCATENATE(VLOOKUP(F65959,Cadastro!$Q$3:$R$162,2,FALSE),\"/\",S65959,\"/\",H65959)","v":{"$error":"#N/A"}},{"$error":"#N/A"},"0/0","0/0/0",{"$error":"#N/A"},{"$error":"#N/A"},"0/0",0,0,0,0,0,0,0,0,0,0]
[null,0,0,0,null,0,0,0,null,0,0,{"$f":"IF(J65960=0,0,+CONCATENATE(VLOOKUP(B65960,Cadastro!$Q$3:$R$162,2,FALSE),\"/\",J65960,\"/\",D65960))","v":0},0,0,0,0,0,0,{"$error":"#N/A"},{"$error":"#N/A"},{"$f":"+CONCATENATE(VLOOKUP(F65960,Cadastro!$Q$3:$R$162,2,FALSE),\"/\",S65960,\"/\",H65960)","v":{"$error":"#N/A"}},{"$error":"#N/A"},"0/0","0/0/0",{"$error":"#N/A"},{"$error":"#N/A"},"0/0",0,0,0,0,0,0,0,0,0,0]
[null,0,0,0,null,0,0,0,null,0,0,{"$f":"IF(J65961=0,0,+CONCATENATE(VLOOKUP(B65961,Cadastro!$Q$3:$R$162,2,FALSE),\"/\",J65961,\"/\",D65961))","v":0},0,0,0,0,0,0,{"$error":"#N/A"},{"$error":"#N/A"},{"$f":"+CONCATENATE(VLOOKUP(F65961,Cadastro!$Q$3:$R$162,2,FALSE),\"/\",S65961,\"/\",H65961)","v":{"$error":"#N/A"}},{"$error":"#N/A"},"0/0","0/0/0",{"$error":"#N/A"},{"$error":"#N/A"},"0/0",0,0,0,0,0,0,0,0,0,0]
[null,0,0,0,null,0,0,0,null,0,0,{"$f":"IF(J65962=0,0,+CONCATENATE(VLOOKUP(B65962,Cadastro!$Q$3:$R$162,2,FALSE),\"/\",J65962,\"/\",D65962))","v":0},0,0,0,0,0,0,{"$error":"#N/A"},{"$error":"#N/A"},{"$f":"+CONCATENATE(VLOOKUP(F65962,Cadastro!$Q$3:$R$162,2,FALSE),\"/\",S65962,\"/\",H65962)","v":{"$error":"#N/A"}},{"$error":"#N/A"},"0/0","0/0/0",{"$error":"#N/A"},{"$error":"#N/A"},"0/0",0,0,0,0,0,0,0,0,0,0]
[null,0,0,0,null,0,0,0,null,0,0,{"$f":"IF(J65963=0,0,+CONCATENATE(VLOOKUP(B65963,Cadastro!$Q$3:$R$162,2,FALSE),\"/\",J65963,\"/\",D65963))","v":0},0,0,0,0,0,0,{"$error":"#N/A"},{"$error":"#N/A"},{"$f":"+CONCATENATE(VLOOKUP(F65963,Cadastro!$Q$3:$R$162,2,FALSE),\"/\",S65963,\"/\",H65963)","v":{"$error":"#N/A"}},{"$error":"#N/A"},"0/0","0/0/0",{"$error":"#N/A"},{"$error":"#N/A"},"0/0",0,0,0,0,0,0,0,0,0,0]
[null,0,0,0,null,0,0,0,null,0,0,{"$f":"IF(J65964=0,0,+CONCATENATE(VLOOKUP(B65964,Cadastro!$Q$3:$R$162,2,FALSE),\"/\",J65964,\"/\",D65964))","v":0},0,0,0,0,0,0,{"$error":"#N/A"},{"$error":"#N/A"},{"$f":"+CONCATENATE(VLOOKUP(F65964,Cadastro!$Q$3:$R$162,2,FALSE),\"/\",S65964,\"/\",H65964)","v":{"$error":"#N/A"}},{"$error":"#N/A"},"0/0","0/0/0",{"$error":"#N/A"},{"$error":"#N/A"},"0/0",0,0,0,0,0,0,0,0,0,0]
[null,0,0,0,null,0,0,0,null,0,0,{"$f":"IF(J65965=0,0,+CONCATENATE(VLOOKUP(B65965,Cadastro!$Q$3:$R$162,2,FALSE),\"/\",J65965,\"/\",D65965))","v":0},0,0,0,0,0,0,{"$error":"#N/A"},{"$error":"#N/A"},{"$f":"+CONCATENATE(VLOOKUP(F65965,Cadastro!$Q$3:$R$162,2,FALSE),\"/\",S65965,\"/\",H65965)","v":{"$error":"#N/A"}},{"$error":"#N/A"},"0/0","0/0/0",{"$error":"#N/A"},{"$error":"#N/A"},"0/0",0,0,0,0,0,0,0,0,0,0]
[null,0,0,0,null,0,0,0,null,0,0,{"$f":"IF(J65966=0,0,+CONCATENATE(VLOOKUP(B65966,Cadastro!$Q$3:$R$162,2,FALSE),\"/\",J65966,\"/\",D65966))","v":0},0,0,0,0,0,0,{"$error":"#N/A"},{"$error":"#N/A"},{"$f":"+CONCATENATE(VLOOKUP(F65966,Cadastro!$Q$3:$R$162,2,FALSE),\"/\",S65966,\"/\",H65966)","v":{"$error":"#N/A"}},{"$error":"#N/A"},"0/0","0/0/0",{"$error":"#N/A"},{"$error":"#N/A"},"0/0",0,0,0,0,0,0,0,0,0,0]
[null,0,0,0,null,0,0,0,null,0,0,{"$f":"IF(J65967=0,0,+CONCATENATE(VLOOKUP(B65967,Cadastro!$Q$3:$R$162,2,FALSE),\"/\",J65967,\"/\",D65967))","v":0},0,0,0,0,0,0,{"$error":"#N/A"},{"$error":"#N/A"},{"$f":"+CONCATENATE(VLOOKUP(F65967,Cadastro!$Q$3:$R$162,2,FALSE),\"/\",S65967,\"/\",H65967)","v":{"$error":"#N/A"}},{"$error":"#N/A"},"0/0","0/0/0",{"$error":"#N/A"},{"$error":"#N/A"},"0/0",0,0,0,0,0,0,0,0,0,0]
[null,0,0,0,null,0,0,0,null,0,0,{"$f":"IF(J65968=0,0,+CONCATENATE(VLOOKUP(B65968,Cadastro!$Q$3:$R$162,2,FALSE),\"/\",J65968,\"/\",D65968))","v":0},0,0,0,0,0,0,{"$error":"#N/A"},{"$error":"#N/A"},{"$f":"+CONCATENATE(VLOOKUP(F65968,Cadastro!$Q$3:$R$162,2,FALSE),\"/\",S65968,\"/\",H65968)","v":{"$error":"#N/A"}},{"$error":"#N/A"},"0/0","0/0/0",{"$error":"#N/A"},{"$error":"#N/A"},"0/0",0,0,0,0,0,0,0,0,0,0]
[null,0,0,0,null,0,0,0,null,0,0,{"$f":"IF(J65969=0,0,+CONCATENATE(VLOOKUP(B65969,Cadastro!$Q$3:$R$162,2,FALSE),\"/\",J65969,\"/\",D65969))","v":0},0,0,0,0,0,0,{"$error":"#N/A"},{"$error":"#N/A"},{"$f":"+CONCATENATE(VLOOKUP(F65969,Cadastro!$Q$3:$R$162,2,FALSE),\"/\",S65969,\"/\",H65969)","v":{"$error":"#N/A"}},{"$error":"#N/A"},"0/0","0/0/0",{"$error":"#N/A"},{"$error":"#N/A"},"0/0",0,0,0,0,0,0,0,0,0,0]
[null,0,0,0,null,0,0,0,null,0,0,{"$f":"IF(J65970=0,0,+CONCATENATE(VLOOKUP(B65970,Cadastro!$Q$3:$R$162,2,FALSE),\"/\",J65970,\"/\",D65970))","v":0},0,0,0,0,0,0,{"$error":"#N/A"},{"$error":"#N/A"},{"$f":"+CONCATENATE(VLOOKUP(F65970,Cadastro!$Q$3:$R$162,2,FALSE),\"/\",S65970,\"/\",H65970)","v":{"$error":"#N/A"}},{"$error":"#N/A"},"0/0","0/0/0",{"$error":"#N/A"},{"$error":"#N/A"},"0/0",0,0,0,0,0,0,0,0,0,0]
[null,0,0,0,null,0,0,0,null,0,0,{"$f":"IF(J65971=0,0,+CONCATENATE(VLOOKUP(B65971,Cadastro!$Q$3:$R$162,2,FALSE),\"/\",J65971,\"/\",D65971))","v":0},0,0,0,0,0,0,{"$error":"#N/A"},{"$error":"#N/A"},{"$f":"+CONCATENATE(VLOOKUP(F65971,Cadastro!$Q$3:$R$162,2,FALSE),\"/\",S65971,\"/\",H65971)","v":{"$error":"#N/A"}},{"$error":"#N/A"},"0/0","0/0/0",{"$error":"#N/A"},{"$error":"#N/A"},"0/0",0,0,0,0,0,0,0,0,0,0]
[null,0,0,0,null,0,0,0,null,0,0,{"$f":"IF(J65972=0,0,+CONCATENATE(VLOOKUP(B65972,Cadastro!$Q$3:$R$162,2,FALSE),\"/\",J65972,\"/\",D65972))","v":0},0,0,0,0,0,0,{"$error":"#N/A"},{"$error":"#N/A"},{"$f":"+CONCATENATE(VLOOKUP(F65972,Cadastro!$Q$3:$R$162,2,FALSE),\"/\",S65972,\"/\",H65972)","v":{"$error":"#N/A"}},{"$error":"#N/A"},"0/0","0/0/0",{"$error":"#N/A"},{"$error":"#N/A"},"0/0",0,0,0,0,0,0,0,0,0,0]
[null,0,0,0,null,0,0,0,null,0,0,{"$f":"IF(J65973=0,0,+CONCATENATE(VLOOKUP(B65973,Cadastro!$Q$3:$R$162,2,FALSE),\"/\",J65973,\"/\",D65973))","v":0},0,0,0,0,0,0,{"$error":"#N/A"},{"$error":"#N/A"},{"$f":"+CONCATENATE(VLOOKUP(F65973,Cadastro!$Q$3:$R$162,2,FALSE),\"/\",S65973,\"/\",H65973)","v":{"$error":"#N/A"}},{"$error":"#N/A"},"0/0","0/0/0",{"$error":"#N/A"},{"$error":"#N/A"},"0/0",0,0,0,0,0,0,0,0,0,0]
[null,0,0,0,null,0,0,0,null,0,0,{"$f":"IF(J65974=0,0,+CONCATENATE(VLOOKUP(B65974,Cadastro!$Q$3:$R$162,2,FALSE),\"/\",J65974,\"/\",D65974))","v":0},0,0,0,0,0,0,{"$error":"#N/A"},{"$error":"#N/A"},{"$f":"+CONCATENATE(VLOOKUP(F65974,Cadastro!$Q$3:$R$162,2,FALSE),\"/\",S65974,\"/\",H65974)","v":{"$error":"#N/A"}},{"$error":"#N/A"},"0/0","0/0/0",{"$error":"#N/A"},{"$error":"#N/A"},"0/0",0,0,0,0,0,0,0,0,0,0]
[null,0,0,0,null,0,0,0,null,0,0,{"$f":"IF(J65975=0,0,+CONCATENATE(VLOOKUP(B65975,Cadastro!$Q$3:$R$162,2,FALSE),\"/\",J65975,\"/\",D65975))","v":0},0,0,0,0,0,0,{"$error":"#N/A"},{"$error":"#N/A"},{"$f":"+CONCATENATE(VLOOKUP(F65975,Cadastro!$Q$3:$R$162,2,FALSE),\"/\",S65975,\"/\",H65975)","v":{"$error":"#N/A"}},{"$error":"#N/A"},"0/0","0/0/0",{"$error":"#N/A"},{"$error":"#N/A"},"0/0",0,0,0,0,0,0,0,0,0,0]
[null,0,0,0,null,0,0,0,null,0,0,{"$f":"IF(J65976=0,0,+CONCATENATE(VLOOKUP(B65976,Cadastro!$Q$3:$R$162,2,FALSE),\"/\",J65976,\"/\",D65976))","v":0},0,0,0,0,0,0,{"$error":"#N/A"},{"$error":"#N/A"},{"$f":"+CONCATENATE(VLOOKUP(F65976,Cadastro!$Q$3:$R$162,2,FALSE),\"/\",S65976,\"/\",H65976)","v":{"$error":"#N/A"}},{"$error":"#N/A"},"0/0","0/0/0",{"$error":"#N/A"},{"$error":"#N/A"},"0/0",0,0,0,0,0,0,0,0,0,0]
[null,0,0,0,null,0,0,0,null,0,{"$f":"IF(J65977=0,0,+CONCATENATE(VALUE(B65977),\"/\",J65977,\"/\",D65977))","v":0},{"$f":"IF(J65977=0,0,+CONCATENATE(VLOOKUP(B65977,Cadastro!$Q$3:$R$162,2,FALSE),\"/\",J65977,\"/\",D65977))","v":0},{"$f":"IF(J65977=0,0,+CONCATENATE(J65977,\"/\",D65977))","v":0},0,0,0,0,0,{"$error":"#N/A"},{"$f":"+CONCATENATE(VALUE(F65977),\"/\",S65977,\"/\",H65977)","v":{"$error":"#N/A"}},{"$f":"+CONCATENATE(VLOOKUP(F65977,Cadastro!$Q$3:$R$162,2,FALSE),\"/\",S65977,\"/\",H65977)","v":{"$error":"#N/A"}},{"$f":"+CONCATENATE(S65977,\"/\",H65977)","v":{"$error":"#N/A"}},"0/0","0/0/0",{"$error":"#N/A"},{"$error":"#N/A"},"0/0",0,0,0,0,0,0,0,0,0,0]
[null,0,0,0,null,0,0,0,null,0,0,{"$f":"IF(J65978=0,0,+CONCATENATE(VLOOKUP(B65978,Cadastro!$Q$3:$R$162,2,FALSE),\"/\",J65978,\"/\",D65978))","v":0},0,0,0,0,0,0,{"$error":"#N/A"},{"$error":"#N/A"},{"$f":"+CONCATENATE(VLOOKUP(F65978,Cadastro!$Q$3:$R$162,2,FALSE),\"/\",S65978,\"/\",H65978)","v":{"$error":"#N/A"}},{"$error":"#N/A"},"0/0","0/0/0",{"$error":"#N/A"},{"$error":"#N/A"},"0/0",0,0,0,0,0,0,0,0,0,0]
[null,0,0,0,null,0,0,0,null,0,0,{"$f":"IF(J65979=0,0,+CONCATENATE(VLOOKUP(B65979,Cadastro!$Q$3:$R$162,2,FALSE),\"/\",J65979,\"/\",D65979))","v":0},0,0,0,0,0,0,{"$error":"#N/A"},{"$error":"#N/A"},{"$f":"+CONCATENATE(VLOOKUP(F65979,Cadastro!$Q$3:$R$162,2,FALSE),\"/\",S65979,\"/\",H65979)","v":{"$error":"#N/A"}},{"$error":"#N/A"},"0/0","0/0/0",{"$error":"#N/A"},{"$error":"#N/A"},"0/0",0,0,0,0,0,0,0,0,0,0]
[null,0,0,0,null,0,0,0,null,0,0,{"$f":"IF(J65980=0,0,+CONCATENATE(VLOOKUP(B65980,Cadastro!$Q$3:$R$162,2,FALSE),\"/\",J65980,\"/\",D65980))","v":0},0,0,0,0,0,0,{"$error":"#N/A"},{"$error":"#N/A"},{"$f":"+CONCATENATE(VLOOKUP(F65980,Cadastro!$Q$3:$R$162,2,FALSE),\"/\",S65980,\"/\",H65980)","v":{"$error":"#N/A"}},{"$error":"#N/A"},"0/0","0/0/0",{"$error":"#N/A"},{"$error":"#N/A"},"0/0",0,0,0,0,0,0,0,0,0,0]
[null,0,0,0,null,0,0,0,null,0,0,{"$f":"IF(J65981=0,0,+CONCATENATE(VLOOKUP(B65981,Cadastro!$Q$3:$R$162,2,FALSE),\"/\",J65981,\"/\",D65981))","v":0},0,0,0,0,0,0,{"$error":"#N/A"},{"$error":"#N/A"},{"$f":"+CONCATENATE(VLOOKUP(F65981,Cadastro!$Q$3:$R$162,2,FALSE),\"/\",S65981,\"/\",H65981)","v":{"$error":"#N/A"}},{"$error":"#N/A"},"0/0","0/0/0",{"$error":"#N/A"},{"$error":"#N/A"},"0/0",0,0,0,0,0,0,0,0,0,0]
[null,0,0,0,null,0,0,0,null,0,0,{"$f":"IF(J65982=0,0,+CONCATENATE(VLOOKUP(B65982,Cadastro!$Q$3:$R$162,2,FALSE),\"/\",J65982,\"/\",D65982))","v":0},0,0,0,0,0,0,{"$error":"#N/A"},{"$error":"#N/A"},{"$f":"+CONCATENATE(VLOOKUP(F65982,Cadastro!$Q$3:$R$162,2,FALSE),\"/\",S65982,\"/\",H65982)","v":{"$error":"#N/A"}},{"$error":"#N/A"},"0/0","0/0/0",{"$error":"#N/A"},{"$error":"#N/A"},"0/0",0,0,0,0,0,0,0,0,0,0]
[null,0,0,0,null,0,0,0,null,0,0,{"$f":"IF(J65983=0,0,+CONCATENATE(VLOOKUP(B65983,Cadastro!$Q$3:$R$162,2,FALSE),\"/\",J65983,\"/\",D65983))","v":0},0,0,0,0,0,0,{"$error":"#N/A"},{"$error":"#N/A"},{"$f":"+CONCATENATE(VLOOKUP(F65983,Cadastro!$Q$3:$R$162,2,FALSE),\"/\",S65983,\"/\",H65983)","v":{"$error":"#N/A"}},{"$error":"#N/A"},"0/0","0/0/0",{"$error":"#N/A"},{"$error":"#N/A"},"0/0",0,0,0,0,0,0,0,0,0,0]
[null,0,0,0,null,0,0,0,null,0,0,{"$f":"IF(J65984=0,0,+CONCATENATE(VLOOKUP(B65984,Cadastro!$Q$3:$R$162,2,FALSE),\"/\",J65984,\"/\",D65984))","v":0},0,0,0,0,0,0,{"$error":"#N/A"},{"$error":"#N/A"},{"$f":"+CONCATENATE(VLOOKUP(F65984,Cadastro!$Q$3:$R$162,2,FALSE),\"/\",S65984,\"/\",H65984)","v":{"$error":"#N/A"}},{"$error":"#N/A"},"0/0","0/0/0",{"$error":"#N/A"},{"$error":"#N/A"},"0/0",0,0,0,0,0,0,0,0,0,0]
[null,0,0,0,null,0,0,0,null,0,0,{"$f":"IF(J65985=0,0,+CONCATENATE(VLOOKUP(B65985,Cadastro!$Q$3:$R$162,2,FALSE),\"/\",J65985,\"/\",D65985))","v":0},0,0,0,0,0,0,{"$error":"#N/A"},{"$error":"#N/A"},{"$f":"+CONCATENATE(VLOOKUP(F65985,Cadastro!$Q$3:$R$162,2,FALSE),\"/\",S65985,\"/\",H65985)","v":{"$error":"#N/A"}},{"$error":"#N/A"},"0/0","0/0/0",{"$error":"#N/A"},{"$error":"#N/A"},"0/0",0,0,0,0,0,0,0,0,0,0]
[null,0,0,0,null,0,0,0,null,0,0,{"$f":"IF(J65986=0,0,+CONCATENATE(VLOOKUP(B65986,Cadastro!$Q$3:$R$162,2,FALSE),\"/\",J65986,\"/\",D65986))","v":0},0,0,0,0,0,0,{"$error":"#N/A"},{"$error":"#N/A"},{"$f":"+CONCATENATE(VLOOKUP(F65986,Cadastro!$Q$3:$R$162,2,FALSE),\"/\",S65986,\"/\",H65986)","v":{"$error":"#N/A"}},{"$error":"#N/A"},"0/0","0/0/0",{"$error":"#N/A"},{"$error":"#N/A"},"0/0",0,0,0,0,0,0,0,0,0,0]
[null,0,0,0,null,0,0,0,null,0,0,{"$f":"IF(J65987=0,0,+CONCATENATE(VLOOKUP(B65987,Cadastro!$Q$3:$R$162,2,FALSE),\"/\",J65987,\"/\",D65987))","v":0},0,0,0,0,0,0,{"$error":"#N/A"},{"$error":"#N/A"},{"$f":"+CONCATENATE(VLOOKUP(F65987,Cadastro!$Q$3:$R$162,2,FALSE),\"/\",S65987,\"/\",H65987)","v":{"$error":"#N/A"}},{"$error":"#N/A"},"0/0","0/0/0",{"$error":"#N/A"},{"$error":"#N/A"},"0/0",0,0,0,0,0,0,0,0,0,0]
[null,0,0,0,null,0,0,0,null,0,0,{"$f":"IF(J65988=0,0,+CONCATENATE(VLOOKUP(B65988,Cadastro!$Q$3:$R$162,2,FALSE),\"/\",J65988,\"/\",D65988))","v":0},0,0,0,0,0,0,{"$error":"#N/A"},{"$error":"#N/A"},{"$f":"+CONCATENATE(VLOOKUP(F65988,Cadastro!$Q$3:$R$162,2,FALSE),\"/\",S65988,\"/\",H65988)","v":{"$error":"#N/A"}},{"$error":"#N/A"},"0/0","0/0/0",{"$error":"#N/A"},{"$error":"#N/A"},"0/0",0,0,0,0,0,0,0,0,0,0]
[null,0,0,0,null,0,0,0,null,{"$f":"IF(C65989=0,0,+VLOOKUP(C65989,$AQ$4:$AR$130,2,FALSE))","v":0},0,{"$f":"IF(J65989=0,0,+CONCATENATE(VLOOKUP(B65989,Cadastro!$Q$3:$R$162,2,FALSE),\"/\",J65989,\"/\",D65989))","v":0},0,0,0,0,0,0,{"$f":"+VLOOKUP(G65989,$AQ$4:$AR$130,2,FALSE)","v":{"$error":"#N/A"}},{"$error":"#N/A"},{"$f":"+CONCATENATE(VLOOKUP(F65989,Cadastro!$Q$3:$R$162,2,FALSE),\"/\",S65989,\"/\",H65989)","v":{"$error":"#N/A"}},{"$error":"#N/A"},"0/0","0/0/0",{"$error":"#N/A"},{"$error":"#N/A"},"0/0",0,0,0,0,0,0,0,0,0,0]
[null,0,0,0,null,0,0,0,null,0,0,{"$f":"IF(J65990=0,0,+CONCATENATE(VLOOKUP(B65990,Cadastro!$Q$3:$R$162,2,FALSE),\"/\",J65990,\"/\",D65990))","v":0},0,0,0,0,0,0,{"$error":"#N/A"},{"$error":"#N/A"},{"$f":"+CONCATENATE(VLOOKUP(F65990,Cadastro!$Q$3:$R$162,2,FALSE),\"/\",S65990,\"/\",H65990)","v":{"$error":"#N/A"}},{"$error":"#N/A"},"0/0","0/0/0",{"$error":"#N/A"},{"$error":"#N/A"},"0/0",0,0,0,0,0,0,0,0,0,0]
[null,0,0,0,null,0,0,0,null,0,0,{"$f":"IF(J65991=0,0,+CONCATENATE(VLOOKUP(B65991,Cadastro!$Q$3:$R$162,2,FALSE),\"/\",J65991,\"/\",D65991))","v":0},0,0,0,0,0,0,{"$error":"#N/A"},{"$error":"#N/A"},{"$f":"+CONCATENATE(VLOOKUP(F65991,Cadastro!$Q$3:$R$162,2,FALSE),\"/\",S65991,\"/\",H65991)","v":{"$error":"#N/A"}},{"$error":"#N/A"},"0/0","0/0/0",{"$error":"#N/A"},{"$error":"#N/A"},"0/0",0,0,0,0,0,0,0,0,0,0]
[null,0,0,0,null,0,0,0,null,0,0,{"$f":"IF(J65992=0,0,+CONCATENATE(VLOOKUP(B65992,Cadastro!$Q$3:$R$162,2,FALSE),\"/\",J65992,\"/\",D65992))","v":0},0,0,0,0,0,0,{"$error":"#N/A"},{"$error":"#N/A"},{"$f":"+CONCATENATE(VLOOKUP(F65992,Cadastro!$Q$3:$R$162,2,FALSE),\"/\",S65992,\"/\",H65992)","v":{"$error":"#N/A"}},{"$error":"#N/A"},"0/0","0/0/0",{"$error":"#N/A"},{"$error":"#N/A"},"0/0",0,0,0,0,0,0,0,0,0,0]
[null,0,0,0,null,0,0,0,null,0,0,{"$f":"IF(J65993=0,0,+CONCATENATE(VLOOKUP(B65993,Cadastro!$Q$3:$R$162,2,FALSE),\"/\",J65993,\"/\",D65993))","v":0},0,0,0,0,0,0,{"$error":"#N/A"},{"$error":"#N/A"},{"$f":"+CONCATENATE(VLOOKUP(F65993,Cadastro!$Q$3:$R$162,2,FALSE),\"/\",S65993,\"/\",H65993)","v":{"$error":"#N/A"}},{"$error":"#N/A"},"0/0","0/0/0",{"$error":"#N/A"},{"$error":"#N/A"},"0/0",0,0,0,0,0,0,0,0,0,0]
[null,0,0,0,null,0,0,0,null,0,0,{"$f":"IF(J65994=0,0,+CONCATENATE(VLOOKUP(B65994,Cadastro!$Q$3:$R$162,2,FALSE),\"/\",J65994,\"/\",D65994))","v":0},0,0,0,0,0,0,{"$error":"#N/A"},{"$error":"#N/A"},{"$f":"+CONCATENATE(VLOOKUP(F65994,Cadastro!$Q$3:$R$162,2,FALSE),\"/\",S65994,\"/\",H65994)","v":{"$error":"#N/A"}},{"$error":"#N/A"},"0/0","0/0/0",{"$error":"#N/A"},{"$error":"#N/A"},"0/0",0,0,0,0,0,0,0,0,0,0]
[null,0,0,0,null,0,0,0,null,0,0,{"$f":"IF(J65995=0,0,+CONCATENATE(VLOOKUP(B65995,Cadastro!$Q$3:$R$162,2,FALSE),\"/\",J65995,\"/\",D65995))","v":0},0,0,0,0,0,0,{"$error":"#N/A"},{"$error":"#N/A"},{"$f":"+CONCATENATE(VLOOKUP(F65995,Cadastro!$Q$3:$R$162,2,FALSE),\"/\",S65995,\"/\",H65995)","v":{"$error":"#N/A"}},{"$error":"#N/A"},"0/0","0/0/0",{"$error":"#N/A"},{"$error":"#N/A"},"0/0",0,0,0,0,0,0,0,0,0,0]
[null,0,0,0,null,0,0,0,null,0,0,{"$f":"IF(J65996=0,0,+CONCATENATE(VLOOKUP(B65996,Cadastro!$Q$3:$R$162,2,FALSE),\"/\",J65996,\"/\",D65996))","v":0},0,0,0,0,0,0,{"$error":"#N/A"},{"$error":"#N/A"},{"$f":"+CONCATENATE(VLOOKUP(F65996,Cadastro!$Q$3:$R$162,2,FALSE),\"/\",S65996,\"/\",H65996)","v":{"$error":"#N/A"}},{"$error":"#N/A"},"0/0","0/0/0",{"$error":"#N/A"},{"$error":"#N/A"},"0/0",0,0,0,0,0,0,0,0,0,0]
[null,0,0,0,null,0,0,0,null,0,0,{"$f":"IF(J65997=0,0,+CONCATENATE(VLOOKUP(B65997,Cadastro!$Q$3:$R$162,2,FALSE),\"/\",J65997,\"/\",D65997))","v":0},0,0,0,0,0,0,{"$error":"#N/A"},{"$error":"#N/A"},{"$f":"+CONCATENATE(VLOOKUP(F65997,Cadastro!$Q$3:$R$162,2,FALSE),\"/\",S65997,\"/\",H65997)","v":{"$error":"#N/A"}},{"$error":"#N/A"},"0/0","0/0/0",{"$error":"#N/A"},{"$error":"#N/A"},"0/0",0,0,0,0,0,0,0,0,0,0]
[null,0,0,0,null,0,0,0,null,0,0,{"$f":"IF(J65998=0,0,+CONCATENATE(VLOOKUP(B65998,Cadastro!$Q$3:$R$162,2,FALSE),\"/\",J65998,\"/\",D65998))","v":0},0,0,0,0,0,0,{"$error":"#N/A"},{"$error":"#N/A"},{"$f":"+CONCATENATE(VLOOKUP(F65998,Cadastro!$Q$3:$R$162,2,FALSE),\"/\",S65998,\"/\",H65998)","v":{"$error":"#N/A"}},{"$error":"#N/A"},"0/0","0/0/0",{"$error":"#N/A"},{"$error":"#N/A"},"0/0",0,0,0,0,0,0,0,0,0,0]
[null,0,0,0,null,0,0,0,null,0,0,{"$f":"IF(J65999=0,0,+CONCATENATE(VLOOKUP(B65999,Cadastro!$Q$3:$R$162,2,FALSE),\"/\",J65999,\"/\",D65999))","v":0},0,0,0,0,0,0,{"$error":"#N/A"},{"$error":"#N/A"},{"$f":"+CONCATENATE(VLOOKUP(F65999,Cadastro!$Q$3:$R$162,2,FALSE),\"/\",S65999,\"/\",H65999)","v":{"$error":"#N/A"}},{"$error":"#N/A"},"0/0","0/0/0",{"$error":"#N/A"},{"$error":"#N/A"},"0/0",0,0,0,0,0,0,0,0,0,0]
[null,0,0,0,null,0,0,0,null,0,0,{"$f":"IF(J66000=0,0,+CONCATENATE(VLOOKUP(B66000,Cadastro!$Q$3:$R$162,2,FALSE),\"/\",J66000,\"/\",D66000))","v":0},0,0,0,0,0,0,{"$error":"#N/A"},{"$error":"#N/A"},{"$f":"+CONCATENATE(VLOOKUP(F66000,Cadastro!$Q$3:$R$162,2,FALSE),\"/\",S66000,\"/\",H66000)","v":{"$error":"#N/A"}},{"$error":"#N/A"},"0/0","0/0/0",{"$error":"#N/A"},{"$error":"#N/A"},"0/0",0,0,0,0,0,0,0,0,0,0]
[null,null,null,null,null,null,null,null,null,null,null,null,null,null,null,null,null,null,null,null,null,null,null,null,null,null,null,202251658035.4086,181230155656.18973,193732130513.0184,173356389051.43604,83564340058.389755,81133662690.560989,40697269004.137817,38051455925.055069,22756819448.128811,21424836669.32925]
[null,null,null,null,null,null,null,null,null,null,null,null,null,null,null,null,null,null,null,null,null,null,null,null,"conferência",null,null,0,0,0,0,0,0,0,0,0,0]

{"sheet":"Cadastro","index":5,"n_rows":65002,"n_cols":256,"rows_kept":65002,"cut":false,"hidden":true,"merged":[]}
[false,null,null,null,null,"",null,"Agrup.",null,null,"Ramos","Ramos","Agrup.",null,null,null,null,null,null,"Agrup.",null,null,"Ramos","Ramos",null,null,null,null,null,null,null,null,null,null,null,null,null,null,null,null,null,null,null,"Agrup.",null,null,"Ramos","Ramos"]
[null,null,"TODOS OS RAMOS",1,"Total",{"$f":"C2","v":"TODOS OS RAMOS"},null,{"$f":"IF($A$1=TRUE,T2,AR2)","v":"Aero"},{"$f":"IF($A$1=TRUE,U2,AS2)","v":1},"Aero1",{"$f":"IF(OR($A$1=FALSE,$C$22=1),AU2,W2)","v":"0435"},{"$f":"IF(OR($A$1=FALSE,$C$22=1),AV2,X2)","v":"0435 - Aeronáuticos - Runoff"},{"$f":"H2","v":"Aero"},null,1,"TODAS AS SEGURADORAS",null,null,null,{"$f":"IF(SUM('Novos Agrupamentos'!F131:T131)=0,\"\",C23)","v":""},{"$f":"IF(T2=\"\",\"\",1)","v":""},{"$f":"IF(T2=\"\",\"\",CONCATENATE(T2,U2))","v":""},{"$f":"IF(X2=\"\",\"\",LEFT(X2,4))","v":""},{"$f":"IFERROR(IF(V2=\"\",\"\",VLOOKUP(V2,'Novos Agrupamentos'!$D$4:$E$130,2,FALSE)),\"\")","v":""},null,null,null,{"$f":"Y2","v":0},null,null,1,"Total",null,null,null,"TODOS OS RAMOS",1,"Total",null,"TODOS OS RAMOS",1,"Total",null,"Aero",1,{"$f":"+CONCATENATE(AR2,AS2)","v":"Aero1"},"0435","0435 - Aeronáuticos - Runoff"]
[null,null,{"$f":"IF($A$1=TRUE,AN3,AJ3)","v":"Aeronáuticos"},2,{"$f":"IF($A$1=TRUE,AP3,AL3)","v":"Aero"},{"$f":"C3","v":"Aeronáuticos"},null,{"$f":"IF($A$1=TRUE,T3,AR3)","v":"Aero"},2,"Aero2","0437","0437 - R.C. Hangar - Runoff",{"$f":"H3","v":"Aero"},"06513",{"$f":"O2+1","v":2},"   ACE SEG.",{"$f":"IF(N3=\"\",R3,N3)","v":"06513"},{"$f":"IF(LEFT(P2,1)<>\" \",R2+1,R2)","v":1},null,{"$f":"IF(U3=\"\",\"\",T2)","v":""},{"$f":"IFERROR(IF(U2='Novos Agrupamentos'!$C$1,\"\",Cadastro!U2+1),\"\")","v":""},{"$f":"IF(T3=\"\",\"\",CONCATENATE(T3,U3))","v":""},{"$f":"IF(X3=\"\",\"\",LEFT(X3,4))","v":""},{"$f":"IFERROR(IF(V3=\"\",\"\",VLOOKUP(V3,'Novos Agrupamentos'!$D$4:$E$130,2,FALSE)),\"\")","v":""},null,1,{"$f":"'Novos Agrupamentos'!F$131","v":0},{"$f":"IF(AA3<>0,LARGE(AB2:AB2,1)+1,0)","v":0},"AGRUP. 01",{"$f":"IF(ISNA(VLOOKUP(1,$AB$3:$AB$17,1,FALSE)),\"\",VLOOKUP(1,$AB$3:$AB$17,1,FALSE))","v":""},2,{"$f":"IF(ISNA(VLOOKUP(AD3,$AB$3:$AC$17,2,FALSE)),\"\",VLOOKUP(AD3,$AB$3:$AC$17,2,FALSE))","v":""},{"$f":"IF(ISERR(HLOOKUP(VALUE(RIGHT(AF3,2)),'Novos Agrupamentos'!$F$3:$U$131,121,0)),\"\",HLOOKUP(VALUE(RIGHT(AF3,2)),'Novos Agrupamentos'!$F$3:$U$131,121,0))","v":""},{"$f":"IF(AF3=\"\",\"\",PROPER(IF(VLOOKUP(AF3,'Novos Agrupamentos'!$W$4:$X$18,2,FALSE)=\"\",AF3,VLOOKUP(AF3,'Novos Agrupamentos'!$W$4:$X$18,2,FALSE))))","v":""},null,"Aeronáuticos",2,"Aero",null,{"$f":"IF(AO3>$AE$17,\"\",AH3)","v":""},2,{"$f":"IF(AO3>$AE$17,\"\",AF3)","v":""},null,"Aero",{"$f":"IF(AR3=\"\",\"\",IF(AR3=AR2,AS2+1,1))","v":2},"Aero2","0437","0437 - R.C. Hangar - Runoff",null,null,null,{"$f":"\"PEL \"&RelatSuporte!D7","v":"PEL 2015"}]
[null,null,{"$f":"IF($A$1=TRUE,AN4,AJ4)","v":"Automóvel"},3,{"$f":"IF($A$1=TRUE,AP4,AL4)","v":"Aut"},{"$f":"C4","v":"Automóvel"},null,"Aero",3,"Aero3","1528","1528 - R.C. Facultativa para Aeronaves – RCF","Aero","01775",3,"   ACE SEG. SOLUÇÕES CORPORATIVAS",{"$f":"IF(N4=\"\",R4,N4)","v":"01775"},1,null,{"$f":"IF(U4=\"\",\"\",T3)","v":""},{"$f":"IFERROR(IF(U3='Novos Agrupamentos'!$C$1,\"\",Cadastro!U3+1),\"\")","v":""},{"$f":"IF(T4=\"\",\"\",CONCATENATE(T4,U4))","v":""},{"$f":"IF(X4=\"\",\"\",LEFT(X4,4))","v":""},{"$f":"IFERROR(IF(V4=\"\",\"\",VLOOKUP(V4,'Novos Agrupamentos'!$D$4:$E$130,2,FALSE)),\"\")","v":""},null,2,{"$f":"'Novos Agrupamentos'!G$131","v":0},{"$f":"IF(AA4<>0,LARGE(AB$3:AB3,1)+1,0)","v":0},"AGRUP. 02",{"$f":"IF(ISNA(VLOOKUP(2,$AB$3:$AB$17,1,FALSE)),\"\",VLOOKUP(2,$AB$3:$AB$17,1,FALSE))","v":""},3,"",{"$f":"IF(ISERR(HLOOKUP(VALUE(RIGHT(AF4,2)),'Novos Agrupamentos'!$F$3:$U$131,121,0)),\"\",HLOOKUP(VALUE(RIGHT(AF4,2)),'Novos Agrupamentos'!$F$3:$U$131,121,0))","v":""},{"$f":"IF(AF4=\"\",\"\",PROPER(IF(VLOOKUP(AF4,'Novos Agrupamentos'!$W$4:$X$18,2,FALSE)=\"\",AF4,VLOOKUP(AF4,'Novos Agrupamentos'!$W$4:$X$18,2,FALSE))))","v":""},null,"Automóvel",3,"Aut",null,{"$f":"IF(AO4>$AE$17,\"\",AH4)","v":""},3,{"$f":"IF(AO4>$AE$17,\"\",AF4)","v":""},null,"Aero",3,"Aero3","1528","1528 - R.C. Facultativa para Aeronaves – RCF",null,null,null,{"$f":"\"PEL \"&RelatSuporte!C7","v":"PEL 2016"}]
[null,null,"DPVAT",4,"Dpvat","DPVAT",null,"Aero",4,"Aero4","1535","1535 - Aeronáuticos (Casco)","Aero","05011",4,"   CHUBB","05011",1,null,"",{"$f":"IFERROR(IF(U4='Novos Agrupamentos'!$C$1,\"\",Cadastro!U4+1),\"\")","v":""},"","",{"$f":"IFERROR(IF(V5=\"\",\"\",VLOOKUP(V5,'Novos Agrupamentos'!$D$4:$E$130,2,FALSE)),\"\")","v":""},null,3,{"$f":"'Novos Agrupamentos'!H$131","v":0},{"$f":"IF(AA5<>0,LARGE(AB$3:AB4,1)+1,0)","v":0},"AGRUP. 03",{"$f":"IF(ISNA(VLOOKUP(3,$AB$3:$AB$17,1,FALSE)),\"\",VLOOKUP(3,$AB$3:$AB$17,1,FALSE))","v":""},4,"",{"$f":"IF(ISERR(HLOOKUP(VALUE(RIGHT(AF5,2)),'Novos Agrupamentos'!$F$3:$U$131,121,0)),\"\",HLOOKUP(VALUE(RIGHT(AF5,2)),'Novos Agrupamentos'!$F$3:$U$131,121,0))","v":""},{"$f":"IF(AF5=\"\",\"\",PROPER(IF(VLOOKUP(AF5,'Novos Agrupamentos'!$W$4:$X$18,2,FALSE)=\"\",AF5,VLOOKUP(AF5,'Novos Agrupamentos'!$W$4:$X$18,2,FALSE))))","v":""},null,"DPVAT",4,"Dpvat",null,"",4,"",null,"Aero",4,"Aero4","1535","1535 - Aeronáuticos (Casco)"]
[null,null,"Habitacional",5,{"$f":"IF($A$1=TRUE,AP6,AL6)","v":"Hab"},{"$f":"C6","v":"Habitacional"},null,"Aero",5,"Aero5","1537","1537 - R.C. Hangar","Aero",null,5,"ACE+CHUBB",1,1,null,"",{"$f":"IFERROR(IF(U5='Novos Agrupamentos'!$C$1,\"\",Cadastro!U5+1),\"\")","v":""},"","",{"$f":"IFERROR(IF(V6=\"\",\"\",VLOOKUP(V6,'Novos Agrupamentos'!$D$4:$E$130,2,FALSE)),\"\")","v":""},null,4,{"$f":"'Novos Agrupamentos'!I$131","v":0},{"$f":"IF(AA6<>0,LARGE(AB$3:AB5,1)+1,0)","v":0},"AGRUP. 04",{"$f":"IF(ISNA(VLOOKUP(4,$AB$3:$AB$17,1,FALSE)),\"\",VLOOKUP(4,$AB$3:$AB$17,1,FALSE))","v":""},5,"",{"$f":"IF(ISERR(HLOOKUP(VALUE(RIGHT(AF6,2)),'Novos Agrupamentos'!$F$3:$U$131,121,0)),\"\",HLOOKUP(VALUE(RIGHT(AF6,2)),'Novos Agrupamentos'!$F$3:$U$131,121,0))","v":""},{"$f":"IF(AF6=\"\",\"\",PROPER(IF(VLOOKUP(AF6,'Novos Agrupamentos'!$W$4:$X$18,2,FALSE)=\"\",AF6,VLOOKUP(AF6,'Novos Agrupamentos'!$W$4:$X$18,2,FALSE))))","v":""},null,"Habitacional",5,"Hab",null,"",5,"",null,"Aero",5,"Aero5","1537","1537 - R.C. Hangar",null,null,null,{"$f":"\"SR/PG \"&RelatSuporte!D7","v":"SR/PG 2015"}]
[null,null,"Marítimos",6,"Mar","Marítimos",null,"Aero",6,"Aero6","1574","1574 - Satélites","Aero","08737",6,"AIG","08737",2,null,"",{"$f":"IFERROR(IF(U6='Novos Agrupamentos'!$C$1,\"\",Cadastro!U6+1),\"\")","v":""},"","",{"$f":"IFERROR(IF(V7=\"\",\"\",VLOOKUP(V7,'Novos Agrupamentos'!$D$4:$E$130,2,FALSE)),\"\")","v":""},null,5,{"$f":"'Novos Agrupamentos'!J$131","v":0},{"$f":"IF(AA7<>0,LARGE(AB$3:AB6,1)+1,0)","v":0},"AGRUP. 05",{"$f":"IF(ISNA(VLOOKUP(5,$AB$3:$AB$17,1,FALSE)),\"\",VLOOKUP(5,$AB$3:$AB$17,1,FALSE))","v":""},6,"",{"$f":"IF(ISERR(HLOOKUP(VALUE(RIGHT(AF7,2)),'Novos Agrupamentos'!$F$3:$U$131,121,0)),\"\",HLOOKUP(VALUE(RIGHT(AF7,2)),'Novos Agrupamentos'!$F$3:$U$131,121,0))","v":""},{"$f":"IF(AF7=\"\",\"\",PROPER(IF(VLOOKUP(AF7,'Novos Agrupamentos'!$W$4:$X$18,2,FALSE)=\"\",AF7,VLOOKUP(AF7,'Novos Agrupamentos'!$W$4:$X$18,2,FALSE))))","v":""},null,"Marítimos",6,"Mar",null,"",6,"",null,"Aero",6,"Aero6","1574","1574 - Satélites",null,null,null,{"$f":"\"SR/PG \"&RelatSuporte!C7","v":"SR/PG 2016"}]
[null,null,"Microsseguros Gerais",7,"Mger","Microsseguros Gerais",null,"Aero",7,"Aero7","1597","1597 - Respons. do Explorador ou Transportador Aéreo –Reta","Aero","06467",7,"   ALFA SEG.","06467",{"$f":"IF(LEFT(P7,1)<>\" \",R7+1,R7)","v":3},null,"",{"$f":"IFERROR(IF(U7='Novos Agrupamentos'!$C$1,\"\",Cadastro!U7+1),\"\")","v":""},"","",{"$f":"IFERROR(IF(V8=\"\",\"\",VLOOKUP(V8,'Novos Agrupamentos'!$D$4:$E$130,2,FALSE)),\"\")","v":""},null,6,{"$f":"'Novos Agrupamentos'!K$131","v":0},{"$f":"IF(AA8<>0,LARGE(AB$3:AB7,1)+1,0)","v":0},"AGRUP. 06",{"$f":"IF(ISNA(VLOOKUP(6,$AB$3:$AB$17,1,FALSE)),\"\",VLOOKUP(6,$AB$3:$AB$17,1,FALSE))","v":""},7,"",{"$f":"IF(ISERR(HLOOKUP(VALUE(RIGHT(AF8,2)),'Novos Agrupamentos'!$F$3:$U$131,121,0)),\"\",HLOOKUP(VALUE(RIGHT(AF8,2)),'Novos Agrupamentos'!$F$3:$U$131,121,0))","v":""},{"$f":"IF(AF8=\"\",\"\",PROPER(IF(VLOOKUP(AF8,'Novos Agrupamentos'!$W$4:$X$18,2,FALSE)=\"\",AF8,VLOOKUP(AF8,'Novos Agrupamentos'!$W$4:$X$18,2,FALSE))))","v":""},null,"Microsseguros Gerais",7,"Mger",null,"",7,"",null,"Aero",7,"Aero7","1597","1597 - Respons. do Explorador ou Transportador Aéreo –Reta"]
[null,null,"Microsseguros Pessoas",8,"Mpes","Microsseguros Pessoas",null,"Aut",1,"Aut1","0520","0520 - Acidentes Pessoais de Passageiros – APP","Aut","02895",8,"   ALFA PREV. E VIDA","02895",3,null,"",{"$f":"IFERROR(IF(U8='Novos Agrupamentos'!$C$1,\"\",Cadastro!U8+1),\"\")","v":""},"","",{"$f":"IFERROR(IF(V9=\"\",\"\",VLOOKUP(V9,'Novos Agrupamentos'!$D$4:$E$130,2,FALSE)),\"\")","v":""},null,7,{"$f":"'Novos Agrupamentos'!L$131","v":0},{"$f":"IF(AA9<>0,LARGE(AB$3:AB8,1)+1,0)","v":0},"AGRUP. 07",{"$f":"IF(ISNA(VLOOKUP(7,$AB$3:$AB$17,1,FALSE)),\"\",VLOOKUP(7,$AB$3:$AB$17,1,FALSE))","v":""},8,"",{"$f":"IF(ISERR(HLOOKUP(VALUE(RIGHT(AF9,2)),'Novos Agrupamentos'!$F$3:$U$131,121,0)),\"\",HLOOKUP(VALUE(RIGHT(AF9,2)),'Novos Agrupamentos'!$F$3:$U$131,121,0))","v":""},{"$f":"IF(AF9=\"\",\"\",PROPER(IF(VLOOKUP(AF9,'Novos Agrupamentos'!$W$4:$X$18,2,FALSE)=\"\",AF9,VLOOKUP(AF9,'Novos Agrupamentos'!$W$4:$X$18,2,FALSE))))","v":""},null,"Microsseguros Pessoas",8,"Mpes",null,"",8,"",null,"Aut",1,"Aut1","0520","0520 - Acidentes Pessoais de Passageiros – APP"]
[null,null,"Patrimonial",9,"Pat","Patrimonial",null,"Aut",2,"Aut2","0524","0524 - Garantia Estendida – Auto","Aut",null,9,"GRUPO ALFA",3,3,null,"",{"$f":"IFERROR(IF(U9='Novos Agrupamentos'!$C$1,\"\",Cadastro!U9+1),\"\")","v":""},"","",{"$f":"IFERROR(IF(V10=\"\",\"\",VLOOKUP(V10,'Novos Agrupamentos'!$D$4:$E$130,2,FALSE)),\"\")","v":""},null,8,{"$f":"'Novos Agrupamentos'!M$131","v":0},{"$f":"IF(AA10<>0,LARGE(AB$3:AB9,1)+1,0)","v":0},"AGRUP. 08",{"$f":"IF(ISNA(VLOOKUP(8,$AB$3:$AB$17,1,FALSE)),\"\",VLOOKUP(8,$AB$3:$AB$17,1,FALSE))","v":""},9,"",{"$f":"IF(ISERR(HLOOKUP(VALUE(RIGHT(AF10,2)),'Novos Agrupamentos'!$F$3:$U$131,121,0)),\"\",HLOOKUP(VALUE(RIGHT(AF10,2)),'Novos Agrupamentos'!$F$3:$U$131,121,0))","v":""},{"$f":"IF(AF10=\"\",\"\",PROPER(IF(VLOOKUP(AF10,'Novos Agrupamentos'!$W$4:$X$18,2,FALSE)=\"\",AF10,VLOOKUP(AF10,'Novos Agrupamentos'!$W$4:$X$18,2,FALSE))))","v":""},null,"Patrimonial",9,"Pat",null,"",9,"",null,"Aut",2,"Aut2","0524","0524 - Garantia Estendida – Auto"]
[null,null,"Pessoas",10,"Pes","Pessoas",null,"Aut",3,"Aut3","0525","0525 - Carta Verde","Aut","05045",10,"ALIANÇA DA BAHIA SEG.","05045",4,null,"",{"$f":"IFERROR(IF(U10='Novos Agrupamentos'!$C$1,\"\",Cadastro!U10+1),\"\")","v":""},"","",{"$f":"IFERROR(IF(V11=\"\",\"\",VLOOKUP(V11,'Novos Agrupamentos'!$D$4:$E$130,2,FALSE)),\"\")","v":""},null,9,{"$f":"'Novos Agrupamentos'!N$131","v":0},{"$f":"IF(AA11<>0,LARGE(AB$3:AB10,1)+1,0)","v":0},"AGRUP. 09",{"$f":"IF(ISNA(VLOOKUP(9,$AB$3:$AB$17,1,FALSE)),\"\",VLOOKUP(9,$AB$3:$AB$17,1,FALSE))","v":""},10,"",{"$f":"IF(ISERR(HLOOKUP(VALUE(RIGHT(AF11,2)),'Novos Agrupamentos'!$F$3:$U$131,121,0)),\"\",HLOOKUP(VALUE(RIGHT(AF11,2)),'Novos Agrupamentos'!$F$3:$U$131,121,0))","v":""},{"$f":"IF(AF11=\"\",\"\",PROPER(IF(VLOOKUP(AF11,'Novos Agrupamentos'!$W$4:$X$18,2,FALSE)=\"\",AF11,VLOOKUP(AF11,'Novos Agrupamentos'!$W$4:$X$18,2,FALSE))))","v":""},null,"Pessoas",10,"Pes",null,"",10,"",null,"Aut",3,"Aut3","0525","0525 - Carta Verde"]
[null,null,"Responsabilidade",11,"Res","Responsabilidade",null,"Aut",4,"Aut4","0526","0526 - Seguro Auto Popular","Aut","05177",11,"ALLIANZ","05177",5,null,"",{"$f":"IFERROR(IF(U11='Novos Agrupamentos'!$C$1,\"\",Cadastro!U11+1),\"\")","v":""},"","",{"$f":"IFERROR(IF(V12=\"\",\"\",VLOOKUP(V12,'Novos Agrupamentos'!$D$4:$E$130,2,FALSE)),\"\")","v":""},null,10,{"$f":"'Novos Agrupamentos'!O$131","v":0},{"$f":"IF(AA12<>0,LARGE(AB$3:AB11,1)+1,0)","v":0},"AGRUP. 10",{"$f":"IF(ISNA(VLOOKUP(10,$AB$3:$AB$17,1,FALSE)),\"\",VLOOKUP(10,$AB$3:$AB$17,1,FALSE))","v":""},11,"",{"$f":"IF(ISERR(HLOOKUP(VALUE(RIGHT(AF12,2)),'Novos Agrupamentos'!$F$3:$U$131,121,0)),\"\",HLOOKUP(VALUE(RIGHT(AF12,2)),'Novos Agrupamentos'!$F$3:$U$131,121,0))","v":""},{"$f":"IF(AF12=\"\",\"\",PROPER(IF(VLOOKUP(AF12,'Novos Agrupamentos'!$W$4:$X$18,2,FALSE)=\"\",AF12,VLOOKUP(AF12,'Novos Agrupamentos'!$W$4:$X$18,2,FALSE))))","v":""},null,"Responsabilidade",11,"Res",null,"",11,"",null,"Aut",4,"Aut4","0526","0526 - Seguro Auto Popular"]
[null,null,"Riscos Especiais",12,"RE","Riscos Especiais",null,"Aut",5,"Aut5","0531","0531 - Automóvel – Casco","Aut","02275",12,"ALM MICROSSEGURADORA",{"$f":"IF(N13=\"\",R13,N13)","v":"02275"},{"$f":"IF(LEFT(P12,1)<>\" \",R12+1,R12)","v":6},null,"",{"$f":"IFERROR(IF(U12='Novos Agrupamentos'!$C$1,\"\",Cadastro!U12+1),\"\")","v":""},"","",{"$f":"IFERROR(IF(V13=\"\",\"\",VLOOKUP(V13,'Novos Agrupamentos'!$D$4:$E$130,2,FALSE)),\"\")","v":""},null,11,{"$f":"'Novos Agrupamentos'!P$131","v":0},{"$f":"IF(AA13<>0,LARGE(AB$3:AB12,1)+1,0)","v":0},"AGRUP. 11",{"$f":"IF(ISNA(VLOOKUP(11,$AB$3:$AB$17,1,FALSE)),\"\",VLOOKUP(11,$AB$3:$AB$17,1,FALSE))","v":""},12,"",{"$f":"IF(ISERR(HLOOKUP(VALUE(RIGHT(AF13,2)),'Novos Agrupamentos'!$F$3:$U$131,121,0)),\"\",HLOOKUP(VALUE(RIGHT(AF13,2)),'Novos Agrupamentos'!$F$3:$U$131,121,0))","v":""},{"$f":"IF(AF13=\"\",\"\",PROPER(IF(VLOOKUP(AF13,'Novos Agrupamentos'!$W$4:$X$18,2,FALSE)=\"\",AF13,VLOOKUP(AF13,'Novos Agrupamentos'!$W$4:$X$18,2,FALSE))))","v":""},null,"Riscos Especiais",12,"RE",null,"",12,"",null,"Aut",5,"Aut5","0531","0531 - Automóvel – Casco"]
[null,null,"Riscos Financeiros",13,"RF","Riscos Financeiros",null,"Aut",6,"Aut6","0542","0542 - Assistência e Outras Coberturas – Auto","Aut","05819",13,"AMERICAN LIFE","05819",7,null,"",{"$f":"IFERROR(IF(U13='Novos Agrupamentos'!$C$1,\"\",Cadastro!U13+1),\"\")","v":""},"","",{"$f":"IFERROR(IF(V14=\"\",\"\",VLOOKUP(V14,'Novos Agrupamentos'!$D$4:$E$130,2,FALSE)),\"\")","v":""},null,12,{"$f":"'Novos Agrupamentos'!Q$131","v":0},{"$f":"IF(AA14<>0,LARGE(AB$3:AB13,1)+1,0)","v":0},"AGRUP. 12",{"$f":"IF(ISNA(VLOOKUP(12,$AB$3:$AB$17,1,FALSE)),\"\",VLOOKUP(12,$AB$3:$AB$17,1,FALSE))","v":""},13,"",{"$f":"IF(ISERR(HLOOKUP(VALUE(RIGHT(AF14,2)),'Novos Agrupamentos'!$F$3:$U$131,121,0)),\"\",HLOOKUP(VALUE(RIGHT(AF14,2)),'Novos Agrupamentos'!$F$3:$U$131,121,0))","v":""},{"$f":"IF(AF14=\"\",\"\",PROPER(IF(VLOOKUP(AF14,'Novos Agrupamentos'!$W$4:$X$18,2,FALSE)=\"\",AF14,VLOOKUP(AF14,'Novos Agrupamentos'!$W$4:$X$18,2,FALSE))))","v":""},null,"Riscos Financeiros",13,"RF",null,"",13,"",null,"Aut",6,"Aut6","0542","0542 - Assistência e Outras Coberturas – Auto"]
[null,null,"Rural",14,"Rur","Rural",null,"Aut",7,"Aut7","0544","0544 - R.C. Transp. Rod. Viagem Inter. Pessoas Transp. ou não - Runoff","Aut","03387",14,"ANGELUS",{"$f":"IF(N15=\"\",R15,N15)","v":"03387"},{"$f":"IF(LEFT(P14,1)<>\" \",R14+1,R14)","v":8},null,"",{"$f":"IFERROR(IF(U14='Novos Agrupamentos'!$C$1,\"\",Cadastro!U14+1),\"\")","v":""},"","",{"$f":"IFERROR(IF(V15=\"\",\"\",VLOOKUP(V15,'Novos Agrupamentos'!$D$4:$E$130,2,FALSE)),\"\")","v":""},null,13,{"$f":"'Novos Agrupamentos'!R$131","v":0},{"$f":"IF(AA15<>0,LARGE(AB$3:AB14,1)+1,0)","v":0},"AGRUP. 13",{"$f":"IF(ISNA(VLOOKUP(13,$AB$3:$AB$17,1,FALSE)),\"\",VLOOKUP(13,$AB$3:$AB$17,1,FALSE))","v":""},14,"",{"$f":"IF(ISERR(HLOOKUP(VALUE(RIGHT(AF15,2)),'Novos Agrupamentos'!$F$3:$U$131,121,0)),\"\",HLOOKUP(VALUE(RIGHT(AF15,2)),'Novos Agrupamentos'!$F$3:$U$131,121,0))","v":""},{"$f":"IF(AF15=\"\",\"\",PROPER(IF(VLOOKUP(AF15,'Novos Agrupamentos'!$W$4:$X$18,2,FALSE)=\"\",AF15,VLOOKUP(AF15,'Novos Agrupamentos'!$W$4:$X$18,2,FALSE))))","v":""},null,"Rural",14,"Rur",null,"",14,"",null,"Aut",7,"Aut7","0544","0544 - R.C. Transp. Rod. Viagem Inter. Pessoas Transp. ou não - Runoff"]
[null,null,"Transportes",15,"Transp","Transportes",null,"Aut",8,"Aut8","0553","0553 - R.C. Facultativa Veículos – RCFV","Aut","02798",15,"ARGO","02798",9,null,"",{"$f":"IFERROR(IF(U15='Novos Agrupamentos'!$C$1,\"\",Cadastro!U15+1),\"\")","v":""},"","",{"$f":"IFERROR(IF(V16=\"\",\"\",VLOOKUP(V16,'Novos Agrupamentos'!$D$4:$E$130,2,FALSE)),\"\")","v":""},null,14,{"$f":"'Novos Agrupamentos'!S$131","v":0},{"$f":"IF(AA16<>0,LARGE(AB$3:AB15,1)+1,0)","v":0},"AGRUP. 14",{"$f":"IF(ISNA(VLOOKUP(14,$AB$3:$AB$17,1,FALSE)),\"\",VLOOKUP(14,$AB$3:$AB$17,1,FALSE))","v":""},15,"",{"$f":"IF(ISERR(HLOOKUP(VALUE(RIGHT(AF16,2)),'Novos Agrupamentos'!$F$3:$U$131,121,0)),\"\",HLOOKUP(VALUE(RIGHT(AF16,2)),'Novos Agrupamentos'!$F$3:$U$131,121,0))","v":""},{"$f":"IF(AF16=\"\",\"\",PROPER(IF(VLOOKUP(AF16,'Novos Agrupamentos'!$W$4:$X$18,2,FALSE)=\"\",AF16,VLOOKUP(AF16,'Novos Agrupamentos'!$W$4:$X$18,2,FALSE))))","v":""},null,"Transportes",15,"Transp",null,"",15,"",null,"Aut",8,"Aut8","0553","0553 - R.C. Facultativa Veículos – RCFV"]
[null,null,"VGBL",16,"VGBL","VGBL",null,"Dpvat",1,"Dpvat1","0588","0588 - DPVAT","Dpvat","02119",16,"ARUANA","02119",10,null,"",{"$f":"IFERROR(IF(U16='Novos Agrupamentos'!$C$1,\"\",Cadastro!U16+1),\"\")","v":""},"","",{"$f":"IFERROR(IF(V17=\"\",\"\",VLOOKUP(V17,'Novos Agrupamentos'!$D$4:$E$130,2,FALSE)),\"\")","v":""},null,15,{"$f":"'Novos Agrupamentos'!T$131","v":0},{"$f":"IF(AA17<>0,LARGE(AB$3:AB16,1)+1,0)","v":0},"AGRUP. 15",{"$f":"IF(ISNA(VLOOKUP(15,$AB$3:$AB$17,1,FALSE)),\"\",VLOOKUP(15,$AB$3:$AB$17,1,FALSE))","v":""},16,"",{"$f":"IF(ISERR(HLOOKUP(VALUE(RIGHT(AF17,2)),'Novos Agrupamentos'!$F$3:$U$131,121,0)),\"\",HLOOKUP(VALUE(RIGHT(AF17,2)),'Novos Agrupamentos'!$F$3:$U$131,121,0))","v":""},{"$f":"IF(AF17=\"\",\"\",PROPER(IF(VLOOKUP(AF17,'Novos Agrupamentos'!$W$4:$X$18,2,FALSE)=\"\",AF17,VLOOKUP(AF17,'Novos Agrupamentos'!$W$4:$X$18,2,FALSE))))","v":""},null,"VGBL",16,"VGBL",null,"",16,"",null,"Dpvat",1,"Dpvat1","0588","0588 - DPVAT"]
[null,null,"Outros Ramos",17,"Out","Outros Ramos",null,{"$f":"IF($A$1=TRUE,T18,AR18)","v":"Dpvat"},{"$f":"IF($A$1=TRUE,U18,AS18)","v":2},{"$f":"IF($A$1=TRUE,V18,AT18)","v":"Dpvat2"},"0589","0589 - DPVAT (Categorias 3 E 4) – Antes de Janeiro de 2005 - Runoff","Dpvat","02143",17,"ASSURANT","02143",11,null,"",{"$f":"IFERROR(IF(U17='Novos Agrupamentos'!$C$1,\"\",Cadastro!U17+1),\"\")","v":""},"","",{"$f":"IFERROR(IF(V18=\"\",\"\",VLOOKUP(V18,'Novos Agrupamentos'!$D$4:$E$130,2,FALSE)),\"\")","v":""},null,null,null,null,null,null,null,null,null,null,null,"Outros Ramos",17,"Out",null,"",17,"",null,"Dpvat",{"$f":"IF(AR18=\"\",\"\",IF(AR18=AR17,AS17+1,1))","v":2},"Dpvat2","0589","0589 - DPVAT (Categorias 3 E 4) – Antes de Janeiro de 2005 - Runoff"]
[null,null,null,null,null,null,null,"Hab",1,"Hab1","1061","1061 - Seguro Habitacional em Apólices de Mercado – Prestamista","Hab","02461",18,"AUSTRAL","02461",12,null,"",{"$f":"IFERROR(IF(U18='Novos Agrupamentos'!$C$1,\"\",Cadastro!U18+1),\"\")","v":""},"","",{"$f":"IFERROR(IF(V19=\"\",\"\",VLOOKUP(V19,'Novos Agrupamentos'!$D$4:$E$130,2,FALSE)),\"\")","v":""},null,null,null,null,null,null,null,null,null,null,null,null,null,null,null,null,null,null,null,"Hab",{"$f":"IF(AR19=\"\",\"\",IF(AR19=AR18,AS18+1,1))","v":1},"Hab1","1061","1061 - Seguro Habitacional em Apólices de Mercado – Prestamista"]
[null,null,null,null,null,null,null,"Hab",2,"Hab2","1065","1065 - Seguro Habitacional Apólices de Mercado – Demais Coberturas","Hab","02852",19,"   AXA SEG.","02852",13,null,"",{"$f":"IFERROR(IF(U19='Novos Agrupamentos'!$C$1,\"\",Cadastro!U19+1),\"\")","v":""},"","",{"$f":"IFERROR(IF(V20=\"\",\"\",VLOOKUP(V20,'Novos Agrupamentos'!$D$4:$E$130,2,FALSE)),\"\")","v":""},null,null,null,null,null,null,null,null,null,null,null,null,null,null,null,null,null,null,null,"Hab",2,"Hab2","1065","1065 - Seguro Habitacional Apólices de Mercado – Demais Coberturas"]
[null,null,null,null,null,"Sem seleção de ramo",null,"Hab",3,"Hab3","1066","1066 - Seguro Habitacional do Sistema Financeiro da Habitação","Hab","06696",20,"   AXA CORPORATE SOLUTIONS","06696",13,null,"",{"$f":"IFERROR(IF(U20='Novos Agrupamentos'!$C$1,\"\",Cadastro!U20+1),\"\")","v":""},"","",{"$f":"IFERROR(IF(V21=\"\",\"\",VLOOKUP(V21,'Novos Agrupamentos'!$D$4:$E$130,2,FALSE)),\"\")","v":""},null,null,null,null,null,null,null,null,null,null,null,null,null,null,null,null,null,null,null,"Hab",3,"Hab3","1066","1066 - Seguro Habitacional do Sistema Financeiro da Habitação"]
[null,"0111",{"$f":"RelatSuporte!B3","v":1},1,{"$f":"IFERROR(IF(C22=1,B22,IF(D22=0,0,VLOOKUP(+CONCATENATE($C$23,D22),J2:K128,2,FALSE))),\"\")","v":"0111"},{"$f":"IF(E22=\"\",\"\",IF(E22=0,\"\",+VLOOKUP(E22,$K$2:$L$128,2,FALSE)))","v":"0111 - Incêndio Tradicional - Runoff"},null,"Hab",4,"Hab4","1068","1068 - Seguro Habitacional Fora do S.F.H. - Runoff","Hab",null,21,"GRUPO AXA",13,13,null,"",{"$f":"IFERROR(IF(U21='Novos Agrupamentos'!$C$1,\"\",Cadastro!U21+1),\"\")","v":""},"","",{"$f":"IFERROR(IF(V22=\"\",\"\",VLOOKUP(V22,'Novos Agrupamentos'!$D$4:$E$130,2,FALSE)),\"\")","v":""},null,null,null,null,null,null,null,null,null,null,null,null,null,null,null,null,null,null,null,"Hab",4,"Hab4","1068","1068 - Seguro Habitacional Fora do S.F.H. - Runoff"]
[null,"0112",{"$f":"+VLOOKUP(C22,D2:E19,2,FALSE)","v":"Total"},{"$f":"IF(D22=0,0,+IF(D22+1>$C$24,0,D22+1))","v":2},{"$f":"IFERROR(IF(D23=0,0,IF($C$23=\"Total\",B23,VLOOKUP(+CONCATENATE($C$23,D23),J3:K128,2,FALSE))),\"\")","v":"0112"},{"$f":"IF(E23=0,\"\",+VLOOKUP(E23,$K$2:$L$128,2,FALSE))","v":"0112 - Assistência – Bens em Geral"},null,"Mar",1,"Mar1","0433","0433 - Marítimos - Runoff","Mar","05274",22,"BANESTES","05274",14,null,"",{"$f":"IFERROR(IF(U22='Novos Agrupamentos'!$C$1,\"\",Cadastro!U22+1),\"\")","v":""},"","",{"$f":"IFERROR(IF(V23=\"\",\"\",VLOOKUP(V23,'Novos Agrupamentos'!$D$4:$E$130,2,FALSE)),\"\")","v":""},null,null,null,null,null,null,null,null,null,null,null,null,null,null,null,null,null,null,null,"Mar",1,"Mar1","0433","0433 - Marítimos - Runoff"]
[null,"0114",{"$f":"IF(C22=1,ROWS(B22:B148),COUNTIF(H2:H128,C23))","v":127},3,"0114","0114 - Compreensivo Residencial",null,"Mar",2,"Mar2","0457","0457 - DPEM - Runoff","Mar","04707",23,"   BRASILPREV SEG.E PREV.","04707",15,null,"",{"$f":"IFERROR(IF(U23='Novos Agrupamentos'!$C$1,\"\",Cadastro!U23+1),\"\")","v":""},"","",{"$f":"IFERROR(IF(V24=\"\",\"\",VLOOKUP(V24,'Novos Agrupamentos'!$D$4:$E$130,2,FALSE)),\"\")","v":""},null,null,null,null,null,null,null,null,null,null,null,null,null,null,null,null,null,null,null,"Mar",2,"Mar2","0457","0457 - DPEM - Runoff"]
[null,"0115",null,4,"0115","0115 - Roubo - Runoff",null,"Mar",3,"Mar3","1417","1417 - Seguro Compreensivo para Operadores Portuários","Mar","06785",24,"   ALIANÇA DO BRASIL","06785",15,null,"",{"$f":"IFERROR(IF(U24='Novos Agrupamentos'!$C$1,\"\",Cadastro!U24+1),\"\")","v":""},"","",{"$f":"IFERROR(IF(V25=\"\",\"\",VLOOKUP(V25,'Novos Agrupamentos'!$D$4:$E$130,2,FALSE)),\"\")","v":""},null,null,null,null,null,null,null,null,null,null,null,null,null,null,null,null,null,null,null,"Mar",3,"Mar3","1417","1417 - Seguro Compreensivo para Operadores Portuários"]
[null,"0116",null,5,"0116","0116 - Compreensivo Condomínio",null,"Mar",4,"Mar4","1428","1428 - R.C. Facultativa para Embarcações – RCF","Mar","06181",25,"   BRASIL VEÍCULOS","06181",15,null,"",{"$f":"IFERROR(IF(U25='Novos Agrupamentos'!$C$1,\"\",Cadastro!U25+1),\"\")","v":""},"","",{"$f":"IFERROR(IF(V26=\"\",\"\",VLOOKUP(V26,'Novos Agrupamentos'!$D$4:$E$130,2,FALSE)),\"\")","v":""},null,null,null,null,null,null,null,null,null,null,null,null,null,null,null,null,null,null,null,"Mar",4,"Mar4","1428","1428 - R.C. Facultativa para Embarcações – RCF"]
[null,"0118",null,6,"0118","0118 - Compreensivo Empresarial",null,"Mar",5,"Mar5","1433","1433 - Marítimos (Casco)","Mar","04561",26,"   BRASILPREV NOSSO FUTURO (49%)","04561",15,null,"",{"$f":"IFERROR(IF(U26='Novos Agrupamentos'!$C$1,\"\",Cadastro!U26+1),\"\")","v":""},"","",{"$f":"IFERROR(IF(V27=\"\",\"\",VLOOKUP(V27,'Novos Agrupamentos'!$D$4:$E$130,2,FALSE)),\"\")","v":""},null,null,null,null,null,null,null,null,null,null,null,null,null,null,null,null,null,null,null,"Mar",5,"Mar5","1433","1433 - Marítimos (Casco)"]
[null,"0141",null,7,"0141","0141 - Lucros Cessantes",null,"Mar",6,"Mar6","1457","1457 - DPEM","Mar","06211",27,"   ALIANÇA DO BRASIL SEG.","06211",15,null,"",{"$f":"IFERROR(IF(U27='Novos Agrupamentos'!$C$1,\"\",Cadastro!U27+1),\"\")","v":""},"","",{"$f":"IFERROR(IF(V28=\"\",\"\",VLOOKUP(V28,'Novos Agrupamentos'!$D$4:$E$130,2,FALSE)),\"\")","v":""},null,null,null,null,null,null,null,null,null,null,null,null,null,null,null,null,null,null,null,"Mar",6,"Mar6","1457","1457 - DPEM"]
[null,"0167",null,{"$f":"IF(D28=0,0,+IF(D28+1>$C$24,0,D28+1))","v":8},"0167","0167 - Riscos de Engenharia",null,"Mger",1,"Mger1","1602","1602 - Microsseguros de Danos","Mger",null,28,"UNIDADE BCO. DO BRASIL",15,15,null,"",{"$f":"IFERROR(IF(U28='Novos Agrupamentos'!$C$1,\"\",Cadastro!U28+1),\"\")","v":""},"","",{"$f":"IFERROR(IF(V29=\"\",\"\",VLOOKUP(V29,'Novos Agrupamentos'!$D$4:$E$130,2,FALSE)),\"\")","v":""},null,null,null,null,null,null,null,null,null,null,null,null,null,null,null,null,null,null,null,"Mger",1,"Mger1","1602","1602 - Microsseguros de Danos"]
[null,"0171",null,{"$f":"IF(D29=0,0,+IF(D29+1>$C$24,0,D29+1))","v":9},"0171","0171 - Riscos Diversos",null,"Mpes",1,"Mpes1","1601","1601 - Microsseguros de Pessoas","Mpes","06238",29,"   MAPFRE SEGUROS GERAIS","06238",{"$f":"IF(RelatSuporte!$D$3=Cadastro!$O$38,Cadastro!$Q$29,IF(LEFT(P29,1)<>\" \",R29+1,R29))","v":16},null,"",{"$f":"IFERROR(IF(U29='Novos Agrupamentos'!$C$1,\"\",Cadastro!U29+1),\"\")","v":""},"","",{"$f":"IFERROR(IF(V30=\"\",\"\",VLOOKUP(V30,'Novos Agrupamentos'!$D$4:$E$130,2,FALSE)),\"\")","v":""},null,null,null,null,null,null,null,null,null,null,null,null,null,null,null,null,null,null,null,"Mpes",1,"Mpes1","1601","1601 - Microsseguros de Pessoas"]
[null,"0173",null,10,"0173","0173 - Global de Bancos",null,"Out",1,"Out1","1279","1279 - Seguros no Exterior - Runoff","Out","05665",30,"   MAPFRE VIDA","05665",{"$f":"IF(RelatSuporte!$D$3=Cadastro!$O$38,Cadastro!$Q$29,IF(LEFT(P30,1)<>\" \",R30+1,R30))","v":16},null,"",{"$f":"IFERROR(IF(U30='Novos Agrupamentos'!$C$1,\"\",Cadastro!U30+1),\"\")","v":""},"","",{"$f":"IFERROR(IF(V31=\"\",\"\",VLOOKUP(V31,'Novos Agrupamentos'!$D$4:$E$130,2,FALSE)),\"\")","v":""},null,null,null,null,null,null,null,null,null,null,null,null,null,null,null,null,null,null,null,"Out",1,"Out1","1279","1279 - Seguros no Exterior - Runoff"]
[null,"0195",null,11,"0195","0195 - Garantia Estendida – Bens em Geral",null,"Out",2,"Out2","1299","1299 - Sucursais no Exterior - Runoff","Out","04561",31,"  BRASILPREV NOSSO FUTURO (51%)","04561",{"$f":"R29","v":15},null,"",{"$f":"IFERROR(IF(U31='Novos Agrupamentos'!$C$1,\"\",Cadastro!U31+1),\"\")","v":""},"","",{"$f":"IFERROR(IF(V32=\"\",\"\",VLOOKUP(V32,'Novos Agrupamentos'!$D$4:$E$130,2,FALSE)),\"\")","v":""},null,null,null,null,null,null,null,null,null,null,null,null,null,null,null,null,null,null,null,"Out",2,"Out2","1299","1299 - Sucursais no Exterior - Runoff"]
[null,"0196",null,12,"0196","0196 - Riscos Nomeados e Operacionais",null,"Out",3,"Out3","2079","2079 - Aceitações do Exterior","Out","06858",32,"   MAPFRE AFFINITY","06858",{"$f":"IF(RelatSuporte!$D$3=Cadastro!$O$38,Cadastro!$Q$29,IF(LEFT(P31,1)<>\" \",R31+1,R31))","v":16},null,"",{"$f":"IFERROR(IF(U32='Novos Agrupamentos'!$C$1,\"\",Cadastro!U32+1),\"\")","v":""},"","",{"$f":"IFERROR(IF(V33=\"\",\"\",VLOOKUP(V33,'Novos Agrupamentos'!$D$4:$E$130,2,FALSE)),\"\")","v":""},null,null,null,null,null,null,null,null,null,null,null,null,null,null,null,null,null,null,null,"Out",3,"Out3","2079","2079 - Aceitações do Exterior"]
[null,"0234",null,13,"0234","0234 - Riscos de Petróleo - Runoff",null,"Out",4,"Out4",{"$f":"IF(OR($A$1=FALSE,$C$22=1),AU34,W34)","v":"2199"},{"$f":"IF(OR($A$1=FALSE,$C$22=1),AV34,X34)","v":"2199 - Sucursais no Exterior"},"Out","06378",33,"   VIDA SEG.","06378",{"$f":"IF(LEFT(P33,1)<>\" \",R33+1,R33)","v":16},null,"",{"$f":"IFERROR(IF(U33='Novos Agrupamentos'!$C$1,\"\",Cadastro!U33+1),\"\")","v":""},"","",{"$f":"IFERROR(IF(V34=\"\",\"\",VLOOKUP(V34,'Novos Agrupamentos'!$D$4:$E$130,2,FALSE)),\"\")","v":""},null,null,null,null,null,null,null,null,null,null,null,null,null,null,null,null,null,null,null,"Out",4,"Out4","2199","2199 - Sucursais no Exterior"]
[null,"0272",null,14,"0272","0272 - Riscos Nucleares - Runoff",null,"Pat",1,"Pat1","0111","0111 - Incêndio Tradicional - Runoff","Pat","03298",34,"   MAPFRE VERA CRUZ PREV.","03298",{"$f":"IF(RelatSuporte!$D$3=Cadastro!$O$38,Cadastro!$Q$29,IF(LEFT(P34,1)<>\" \",R34+1,R34))","v":16},null,"",{"$f":"IFERROR(IF(U34='Novos Agrupamentos'!$C$1,\"\",Cadastro!U34+1),\"\")","v":""},"","",{"$f":"IFERROR(IF(V35=\"\",\"\",VLOOKUP(V35,'Novos Agrupamentos'!$D$4:$E$130,2,FALSE)),\"\")","v":""},null,null,null,null,null,null,null,null,null,null,null,null,null,null,null,null,null,null,null,"Pat",1,"Pat1","0111","0111 - Incêndio Tradicional - Runoff"]
[null,"0274",null,15,"0274","0274 - Satélites - Runoff",null,"Pat",2,"Pat2","0112","0112 - Assistência – Bens em Geral","Pat","06718",35,"   MAPFRE CRÉD. EXPORTAÇÃO","06718",{"$f":"IF(RelatSuporte!$D$3=Cadastro!$O$38,Cadastro!$Q$29,IF(LEFT(P35,1)<>\" \",R35+1,R35))","v":16},null,"",{"$f":"IFERROR(IF(U35='Novos Agrupamentos'!$C$1,\"\",Cadastro!U35+1),\"\")","v":""},"","",{"$f":"IFERROR(IF(V36=\"\",\"\",VLOOKUP(V36,'Novos Agrupamentos'!$D$4:$E$130,2,FALSE)),\"\")","v":""},null,null,null,null,null,null,null,null,null,null,null,null,null,null,null,null,null,null,null,"Pat",2,"Pat2","0112","0112 - Assistência – Bens em Geral"]
[null,"0310",null,16,"0310","0310 - R.C. de Administradores e Diretores – D&O",null,"Pat",3,"Pat3","0114","0114 - Compreensivo Residencial","Pat",null,36,"UNIDADE MAPFRE",16,{"$f":"IF(RelatSuporte!$D$3=Cadastro!$O$38,Cadastro!$Q$29,IF(LEFT(P36,1)<>\" \",R36+1,R36))","v":16},null,"",{"$f":"IFERROR(IF(U36='Novos Agrupamentos'!$C$1,\"\",Cadastro!U36+1),\"\")","v":""},"","",{"$f":"IFERROR(IF(V37=\"\",\"\",VLOOKUP(V37,'Novos Agrupamentos'!$D$4:$E$130,2,FALSE)),\"\")","v":""},null,null,null,null,null,null,null,null,null,null,null,null,null,null,null,null,null,null,null,"Pat",3,"Pat3","0114","0114 - Compreensivo Residencial"]
[null,"0313",null,17,"0313","0313 - R.C. Riscos Ambientais",null,"Pat",4,"Pat4","0115","0115 - Roubo - Runoff","Pat",null,37,"GRUPO BCO. DO BRASIL MAPFRE",17,{"$f":"IF(RelatSuporte!$D$3=Cadastro!$O$38,Cadastro!$Q$29,IF(LEFT(P37,1)<>\" \",R37+1,R37))","v":17},null,"",{"$f":"IFERROR(IF(U37='Novos Agrupamentos'!$C$1,\"\",Cadastro!U37+1),\"\")","v":""},"","",{"$f":"IFERROR(IF(V38=\"\",\"\",VLOOKUP(V38,'Novos Agrupamentos'!$D$4:$E$130,2,FALSE)),\"\")","v":""},null,null,null,null,null,null,null,null,null,null,null,null,null,null,null,null,null,null,null,"Pat",4,"Pat4","0115","0115 - Roubo - Runoff"]
[null,"0351",null,18,"0351","0351 - R.C. Geral",null,"Pat",5,"Pat5","0116","0116 - Compreensivo Condomínio","Pat","05231",38,"BCS","05231",{"$f":"IF(LEFT(P38,1)<>\" \",R38+1,R38)","v":18},null,"",{"$f":"IFERROR(IF(U38='Novos Agrupamentos'!$C$1,\"\",Cadastro!U38+1),\"\")","v":""},"","",{"$f":"IFERROR(IF(V39=\"\",\"\",VLOOKUP(V39,'Novos Agrupamentos'!$D$4:$E$130,2,FALSE)),\"\")","v":""},null,null,null,null,null,null,null,null,null,null,null,null,null,null,null,null,null,null,null,"Pat",5,"Pat5","0116","0116 - Compreensivo Condomínio"]
[null,"0378",null,19,"0378","0378 - R.C. Profissional",null,"Pat",6,"Pat6","0118","0118 - Compreensivo Empresarial","Pat","01414",39,"BERKLEY","01414",19,null,"",{"$f":"IFERROR(IF(U39='Novos Agrupamentos'!$C$1,\"\",Cadastro!U39+1),\"\")","v":""},"","",{"$f":"IFERROR(IF(V40=\"\",\"\",VLOOKUP(V40,'Novos Agrupamentos'!$D$4:$E$130,2,FALSE)),\"\")","v":""},null,null,null,null,null,null,null,null,null,null,null,null,null,null,null,null,null,null,null,"Pat",6,"Pat6","0118","0118 - Compreensivo Empresarial"]
[null,"0433",null,20,"0433","0433 - Marítimos - Runoff",null,"Pat",7,"Pat7","0141","0141 - Lucros Cessantes","Pat","06866",40,"   BRADESCO VIDA E PREVIDÊNCIA ","06866",20,null,"",{"$f":"IFERROR(IF(U40='Novos Agrupamentos'!$C$1,\"\",Cadastro!U40+1),\"\")","v":""},"","",{"$f":"IFERROR(IF(V41=\"\",\"\",VLOOKUP(V41,'Novos Agrupamentos'!$D$4:$E$130,2,FALSE)),\"\")","v":""},null,null,null,null,null,null,null,null,null,null,null,null,null,null,null,null,null,null,null,"Pat",7,"Pat7","0141","0141 - Lucros Cessantes"]
[null,"0435",null,21,"0435","0435 - Aeronáuticos - Runoff",null,"Pat",8,"Pat8","0167","0167 - Riscos de Engenharia","Pat","05312",41,"   BRADESCO AUTO/RE","05312",20,null,"",{"$f":"IFERROR(IF(U41='Novos Agrupamentos'!$C$1,\"\",Cadastro!U41+1),\"\")","v":""},"","",{"$f":"IFERROR(IF(V42=\"\",\"\",VLOOKUP(V42,'Novos Agrupamentos'!$D$4:$E$130,2,FALSE)),\"\")","v":""},null,null,null,null,null,null,null,null,null,null,null,null,null,null,null,null,null,null,null,"Pat",8,"Pat8","0167","0167 - Riscos de Engenharia"]
[null,"0437",null,22,"0437","0437 - R.C. Hangar - Runoff",null,"Pat",9,"Pat9","0171","0171 - Riscos Diversos","Pat","05533",42,"   ATLÂNTICA","05533",20,null,"",{"$f":"IFERROR(IF(U42='Novos Agrupamentos'!$C$1,\"\",Cadastro!U42+1),\"\")","v":""},"","",{"$f":"IFERROR(IF(V43=\"\",\"\",VLOOKUP(V43,'Novos Agrupamentos'!$D$4:$E$130,2,FALSE)),\"\")","v":""},null,null,null,null,null,null,null,null,null,null,null,null,null,null,null,null,null,null,null,"Pat",9,"Pat9","0171","0171 - Riscos Diversos"]
[null,"0457",null,23,"0457","0457 - DPEM - Runoff",null,"Pat",10,"Pat10","0173","0173 - Global de Bancos","Pat","04740",43,"   KIRTON VIDA E PREVIDÊNCIA","04740",20,null,"",{"$f":"IFERROR(IF(U43='Novos Agrupamentos'!$C$1,\"\",Cadastro!U43+1),\"\")","v":""},"","",{"$f":"IFERROR(IF(V44=\"\",\"\",VLOOKUP(V44,'Novos Agrupamentos'!$D$4:$E$130,2,FALSE)),\"\")","v":""},null,null,null,null,null,null,null,null,null,null,null,null,null,null,null,null,null,null,null,"Pat",10,"Pat10","0173","0173 - Global de Bancos"]
[null,"0520",null,24,"0520","0520 - Acidentes Pessoais de Passageiros – APP",null,"Pat",11,"Pat11","0195","0195 - Garantia Estendida – Bens em Geral","Pat","06106",44,"   KIRTON SEG.","06106",20,null,"",{"$f":"IFERROR(IF(U44='Novos Agrupamentos'!$C$1,\"\",Cadastro!U44+1),\"\")","v":""},"","",{"$f":"IFERROR(IF(V45=\"\",\"\",VLOOKUP(V45,'Novos Agrupamentos'!$D$4:$E$130,2,FALSE)),\"\")","v":""},null,null,null,null,null,null,null,null,null,null,null,null,null,null,null,null,null,null,null,"Pat",11,"Pat11","0195","0195 - Garantia Estendida – Bens em Geral"]
[null,"0523",null,25,"0523","0523 - R.C.  Transp. Rod. Interest. e Internac. - Runoff",null,"Pat",12,"Pat12","0196","0196 - Riscos Nomeados e Operacionais","Pat","05444",45,"   BRADESCO SEG.","05444",20,null,"",{"$f":"IFERROR(IF(U45='Novos Agrupamentos'!$C$1,\"\",Cadastro!U45+1),\"\")","v":""},"","",{"$f":"IFERROR(IF(V46=\"\",\"\",VLOOKUP(V46,'Novos Agrupamentos'!$D$4:$E$130,2,FALSE)),\"\")","v":""},null,null,null,null,null,null,null,null,null,null,null,null,null,null,null,null,null,null,null,"Pat",12,"Pat12","0196","0196 - Riscos Nomeados e Operacionais"]
[null,"0524",null,26,"0524","0524 - Garantia Estendida – Auto",null,"Pes",1,"Pes1","0929","0929 - Funeral - Coletivo","Pes",null,46,"GRUPO BRADESCO",{"$f":"IF(N47=\"\",R47,N47)","v":20},20,null,"",{"$f":"IFERROR(IF(U46='Novos Agrupamentos'!$C$1,\"\",Cadastro!U46+1),\"\")","v":""},"","",{"$f":"IFERROR(IF(V47=\"\",\"\",VLOOKUP(V47,'Novos Agrupamentos'!$D$4:$E$130,2,FALSE)),\"\")","v":""},null,null,null,null,null,null,null,null,null,null,null,null,null,null,null,null,null,null,null,"Pes",1,"Pes1","0929","0929 - Funeral - Coletivo"]
[null,"0525",null,27,"0525","0525 - Carta Verde",null,"Pes",2,"Pes2","0936","0936 - Perda do Certificado de Habilitação de Voo – PCHV - Coletivo","Pes","02437",47,"   BTG PACTUAL SEG.","02437",21,null,"",{"$f":"IFERROR(IF(U47='Novos Agrupamentos'!$C$1,\"\",Cadastro!U47+1),\"\")","v":""},"","",{"$f":"IFERROR(IF(V48=\"\",\"\",VLOOKUP(V48,'Novos Agrupamentos'!$D$4:$E$130,2,FALSE)),\"\")","v":""},null,null,null,null,null,null,null,null,null,null,null,null,null,null,null,null,null,null,null,"Pes",2,"Pes2","0936","0936 - Perda do Certificado de Habilitação de Voo – PCHV - Coletivo"]
[null,"0526",null,28,"0526","0526 - Seguro Auto Popular",null,"Pes",3,"Pes3","0969","0969 - Viagem - Coletivo","Pes","02682",48,"   BTG PACTUAL VIDA E PREV.","02682",21,null,"",{"$f":"IFERROR(IF(U48='Novos Agrupamentos'!$C$1,\"\",Cadastro!U48+1),\"\")","v":""},"","",{"$f":"IFERROR(IF(V49=\"\",\"\",VLOOKUP(V49,'Novos Agrupamentos'!$D$4:$E$130,2,FALSE)),\"\")","v":""},null,null,null,null,null,null,null,null,null,null,null,null,null,null,null,null,null,null,null,"Pes",3,"Pes3","0969","0969 - Viagem - Coletivo"]
[null,"0531",null,29,"0531","0531 - Automóvel – Casco",null,"Pes",4,"Pes4","0977","0977 - Prestamista (Exceto Habitacional e Rural) - Coletivo","Pes",null,49,"GRUPO BTG PACTUAL",21,21,null,"",{"$f":"IFERROR(IF(U49='Novos Agrupamentos'!$C$1,\"\",Cadastro!U49+1),\"\")","v":""},"","",{"$f":"IFERROR(IF(V50=\"\",\"\",VLOOKUP(V50,'Novos Agrupamentos'!$D$4:$E$130,2,FALSE)),\"\")","v":""},null,null,null,null,null,null,null,null,null,null,null,null,null,null,null,null,null,null,null,"Pes",4,"Pes4","0977","0977 - Prestamista (Exceto Habitacional e Rural) - Coletivo"]
[null,"0542",null,30,"0542","0542 - Assistência e Outras Coberturas – Auto",null,"Pes",5,"Pes5","0980","0980 - Educacional - Coletivo","Pes","08141",50,"   CAIXA VIDA E PREVIDÊNCIA ","08141",22,null,"",{"$f":"IFERROR(IF(U50='Novos Agrupamentos'!$C$1,\"\",Cadastro!U50+1),\"\")","v":""},"","",{"$f":"IFERROR(IF(V51=\"\",\"\",VLOOKUP(V51,'Novos Agrupamentos'!$D$4:$E$130,2,FALSE)),\"\")","v":""},null,null,null,null,null,null,null,null,null,null,null,null,null,null,null,null,null,null,null,"Pes",5,"Pes5","0980","0980 - Educacional - Coletivo"]
[null,"0544",null,31,"0544","0544 - R.C. Transp. Rod. Viagem Inter. Pessoas Transp. ou não - Runoff",null,"Pes",6,"Pes6","0981","0981 - Acidentes Pessoais Individual - Runoff","Pes","05631",51,"   CAIXA SEG.","05631",22,null,"",{"$f":"IFERROR(IF(U51='Novos Agrupamentos'!$C$1,\"\",Cadastro!U51+1),\"\")","v":""},"","",{"$f":"IFERROR(IF(V52=\"\",\"\",VLOOKUP(V52,'Novos Agrupamentos'!$D$4:$E$130,2,FALSE)),\"\")","v":""},null,null,null,null,null,null,null,null,null,null,null,null,null,null,null,null,null,null,null,"Pes",6,"Pes6","0981","0981 - Acidentes Pessoais Individual - Runoff"]
[null,"0553",null,32,"0553","0553 - R.C. Facultativa Veículos – RCFV",null,"Pes",7,"Pes7","0982","0982 - Acidentes Pessoais - Coletivo","Pes","06653",52,"   PANAMERICANA","06653",22,null,"",{"$f":"IFERROR(IF(U52='Novos Agrupamentos'!$C$1,\"\",Cadastro!U52+1),\"\")","v":""},"","",{"$f":"IFERROR(IF(V53=\"\",\"\",VLOOKUP(V53,'Novos Agrupamentos'!$D$4:$E$130,2,FALSE)),\"\")","v":""},null,null,null,null,null,null,null,null,null,null,null,null,null,null,null,null,null,null,null,"Pes",7,"Pes7","0982","0982 - Acidentes Pessoais - Coletivo"]
[null,"0588",null,33,"0588","0588 - DPVAT",null,"Pes",8,"Pes8","0983","0983 - Dotal Misto - Coletivo","Pes",null,53,"GRUPO CAIXA",22,22,null,"",{"$f":"IFERROR(IF(U53='Novos Agrupamentos'!$C$1,\"\",Cadastro!U53+1),\"\")","v":""},"","",{"$f":"IFERROR(IF(V54=\"\",\"\",VLOOKUP(V54,'Novos Agrupamentos'!$D$4:$E$130,2,FALSE)),\"\")","v":""},null,null,null,null,null,null,null,null,null,null,null,null,null,null,null,null,null,null,null,"Pes",8,"Pes8","0983","0983 - Dotal Misto - Coletivo"]
[null,"0589",null,34,{"$f":"IFERROR(IF(D55=0,0,IF($C$23=\"Total\",B55,VLOOKUP(+CONCATENATE($C$23,D55),J35:K160,2,FALSE))),\"\")","v":"0589"},{"$f":"IF(E55=0,\"\",+VLOOKUP(E55,$K$2:$L$128,2,FALSE))","v":"0589 - DPVAT (Categorias 3 E 4) – Antes de Janeiro de 2005 - Runoff"},null,"Pes",9,"Pes9","0984","0984 - Doenças Graves ou Doença Terminal - Coletivo","Pes","04251",54,"   CAPEMISA SEG.","04251",23,null,"",{"$f":"IFERROR(IF(U54='Novos Agrupamentos'!$C$1,\"\",Cadastro!U54+1),\"\")","v":""},"","",{"$f":"IFERROR(IF(V55=\"\",\"\",VLOOKUP(V55,'Novos Agrupamentos'!$D$4:$E$130,2,FALSE)),\"\")","v":""},null,null,null,null,null,null,null,null,null,null,null,null,null,null,null,null,null,null,null,"Pes",9,"Pes9","0984","0984 - Doenças Graves ou Doença Terminal - Coletivo"]
[null,"0621",null,35,"0621","0621 - Transporte Nacional",null,"Pes",10,"Pes10","0986","0986 - Dotal Puro - Coletivo","Pes","01741",55,"   CAPEMISA RAMOS ELEMENTARES","01741",23,null,"",{"$f":"IFERROR(IF(U55='Novos Agrupamentos'!$C$1,\"\",Cadastro!U55+1),\"\")","v":""},"","",{"$f":"IFERROR(IF(V56=\"\",\"\",VLOOKUP(V56,'Novos Agrupamentos'!$D$4:$E$130,2,FALSE)),\"\")","v":""},null,null,null,null,null,null,null,null,null,null,null,null,null,null,null,null,null,null,null,"Pes",10,"Pes10","0986","0986 - Dotal Puro - Coletivo"]
[null,"0622",null,36,"0622","0622 - Transporte Internacional",null,"Pes",11,"Pes11","0987","0987 - Desemprego/Perda de Renda - Coletivo","Pes",null,56,"GRUPO CAPEMISA",23,23,null,"",{"$f":"IFERROR(IF(U56='Novos Agrupamentos'!$C$1,\"\",Cadastro!U56+1),\"\")","v":""},"","",{"$f":"IFERROR(IF(V57=\"\",\"\",VLOOKUP(V57,'Novos Agrupamentos'!$D$4:$E$130,2,FALSE)),\"\")","v":""},null,null,null,null,null,null,null,null,null,null,null,null,null,null,null,null,null,null,null,"Pes",11,"Pes11","0987","0987 - Desemprego/Perda de Renda - Coletivo"]
[null,"0623",null,37,"0623","0623 - R. C. Transp. Rod. Interestadual e Internacional – RC Ônibus",null,"Pes",12,"Pes12","0990","0990 - Eventos Aleatórios - Coletivo","Pes","04936",57,"CAPITAL MICROSSEGUROS","04936",24,null,"",{"$f":"IFERROR(IF(U57='Novos Agrupamentos'!$C$1,\"\",Cadastro!U57+1),\"\")","v":""},"","",{"$f":"IFERROR(IF(V58=\"\",\"\",VLOOKUP(V58,'Novos Agrupamentos'!$D$4:$E$130,2,FALSE)),\"\")","v":""},null,null,null,null,null,null,null,null,null,null,null,null,null,null,null,null,null,null,null,"Pes",12,"Pes12","0990","0990 - Eventos Aleatórios - Coletivo"]
[null,"0627",null,38,"0627","0627 - R.C. do Transportador Intermodal - Runoff",null,"Pes",13,"Pes13","0991","0991 - Vida Individual - Runoff","Pes","06548",58,"   CARDIF VIDA E PREV.","06548",25,null,"",{"$f":"IFERROR(IF(U58='Novos Agrupamentos'!$C$1,\"\",Cadastro!U58+1),\"\")","v":""},"","",{"$f":"IFERROR(IF(V59=\"\",\"\",VLOOKUP(V59,'Novos Agrupamentos'!$D$4:$E$130,2,FALSE)),\"\")","v":""},null,null,null,null,null,null,null,null,null,null,null,null,null,null,null,null,null,null,null,"Pes",13,"Pes13","0991","0991 - Vida Individual - Runoff"]
[null,"0628",null,39,"0628","0628 - R.C. Facultativa de Veículos – RCFV Ônibus",null,"Pes",14,"Pes14","0993","0993 - Vida - Coletivo","Pes","02062",59,"   LUIZASEG","02062",25,null,"",{"$f":"IFERROR(IF(U59='Novos Agrupamentos'!$C$1,\"\",Cadastro!U59+1),\"\")","v":""},"","",{"$f":"IFERROR(IF(V60=\"\",\"\",VLOOKUP(V60,'Novos Agrupamentos'!$D$4:$E$130,2,FALSE)),\"\")","v":""},null,null,null,null,null,null,null,null,null,null,null,null,null,null,null,null,null,null,null,"Pes",14,"Pes14","0993","0993 - Vida - Coletivo"]
[null,"0632",null,40,"0632","0632 - R.C. Transp. Rod. de Carga em Viagem Intern. – RCTR-Vi-C",null,"Pes",15,"Pes15","1329","1329 - Funeral - Individual","Pes","02933",60,"   CARDIF GARANTIAS","02933",25,null,"",{"$f":"IFERROR(IF(U60='Novos Agrupamentos'!$C$1,\"\",Cadastro!U60+1),\"\")","v":""},"","",{"$f":"IFERROR(IF(V61=\"\",\"\",VLOOKUP(V61,'Novos Agrupamentos'!$D$4:$E$130,2,FALSE)),\"\")","v":""},null,null,null,null,null,null,null,null,null,null,null,null,null,null,null,null,null,null,null,"Pes",15,"Pes15","1329","1329 - Funeral - Individual"]
[null,"0638",null,41,"0638","0638 - R.C. do Transportador Ferroviário Carga – RCTF-C",null,"Pes",16,"Pes16","1336","1336 - Perda do Certificado de Habilitação de Voo – PCHV - Individual","Pes",null,61,"GRUPO CARDIF",25,25,null,"",{"$f":"IFERROR(IF(U61='Novos Agrupamentos'!$C$1,\"\",Cadastro!U61+1),\"\")","v":""},"","",{"$f":"IFERROR(IF(V62=\"\",\"\",VLOOKUP(V62,'Novos Agrupamentos'!$D$4:$E$130,2,FALSE)),\"\")","v":""},null,null,null,null,null,null,null,null,null,null,null,null,null,null,null,null,null,null,null,"Pes",16,"Pes16","1336","1336 - Perda do Certificado de Habilitação de Voo – PCHV - Individual"]
[null,"0644",null,42,"0644","0644 - R.C. Transp. Rod. Viag. Intern. Pess. Transp. ou não – Carta Azul",null,"Pes",17,"Pes17","1369","1369 - Viagem - Individual","Pes","06017",62,"CENTAURO","06017",26,null,"",{"$f":"IFERROR(IF(U62='Novos Agrupamentos'!$C$1,\"\",Cadastro!U62+1),\"\")","v":""},"","",{"$f":"IFERROR(IF(V63=\"\",\"\",VLOOKUP(V63,'Novos Agrupamentos'!$D$4:$E$130,2,FALSE)),\"\")","v":""},null,null,null,null,null,null,null,null,null,null,null,null,null,null,null,null,null,null,null,"Pes",17,"Pes17","1369","1369 - Viagem - Individual"]
[null,"0652",null,43,"0652","0652 - R.C. do Transportador Aéreo Carga – RCTA-C",null,"Pes",18,"Pes18","1377","1377 - Prestamista (Exceto Habitacional e Rural) - Individual","Pes","06998",63,"CESCE","06998",27,null,"",{"$f":"IFERROR(IF(U63='Novos Agrupamentos'!$C$1,\"\",Cadastro!U63+1),\"\")","v":""},"","",{"$f":"IFERROR(IF(V64=\"\",\"\",VLOOKUP(V64,'Novos Agrupamentos'!$D$4:$E$130,2,FALSE)),\"\")","v":""},null,null,null,null,null,null,null,null,null,null,null,null,null,null,null,null,null,null,null,"Pes",18,"Pes18","1377","1377 - Prestamista (Exceto Habitacional e Rural) - Individual"]
[null,"0654",null,44,"0654","0654 - R.C. do Transportador Rodoviário Carga – RCTR-C",null,"Pes",19,"Pes19","1380","1380 - Educacional - Individual","Pes","03328",64,"   COFACE SEG.","03328",28,null,"",{"$f":"IFERROR(IF(U64='Novos Agrupamentos'!$C$1,\"\",Cadastro!U64+1),\"\")","v":""},"","",{"$f":"IFERROR(IF(V65=\"\",\"\",VLOOKUP(V65,'Novos Agrupamentos'!$D$4:$E$130,2,FALSE)),\"\")","v":""},null,null,null,null,null,null,null,null,null,null,null,null,null,null,null,null,null,null,null,"Pes",19,"Pes19","1380","1380 - Educacional - Individual"]
[null,"0655",null,45,"0655","0655 - R.C. do Transportador Desvio de Carga – RCF-DC",null,"Pes",20,"Pes20",{"$f":"IF(OR($A$1=FALSE,$C$22=1),AU66,W66)","v":"1381"},{"$f":"IF(OR($A$1=FALSE,$C$22=1),AV66,X66)","v":"1381 - Acidentes Pessoais - Individual"},"Pes","06335",65,"   BRASILEIRA CRÉD. À EXP.","06335",28,null,"",{"$f":"IFERROR(IF(U65='Novos Agrupamentos'!$C$1,\"\",Cadastro!U65+1),\"\")","v":""},"","",{"$f":"IFERROR(IF(V66=\"\",\"\",VLOOKUP(V66,'Novos Agrupamentos'!$D$4:$E$130,2,FALSE)),\"\")","v":""},null,null,null,null,null,null,null,null,null,null,null,null,null,null,null,null,null,null,null,"Pes",20,{"$f":"+CONCATENATE(AR66,AS66)","v":"Pes20"},"1381","1381 - Acidentes Pessoais - Individual"]
[null,"0656",null,46,"0656","0656 - R.C. do Transportador Aquaviário Carga – RCA-C",null,{"$f":"IF($A$1=TRUE,T67,AR67)","v":"Pes"},21,"Pes21","1383","1383 - Dotal Misto - Individual",{"$f":"H67","v":"Pes"},null,66,"GRUPO COFACE",28,28,null,"",{"$f":"IFERROR(IF(U66='Novos Agrupamentos'!$C$1,\"\",Cadastro!U66+1),\"\")","v":""},"","",{"$f":"IFERROR(IF(V67=\"\",\"\",VLOOKUP(V67,'Novos Agrupamentos'!$D$4:$E$130,2,FALSE)),\"\")","v":""},null,null,null,null,null,null,null,null,null,null,null,null,null,null,null,null,null,null,null,"Pes",{"$f":"IF(AR67=\"\",\"\",IF(AR67=AR66,AS66+1,1))","v":21},"Pes21","1383","1383 - Dotal Misto - Individual"]
[null,"0658",null,47,"0658","0658 - R.C. do Operador do Transporte Multimodal – RCOTM-C",null,"Pes",22,"Pes22","1384","1384 - Doenças Graves ou Doença Terminal - Individual","Pes","02879",67,"   COMPREV SEGUROS E PREVIDÊNCIA","02879",29,null,{"$f":"IF(U68=\"\",\"\",T67)","v":""},{"$f":"IFERROR(IF(U67='Novos Agrupamentos'!$C$1,\"\",Cadastro!U67+1),\"\")","v":""},{"$f":"IF(T68=\"\",\"\",CONCATENATE(T68,U68))","v":""},{"$f":"IF(X68=\"\",\"\",LEFT(X68,4))","v":""},{"$f":"IFERROR(IF(V68=\"\",\"\",VLOOKUP(V68,'Novos Agrupamentos'!$D$4:$E$130,2,FALSE)),\"\")","v":""},null,null,null,null,null,null,null,null,null,null,null,null,null,null,null,null,null,null,null,"Pes",22,"Pes22","1384","1384 - Doenças Graves ou Doença Terminal - Individual"]
[null,"0711",null,48,"0711","0711 - Riscos Diversos – Financeiros",null,"Pes",23,"Pes23","1386","1386 - Dotal Puro - Individual","Pes","01937",68,"   COMPREV VIDA E PREVIDÊNCIA","01937",29,null,"",{"$f":"IFERROR(IF(U68='Novos Agrupamentos'!$C$1,\"\",Cadastro!U68+1),\"\")","v":""},"","",{"$f":"IFERROR(IF(V69=\"\",\"\",VLOOKUP(V69,'Novos Agrupamentos'!$D$4:$E$130,2,FALSE)),\"\")","v":""},null,null,null,null,null,null,null,null,null,null,null,null,null,null,null,null,null,null,null,"Pes",23,"Pes23","1386","1386 - Dotal Puro - Individual"]
[null,"0739",null,49,"0739","0739 - Garantia Financeira - Runoff",null,"Pes",24,"Pes24","1387","1387 - Desemprego/Perda de Renda - Individual","Pes",null,69,"GRUPO COMPREV",29,29,null,"",{"$f":"IFERROR(IF(U69='Novos Agrupamentos'!$C$1,\"\",Cadastro!U69+1),\"\")","v":""},"","",{"$f":"IFERROR(IF(V70=\"\",\"\",VLOOKUP(V70,'Novos Agrupamentos'!$D$4:$E$130,2,FALSE)),\"\")","v":""},null,null,null,null,null,null,null,null,null,null,null,null,null,null,null,null,null,null,null,"Pes",24,"Pes24","1387","1387 - Desemprego/Perda de Renda - Individual"]
[null,"0740",null,50,"0740","0740 - Garantia de Obrigações Privadas - Runoff",null,"Pes",25,"Pes25","1390","1390 - Eventos Aleatórios - Individual","Pes","05053",70,"CONFIANÇA","05053",{"$f":"IF(LEFT(P70,1)<>\" \",R70+1,R70)","v":30},null,"",{"$f":"IFERROR(IF(U70='Novos Agrupamentos'!$C$1,\"\",Cadastro!U70+1),\"\")","v":""},"","",{"$f":"IFERROR(IF(V71=\"\",\"\",VLOOKUP(V71,'Novos Agrupamentos'!$D$4:$E$130,2,FALSE)),\"\")","v":""},null,null,null,null,null,null,null,null,null,null,null,null,null,null,null,null,null,null,null,"Pes",25,"Pes25","1390","1390 - Eventos Aleatórios - Individual"]
[null,"0743",null,51,"0743","0743 - Stop Loss",null,"Pes",26,"Pes26","1391","1391 - Vida - Individual","Pes","06688",71,"COSESP","06688",31,null,"",{"$f":"IFERROR(IF(U71='Novos Agrupamentos'!$C$1,\"\",Cadastro!U71+1),\"\")","v":""},"","",{"$f":"IFERROR(IF(V72=\"\",\"\",VLOOKUP(V72,'Novos Agrupamentos'!$D$4:$E$130,2,FALSE)),\"\")","v":""},null,null,null,null,null,null,null,null,null,null,null,null,null,null,null,null,null,null,null,"Pes",26,"Pes26","1391","1391 - Vida - Individual"]
[null,"0745",null,52,"0745","0745 - Garantia de Obrigações Públicas - Runoff",null,"RE",1,"RE1","0234","0234 - Riscos de Petróleo - Runoff","RE","02020",72,"   CREDITO Y CAUCION CRED.GAR.","02020",32,null,"",{"$f":"IFERROR(IF(U72='Novos Agrupamentos'!$C$1,\"\",Cadastro!U72+1),\"\")","v":""},"","",{"$f":"IFERROR(IF(V73=\"\",\"\",VLOOKUP(V73,'Novos Agrupamentos'!$D$4:$E$130,2,FALSE)),\"\")","v":""},null,null,null,null,null,null,null,null,null,null,null,null,null,null,null,null,null,null,null,"RE",1,"RE1","0234","0234 - Riscos de Petróleo - Runoff"]
[null,"0746",null,53,"0746","0746 - Fiança Locatícia",null,"RE",2,"RE2","0272","0272 - Riscos Nucleares - Runoff","RE","02721",{"$f":"O73+1","v":73},"   CREDITO Y CAUCION CRED.EXP.","02721",32,null,"",{"$f":"IFERROR(IF(U73='Novos Agrupamentos'!$C$1,\"\",Cadastro!U73+1),\"\")","v":""},"","",{"$f":"IFERROR(IF(V74=\"\",\"\",VLOOKUP(V74,'Novos Agrupamentos'!$D$4:$E$130,2,FALSE)),\"\")","v":""},null,null,null,null,null,null,null,null,null,null,null,null,null,null,null,null,null,null,null,"RE",2,"RE2","0272","0272 - Riscos Nucleares - Runoff"]
[null,"0747",null,54,"0747","0747 - Garantia de Concessões Públicas - Runoff",null,"RE",3,"RE3","0274","0274 - Satélites - Runoff","RE",null,74,"GRUPO CREDITO Y CAUCION",32,32,null,"",{"$f":"IFERROR(IF(U74='Novos Agrupamentos'!$C$1,\"\",Cadastro!U74+1),\"\")","v":""},"","",{"$f":"IFERROR(IF(V75=\"\",\"\",VLOOKUP(V75,'Novos Agrupamentos'!$D$4:$E$130,2,FALSE)),\"\")","v":""},null,null,null,null,null,null,null,null,null,null,null,null,null,null,null,null,null,null,null,"RE",3,"RE3","0274","0274 - Satélites - Runoff"]
[null,"0748",null,55,"0748","0748 - Crédito Interno",null,"RE",4,"RE4","1734","1734 - Riscos de Petróleo","RE","01619",75,"DAYPREV","01619",33,null,"",{"$f":"IFERROR(IF(U75='Novos Agrupamentos'!$C$1,\"\",Cadastro!U75+1),\"\")","v":""},"","",{"$f":"IFERROR(IF(V76=\"\",\"\",VLOOKUP(V76,'Novos Agrupamentos'!$D$4:$E$130,2,FALSE)),\"\")","v":""},null,null,null,null,null,null,null,null,null,null,null,null,null,null,null,null,null,null,null,"RE",4,"RE4","1734","1734 - Riscos de Petróleo"]
[null,"0749",null,56,"0749","0749 - Crédito à Exportação",null,"RE",5,"RE5","1872","1872 - Riscos Nucleares","RE","01554",76,"EQUATORIAL MICROSSEGUROS","01554",34,null,"",{"$f":"IFERROR(IF(U76='Novos Agrupamentos'!$C$1,\"\",Cadastro!U76+1),\"\")","v":""},"","",{"$f":"IFERROR(IF(V77=\"\",\"\",VLOOKUP(V77,'Novos Agrupamentos'!$D$4:$E$130,2,FALSE)),\"\")","v":""},null,null,null,null,null,null,null,null,null,null,null,null,null,null,null,null,null,null,null,"RE",5,"RE5","1872","1872 - Riscos Nucleares"]
[null,"0750",null,57,"0750","0750 - Garantia Judicial - Runoff",null,"Res",1,"Res1","0310","0310 - R.C. de Administradores e Diretores – D&O","Res","01490",77,"ESSOR","01490",35,null,"",{"$f":"IFERROR(IF(U77='Novos Agrupamentos'!$C$1,\"\",Cadastro!U77+1),\"\")","v":""},"","",{"$f":"IFERROR(IF(V78=\"\",\"\",VLOOKUP(V78,'Novos Agrupamentos'!$D$4:$E$130,2,FALSE)),\"\")","v":""},null,null,null,null,null,null,null,null,null,null,null,null,null,null,null,null,null,null,null,"Res",1,"Res1","0310","0310 - R.C. de Administradores e Diretores – D&O"]
[null,"0775",null,58,"0775","0775 - Garantia Segurado – Setor Público",null,"Res",2,"Res2","0313","0313 - R.C. Riscos Ambientais","Res","04359",78,"   EULER HERMES SEGS. CRÉDITO ",{"$f":"IF(N79=\"\",R79,N79)","v":"04359"},36,null,"",{"$f":"IFERROR(IF(U78='Novos Agrupamentos'!$C$1,\"\",Cadastro!U78+1),\"\")","v":""},"","",{"$f":"IFERROR(IF(V79=\"\",\"\",VLOOKUP(V79,'Novos Agrupamentos'!$D$4:$E$130,2,FALSE)),\"\")","v":""},null,null,null,null,null,null,null,null,null,null,null,null,null,null,null,null,null,null,null,"Res",2,"Res2","0313","0313 - R.C. Riscos Ambientais"]
[null,"0776",null,59,"0776","0776 - Garantia Segurado – Setor Privado",null,"Res",3,"Res3","0351","0351 - R.C. Geral","Res","04812",79,"   EULER HERMES SEG.CRÉD. À EXP.","04812",36,null,"",{"$f":"IFERROR(IF(U79='Novos Agrupamentos'!$C$1,\"\",Cadastro!U79+1),\"\")","v":""},"","",{"$f":"IFERROR(IF(V80=\"\",\"\",VLOOKUP(V80,'Novos Agrupamentos'!$D$4:$E$130,2,FALSE)),\"\")","v":""},null,null,null,null,null,null,null,null,null,null,null,null,null,null,null,null,null,null,null,"Res",3,"Res3","0351","0351 - R.C. Geral"]
[null,"0819",null,60,"0819","0819 - Crédito à Exportação Risco Comercial - Runoff",null,"Res",4,"Res4","0378","0378 - R.C. Profissional","Res",null,80,"GRUPO EULER HERMES",36,36,null,"",{"$f":"IFERROR(IF(U80='Novos Agrupamentos'!$C$1,\"\",Cadastro!U80+1),\"\")","v":""},"","",{"$f":"IFERROR(IF(V81=\"\",\"\",VLOOKUP(V81,'Novos Agrupamentos'!$D$4:$E$130,2,FALSE)),\"\")","v":""},null,null,null,null,null,null,null,null,null,null,null,null,null,null,null,null,null,null,null,"Res",4,"Res4","0378","0378 - R.C. Profissional"]
[null,"0859",null,61,"0859","0859 - Crédito à Exportação Risco Político - Runoff",null,"RF",1,"RF1","0711","0711 - Riscos Diversos – Financeiros","RF","05690",81,"EXCELSIOR","05690",37,null,"",{"$f":"IFERROR(IF(U81='Novos Agrupamentos'!$C$1,\"\",Cadastro!U81+1),\"\")","v":""},"","",{"$f":"IFERROR(IF(V82=\"\",\"\",VLOOKUP(V82,'Novos Agrupamentos'!$D$4:$E$130,2,FALSE)),\"\")","v":""},null,null,null,null,null,null,null,null,null,null,null,null,null,null,null,null,null,null,null,"RF",1,"RF1","0711","0711 - Riscos Diversos – Financeiros"]
[null,"0860",null,62,"0860","0860 - Crédito Doméstico Risco Comercial - Runoff",null,"RF",2,"RF2","0739","0739 - Garantia Financeira - Runoff","RF","04669",82,"FAIRFAX","04669",38,null,"",{"$f":"IFERROR(IF(U82='Novos Agrupamentos'!$C$1,\"\",Cadastro!U82+1),\"\")","v":""},"","",{"$f":"IFERROR(IF(V83=\"\",\"\",VLOOKUP(V83,'Novos Agrupamentos'!$D$4:$E$130,2,FALSE)),\"\")","v":""},null,null,null,null,null,null,null,null,null,null,null,null,null,null,null,null,null,null,null,"RF",2,"RF2","0739","0739 - Garantia Financeira - Runoff"]
[null,"0870",null,63,"0870","0870 - Crédito Doméstico Risco Pessoa Física - Runoff",null,"RF",3,"RF3","0740","0740 - Garantia de Obrigações Privadas - Runoff","RF","06122",83,"FATOR SEGURADORA ","06122",39,null,"",{"$f":"IFERROR(IF(U83='Novos Agrupamentos'!$C$1,\"\",Cadastro!U83+1),\"\")","v":""},"","",{"$f":"IFERROR(IF(V84=\"\",\"\",VLOOKUP(V84,'Novos Agrupamentos'!$D$4:$E$130,2,FALSE)),\"\")","v":""},null,null,null,null,null,null,null,null,null,null,null,null,null,null,null,null,null,null,null,"RF",3,"RF3","0740","0740 - Garantia de Obrigações Privadas - Runoff"]
[null,"0929",null,64,"0929","0929 - Funeral - Coletivo",null,"RF",4,"RF4","0743","0743 - Stop Loss","RF","05002",84,"   FEDERAL SEG.","05002",40,null,"",{"$f":"IFERROR(IF(U84='Novos Agrupamentos'!$C$1,\"\",Cadastro!U84+1),\"\")","v":""},"","",{"$f":"IFERROR(IF(V85=\"\",\"\",VLOOKUP(V85,'Novos Agrupamentos'!$D$4:$E$130,2,FALSE)),\"\")","v":""},null,null,null,null,null,null,null,null,null,null,null,null,null,null,null,null,null,null,null,"RF",4,"RF4","0743","0743 - Stop Loss"]
[null,"0936",null,65,"0936","0936 - Perda do Certificado de Habilitação de Voo – PCHV - Coletivo",null,"RF",5,"RF5","0745","0745 - Garantia de Obrigações Públicas - Runoff","RF","01147",85,"   FEDERAL VIDA E PREVIDÊNCIA ","01147",40,null,"",{"$f":"IFERROR(IF(U85='Novos Agrupamentos'!$C$1,\"\",Cadastro!U85+1),\"\")","v":""},"","",{"$f":"IFERROR(IF(V86=\"\",\"\",VLOOKUP(V86,'Novos Agrupamentos'!$D$4:$E$130,2,FALSE)),\"\")","v":""},null,null,null,null,null,null,null,null,null,null,null,null,null,null,null,null,null,null,null,"RF",5,"RF5","0745","0745 - Garantia de Obrigações Públicas - Runoff"]
[null,"0969",null,66,{"$f":"IFERROR(IF(D87=0,0,IF($C$23=\"Total\",B87,VLOOKUP(+CONCATENATE($C$23,D87),J67:K192,2,FALSE))),\"\")","v":"0969"},{"$f":"IF(E87=0,\"\",+VLOOKUP(E87,$K$2:$L$128,2,FALSE))","v":"0969 - Viagem - Coletivo"},null,"RF",6,"RF6","0746","0746 - Fiança Locatícia","RF",null,86,"GRUPO FEDERAL",40,40,null,"",{"$f":"IFERROR(IF(U86='Novos Agrupamentos'!$C$1,\"\",Cadastro!U86+1),\"\")","v":""},"","",{"$f":"IFERROR(IF(V87=\"\",\"\",VLOOKUP(V87,'Novos Agrupamentos'!$D$4:$E$130,2,FALSE)),\"\")","v":""},null,null,null,null,null,null,null,null,null,null,null,null,null,null,null,null,null,null,null,"RF",6,"RF6","0746","0746 - Fiança Locatícia"]
[null,"0977",null,67,"0977","0977 - Prestamista (Exceto Habitacional e Rural) - Coletivo",null,"RF",7,"RF7","0747","0747 - Garantia de Concessões Públicas - Runoff","RF","05908",87,"GENERALI","05908",41,null,"",{"$f":"IFERROR(IF(U87='Novos Agrupamentos'!$C$1,\"\",Cadastro!U87+1),\"\")","v":""},"","",{"$f":"IFERROR(IF(V88=\"\",\"\",VLOOKUP(V88,'Novos Agrupamentos'!$D$4:$E$130,2,FALSE)),\"\")","v":""},null,null,null,null,null,null,null,null,null,null,null,null,null,null,null,null,null,null,null,"RF",7,"RF7","0747","0747 - Garantia de Concessões Públicas - Runoff"]
[null,"0980",null,68,"0980","0980 - Educacional - Coletivo",null,"RF",8,"RF8","0748","0748 - Crédito Interno","RF","06793",88,"GENTE","06793",42,null,"",{"$f":"IFERROR(IF(U88='Novos Agrupamentos'!$C$1,\"\",Cadastro!U88+1),\"\")","v":""},"","",{"$f":"IFERROR(IF(V89=\"\",\"\",VLOOKUP(V89,'Novos Agrupamentos'!$D$4:$E$130,2,FALSE)),\"\")","v":""},null,null,null,null,null,null,null,null,null,null,null,null,null,null,null,null,null,null,null,"RF",8,"RF8","0748","0748 - Crédito Interno"]
[null,"0981",null,69,"0981","0981 - Acidentes Pessoais Individual - Runoff",null,"RF",9,"RF9","0749","0749 - Crédito à Exportação","RF","06572",89,"   HDI SEG.","06572",43,null,"",{"$f":"IFERROR(IF(U89='Novos Agrupamentos'!$C$1,\"\",Cadastro!U89+1),\"\")","v":""},"","",{"$f":"IFERROR(IF(V90=\"\",\"\",VLOOKUP(V90,'Novos Agrupamentos'!$D$4:$E$130,2,FALSE)),\"\")","v":""},null,null,null,null,null,null,null,null,null,null,null,null,null,null,null,null,null,null,null,"RF",9,"RF9","0749","0749 - Crédito à Exportação"]
[null,"0982",null,70,"0982","0982 - Acidentes Pessoais - Coletivo",null,"RF",10,"RF10","0750","0750 - Garantia Judicial - Runoff","RF","01571",90,"   HDI-GERLING SEG. INDUST.","01571",43,null,"",{"$f":"IFERROR(IF(U90='Novos Agrupamentos'!$C$1,\"\",Cadastro!U90+1),\"\")","v":""},"","",{"$f":"IFERROR(IF(V91=\"\",\"\",VLOOKUP(V91,'Novos Agrupamentos'!$D$4:$E$130,2,FALSE)),\"\")","v":""},null,null,null,null,null,null,null,null,null,null,null,null,null,null,null,null,null,null,null,"RF",10,"RF10","0750","0750 - Garantia Judicial - Runoff"]
[null,"0983",null,71,"0983","0983 - Dotal Misto - Coletivo",null,"RF",11,"RF11","0775","0775 - Garantia Segurado – Setor Público","RF",null,91,"GRUPO HDI",43,43,null,"",{"$f":"IFERROR(IF(U91='Novos Agrupamentos'!$C$1,\"\",Cadastro!U91+1),\"\")","v":""},"","",{"$f":"IFERROR(IF(V92=\"\",\"\",VLOOKUP(V92,'Novos Agrupamentos'!$D$4:$E$130,2,FALSE)),\"\")","v":""},null,null,null,null,null,null,null,null,null,null,null,null,null,null,null,null,null,null,null,"RF",11,"RF11","0775","0775 - Garantia Segurado – Setor Público"]
[null,"0984",null,72,"0984","0984 - Doenças Graves ou Doença Terminal - Coletivo",null,"RF",12,"RF12","0776","0776 - Garantia Segurado – Setor Privado","RF","05142",92,"   ICATU SEG.","05142",44,null,"",{"$f":"IFERROR(IF(U92='Novos Agrupamentos'!$C$1,\"\",Cadastro!U92+1),\"\")","v":""},"","",{"$f":"IFERROR(IF(V93=\"\",\"\",VLOOKUP(V93,'Novos Agrupamentos'!$D$4:$E$130,2,FALSE)),\"\")","v":""},null,null,null,null,null,null,null,null,null,null,null,null,null,null,null,null,null,null,null,"RF",12,"RF12","0776","0776 - Garantia Segurado – Setor Privado"]
[null,"0986",null,{"$f":"IF(D93=0,0,+IF(D93+1>$C$24,0,D93+1))","v":73},"0986","0986 - Dotal Puro - Coletivo",null,"RF",13,"RF13","0819","0819 - Crédito à Exportação Risco Comercial - Runoff","RF","05657",93,"   VANGUARDA","05657",44,null,"",{"$f":"IFERROR(IF(U93='Novos Agrupamentos'!$C$1,\"\",Cadastro!U93+1),\"\")","v":""},"","",{"$f":"IFERROR(IF(V94=\"\",\"\",VLOOKUP(V94,'Novos Agrupamentos'!$D$4:$E$130,2,FALSE)),\"\")","v":""},null,null,null,null,null,null,null,null,null,null,null,null,null,null,null,null,null,null,null,"RF",13,"RF13","0819","0819 - Crédito à Exportação Risco Comercial - Runoff"]
[null,"0987",null,74,"0987","0987 - Desemprego/Perda de Renda - Coletivo",null,"RF",14,"RF14","0859","0859 - Crédito à Exportação Risco Político - Runoff","RF",null,94,"GRUPO ICATU",44,44,null,"",{"$f":"IFERROR(IF(U94='Novos Agrupamentos'!$C$1,\"\",Cadastro!U94+1),\"\")","v":""},"","",{"$f":"IFERROR(IF(V95=\"\",\"\",VLOOKUP(V95,'Novos Agrupamentos'!$D$4:$E$130,2,FALSE)),\"\")","v":""},null,null,null,null,null,null,null,null,null,null,null,null,null,null,null,null,null,null,null,"RF",14,"RF14","0859","0859 - Crédito à Exportação Risco Político - Runoff"]
[null,"0990",null,75,"0990","0990 - Eventos Aleatórios - Coletivo",null,"RF",15,"RF15","0860","0860 - Crédito Doméstico Risco Comercial - Runoff","RF","06921",95,"   INVESTPREV SEG.","06921",45,null,"",{"$f":"IFERROR(IF(U95='Novos Agrupamentos'!$C$1,\"\",Cadastro!U95+1),\"\")","v":""},"","",{"$f":"IFERROR(IF(V96=\"\",\"\",VLOOKUP(V96,'Novos Agrupamentos'!$D$4:$E$130,2,FALSE)),\"\")","v":""},null,null,null,null,null,null,null,null,null,null,null,null,null,null,null,null,null,null,null,"RF",15,"RF15","0860","0860 - Crédito Doméstico Risco Comercial - Runoff"]
[null,"0991",null,76,"0991","0991 - Vida Individual - Runoff",null,"RF",16,"RF16","0870","0870 - Crédito Doméstico Risco Pessoa Física - Runoff","RF","06173",96,"   INVESTPREV SEG. E PREV.","06173",45,null,"",{"$f":"IFERROR(IF(U96='Novos Agrupamentos'!$C$1,\"\",Cadastro!U96+1),\"\")","v":""},"","",{"$f":"IFERROR(IF(V97=\"\",\"\",VLOOKUP(V97,'Novos Agrupamentos'!$D$4:$E$130,2,FALSE)),\"\")","v":""},null,null,null,null,null,null,null,null,null,null,null,null,null,null,null,null,null,null,null,"RF",16,"RF16","0870","0870 - Crédito Doméstico Risco Pessoa Física - Runoff"]
[null,"0992",null,77,"0992","0992 - Vgbl/Vagp/Vrgp - Coletivo - Runoff",null,"Rur",1,"Rur1",{"$f":"IF(OR($A$1=FALSE,$C$22=1),AU98,W98)","v":"1101"},{"$f":"IF(OR($A$1=FALSE,$C$22=1),AV98,X98)","v":"1101 - Seguro Agrícola sem Cobertura do FESR"},"Rur",null,97,"GRUPO INVESTPREV",45,45,null,"",{"$f":"IFERROR(IF(U97='Novos Agrupamentos'!$C$1,\"\",Cadastro!U97+1),\"\")","v":""},"","",{"$f":"IFERROR(IF(V98=\"\",\"\",VLOOKUP(V98,'Novos Agrupamentos'!$D$4:$E$130,2,FALSE)),\"\")","v":""},null,null,null,null,null,null,null,null,null,null,null,null,null,null,null,null,null,null,null,"Rur",1,"Rur1","1101","1101 - Seguro Agrícola sem Cobertura do FESR"]
[null,"0993",null,78,"0993","0993 - Vida - Coletivo",null,"Rur",2,"Rur2","1102","1102 - Seguro Agrícola com Cobertura do FESR","Rur","05096",98,"   ITAÚ VIDA E PREVIDÊNCIA","05096",46,null,"",{"$f":"IFERROR(IF(U98='Novos Agrupamentos'!$C$1,\"\",Cadastro!U98+1),\"\")","v":""},"","",{"$f":"IFERROR(IF(V99=\"\",\"\",VLOOKUP(V99,'Novos Agrupamentos'!$D$4:$E$130,2,FALSE)),\"\")","v":""},null,null,null,null,null,null,null,null,null,null,null,null,null,null,null,null,null,null,null,"Rur",2,"Rur2","1102","1102 - Seguro Agrícola com Cobertura do FESR"]
[null,"0994",null,79,"0994","0994 - Vgbl/Vagp/Vrgp/Vrsa/Vri - Coletivo",null,"Rur",3,"Rur3","1103","1103 - Seguro Pecuário sem Cobertura do FESR","Rur","05321",99,"   ITAÚ SEG.","05321",46,null,"",{"$f":"IFERROR(IF(U99='Novos Agrupamentos'!$C$1,\"\",Cadastro!U99+1),\"\")","v":""},"","",{"$f":"IFERROR(IF(V100=\"\",\"\",VLOOKUP(V100,'Novos Agrupamentos'!$D$4:$E$130,2,FALSE)),\"\")","v":""},null,null,null,null,null,null,null,null,null,null,null,null,null,null,null,null,null,null,null,"Rur",3,"Rur3","1103","1103 - Seguro Pecuário sem Cobertura do FESR"]
[null,"1061",null,80,"1061","1061 - Seguro Habitacional em Apólices de Mercado – Prestamista",null,"Rur",4,"Rur4","1104","1104 - Seguro Pecuário com Cobertura do FESR","Rur","06912",100,"   ITAÚ BMG","06912",46,null,"",{"$f":"IFERROR(IF(U100='Novos Agrupamentos'!$C$1,\"\",Cadastro!U100+1),\"\")","v":""},"","",{"$f":"IFERROR(IF(V101=\"\",\"\",VLOOKUP(V101,'Novos Agrupamentos'!$D$4:$E$130,2,FALSE)),\"\")","v":""},null,null,null,null,null,null,null,null,null,null,null,null,null,null,null,null,null,null,null,"Rur",4,"Rur4","1104","1104 - Seguro Pecuário com Cobertura do FESR"]
[null,"1065",null,81,"1065","1065 - Seguro Habitacional Apólices de Mercado – Demais Coberturas",null,"Rur",5,"Rur5","1105","1105 - Seguro Aquícola sem Cobertura do FESR","Rur","06041",101,"   PARANÁ","06041",46,null,"",{"$f":"IFERROR(IF(U101='Novos Agrupamentos'!$C$1,\"\",Cadastro!U101+1),\"\")","v":""},"","",{"$f":"IFERROR(IF(V102=\"\",\"\",VLOOKUP(V102,'Novos Agrupamentos'!$D$4:$E$130,2,FALSE)),\"\")","v":""},null,null,null,null,null,null,null,null,null,null,null,null,null,null,null,null,null,null,null,"Rur",5,"Rur5","1105","1105 - Seguro Aquícola sem Cobertura do FESR"]
[null,"1066",null,82,"1066","1066 - Seguro Habitacional do Sistema Financeiro da Habitação",null,"Rur",6,"Rur6","1106","1106 - Seguro Aquícola com Cobertura do FESR","Rur","04367",102,"   IU SEGUROS","04367",{"$f":"IF(LEFT(P102,1)<>\" \",R102+1,R102)","v":46},null,"",{"$f":"IFERROR(IF(U102='Novos Agrupamentos'!$C$1,\"\",Cadastro!U102+1),\"\")","v":""},"","",{"$f":"IFERROR(IF(V103=\"\",\"\",VLOOKUP(V103,'Novos Agrupamentos'!$D$4:$E$130,2,FALSE)),\"\")","v":""},null,null,null,null,null,null,null,null,null,null,null,null,null,null,null,null,null,null,null,"Rur",6,"Rur6","1106","1106 - Seguro Aquícola com Cobertura do FESR"]
[null,"1068",null,83,"1068","1068 - Seguro Habitacional Fora do S.F.H. - Runoff",null,"Rur",7,"Rur7","1107","1107 - Seguro Florestas sem Cobertura do FESR","Rur",null,103,"GRUPO ITAÚ UNIBANCO",46,46,null,"",{"$f":"IFERROR(IF(U103='Novos Agrupamentos'!$C$1,\"\",Cadastro!U103+1),\"\")","v":""},"","",{"$f":"IFERROR(IF(V104=\"\",\"\",VLOOKUP(V104,'Novos Agrupamentos'!$D$4:$E$130,2,FALSE)),\"\")","v":""},null,null,null,null,null,null,null,null,null,null,null,null,null,null,null,null,null,null,null,"Rur",7,"Rur7","1107","1107 - Seguro Florestas sem Cobertura do FESR"]
[null,"1101",null,84,"1101","1101 - Seguro Agrícola sem Cobertura do FESR",null,"Rur",8,"Rur8","1108","1108 - Seguro Florestas com Cobertura do FESR","Rur","05185",104,"   LIBERTY SEG.","05185",47,null,"",{"$f":"IFERROR(IF(U104='Novos Agrupamentos'!$C$1,\"\",Cadastro!U104+1),\"\")","v":""},"","",{"$f":"IFERROR(IF(V105=\"\",\"\",VLOOKUP(V105,'Novos Agrupamentos'!$D$4:$E$130,2,FALSE)),\"\")","v":""},null,null,null,null,null,null,null,null,null,null,null,null,null,null,null,null,null,null,null,"Rur",8,"Rur8","1108","1108 - Seguro Florestas com Cobertura do FESR"]
[null,"1102",null,85,"1102","1102 - Seguro Agrícola com Cobertura do FESR",null,"Rur",9,"Rur9","1109","1109 - Seguro da Cédula do Produto Rural","Rur","05843",105,"   INDIANA","05843",47,null,"",{"$f":"IFERROR(IF(U105='Novos Agrupamentos'!$C$1,\"\",Cadastro!U105+1),\"\")","v":""},"","",{"$f":"IFERROR(IF(V106=\"\",\"\",VLOOKUP(V106,'Novos Agrupamentos'!$D$4:$E$130,2,FALSE)),\"\")","v":""},null,null,null,null,null,null,null,null,null,null,null,null,null,null,null,null,null,null,null,"Rur",9,"Rur9","1109","1109 - Seguro da Cédula do Produto Rural"]
[null,"1103",null,86,"1103","1103 - Seguro Pecuário sem Cobertura do FESR",null,"Rur",10,"Rur10","1130","1130 - Seguro Benfeitorias e Produtos Agropecuários","Rur",null,106,"GRUPO LIBERTY",47,47,null,"",{"$f":"IFERROR(IF(U106='Novos Agrupamentos'!$C$1,\"\",Cadastro!U106+1),\"\")","v":""},"","",{"$f":"IFERROR(IF(V107=\"\",\"\",VLOOKUP(V107,'Novos Agrupamentos'!$D$4:$E$130,2,FALSE)),\"\")","v":""},null,null,null,null,null,null,null,null,null,null,null,null,null,null,null,null,null,null,null,"Rur",10,"Rur10","1130","1130 - Seguro Benfeitorias e Produtos Agropecuários"]
[null,"1104",null,87,"1104","1104 - Seguro Pecuário com Cobertura do FESR",null,"Rur",11,"Rur11","1162","1162 - Penhor Rural","Rur","03271",107,"LÍDER DPVAT","03271",48,null,"",{"$f":"IFERROR(IF(U107='Novos Agrupamentos'!$C$1,\"\",Cadastro!U107+1),\"\")","v":""},"","",{"$f":"IFERROR(IF(V108=\"\",\"\",VLOOKUP(V108,'Novos Agrupamentos'!$D$4:$E$130,2,FALSE)),\"\")","v":""},null,null,null,null,null,null,null,null,null,null,null,null,null,null,null,null,null,null,null,"Rur",11,"Rur11","1162","1162 - Penhor Rural"]
[null,"1105",null,88,"1105","1105 - Seguro Aquícola sem Cobertura do FESR",null,"Rur",12,"Rur12","1163","1163 - Penhor Rural – Instituições Financeiras Públicas - Runoff","Rur","06084",108,"MBM SEG.","06084",49,null,"",{"$f":"IFERROR(IF(U108='Novos Agrupamentos'!$C$1,\"\",Cadastro!U108+1),\"\")","v":""},"","",{"$f":"IFERROR(IF(V109=\"\",\"\",VLOOKUP(V109,'Novos Agrupamentos'!$D$4:$E$130,2,FALSE)),\"\")","v":""},null,null,null,null,null,null,null,null,null,null,null,null,null,null,null,null,null,null,null,"Rur",12,"Rur12","1163","1163 - Penhor Rural – Instituições Financeiras Públicas - Runoff"]
[null,"1106",null,89,"1106","1106 - Seguro Aquícola com Cobertura do FESR",null,"Rur",13,"Rur13","1164","1164 - Seguros Animais","Rur","06351",109,"METLIFE","06351",50,null,"",{"$f":"IFERROR(IF(U109='Novos Agrupamentos'!$C$1,\"\",Cadastro!U109+1),\"\")","v":""},"","",{"$f":"IFERROR(IF(V110=\"\",\"\",VLOOKUP(V110,'Novos Agrupamentos'!$D$4:$E$130,2,FALSE)),\"\")","v":""},null,null,null,null,null,null,null,null,null,null,null,null,null,null,null,null,null,null,null,"Rur",13,"Rur13","1164","1164 - Seguros Animais"]
[null,"1107",null,90,"1107","1107 - Seguro Florestas sem Cobertura do FESR",null,"Rur",14,"Rur14","1198","1198 - Seguro de Vida do Produtor Rural","Rur","06602",110,"MITSUI SUMITOMO",{"$f":"IF(N111=\"\",R111,N111)","v":"06602"},51,null,"",{"$f":"IFERROR(IF(U110='Novos Agrupamentos'!$C$1,\"\",Cadastro!U110+1),\"\")","v":""},"","",{"$f":"IFERROR(IF(V111=\"\",\"\",VLOOKUP(V111,'Novos Agrupamentos'!$D$4:$E$130,2,FALSE)),\"\")","v":""},null,null,null,null,null,null,null,null,null,null,null,null,null,null,null,null,null,null,null,"Rur",14,"Rur14","1198","1198 - Seguro de Vida do Produtor Rural"]
[null,"1108",null,91,"1108","1108 - Seguro Florestas com Cobertura do FESR",null,"Transp",1,"Transp1","0523","0523 - R.C.  Transp. Rod. Interest. e Internac. - Runoff","Transp","02101",111,"MONGERAL AEGON","02101",52,null,"",{"$f":"IFERROR(IF(U111='Novos Agrupamentos'!$C$1,\"\",Cadastro!U111+1),\"\")","v":""},"","",{"$f":"IFERROR(IF(V112=\"\",\"\",VLOOKUP(V112,'Novos Agrupamentos'!$D$4:$E$130,2,FALSE)),\"\")","v":""},null,null,null,null,null,null,null,null,null,null,null,null,null,null,null,null,null,null,null,"Transp",1,"Transp1","0523","0523 - R.C.  Transp. Rod. Interest. e Internac. - Runoff"]
[null,"1109",null,92,"1109","1109 - Seguro da Cédula do Produto Rural",null,"Transp",2,"Transp2","0621","0621 - Transporte Nacional","Transp","06131",112,"MUTUAL","06131",53,null,"",{"$f":"IFERROR(IF(U112='Novos Agrupamentos'!$C$1,\"\",Cadastro!U112+1),\"\")","v":""},"","",{"$f":"IFERROR(IF(V113=\"\",\"\",VLOOKUP(V113,'Novos Agrupamentos'!$D$4:$E$130,2,FALSE)),\"\")","v":""},null,null,null,null,null,null,null,null,null,null,null,null,null,null,null,null,null,null,null,"Transp",2,"Transp2","0621","0621 - Transporte Nacional"]
[null,"1130",null,93,"1130","1130 - Seguro Benfeitorias e Produtos Agropecuários",null,"Transp",3,"Transp3","0622","0622 - Transporte Internacional","Transp","05754",113,"NOBRE","05754",54,null,"",{"$f":"IFERROR(IF(U113='Novos Agrupamentos'!$C$1,\"\",Cadastro!U113+1),\"\")","v":""},"","",{"$f":"IFERROR(IF(V114=\"\",\"\",VLOOKUP(V114,'Novos Agrupamentos'!$D$4:$E$130,2,FALSE)),\"\")","v":""},null,null,null,null,null,null,null,null,null,null,null,null,null,null,null,null,null,null,null,"Transp",3,"Transp3","0622","0622 - Transporte Internacional"]
[null,"1162",null,94,"1162","1162 - Penhor Rural",null,"Transp",4,"Transp4","0623","0623 - R. C. Transp. Rod. Interestadual e Internacional – RC Ônibus","Transp","02542",114,"OMINT","02542",55,null,"",{"$f":"IFERROR(IF(U114='Novos Agrupamentos'!$C$1,\"\",Cadastro!U114+1),\"\")","v":""},"","",{"$f":"IFERROR(IF(V115=\"\",\"\",VLOOKUP(V115,'Novos Agrupamentos'!$D$4:$E$130,2,FALSE)),\"\")","v":""},null,null,null,null,null,null,null,null,null,null,null,null,null,null,null,null,null,null,null,"Transp",4,"Transp4","0623","0623 - R. C. Transp. Rod. Interestadual e Internacional – RC Ônibus"]
[null,"1163",null,95,"1163","1163 - Penhor Rural – Instituições Financeiras Públicas - Runoff",null,"Transp",5,"Transp5","0627","0627 - R.C. do Transportador Intermodal - Runoff","Transp","05886",115,"   PORTO SEGURO SEG.","05886",56,null,"",{"$f":"IFERROR(IF(U115='Novos Agrupamentos'!$C$1,\"\",Cadastro!U115+1),\"\")","v":""},"","",{"$f":"IFERROR(IF(V116=\"\",\"\",VLOOKUP(V116,'Novos Agrupamentos'!$D$4:$E$130,2,FALSE)),\"\")","v":""},null,null,null,null,null,null,null,null,null,null,null,null,null,null,null,null,null,null,null,"Transp",5,"Transp5","0627","0627 - R.C. do Transportador Intermodal - Runoff"]
[null,"1164",null,96,"1164","1164 - Seguros Animais",null,"Transp",6,"Transp6","0628","0628 - R.C. Facultativa de Veículos – RCFV Ônibus","Transp","03182",116,"   ITAÚ SEGUROS AUTO E RESIDÊNCIA","03182",56,null,"",{"$f":"IFERROR(IF(U116='Novos Agrupamentos'!$C$1,\"\",Cadastro!U116+1),\"\")","v":""},"","",{"$f":"IFERROR(IF(V117=\"\",\"\",VLOOKUP(V117,'Novos Agrupamentos'!$D$4:$E$130,2,FALSE)),\"\")","v":""},null,null,null,null,null,null,null,null,null,null,null,null,null,null,null,null,null,null,null,"Transp",6,"Transp6","0628","0628 - R.C. Facultativa de Veículos – RCFV Ônibus"]
[null,"1198",null,97,"1198","1198 - Seguro de Vida do Produtor Rural",null,{"$f":"IF($A$1=TRUE,T118,AR118)","v":"Transp"},{"$f":"IF($A$1=TRUE,U118,AS118)","v":7},{"$f":"IF($A$1=TRUE,V118,AT118)","v":"Transp7"},"0632","0632 - R.C. Transp. Rod. de Carga em Viagem Intern. – RCTR-Vi-C","Transp","05355",117,"   AZUL","05355",56,null,"",{"$f":"IFERROR(IF(U117='Novos Agrupamentos'!$C$1,\"\",Cadastro!U117+1),\"\")","v":""},"","",{"$f":"IFERROR(IF(V118=\"\",\"\",VLOOKUP(V118,'Novos Agrupamentos'!$D$4:$E$130,2,FALSE)),\"\")","v":""},null,null,null,null,null,null,null,null,null,null,null,null,null,null,null,null,null,null,null,"Transp",7,"Transp7","0632","0632 - R.C. Transp. Rod. de Carga em Viagem Intern. – RCTR-Vi-C"]
[null,"1279",null,98,{"$f":"IFERROR(IF(D119=0,0,IF($C$23=\"Total\",B119,VLOOKUP(+CONCATENATE($C$23,D119),J99:K224,2,FALSE))),\"\")","v":"1279"},{"$f":"IF(E119=0,\"\",+VLOOKUP(E119,$K$2:$L$128,2,FALSE))","v":"1279 - Seguros no Exterior - Runoff"},null,"Transp",8,"Transp8","0638","0638 - R.C. do Transportador Ferroviário Carga – RCTF-C","Transp","06033",118,"   PORTO SEGURO VIDA E PREV,","06033",56,null,"",{"$f":"IFERROR(IF(U118='Novos Agrupamentos'!$C$1,\"\",Cadastro!U118+1),\"\")","v":""},"","",{"$f":"IFERROR(IF(V119=\"\",\"\",VLOOKUP(V119,'Novos Agrupamentos'!$D$4:$E$130,2,FALSE)),\"\")","v":""},null,null,null,null,null,null,null,null,null,null,null,null,null,null,null,null,null,null,null,"Transp",8,"Transp8","0638","0638 - R.C. do Transportador Ferroviário Carga – RCTF-C"]
[null,"1299",null,99,"1299","1299 - Sucursais no Exterior - Runoff",null,{"$f":"IF($A$1=TRUE,T120,AR120)","v":"Transp"},{"$f":"IF($A$1=TRUE,U120,AS120)","v":9},{"$f":"IF($A$1=TRUE,V120,AT120)","v":"Transp9"},{"$f":"IF(OR($A$1=FALSE,$C$22=1),AU120,W120)","v":"0644"},{"$f":"IF(OR($A$1=FALSE,$C$22=1),AV120,X120)","v":"0644 - R.C. Transp. Rod. Viag. Intern. Pess. Transp. ou não – Carta Azul"},{"$f":"H120","v":"Transp"},null,119,"GRUPO PORTO SEGURO",56,56,null,{"$f":"IF(U120=\"\",\"\",T119)","v":""},{"$f":"IFERROR(IF(U119='Novos Agrupamentos'!$C$1,\"\",Cadastro!U119+1),\"\")","v":""},{"$f":"IF(T120=\"\",\"\",CONCATENATE(T120,U120))","v":""},{"$f":"IF(X120=\"\",\"\",LEFT(X120,4))","v":""},{"$f":"IFERROR(IF(V120=\"\",\"\",VLOOKUP(V120,'Novos Agrupamentos'!$D$4:$E$130,2,FALSE)),\"\")","v":""},null,null,null,null,null,null,null,null,null,null,null,null,null,null,null,null,null,null,null,"Transp",{"$f":"IF(AR120=\"\",\"\",IF(AR120=AR119,AS119+1,1))","v":9},{"$f":"+CONCATENATE(AR120,AS120)","v":"Transp9"},"0644","0644 - R.C. Transp. Rod. Viag. Intern. Pess. Transp. ou não – Carta Azul"]
[null,"1329",null,100,"1329","1329 - Funeral - Individual",null,"Transp",10,"Transp10","0652","0652 - R.C. do Transportador Aéreo Carga – RCTA-C","Transp","03069",120,"POTTENCIAL","03069",57,null,"",{"$f":"IFERROR(IF(U120='Novos Agrupamentos'!$C$1,\"\",Cadastro!U120+1),\"\")","v":""},"","",{"$f":"IFERROR(IF(V121=\"\",\"\",VLOOKUP(V121,'Novos Agrupamentos'!$D$4:$E$130,2,FALSE)),\"\")","v":""},null,null,null,null,null,null,null,null,null,null,null,null,null,null,null,null,null,null,null,"Transp",10,"Transp10","0652","0652 - R.C. do Transportador Aéreo Carga – RCTA-C"]
[null,"1336",null,101,"1336","1336 - Perda do Certificado de Habilitação de Voo – PCHV - Individual",null,"Transp",11,"Transp11","0654","0654 - R.C. do Transportador Rodoviário Carga – RCTR-C",{"$f":"H122","v":"Transp"},"05401",121,"PQ","05401",58,null,"",{"$f":"IFERROR(IF(U121='Novos Agrupamentos'!$C$1,\"\",Cadastro!U121+1),\"\")","v":""},"","",{"$f":"IFERROR(IF(V122=\"\",\"\",VLOOKUP(V122,'Novos Agrupamentos'!$D$4:$E$130,2,FALSE)),\"\")","v":""},null,null,null,null,null,null,null,null,null,null,null,null,null,null,null,null,null,null,null,"Transp",{"$f":"IF(AR122=\"\",\"\",IF(AR122=AR121,AS121+1,1))","v":11},{"$f":"+CONCATENATE(AR122,AS122)","v":"Transp11"},"0654","0654 - R.C. do Transportador Rodoviário Carga – RCTR-C"]
[null,"1369",null,102,"1369","1369 - Viagem - Individual",null,"Transp",12,"Transp12","0655","0655 - R.C. do Transportador Desvio de Carga – RCF-DC","Transp","05193",122,"PREVIDÊNCIA DO SUL","05193",59,null,"",{"$f":"IFERROR(IF(U122='Novos Agrupamentos'!$C$1,\"\",Cadastro!U122+1),\"\")","v":""},"","",{"$f":"IFERROR(IF(V123=\"\",\"\",VLOOKUP(V123,'Novos Agrupamentos'!$D$4:$E$130,2,FALSE)),\"\")","v":""},null,null,null,null,null,null,null,null,null,null,null,null,null,null,null,null,null,null,null,"Transp",12,"Transp12","0655","0655 - R.C. do Transportador Desvio de Carga – RCF-DC"]
[null,"1377",null,103,"1377","1377 - Prestamista (Exceto Habitacional e Rural) - Individual",null,"Transp",13,"Transp13","0656","0656 - R.C. do Transportador Aquaviário Carga – RCA-C","Transp","03794",123,"PREVIMAX","03794",60,null,"",{"$f":"IFERROR(IF(U123='Novos Agrupamentos'!$C$1,\"\",Cadastro!U123+1),\"\")","v":""},"","",{"$f":"IFERROR(IF(V124=\"\",\"\",VLOOKUP(V124,'Novos Agrupamentos'!$D$4:$E$130,2,FALSE)),\"\")","v":""},null,null,null,null,null,null,null,null,null,null,null,null,null,null,null,null,null,null,null,"Transp",13,"Transp13","0656","0656 - R.C. do Transportador Aquaviário Carga – RCA-C"]
[null,"1380",null,104,"1380","1380 - Educacional - Individual",null,"Transp",14,"Transp14","0658","0658 - R.C. do Operador do Transporte Multimodal – RCOTM-C","Transp","05282",124,"   PRUDENTIAL SEG. DE VIDA ","05282",61,null,"",{"$f":"IFERROR(IF(U124='Novos Agrupamentos'!$C$1,\"\",Cadastro!U124+1),\"\")","v":""},"","",{"$f":"IFERROR(IF(V125=\"\",\"\",VLOOKUP(V125,'Novos Agrupamentos'!$D$4:$E$130,2,FALSE)),\"\")","v":""},null,null,null,null,null,null,null,null,null,null,null,null,null,null,null,null,null,null,null,"Transp",14,"Transp14","0658","0658 - R.C. do Operador do Transporte Multimodal – RCOTM-C"]
[null,"1381",null,{"$f":"IF(D125=0,0,+IF(D125+1>$C$24,0,D125+1))","v":105},"1381","1381 - Acidentes Pessoais - Individual",null,"VGBL",1,"VGBL1","0992","0992 - Vgbl/Vagp/Vrgp - Coletivo - Runoff","VGBL","06360",125,"   KYOEI","06360",61,null,"",{"$f":"IFERROR(IF(U125='Novos Agrupamentos'!$C$1,\"\",Cadastro!U125+1),\"\")","v":""},"","",{"$f":"IFERROR(IF(V126=\"\",\"\",VLOOKUP(V126,'Novos Agrupamentos'!$D$4:$E$130,2,FALSE)),\"\")","v":""},null,null,null,null,null,null,null,null,null,null,null,null,null,null,null,null,null,null,null,"VGBL",1,"VGBL1","0992","0992 - Vgbl/Vagp/Vrgp - Coletivo - Runoff"]
[null,"1383",null,106,"1383","1383 - Dotal Misto - Individual",null,"VGBL",2,"VGBL2","0994","0994 - Vgbl/Vagp/Vrgp/Vrsa/Vri - Coletivo","VGBL",null,126,"GRUPO PRUDENTIAL",61,61,null,"",{"$f":"IFERROR(IF(U126='Novos Agrupamentos'!$C$1,\"\",Cadastro!U126+1),\"\")","v":""},"","",{"$f":"IFERROR(IF(V127=\"\",\"\",VLOOKUP(V127,'Novos Agrupamentos'!$D$4:$E$130,2,FALSE)),\"\")","v":""},null,null,null,null,null,null,null,null,null,null,null,null,null,null,null,null,null,null,null,"VGBL",2,"VGBL2","0994","0994 - Vgbl/Vagp/Vrgp/Vrsa/Vri - Coletivo"]
[null,"1384",null,107,"1384","1384 - Doenças Graves ou Doença Terminal - Individual",null,"VGBL",3,"VGBL3","1392","1392 - Vgbl/Vagp/Vrgp/Vrsa/Vri - Individual","VGBL","05941",127,"QBE","05941",62,null,"",{"$f":"IFERROR(IF(U127='Novos Agrupamentos'!$C$1,\"\",Cadastro!U127+1),\"\")","v":""},"","",{"$f":"IFERROR(IF(V128=\"\",\"\",VLOOKUP(V128,'Novos Agrupamentos'!$D$4:$E$130,2,FALSE)),\"\")","v":""},null,null,null,null,null,null,null,null,null,null,null,null,null,null,null,null,null,null,null,"VGBL",3,"VGBL3","1392","1392 - Vgbl/Vagp/Vrgp/Vrsa/Vri - Individual"]
[null,"1386",null,108,"1386","1386 - Dotal Puro - Individual",null,null,null,null,null,null,null,"06301",128,"RIO GRANDE DE SEGUROS E PREV.","06301",63]
[null,"1387",null,109,"1387","1387 - Desemprego/Perda de Renda - Individual",null,null,null,null,null,null,null,"01007",129,"SABEMI SEG.","01007",64]
[null,"1390",null,110,"1390","1390 - Eventos Aleatórios - Individual",null,null,null,null,null,null,null,"09938",130,"   SAFRA VIDA E PREV.","09938",65]
[null,"1391",null,111,"1391","1391 - Vida - Individual",null,null,null,null,null,null,null,"01627",131,"   SAFRA SEG.","01627",65]
[null,"1392",null,112,"1392","1392 - Vgbl/Vagp/Vrgp/Vrsa/Vri - Individual",null,null,null,null,null,null,null,null,132,"GRUPO SAFRA",65,65]
[null,"1417",null,113,"1417","1417 - Seguro Compreensivo para Operadores Portuários",null,null,null,null,null,null,null,"02950",133,"SANCOR","02950",66]
[null,"1428",null,114,"1428","1428 - R.C. Facultativa para Embarcações – RCF",null,null,null,null,null,null,null,"06831",134,"   SINAF PREVIDENCIAL","06831",{"$f":"IF(LEFT(P134,1)<>\" \",R134+1,R134)","v":67}]
[null,"1433",null,115,"1433","1433 - Marítimos (Casco)",null,null,null,null,null,null,null,"04634",135,"   PATER SEGUROS","04634",67]
[null,"1457",null,116,"1457","1457 - DPEM",null,null,null,null,null,null,null,null,{"$f":"O136+1","v":136},"GRUPO SINAF",67,67]
[null,"1528",null,117,"1528","1528 - R.C. Facultativa para Aeronaves – RCF",null,null,null,null,null,null,null,"05720",137,"SOMPO","05720",68]
[null,"1535",null,118,"1535","1535 - Aeronáuticos (Casco)",null,null,null,null,null,null,null,"04928",138,"STARR",{"$f":"IF(N139=\"\",R139,N139)","v":"04928"},69]
[null,"1537",null,119,"1537","1537 - R.C. Hangar",null,null,null,null,null,null,null,"04952",139,"SUHAI","04952",70]
[null,"1574",null,120,"1574","1574 - Satélites",null,null,null,null,null,null,null,"05118",140,"   SUL AMÉRICA SEG.","05118",71]
[null,"1597",null,121,{"$f":"IFERROR(IF(D142=0,0,IF($C$23=\"Total\",B142,VLOOKUP(+CONCATENATE($C$23,D142),J122:K247,2,FALSE))),\"\")","v":"1597"},{"$f":"IF(E142=0,\"\",+VLOOKUP(E142,$K$2:$L$128,2,FALSE))","v":"1597 - Respons. do Explorador ou Transportador Aéreo –Reta"},null,null,null,null,null,null,null,"06220",141,"   SUL AMÉRICA SEG. PESSOAS E PREV.","06220",71]
[null,"1601",null,122,"1601","1601 - Microsseguros de Pessoas",null,null,null,null,null,null,null,null,142,"GRUPO SUL AMÉRICA",71,71]
[null,"1602",null,123,"1602","1602 - Microsseguros de Danos",null,null,null,null,null,null,null,"06751",143,"SURA","06751",72]
[null,"1734",null,124,"1734","1734 - Riscos de Petróleo",null,null,null,null,null,null,null,"05991",144,"SWISS RE","05991",73]
[null,"1872",null,125,"1872","1872 - Riscos Nucleares",null,null,null,null,null,null,null,"06190",145,"   TOKIO MARINE SEG.","06190",74]
[null,"2079",null,126,"2079","2079 - Aceitações do Exterior",null,null,null,null,null,null,null,"05151",146,"   TOKIO MARINE BRASIL ","05151",74]
[null,"2199",null,127,"2199","2199 - Sucursais no Exterior",null,null,null,null,null,null,null,null,147,"GRUPO TOKIO MARINE",74,74]
[null,null,null,null,null,null,null,null,null,null,null,null,null,"05436",148,"   J. MALUCELLI SEG.","05436",75]
[null,null,null,null,null,null,null,null,null,null,null,null,null,"03727",149,"   TRAVELERS SEGUROS","03727",75]
[null,null,null,null,null,null,null,null,null,null,null,null,null,null,150,"GRUPO TRAVELERS",75,75]
[null,null,null,null,null,null,null,null,null,null,null,null,null,"02801",151,"UNIÃO SEGURADORA","02801",76]
[null,null,null,null,null,null,null,null,null,null,null,null,null,"06947",152,"   UNIMED SEG.","06947",77]
[null,null,null,null,null,null,null,null,null,null,null,null,null,"01970",153,"   UNIMED SEG. PATR.","01970",77]
[null,null,null,null,null,null,null,null,null,null,null,null,null,null,154,"GRUPO UNIMED",77,77]
[null,null,null,null,null,null,null,null,null,null,null,null,null,"03671",155,"USEBENS","03671",78]
[null,null,null,null,null,null,null,null,null,null,null,null,null,"06530",156,"VIRGINIA SURETY","06530",79]
[null,null,null,null,null,null,null,null,null,null,null,null,null,"01431",157,"XL","01431",80]
[null,null,null,null,null,null,null,null,null,null,null,null,null,"04871",158,"VOTORANTIM","04871",{"$f":"IF(LEFT(P138,1)<>\" \",R138+1,R138)","v":69}]
[null,null,null,null,null,null,null,null,null,null,null,null,null,"05495",159,"   ZURICH MINAS-BRASIL","05495",{"$f":"IF(LEFT(P159,1)<>\" \",R159+1,R159)","v":70}]
[null,null,null,null,null,null,null,null,null,null,null,null,null,"05070",160,"   ZURICH SANTANDER SEG. E PREV.","05070",{"$f":"IF(LEFT(P160,1)<>\" \",R160+1,R160)","v":70}]
[null,null,null,null,null,null,null,null,null,null,null,null,null,"06564",161,"   ZURICH SANTANDER","06564",{"$f":"IF(LEFT(P161,1)<>\" \",R161+1,R161)","v":70}]
[null,null,null,null,null,null,null,null,null,null,null,null,null,"06157",162,"   ZURICH VIDA E PREV.","06157",{"$f":"IF(LEFT(P162,1)<>\" \",R162+1,R162)","v":70}]
[null,null,null,null,null,null,null,null,null,null,null,null,null,null,163,"GRUPO ZURICH",70,{"$f":"IF(LEFT(P163,1)<>\" \",R163+1,R163)","v":70}]
[]
[]
[]
[]
[]
[]
[]
[]
[]
[]
[]
[]
[]
[]
[]
[]
[]
[]
[]
[]
[]
[]
[]
[]
[]
[]
[]
[]
[]
[]
[]
[]
[]
[]
[]
[]
[]
[]
[]
[]
[]
[]
[]
[]
[]
[]
[]
[]
[]
[]
[]
[]
[]
[]
[]
[]
[]
[]
[]
[]
[]
[]
[]
[]
[]
[]
[]
[]
[]
[]
[]
[]
[]
[]
[]
[]
[]
[]
[]
[]
[]
[]
[]
[]
[]
[]
[]
[]
[]
[]
[]
[]
[]
[]
[]
[]
[]
[]
[]
[]
[]
[]
[]
[]
[]
[]
[]
[]
[]
[]
[]
[]
[]
[]
[]
[]
[]
[]
[]
[]
[]
[]
[]
[]
[]
[]
[]
[]
[]
[]
[]
[]
[]
[]
[]
[]
[]
[]
[]
[]
[]
[]
[]
[]
[]
[]
[]
[]
[]
[]
[]
[]
[]
[]
[]
[]
[]
[]
[]
[]
[]
[]
[]
[]
[]
[]
[]
[]
[]
[]
[]
[]
[]
[]
[]
[]
[]
[]
[]
[]
[]
[]
[]
[]
[]
[]
[]
[]
[]
[]
[]
[]
[]
[]
[]
[]
[]
[]
[]
[]
[]
[]
[]
[]
[]
[]
[]
[]
[]
[]
[]
[]
[]
[]
[]
[]
[]
[]
[]
[]
[]
[]
[]
[]
[]
[]
[]
[]
[]
[]
[]
[]
[]
[]
[]
[]
[]
[]
[]
[]
[]
[]
[]
[]
[]
[]
[]
[]
[]
[]
[]
[]
[]
[]
[]
[]
[]
[]
[]
[]
[]
[]
[]
[]
[]
[]
[]
[]
[]
[]
[]
[]
[]
[]
[]
[]
[]
[]
[]
[]
[]
[]
[]
[]
[]
[]
[]
[]
[]
[]
[]
[]
[]
[]
[]
[]
[]
[]
[]
[]
[]
[]
[]
[]
[]
[]
[]
[]
[]
[]
[]
[]
[]
[]
[]
[]
[]
[]
[]
[]
[]
[]
[]
[]
[]
[]
[]
[]
[]
[]
[]
[]
[]
[]
[]
[]
[]
[]
[]
[]
[]
[]
[]
[]
[]
[]
[]
[]
[]
[]
[]
[]
[]
[]
[]
[]
[]
[]
[]
[]
[]
[]
[]
[]
[]
[]
[]
[]
[]
[]
[]
[]
[]
[]
[]
[]
[]
[]
[]
[]
[]
[]
[]
[]
[]
[]
[]
[]
[]
[]
[]
[]
[]
[]
[]
[]
[]
[]
[]
[]
[]
[]
[]
[]
[]
[]
[]
[]
[]
[]
[]
[]
[]
[]
[]
[]
[]
[]
[]
[]
[]
[]
[]
[]
[]
[]
[]
[]
[]
[]
[]
[]
[]
[]
[]
[]
[]
[]
[]
[]
[]
[]
[]
[]
[]
[]
[]
[]
[]
[]
[]
[]
[]
[]
[]
[]
[]
[]
[]
[]
[]
[]
[]
[]
[]
[]
[]
[]
[]
[]
[]
[]
[]
[]
[]
[]
[]
[]
[]
[]
[]
[]
[]
[]
[]
[]
[]
[]
[]
[]
[]
[]
[]
[]
[]
[]
[]
[]
[]
[]
[]
[]
[]
[]
[]
[]
[]
[]
[]
[]
[]
[]
[]
[]
[]
[]
[]
[]
[]
[]
[]
[]
[]
[]
[]
[]
[]
[]
[]
[]
[]
[]
[]
[]
[]
[]
[]
[]
[]
[]
[]
[]
[]
[]
[]
[]
[]
[]
[]
[]
[]
[]
[]
[]
[]
[]
[]
[]
[]
[]
[]
[]
[]
[]
[]
[]
[]
[]
[]
[]
[]
[]
[]
[]
[]
[]
[]
[]
[]
[]
[]
[]
[]
[]
[]
[]
[]
[]
[]
[]
[]
[]
[]
[]
[]
[]
[]
[]
[]
[]
[]
[]
[]
[]
[]
[]
[]
[]
[]
[]
[]
[]
[]
[]
[]
[]
[]
[]
[]
[]
[]
[]
[]
[]
[]
[]
[]
[]
[]
[]
[]
[]
[]
[]
[]
[]
[]
[]
[]
[]
[]
[]
[]
[]
[]
[]
[]
[]
[]
[]
[]
[]
[]
[]
[]
[]
[]
[]
[]
[]
[]
[]
[]
[]
[]
[]
[]
[]
[]
[]
[]
[]
[]
[]
[]
[]
[]
[]
[]
[]
[]
[]
[]
[]
[]
[]
[]
[]
[]
[]
[]
[]
[]
[]
[]
[]
[]
[]
[]
[]
[]
[]
[]
[]
[]
[]
[]
[]
[]
[]
[]
[]
[]
[]
[]
[]
[]
[]
[]
[]
[]
[]
[]
[]
[]
[]
[]
[]
[]
[]
[]
[]
[]
[]
[]
[]
[]
[]
[]
[]
[]
[]
[]
[]
[]
[]
[]
[]
[]
[]
[]
[]
[]
[]
[]
[]
[]
[]
[]
[]
[]
[]
[]
[]
[]
[]
[]
[]
[]
[]
[]
[]
[]
[]
[]
[]
[]
[]
[]
[]
[]
[]
[]
[]
[]
[]
[]
[]
[]
[]
[]
[]
[]
[]
[]
[]
[]
[]
[]
[]
[]
[]
[]
[]
[]
[]
[]
[]
[]
[]
[]
[]
[]
[]
[]
[]
[]
[]
[]
[]
[]
[]
[]
[]
[]
[]
[]
[]
[]
[]
[]
[]
[]
[]
[]
[]
[]
[]
[]
[]
[]
[]
[]
[]
[]
[]
[]
[]
[]
[]
[]
[]
[]
[]
[]
[]
[]
[]
[]
[]
[]
[]
[]
[]
[]
[]
[]
[]
[]
[]
[]
[]
[]
[]
[]
[]
[]
[]
[]
[]
[]
[]
[]
[]
[]
[]
[]
[]
[]
[]
[]
[]
[]
[]
[]
[]
[]
[]
[]
[]
[]
[]
[]
[]
[]
[]
[]
[]
[]
[]
[]
[]
[]
[]
[]
[]
[]
[]
[]
[]
[]
[]
[]
[]
[]
[]
[]
[]
[]
[]
[]
[]
[]
[]
[]
[]
[]
[]
[]
[]
[]
[]
[]
[]
[]
[]
[]
[]
[]
[]
[]
[]
[]
[]
[]
[]
[]
[]
[]
[]
[]
[]
[]
[]
[]
[]
[]
[]
[]
[]
[]
[]
[]
[]
[]
[]
[]
[]
[]
[]
[]
[]
[]
[]
[]
[]
[]
[]
[]
[]
[]
[]
[]
[]
[]
[]
[]
[]
[]
[]
[]
[]
[]
[]
[]
[]
[]
[]
[]
[]
[]
[]
[]
[]
[]
[]
[]
[]
[]
[]
[]
[]
[]
[]
[]
[]
[]
[]
[]
[]
[]
[]
[]
[]
[]
[]
[]
[]
[]
[]
[]
[]
[]
[]
[]
[]
[]
[]
[]
[]
[]
[]
[]
[]
[]
[]
[]
[]
[]
[]
[]
[]
[]
[]
[]
[]
[]
[]
[]
[]
[]
[]
[]
[]
[]
[]
[]
[]
[]
[]
[]
[]
[]
[]
[]
[]
[]
[]
[]
[]
[]
[]
[]
[]
[]
[]
[]
[]
[]
[]
[]
[]
[]
[]
[]
[]
[]
[]
[]
[]
[]
[]
[]
[]
[]
[]
[]
[]
[]
[]
[]
[]
[]
[]
[]
[]
[]
[]
[]
[]
[]
[]
[]
[]
[]
[]
[]
[]
[]
[]
[]
[]
[]
[]
[]
[]
[]
[]
[]
[]
[]
[]
[]
[]
[]
[]
[]
[]
[]
[]
[]
[]
[]
[]
[]
[]
[]
[]
[]
[]
[]
[]
[]
[]
[]
[]
[]
[]
[]
[]
[]
[]
[]
[]
[]
[]
[]
[]
[]
[]
[]
[]
[]
[]
[]
[]
[]
[]
[]
[]
[]
[]
[]
[]
[]
[]
[]
[]
[]
[]
[]
[]
[]
[]
[]
[]
[]
[]
[]
[]
[]
[]
[]
[]
[]
[]
[]
[]
[]
[]
[]
[]
[]
[]
[]
[]
[]
[]
[]
[]
[]
[]
[]
[]
[]
[]
[]
[]
[]
[]
[]
[]
[]
[]
[]
[]
[]
[]
[]
[]
[]
[]
[]
[]
[]
[]
[]
[]
[]
[]
[]
[]
[]
[]
[]
[]
[]
[]
[]
[]
[]
[]
[]
[]
[]
[]
[]
[]
[]
[]
[]
[]
[]
[]
[]
[]
[]
[]
[]
[]
[]
[]
[]
[]
[]
[]
[]
[]
[]
[]
[]
[]
[]
[]
[]
[]
[]
[]
[]
[]
[]
[]
[]
[]
[]
[]
[]
[]
[]
[]
[]
[]
[]
[]
[]
[]
[]
[]
[]
[]
[]
[]
[]
[]
[]
[]
[]
[]
[]
[]
[]
[]
[]
[]
[]
[]
[]
[]
[]
[]
[]
[]
[]
[]
[]
[]
[]
[]
[]
[]
[]
[]
[]
[]
[]
[]
[]
[]
[]
[]
[]
[]
[]
[]
[]
[]
[]
[]
[]
[]
[]
[]
[]
[]
[]
[]
[]
[]
[]
[]
[]
[]
[]
[]
[]
[]
[]
[]
[]
[]
[]
[]
[]
[]
[]
[]
[]
[]
[]
[]
[]
[]
[]
[]
[]
[]
[]
[]
[]
[]
[]
[]
[]
[]
[]
[]
[]
[]
[]
[]
[]
[]
[]
[]
[]
[]
[]
[]
[]
[]
[]
[]
[]
[]
[]
[]
[]
[]
[]
[]
[]
[]
[]
[]
[]
[]
[]
[]
[]
[]
[]
[]
[]
[]
[]
[]
[]
[]
[]
[]
[]
[]
[]
[]
[]
[]
[]
[]
[]
[]
[]
[]
[]
[]
[]
[]
[]
[]
[]
[]
[]
[]
[]
[]
[]
[]
[]
[]
[]
[]
[]
[]
[]
[]
[]
[]
[]
[]
[]
[]
[]
[]
[]
[]
[]
[]
[]
[]
[]
[]
[]
[]
[]
[]
[]
[]
[]
[]
[]
[]
[]
[]
[]
[]
[]
[]
[]
[]
[]
[]
[]
[]
[]
[]
[]
[]
[]
[]
[]
[]
[]
[]
[]
[]
[]
[]
[]
[]
[]
[]
[]
[]
[]
[]
[]
[]
[]
[]
[]
[]
[]
[]
[]
[]
[]
[]
[]
[]
[]
[]
[]
[]
[]
[]
[]
[]
[]
[]
[]
[]
[]
[]
[]
[]
[]
[]
[]
[]
[]
[]
[]
[]
[]
[]
[]
[]
[]
[]
[]
[]
[]
[]
[]
[]
[]
[]
[]
[]
[]
[]
[]
[]
[]
[]
[]
[]
[]
[]
[]
[]
[]
[]
[]
[]
[]
[]
[]
[]
[]
[]
[]
[]
[]
[]
[]
[]
[]
[]
[]
[]
[]
[]
[]
[]
[]
[]
[]
[]
[]
[]
[]
[]
[]
[]
[]
[]
[]
[]
[]
[]
[]
[]
[]
[]
[]
[]
[]
[]
[]
[]
[]
[]
[]
[]
[]
[]
[]
[]
[]
[]
[]
[]
[]
[]
[]
[]
[]
[]
[]
[]
[]
[]
[]
[]
[]
[]
[]
[]
[]
[]
[]
[]
[]
[]
[]
[]
[]
[]
[]
[]
[]
[]
[]
[]
[]
[]
[]
[]
[]
[]
[]
[]
[]
[]
[]
[]
[]
[]
[]
[]
[]
[]
[]
[]
[]
[]
[]
[]
[]
[]
[]
[]
[]
[]
[]
[]
[]
[]
[]
[]
[]
[]
[]
[]
[]
[]
[]
[]
[]
[]
[]
[]
[]
[]
[]
[]
[]
[]
[]
[]
[]
[]
[]
[]
[]
[]
[]
[]
[]
[]
[]
[]
[]
[]
[]
[]
[]
[]
[]
[]
[]
[]
[]
[]
[]
[]
[]
[]
[]
[]
[]
[]
[]
[]
[]
[]
[]
[]
[]
[]
[]
[]
[]
[]
[]
[]
[]
[]
[]
[]
[]
[]
[]
[]
[]
[]
[]
[]
[]
[]
[]
[]
[]
[]
[]
[]
[]
[]
[]
[]
[]
[]
[]
[]
[]
[]
[]
[]
[]
[]
[]
[]
[]
[]
[]
[]
[]
[]
[]
[]
[]
[]
[]
[]
[]
[]
[]
[]
[]
[]
[]
[]
[]
[]
[]
[]
[]
[]
[]
[]
[]
[]
[]
[]
[]
[]
[]
[]
[]
[]
[]
[]
[]
[]
[]
[]
[]
[]
[]
[]
[]
[]
[]
[]
[]
[]
[]
[]
[]
[]
[]
[]
[]
[]
[]
[]
[]
[]
[]
[]
[]
[]
[]
[]
[]
[]
[]
[]
[]
[]
[]
[]
[]
[]
[]
[]
[]
[]
[]
[]
[]
[]
[]
[]
[]
[]
[]
[]
[]
[]
[]
[]
[]
[]
[]
[]
[]
[]
[]
[]
[]
[]
[]
[]
[]
[]
[]
[]
[]
[]
[]
[]
[]
[]
[]
[]
[]
[]
[]
[]
[]
[]
[]
[]
[]
[]
[]
[]
[]
[]
[]
[]
[]
[]
[]
[]
[]
[]
[]
[]
[]
[]
[]
[]
[]
[]
[]
[]
[]
[]
[]
[]
[]
[]
[]
[]
[]
[]
[]
[]
[]
[]
[]
[]
[]
[]
[]
[]
[]
[]
[]
[]
[]
[]
[]
[]
[]
[]
[]
[]
[]
[]
[]
[]
[]
[]
[]
[]
[]
[]
[]
[]
[]
[]
[]
[]
[]
[]
[]
[]
[]
[]
[]
[]
[]
[]
[]
[]
[]
[]
[]
[]
[]
[]
[]
[]
[]
[]
[]
[]
[]
[]
[]
[]
[]
[]
[]
[]
[]
[]
[]
[]
[]
[]
[]
[]
[]
[]
[]
[]
[]
[]
[]
[]
[]
[]
[]
[]
[]
[]
[]
[]
[]
[]
[]
[]
[]
[]
[]
[]
[]
[]
[]
[]
[]
[]
[]
[]
[]
[]
[]
[]
[]
[]
[]
[]
[]
[]
[]
[]
[]
[]
[]
[]
[]
[]
[]
[]
[]
[]
[]
[]
[]
[]
[]
[]
[]
[]
[]
[]
[]
[]
[]
[]
[]
[]
[]
[]
[]
[]
[]
[]
[]
[]
[]
[]
[]
[]
[]
[]
[]
[]
[]
[]
[]
[]
[]
[]
[]
[]
[]
[]
[]
[]
[]
[]
[]
[]
[]
[]
[]
[]
[]
[]
[]
[]
[]
[]
[]
[]
[]
[]
[]
[]
[]
[]
[]
[]
[]
[]
[]
[]
[]
[]
[]
[]
[]
[]
[]
[]
[]
[]
[]
[]
[]
[]
[]
[]
[]
[]
[]
[]
[]
[]
[]
[]
[]
[]
[]
[]
[]
[]
[]
[]
[]
[]
[]
[]
[]
[]
[]
[]
[]
[]
[]
[]
[]
[]
[]
[]
[]
[]
[]
[]
[]
[]
[]
[]
[]
[]
[]
[]
[]
[]
[]
[]
[]
[]
[]
[]
[]
[]
[]
[]
[]
[]
[]
[]
[]
[]
[]
[]
[]
[]
[]
[]
[]
[]
[]
[]
[]
[]
[]
[]
[]
[]
[]
[]
[]
[]
[]
[]
[]
[]
[]
[]
[]
[]
[]
[]
[]
[]
[]
[]
[]
[]
[]
[]
[]
[]
[]
[]
[]
[]
[]
[]
[]
[]
[]
[]
[]
[]
[]
[]
[]
[]
[]
[]
[]
[]
[]
[]
[]
[]
[]
[]
[]
[]
[]
[]
[]
[]
[]
[]
[]
[]
[]
[]
[]
[]
[]
[]
[]
[]
[]
[]
[]
[]
[]
[]
[]
[]
[]
[]
[]
[]
[]
[]
[]
[]
[]
[]
[]
[]
[]
[]
[]
[]
[]
[]
[]
[]
[]
[]
[]
[]
[]
[]
[]
[]
[]
[]
[]
[]
[]
[]
[]
[]
[]
[]
[]
[]
[]
[]
[]
[]
[]
[]
[]
[]
[]
[]
[]
[]
[]
[]
[]
[]
[]
[]
[]
[]
[]
[]
[]
[]
[]
[]
[]
[]
[]
[]
[]
[]
[]
[]
[]
[]
[]
[]
[]
[]
[]
[]
[]
[]
[]
[]
[]
[]
[]
[]
[]
[]
[]
[]
[]
[]
[]
[]
[]
[]
[]
[]
[]
[]
[]
[]
[]
[]
[]
[]
[]
[]
[]
[]
[]
[]
[]
[]
[]
[]
[]
[]
[]
[]
[]
[]
[]
[]
[]
[]
[]
[]
[]
[]
[]
[]
[]
[]
[]
[]
[]
[]
[]
[]
[]
[]
[]
[]
[]
[]
[]
[]
[]
[]
[]
[]
[]
[]
[]
[]
[]
[]
[]
[]
[]
[]
[]
[]
[]
[]
[]
[]
[]
[]
[]
[]
[]
[]
[]
[]
[]
[]
[]
[]
[]
[]
[]
[]
[]
[]
[]
[]
[]
[]
[]
[]
[]
[]
[]
[]
[]
[]
[]
[]
[]
[]
[]
[]
[]
[]
[]
[]
[]
[]
[]
[]
[]
[]
[]
[]
[]
[]
[]
[]
[]
[]
[]
[]
[]
[]
[]
[]
[]
[]
[]
[]
[]
[]
[]
[]
[]
[]
[]
[]
[]
[]
[]
[]
[]
[]
[]
[]
[]
[]
[]
[]
[]
[]
[]
[]
[]
[]
[]
[]
[]
[]
[]
[]
[]
[]
[]
[]
[]
[]
[]
[]
[]
[]
[]
[]
[]
[]
[]
[]
[]
[]
[]
[]
[]
[]
[]
[]
[]
[]
[]
[]
[]
[]
[]
[]
[]
[]
[]
[]
[]
[]
[]
[]
[]
[]
[]
[]
[]
[]
[]
[]
[]
[]
[]
[]
[]
[]
[]
[]
[]
[]
[]
[]
[]
[]
[]
[]
[]
[]
[]
[]
[]
[]
[]
[]
[]
[]
[]
[]
[]
[]
[]
[]
[]
[]
[]
[]
[]
[]
[]
[]
[]
[]
[]
[]
[]
[]
[]
[]
[]
[]
[]
[]
[]
[]
[]
[]
[]
[]
[]
[]
[]
[]
[]
[]
[]
[]
[]
[]
[]
[]
[]
[]
[]
[]
[]
[]
[]
[]
[]
[]
[]
[]
[]
[]
[]
[]
[]
[]
[]
[]
[]
[]
[]
[]
[]
[]
[]
[]
[]
[]
[]
[]
[]
[]
[]
[]
[]
[]
[]
[]
[]
[]
[]
[]
[]
[]
[]
[]
[]
[]
[]
[]
[]
[]
[]
[]
[]
[]
[]
[]
[]
[]
[]
[]
[]
[]
[]
[]
[]
[]
[]
[]
[]
[]
[]
[]
[]
[]
[]
[]
[]
[]
[]
[]
[]
[]
[]
[]
[]
[]
[]
[]
[]
[]
[]
[]
[]
[]
[]
[]
[]
[]
[]
[]
[]
[]
[]
[]
[]
[]
[]
[]
[]
[]
[]
[]
[]
[]
[]
[]
[]
[]
[]
[]
[]
[]
[]
[]
[]
[]
[]
[]
[]
[]
[]
[]
[]
[]
[]
[]
[]
[]
[]
[]
[]
[]
[]
[]
[]
[]
[]
[]
[]
[]
[]
[]
[]
[]
[]
[]
[]
[]
[]
[]
[]
[]
[]
[]
[]
[]
[]
[]
[]
[]
[]
[]
[]
[]
[]
[]
[]
[]
[]
[]
[]
[]
[]
[]
[]
[]
[]
[]
[]
[]
[]
[]
[]
[]
[]
[]
[]
[]
[]
[]
[]
[]
[]
[]
[]
[]
[]
[]
[]
[]
[]
[]
[]
[]
[]
[]
[]
[]
[]
[]
[]
[]
[]
[]
[]
[]
[]
[]
[]
[]
[]
[]
[]
[]
[]
[]
[]
[]
[]
[]
[]
[]
[]
[]
[]
[]
[]
[]
[]
[]
[]
[]
[]
[]
[]
[]
[]
[]
[]
[]
[]
[]
[]
[]
[]
[]
[]
[]
[]
[]
[]
[]
[]
[]
[]
[]
[]
[]
[]
[]
[]
[]
[]
[]
[]
[]
[]
[]
[]
[]
[]
[]
[]
[]
[]
[]
[]
[]
[]
[]
[]
[]
[]
[]
[]
[]
[]
[]
[]
[]
[]
[]
[]
[]
[]
[]
[]
[]
[]
[]
[]
[]
[]
[]
[]
[]
[]
[]
[]
[]
[]
[]
[]
[]
[]
[]
[]
[]
[]
[]
[]
[]
[]
[]
[]
[]
[]
[]
[]
[]
[]
[]
[]
[]
[]
[]
[]
[]
[]
[]
[]
[]
[]
[]
[]
[]
[]
[]
[]
[]
[]
[]
[]
[]
[]
[]
[]
[]
[]
[]
[]
[]
[]
[]
[]
[]
[]
[]
[]
[]
[]
[]
[]
[]
[]
[]
[]
[]
[]
[]
[]
[]
[]
[]
[]
[]
[]
[]
[]
[]
[]
[]
[]
[]
[]
[]
[]
[]
[]
[]
[]
[]
[]
[]
[]
[]
[]
[]
[]
[]
[]
[]
[]
[]
[]
[]
[]
[]
[]
[]
[]
[]
[]
[]
[]
[]
[]
[]
[]
[]
[]
[]
[]
[]
[]
[]
[]
[]
[]
[]
[]
[]
[]
[]
[]
[]
[]
[]
[]
[]
[]
[]
[]
[]
[]
[]
[]
[]
[]
[]
[]
[]
[]
[]
[]
[]
[]
[]
[]
[]
[]
[]
[]
[]
[]
[]
[]
[]
[]
[]
[]
[]
[]
[]
[]
[]
[]
[]
[]
[]
[]
[]
[]
[]
[]
[]
[]
[]
[]
[]
[]
[]
[]
[]
[]
[]
[]
[]
[]
[]
[]
[]
[]
[]
[]
[]
[]
[]
[]
[]
[]
[]
[]
[]
[]
[]
[]
[]
[]
[]
[]
[]
[]
[]
[]
[]
[]
[]
[]
[]
[]
[]
[]
[]
[]
[]
[]
[]
[]
[]
[]
[]
[]
[]
[]
[]
[]
[]
[]
[]
[]
[]
[]
[]
[]
[]
[]
[]
[]
[]
[]
[]
[]
[]
[]
[]
[]
[]
[]
[]
[]
[]
[]
[]
[]
[]
[]
[]
[]
[]
[]
[]
[]
[]
[]
[]
[]
[]
[]
[]
[]
[]
[]
[]
[]
[]
[]
[]
[]
[]
[]
[]
[]
[]
[]
[]
[]
[]
[]
[]
[]
[]
[]
[]
[]
[]
[]
[]
[]
[]
[]
[]
[]
[]
[]
[]
[]
[]
[]
[]
[]
[]
[]
[]
[]
[]
[]
[]
[]
[]
[]
[]
[]
[]
[]
[]
[]
[]
[]
[]
[]
[]
[]
[]
[]
[]
[]
[]
[]
[]
[]
[]
[]
[]
[]
[]
[]
[]
[]
[]
[]
[]
[]
[]
[]
[]
[]
[]
[]
[]
[]
[]
[]
[]
[]
[]
[]
[]
[]
[]
[]
[]
[]
[]
[]
[]
[]
[]
[]
[]
[]
[]
[]
[]
[]
[]
[]
[]
[]
[]
[]
[]
[]
[]
[]
[]
[]
[]
[]
[]
[]
[]
[]
[]
[]
[]
[]
[]
[]
[]
[]
[]
[]
[]
[]
[]
[]
[]
[]
[]
[]
[]
[]
[]
[]
[]
[]
[]
[]
[]
[]
[]
[]
[]
[]
[]
[]
[]
[]
[]
[]
[]
[]
[]
[]
[]
[]
[]
[]
[]
[]
[]
[]
[]
[]
[]
[]
[]
[]
[]
[]
[]
[]
[]
[]
[]
[]
[]
[]
[]
[]
[]
[]
[]
[]
[]
[]
[]
[]
[]
[]
[]
[]
[]
[]
[]
[]
[]
[]
[]
[]
[]
[]
[]
[]
[]
[]
[]
[]
[]
[]
[]
[]
[]
[]
[]
[]
[]
[]
[]
[]
[]
[]
[]
[]
[]
[]
[]
[]
[]
[]
[]
[]
[]
[]
[]
[]
[]
[]
[]
[]
[]
[]
[]
[]
[]
[]
[]
[]
[]
[]
[]
[]
[]
[]
[]
[]
[]
[]
[]
[]
[]
[]
[]
[]
[]
[]
[]
[]
[]
[]
[]
[]
[]
[]
[]
[]
[]
[]
[]
[]
[]
[]
[]
[]
[]
[]
[]
[]
[]
[]
[]
[]
[]
[]
[]
[]
[]
[]
[]
[]
[]
[]
[]
[]
[]
[]
[]
[]
[]
[]
[]
[]
[]
[]
[]
[]
[]
[]
[]
[]
[]
[]
[]
[]
[]
[]
[]
[]
[]
[]
[]
[]
[]
[]
[]
[]
[]
[]
[]
[]
[]
[]
[]
[]
[]
[]
[]
[]
[]
[]
[]
[]
[]
[]
[]
[]
[]
[]
[]
[]
[]
[]
[]
[]
[]
[]
[]
[]
[]
[]
[]
[]
[]
[]
[]
[]
[]
[]
[]
[]
[]
[]
[]
[]
[]
[]
[]
[]
[]
[]
[]
[]
[]
[]
[]
[]
[]
[]
[]
[]
[]
[]
[]
[]
[]
[]
[]
[]
[]
[]
[]
[]
[]
[]
[]
[]
[]
[]
[]
[]
[]
[]
[]
[]
[]
[]
[]
[]
[]
[]
[]
[]
[]
[]
[]
[]
[]
[]
[]
[]
[]
[]
[]
[]
[]
[]
[]
[]
[]
[]
[]
[]
[]
[]
[]
[]
[]
[]
[]
[]
[]
[]
[]
[]
[]
[]
[]
[]
[]
[]
[]
[]
[]
[]
[]
[]
[]
[]
[]
[]
[]
[]
[]
[]
[]
[]
[]
[]
[]
[]
[]
[]
[]
[]
[]
[]
[]
[]
[]
[]
[]
[]
[]
[]
[]
[]
[]
[]
[]
[]
[]
[]
[]
[]
[]
[]
[]
[]
[]
[]
[]
[]
[]
[]
[]
[]
[]
[]
[]
[]
[]
[]
[]
[]
[]
[]
[]
[]
[]
[]
[]
[]
[]
[]
[]
[]
[]
[]
[]
[]
[]
[]
[]
[]
[]
[]
[]
[]
[]
[]
[]
[]
[]
[]
[]
[]
[]
[]
[]
[]
[]
[]
[]
[]
[]
[]
[]
[]
[]
[]
[]
[]
[]
[]
[]
[]
[]
[]
[]
[]
[]
[]
[]
[]
[]
[]
[]
[]
[]
[]
[]
[]
[]
[]
[]
[]
[]
[]
[]
[]
[]
[]
[]
[]
[]
[]
[]
[]
[]
[]
[]
[]
[]
[]
[]
[]
[]
[]
[]
[]
[]
[]
[]
[]
[]
[]
[]
[]
[]
[]
[]
[]
[]
[]
[]
[]
[]
[]
[]
[]
[]
[]
[]
[]
[]
[]
[]
[]
[]
[]
[]
[]
[]
[]
[]
[]
[]
[]
[]
[]
[]
[]
[]
[]
[]
[]
[]
[]
[]
[]
[]
[]
[]
[]
[]
[]
[]
[]
[]
[]
[]
[]
[]
[]
[]
[]
[]
[]
[]
[]
[]
[]
[]
[]
[]
[]
[]
[]
[]
[]
[]
[]
[]
[]
[]
[]
[]
[]
[]
[]
[]
[]
[]
[]
[]
[]
[]
[]
[]
[]
[]
[]
[]
[]
[]
[]
[]
[]
[]
[]
[]
[]
[]
[]
[]
[]
[]
[]
[]
[]
[]
[]
[]
[]
[]
[]
[]
[]
[]
[]
[]
[]
[]
[]
[]
[]
[]
[]
[]
[]
[]
[]
[]
[]
[]
[]
[]
[]
[]
[]
[]
[]
[]
[]
[]
[]
[]
[]
[]
[]
[]
[]
[]
[]
[]
[]
[]
[]
[]
[]
[]
[]
[]
[]
[]
[]
[]
[]
[]
[]
[]
[]
[]
[]
[]
[]
[]
[]
[]
[]
[]
[]
[]
[]
[]
[]
[]
[]
[]
[]
[]
[]
[]
[]
[]
[]
[]
[]
[]
[]
[]
[]
[]
[]
[]
[]
[]
[]
[]
[]
[]
[]
[]
[]
[]
[]
[]
[]
[]
[]
[]
[]
[]
[]
[]
[]
[]
[]
[]
[]
[]
[]
[]
[]
[]
[]
[]
[]
[]
[]
[]
[]
[]
[]
[]
[]
[]
[]
[]
[]
[]
[]
[]
[]
[]
[]
[]
[]
[]
[]
[]
[]
[]
[]
[]
[]
[]
[]
[]
[]
[]
[]
[]
[]
[]
[]
[]
[]
[]
[]
[]
[]
[]
[]
[]
[]
[]
[]
[]
[]
[]
[]
[]
[]
[]
[]
[]
[]
[]
[]
[]
[]
[]
[]
[]
[]
[]
[]
[]
[]
[]
[]
[]
[]
[]
[]
[]
[]
[]
[]
[]
[]
[]
[]
[]
[]
[]
[]
[]
[]
[]
[]
[]
[]
[]
[]
[]
[]
[]
[]
[]
[]
[]
[]
[]
[]
[]
[]
[]
[]
[]
[]
[]
[]
[]
[]
[]
[]
[]
[]
[]
[]
[]
[]
[]
[]
[]
[]
[]
[]
[]
[]
[]
[]
[]
[]
[]
[]
[]
[]
[]
[]
[]
[]
[]
[]
[]
[]
[]
[]
[]
[]
[]
[]
[]
[]
[]
[]
[]
[]
[]
[]
[]
[]
[]
[]
[]
[]
[]
[]
[]
[]
[]
[]
[]
[]
[]
[]
[]
[]
[]
[]
[]
[]
[]
[]
[]
[]
[]
[]
[]
[]
[]
[]
[]
[]
[]
[]
[]
[]
[]
[]
[]
[]
[]
[]
[]
[]
[]
[]
[]
[]
[]
[]
[]
[]
[]
[]
[]
[]
[]
[]
[]
[]
[]
[]
[]
[]
[]
[]
[]
[]
[]
[]
[]
[]
[]
[]
[]
[]
[]
[]
[]
[]
[]
[]
[]
[]
[]
[]
[]
[]
[]
[]
[]
[]
[]
[]
[]
[]
[]
[]
[]
[]
[]
[]
[]
[]
[]
[]
[]
[]
[]
[]
[]
[]
[]
[]
[]
[]
[]
[]
[]
[]
[]
[]
[]
[]
[]
[]
[]
[]
[]
[]
[]
[]
[]
[]
[]
[]
[]
[]
[]
[]
[]
[]
[]
[]
[]
[]
[]
[]
[]
[]
[]
[]
[]
[]
[]
[]
[]
[]
[]
[]
[]
[]
[]
[]
[]
[]
[]
[]
[]
[]
[]
[]
[]
[]
[]
[]
[]
[]
[]
[]
[]
[]
[]
[]
[]
[]
[]
[]
[]
[]
[]
[]
[]
[]
[]
[]
[]
[]
[]
[]
[]
[]
[]
[]
[]
[]
[]
[]
[]
[]
[]
[]
[]
[]
[]
[]
[]
[]
[]
[]
[]
[]
[]
[]
[]
[]
[]
[]
[]
[]
[]
[]
[]
[]
[]
[]
[]
[]
[]
[]
[]
[]
[]
[]
[]
[]
[]
[]
[]
[]
[]
[]
[]
[]
[]
[]
[]
[]
[]
[]
[]
[]
[]
[]
[]
[]
[]
[]
[]
[]
[]
[]
[]
[]
[]
[]
[]
[]
[]
[]
[]
[]
[]
[]
[]
[]
[]
[]
[]
[]
[]
[]
[]
[]
[]
[]
[]
[]
[]
[]
[]
[]
[]
[]
[]
[]
[]
[]
[]
[]
[]
[]
[]
[]
[]
[]
[]
[]
[]
[]
[]
[]
[]
[]
[]
[]
[]
[]
[]
[]
[]
[]
[]
[]
[]
[]
[]
[]
[]
[]
[]
[]
[]
[]
[]
[]
[]
[]
[]
[]
[]
[]
[]
[]
[]
[]
[]
[]
[]
[]
[]
[]
[]
[]
[]
[]
[]
[]
[]
[]
[]
[]
[]
[]
[]
[]
[]
[]
[]
[]
[]
[]
[]
[]
[]
[]
[]
[]
[]
[]
[]
[]
[]
[]
[]
[]
[]
[]
[]
[]
[]
[]
[]
[]
[]
[]
[]
[]
[]
[]
[]
[]
[]
[]
[]
[]
[]
[]
[]
[]
[]
[]
[]
[]
[]
[]
[]
[]
[]
[]
[]
[]
[]
[]
[]
[]
[]
[]
[]
[]
[]
[]
[]
[]
[]
[]
[]
[]
[]
[]
[]
[]
[]
[]
[]
[]
[]
[]
[]
[]
[]
[]
[]
[]
[]
[]
[]
[]
[]
[]
[]
[]
[]
[]
[]
[]
[]
[]
[]
[]
[]
[]
[]
[]
[]
[]
[]
[]
[]
[]
[]
[]
[]
[]
[]
[]
[]
[]
[]
[]
[]
[]
[]
[]
[]
[]
[]
[]
[]
[]
[]
[]
[]
[]
[]
[]
[]
[]
[]
[]
[]
[]
[]
[]
[]
[]
[]
[]
[]
[]
[]
[]
[]
[]
[]
[]
[]
[]
[]
[]
[]
[]
[]
[]
[]
[]
[]
[]
[]
[]
[]
[]
[]
[]
[]
[]
[]
[]
[]
[]
[]
[]
[]
[]
[]
[]
[]
[]
[]
[]
[]
[]
[]
[]
[]
[]
[]
[]
[]
[]
[]
[]
[]
[]
[]
[]
[]
[]
[]
[]
[]
[]
[]
[]
[]
[]
[]
[]
[]
[]
[]
[]
[]
[]
[]
[]
[]
[]
[]
[]
[]
[]
[]
[]
[]
[]
[]
[]
[]
[]
[]
[]
[]
[]
[]
[]
[]
[]
[]
[]
[]
[]
[]
[]
[]
[]
[]
[]
[]
[]
[]
[]
[]
[]
[]
[]
[]
[]
[]
[]
[]
[]
[]
[]
[]
[]
[]
[]
[]
[]
[]
[]
[]
[]
[]
[]
[]
[]
[]
[]
[]
[]
[]
[]
[]
[]
[]
[]
[]
[]
[]
[]
[]
[]
[]
[]
[]
[]
[]
[]
[]
[]
[]
[]
[]
[]
[]
[]
[]
[]
[]
[]
[]
[]
[]
[]
[]
[]
[]
[]
[]
[]
[]
[]
[]
[]
[]
[]
[]
[]
[]
[]
[]
[]
[]
[]
[]
[]
[]
[]
[]
[]
[]
[]
[]
[]
[]
[]
[]
[]
[]
[]
[]
[]
[]
[]
[]
[]
[]
[]
[]
[]
[]
[]
[]
[]
[]
[]
[]
[]
[]
[]
[]
[]
[]
[]
[]
[]
[]
[]
[]
[]
[]
[]
[]
[]
[]
[]
[]
[]
[]
[]
[]
[]
[]
[]
[]
[]
[]
[]
[]
[]
[]
[]
[]
[]
[]
[]
[]
[]
[]
[]
[]
[]
[]
[]
[]
[]
[]
[]
[]
[]
[]
[]
[]
[]
[]
[]
[]
[]
[]
[]
[]
[]
[]
[]
[]
[]
[]
[]
[]
[]
[]
[]
[]
[]
[]
[]
[]
[]
[]
[]
[]
[]
[]
[]
[]
[]
[]
[]
[]
[]
[]
[]
[]
[]
[]
[]
[]
[]
[]
[]
[]
[]
[]
[]
[]
[]
[]
[]
[]
[]
[]
[]
[]
[]
[]
[]
[]
[]
[]
[]
[]
[]
[]
[]
[]
[]
[]
[]
[]
[]
[]
[]
[]
[]
[]
[]
[]
[]
[]
[]
[]
[]
[]
[]
[]
[]
[]
[]
[]
[]
[]
[]
[]
[]
[]
[]
[]
[]
[]
[]
[]
[]
[]
[]
[]
[]
[]
[]
[]
[]
[]
[]
[]
[]
[]
[]
[]
[]
[]
[]
[]
[]
[]
[]
[]
[]
[]
[]
[]
[]
[]
[]
[]
[]
[]
[]
[]
[]
[]
[]
[]
[]
[]
[]
[]
[]
[]
[]
[]
[]
[]
[]
[]
[]
[]
[]
[]
[]
[]
[]
[]
[]
[]
[]
[]
[]
[]
[]
[]
[]
[]
[]
[]
[]
[]
[]
[]
[]
[]
[]
[]
[]
[]
[]
[]
[]
[]
[]
[]
[]
[]
[]
[]
[]
[]
[]
[]
[]
[]
[]
[]
[]
[]
[]
[]
[]
[]
[]
[]
[]
[]
[]
[]
[]
[]
[]
[]
[]
[]
[]
[]
[]
[]
[]
[]
[]
[]
[]
[]
[]
[]
[]
[]
[]
[]
[]
[]
[]
[]
[]
[]
[]
[]
[]
[]
[]
[]
[]
[]
[]
[]
[]
[]
[]
[]
[]
[]
[]
[]
[]
[]
[]
[]
[]
[]
[]
[]
[]
[]
[]
[]
[]
[]
[]
[]
[]
[]
[]
[]
[]
[]
[]
[]
[]
[]
[]
[]
[]
[]
[]
[]
[]
[]
[]
[]
[]
[]
[]
[]
[]
[]
[]
[]
[]
[]
[]
[]
[]
[]
[]
[]
[]
[]
[]
[]
[]
[]
[]
[]
[]
[]
[]
[]
[]
[]
[]
[]
[]
[]
[]
[]
[]
[]
[]
[]
[]
[]
[]
[]
[]
[]
[]
[]
[]
[]
[]
[]
[]
[]
[]
[]
[]
[]
[]
[]
[]
[]
[]
[]
[]
[]
[]
[]
[]
[]
[]
[]
[]
[]
[]
[]
[]
[]
[]
[]
[]
[]
[]
[]
[]
[]
[]
[]
[]
[]
[]
[]
[]
[]
[]
[]
[]
[]
[]
[]
[]
[]
[]
[]
[]
[]
[]
[]
[]
[]
[]
[]
[]
[]
[]
[]
[]
[]
[]
[]
[]
[]
[]
[]
[]
[]
[]
[]
[]
[]
[]
[]
[]
[]
[]
[]
[]
[]
[]
[]
[]
[]
[]
[]
[]
[]
[]
[]
[]
[]
[]
[]
[]
[]
[]
[]
[]
[]
[]
[]
[]
[]
[]
[]
[]
[]
[]
[]
[]
[]
[]
[]
[]
[]
[]
[]
[]
[]
[]
[]
[]
[]
[]
[]
[]
[]
[]
[]
[]
[]
[]
[]
[]
[]
[]
[]
[]
[]
[]
[]
[]
[]
[]
[]
[]
[]
[]
[]
[]
[]
[]
[]
[]
[]
[]
[]
[]
[]
[]
[]
[]
[]
[]
[]
[]
[]
[]
[]
[]
[]
[]
[]
[]
[]
[]
[]
[]
[]
[]
[]
[]
[]
[]
[]
[]
[]
[]
[]
[]
[]
[]
[]
[]
[]
[]
[]
[]
[]
[]
[]
[]
[]
[]
[]
[]
[]
[]
[]
[]
[]
[]
[]
[]
[]
[]
[]
[]
[]
[]
[]
[]
[]
[]
[]
[]
[]
[]
[]
[]
[]
[]
[]
[]
[]
[]
[]
[]
[]
[]
[]
[]
[]
[]
[]
[]
[]
[]
[]
[]
[]
[]
[]
[]
[]
[]
[]
[]
[]
[]
[]
[]
[]
[]
[]
[]
[]
[]
[]
[]
[]
[]
[]
[]
[]
[]
[]
[]
[]
[]
[]
[]
[]
[]
[]
[]
[]
[]
[]
[]
[]
[]
[]
[]
[]
[]
[]
[]
[]
[]
[]
[]
[]
[]
[]
[]
[]
[]
[]
[]
[]
[]
[]
[]
[]
[]
[]
[]
[]
[]
[]
[]
[]
[]
[]
[]
[]
[]
[]
[]
[]
[]
[]
[]
[]
[]
[]
[]
[]
[]
[]
[]
[]
[]
[]
[]
[]
[]
[]
[]
[]
[]
[]
[]
[]
[]
[]
[]
[]
[]
[]
[]
[]
[]
[]
[]
[]
[]
[]
[]
[]
[]
[]
[]
[]
[]
[]
[]
[]
[]
[]
[]
[]
[]
[]
[]
[]
[]
[]
[]
[]
[]
[]
[]
[]
[]
[]
[]
[]
[]
[]
[]
[]
[]
[]
[]
[]
[]
[]
[]
[]
[]
[]
[]
[]
[]
[]
[]
[]
[]
[]
[]
[]
[]
[]
[]
[]
[]
[]
[]
[]
[]
[]
[]
[]
[]
[]
[]
[]
[]
[]
[]
[]
[]
[]
[]
[]
[]
[]
[]
[]
[]
[]
[]
[]
[]
[]
[]
[]
[]
[]
[]
[]
[]
[]
[]
[]
[]
[]
[]
[]
[]
[]
[]
[]
[]
[]
[]
[]
[]
[]
[]
[]
[]
[]
[]
[]
[]
[]
[]
[]
[]
[]
[]
[]
[]
[]
[]
[]
[]
[]
[]
[]
[]
[]
[]
[]
[]
[]
[]
[]
[]
[]
[]
[]
[]
[]
[]
[]
[]
[]
[]
[]
[]
[]
[]
[]
[]
[]
[]
[]
[]
[]
[]
[]
[]
[]
[]
[]
[]
[]
[]
[]
[]
[]
[]
[]
[]
[]
[]
[]
[]
[]
[]
[]
[]
[]
[]
[]
[]
[]
[]
[]
[]
[]
[]
[]
[]
[]
[]
[]
[]
[]
[]
[]
[]
[]
[]
[]
[]
[]
[]
[]
[]
[]
[]
[]
[]
[]
[]
[]
[]
[]
[]
[]
[]
[]
[]
[]
[]
[]
[]
[]
[]
[]
[]
[]
[]
[]
[]
[]
[]
[]
[]
[]
[]
[]
[]
[]
[]
[]
[]
[]
[]
[]
[]
[]
[]
[]
[]
[]
[]
[]
[]
[]
[]
[]
[]
[]
[]
[]
[]
[]
[]
[]
[]
[]
[]
[]
[]
[]
[]
[]
[]
[]
[]
[]
[]
[]
[]
[]
[]
[]
[]
[]
[]
[]
[]
[]
[]
[]
[]
[]
[]
[]
[]
[]
[]
[]
[]
[]
[]
[]
[]
[]
[]
[]
[]
[]
[]
[]
[]
[]
[]
[]
[]
[]
[]
[]
[]
[]
[]
[]
[]
[]
[]
[]
[]
[]
[]
[]
[]
[]
[]
[]
[]
[]
[]
[]
[]
[]
[]
[]
[]
[]
[]
[]
[]
[]
[]
[]
[]
[]
[]
[]
[]
[]
[]
[]
[]
[]
[]
[]
[]
[]
[]
[]
[]
[]
[]
[]
[]
[]
[]
[]
[]
[]
[]
[]
[]
[]
[]
[]
[]
[]
[]
[]
[]
[]
[]
[]
[]
[]
[]
[]
[]
[]
[]
[]
[]
[]
[]
[]
[]
[]
[]
[]
[]
[]
[]
[]
[]
[]
[]
[]
[]
[]
[]
[]
[]
[]
[]
[]
[]
[]
[]
[]
[]
[]
[]
[]
[]
[]
[]
[]
[]
[]
[]
[]
[]
[]
[]
[]
[]
[]
[]
[]
[]
[]
[]
[]
[]
[]
[]
[]
[]
[]
[]
[]
[]
[]
[]
[]
[]
[]
[]
[]
[]
[]
[]
[]
[]
[]
[]
[]
[]
[]
[]
[]
[]
[]
[]
[]
[]
[]
[]
[]
[]
[]
[]
[]
[]
[]
[]
[]
[]
[]
[]
[]
[]
[]
[]
[]
[]
[]
[]
[]
[]
[]
[]
[]
[]
[]
[]
[]
[]
[]
[]
[]
[]
[]
[]
[]
[]
[]
[]
[]
[]
[]
[]
[]
[]
[]
[]
[]
[]
[]
[]
[]
[]
[]
[]
[]
[]
[]
[]
[]
[]
[]
[]
[]
[]
[]
[]
[]
[]
[]
[]
[]
[]
[]
[]
[]
[]
[]
[]
[]
[]
[]
[]
[]
[]
[]
[]
[]
[]
[]
[]
[]
[]
[]
[]
[]
[]
[]
[]
[]
[]
[]
[]
[]
[]
[]
[]
[]
[]
[]
[]
[]
[]
[]
[]
[]
[]
[]
[]
[]
[]
[]
[]
[]
[]
[]
[]
[]
[]
[]
[]
[]
[]
[]
[]
[]
[]
[]
[]
[]
[]
[]
[]
[]
[]
[]
[]
[]
[]
[]
[]
[]
[]
[]
[]
[]
[]
[]
[]
[]
[]
[]
[]
[]
[]
[]
[]
[]
[]
[]
[]
[]
[]
[]
[]
[]
[]
[]
[]
[]
[]
[]
[]
[]
[]
[]
[]
[]
[]
[]
[]
[]
[]
[]
[]
[]
[]
[]
[]
[]
[]
[]
[]
[]
[]
[]
[]
[]
[]
[]
[]
[]
[]
[]
[]
[]
[]
[]
[]
[]
[]
[]
[]
[]
[]
[]
[]
[]
[]
[]
[]
[]
[]
[]
[]
[]
[]
[]
[]
[]
[]
[]
[]
[]
[]
[]
[]
[]
[]
[]
[]
[]
[]
[]
[]
[]
[]
[]
[]
[]
[]
[]
[]
[]
[]
[]
[]
[]
[]
[]
[]
[]
[]
[]
[]
[]
[]
[]
[]
[]
[]
[]
[]
[]
[]
[]
[]
[]
[]
[]
[]
[]
[]
[]
[]
[]
[]
[]
[]
[]
[]
[]
[]
[]
[]
[]
[]
[]
[]
[]
[]
[]
[]
[]
[]
[]
[]
[]
[]
[]
[]
[]
[]
[]
[]
[]
[]
[]
[]
[]
[]
[]
[]
[]
[]
[]
[]
[]
[]
[]
[]
[]
[]
[]
[]
[]
[]
[]
[]
[]
[]
[]
[]
[]
[]
[]
[]
[]
[]
[]
[]
[]
[]
[]
[]
[]
[]
[]
[]
[]
[]
[]
[]
[]
[]
[]
[]
[]
[]
[]
[]
[]
[]
[]
[]
[]
[]
[]
[]
[]
[]
[]
[]
[]
[]
[]
[]
[]
[]
[]
[]
[]
[]
[]
[]
[]
[]
[]
[]
[]
[]
[]
[]
[]
[]
[]
[]
[]
[]
[]
[]
[]
[]
[]
[]
[]
[]
[]
[]
[]
[]
[]
[]
[]
[]
[]
[]
[]
[]
[]
[]
[]
[]
[]
[]
[]
[]
[]
[]
[]
[]
[]
[]
[]
[]
[]
[]
[]
[]
[]
[]
[]
[]
[]
[]
[]
[]
[]
[]
[]
[]
[]
[]
[]
[]
[]
[]
[]
[]
[]
[]
[]
[]
[]
[]
[]
[]
[]
[]
[]
[]
[]
[]
[]
[]
[]
[]
[]
[]
[]
[]
[]
[]
[]
[]
[]
[]
[]
[]
[]
[]
[]
[]
[]
[]
[]
[]
[]
[]
[]
[]
[]
[]
[]
[]
[]
[]
[]
[]
[]
[]
[]
[]
[]
[]
[]
[]
[]
[]
[]
[]
[]
[]
[]
[]
[]
[]
[]
[]
[]
[]
[]
[]
[]
[]
[]
[]
[]
[]
[]
[]
[]
[]
[]
[]
[]
[]
[]
[]
[]
[]
[]
[]
[]
[]
[]
[]
[]
[]
[]
[]
[]
[]
[]
[]
[]
[]
[]
[]
[]
[]
[]
[]
[]
[]
[]
[]
[]
[]
[]
[]
[]
[]
[]
[]
[]
[]
[]
[]
[]
[]
[]
[]
[]
[]
[]
[]
[]
[]
[]
[]
[]
[]
[]
[]
[]
[]
[]
[]
[]
[]
[]
[]
[]
[]
[]
[]
[]
[]
[]
[]
[]
[]
[]
[]
[]
[]
[]
[]
[]
[]
[]
[]
[]
[]
[]
[]
[]
[]
[]
[]
[]
[]
[]
[]
[]
[]
[]
[]
[]
[]
[]
[]
[]
[]
[]
[]
[]
[]
[]
[]
[]
[]
[]
[]
[]
[]
[]
[]
[]
[]
[]
[]
[]
[]
[]
[]
[]
[]
[]
[]
[]
[]
[]
[]
[]
[]
[]
[]
[]
[]
[]
[]
[]
[]
[]
[]
[]
[]
[]
[]
[]
[]
[]
[]
[]
[]
[]
[]
[]
[]
[]
[]
[]
[]
[]
[]
[]
[]
[]
[]
[]
[]
[]
[]
[]
[]
[]
[]
[]
[]
[]
[]
[]
[]
[]
[]
[]
[]
[]
[]
[]
[]
[]
[]
[]
[]
[]
[]
[]
[]
[]
[]
[]
[]
[]
[]
[]
[]
[]
[]
[]
[]
[]
[]
[]
[]
[]
[]
[]
[]
[]
[]
[]
[]
[]
[]
[]
[]
[]
[]
[]
[]
[]
[]
[]
[]
[]
[]
[]
[]
[]
[]
[]
[]
[]
[]
[]
[]
[]
[]
[]
[]
[]
[]
[]
[]
[]
[]
[]
[]
[]
[]
[]
[]
[]
[]
[]
[]
[]
[]
[]
[]
[]
[]
[]
[]
[]
[]
[]
[]
[]
[]
[]
[]
[]
[]
[]
[]
[]
[]
[]
[]
[]
[]
[]
[]
[]
[]
[]
[]
[]
[]
[]
[]
[]
[]
[]
[]
[]
[]
[]
[]
[]
[]
[]
[]
[]
[]
[]
[]
[]
[]
[]
[]
[]
[]
[]
[]
[]
[]
[]
[]
[]
[]
[]
[]
[]
[]
[]
[]
[]
[]
[]
[]
[]
[]
[]
[]
[]
[]
[]
[]
[]
[]
[]
[]
[]
[]
[]
[]
[]
[]
[]
[]
[]
[]
[]
[]
[]
[]
[]
[]
[]
[]
[]
[]
[]
[]
[]
[]
[]
[]
[]
[]
[]
[]
[]
[]
[]
[]
[]
[]
[]
[]
[]
[]
[]
[]
[]
[]
[]
[]
[]
[]
[]
[]
[]
[]
[]
[]
[]
[]
[]
[]
[]
[]
[]
[]
[]
[]
[]
[]
[]
[]
[]
[]
[]
[]
[]
[]
[]
[]
[]
[]
[]
[]
[]
[]
[]
[]
[]
[]
[]
[]
[]
[]
[]
[]
[]
[]
[]
[]
[]
[]
[]
[]
[]
[]
[]
[]
[]
[]
[]
[]
[]
[]
[]
[]
[]
[]
[]
[]
[]
[]
[]
[]
[]
[]
[]
[]
[]
[]
[]
[]
[]
[]
[]
[]
[]
[]
[]
[]
[]
[]
[]
[]
[]
[]
[]
[]
[]
[]
[]
[]
[]
[]
[]
[]
[]
[]
[]
[]
[]
[]
[]
[]
[]
[]
[]
[]
[]
[]
[]
[]
[]
[]
[]
[]
[]
[]
[]
[]
[]
[]
[]
[]
[]
[]
[]
[]
[]
[]
[]
[]
[]
[]
[]
[]
[]
[]
[]
[]
[]
[]
[]
[]
[]
[]
[]
[]
[]
[]
[]
[]
[]
[]
[]
[]
[]
[]
[]
[]
[]
[]
[]
[]
[]
[]
[]
[]
[]
[]
[]
[]
[]
[]
[]
[]
[]
[]
[]
[]
[]
[]
[]
[]
[]
[]
[]
[]
[]
[]
[]
[]
[]
[]
[]
[]
[]
[]
[]
[]
[]
[]
[]
[]
[]
[]
[]
[]
[]
[]
[]
[]
[]
[]
[]
[]
[]
[]
[]
[]
[]
[]
[]
[]
[]
[]
[]
[]
[]
[]
[]
[]
[]
[]
[]
[]
[]
[]
[]
[]
[]
[]
[]
[]
[]
[]
[]
[]
[]
[]
[]
[]
[]
[]
[]
[]
[]
[]
[]
[]
[]
[]
[]
[]
[]
[]
[]
[]
[]
[]
[]
[]
[]
[]
[]
[]
[]
[]
[]
[]
[]
[]
[]
[]
[]
[]
[]
[]
[]
[]
[]
[]
[]
[]
[]
[]
[]
[]
[]
[]
[]
[]
[]
[]
[]
[]
[]
[]
[]
[]
[]
[]
[]
[]
[]
[]
[]
[]
[]
[]
[]
[]
[]
[]
[]
[]
[]
[]
[]
[]
[]
[]
[]
[]
[]
[]
[]
[]
[]
[]
[]
[]
[]
[]
[]
[]
[]
[]
[]
[]
[]
[]
[]
[]
[]
[]
[]
[]
[]
[]
[]
[]
[]
[]
[]
[]
[]
[]
[]
[]
[]
[]
[]
[]
[]
[]
[]
[]
[]
[]
[]
[]
[]
[]
[]
[]
[]
[]
[]
[]
[]
[]
[]
[]
[]
[]
[]
[]
[]
[]
[]
[]
[]
[]
[]
[]
[]
[]
[]
[]
[]
[]
[]
[]
[]
[]
[]
[]
[]
[]
[]
[]
[]
[]
[]
[]
[]
[]
[]
[]
[]
[]
[]
[]
[]
[]
[]
[]
[]
[]
[]
[]
[]
[]
[]
[]
[]
[]
[]
[]
[]
[]
[]
[]
[]
[]
[]
[]
[]
[]
[]
[]
[]
[]
[]
[]
[]
[]
[]
[]
[]
[]
[]
[]
[]
[]
[]
[]
[]
[]
[]
[]
[]
[]
[]
[]
[]
[]
[]
[]
[]
[]
[]
[]
[]
[]
[]
[]
[]
[]
[]
[]
[]
[]
[]
[]
[]
[]
[]
[]
[]
[]
[]
[]
[]
[]
[]
[]
[]
[]
[]
[]
[]
[]
[]
[]
[]
[]
[]
[]
[]
[]
[]
[]
[]
[]
[]
[]
[]
[]
[]
[]
[]
[]
[]
[]
[]
[]
[]
[]
[]
[]
[]
[]
[]
[]
[]
[]
[]
[]
[]
[]
[]
[]
[]
[]
[]
[]
[]
[]
[]
[]
[]
[]
[]
[]
[]
[]
[]
[]
[]
[]
[]
[]
[]
[]
[]
[]
[]
[]
[]
[]
[]
[]
[]
[]
[]
[]
[]
[]
[]
[]
[]
[]
[]
[]
[]
[]
[]
[]
[]
[]
[]
[]
[]
[]
[]
[]
[]
[]
[]
[]
[]
[]
[]
[]
[]
[]
[]
[]
[]
[]
[]
[]
[]
[]
[]
[]
[]
[]
[]
[]
[]
[]
[]
[]
[]
[]
[]
[]
[]
[]
[]
[]
[]
[]
[]
[]
[]
[]
[]
[]
[]
[]
[]
[]
[]
[]
[]
[]
[]
[]
[]
[]
[]
[]
[]
[]
[]
[]
[]
[]
[]
[]
[]
[]
[]
[]
[]
[]
[]
[]
[]
[]
[]
[]
[]
[]
[]
[]
[]
[]
[]
[]
[]
[]
[]
[]
[]
[]
[]
[]
[]
[]
[]
[]
[]
[]
[]
[]
[]
[]
[]
[]
[]
[]
[]
[]
[]
[]
[]
[]
[]
[]
[]
[]
[]
[]
[]
[]
[]
[]
[]
[]
[]
[]
[]
[]
[]
[]
[]
[]
[]
[]
[]
[]
[]
[]
[]
[]
[]
[]
[]
[]
[]
[]
[]
[]
[]
[]
[]
[]
[]
[]
[]
[]
[]
[]
[]
[]
[]
[]
[]
[]
[]
[]
[]
[]
[]
[]
[]
[]
[]
[]
[]
[]
[]
[]
[]
[]
[]
[]
[]
[]
[]
[]
[]
[]
[]
[]
[]
[]
[]
[]
[]
[]
[]
[]
[]
[]
[]
[]
[]
[]
[]
[]
[]
[]
[]
[]
[]
[]
[]
[]
[]
[]
[]
[]
[]
[]
[]
[]
[]
[]
[]
[]
[]
[]
[]
[]
[]
[]
[]
[]
[]
[]
[]
[]
[]
[]
[]
[]
[]
[]
[]
[]
[]
[]
[]
[]
[]
[]
[]
[]
[]
[]
[]
[]
[]
[]
[]
[]
[]
[]
[]
[]
[]
[]
[]
[]
[]
[]
[]
[]
[]
[]
[]
[]
[]
[]
[]
[]
[]
[]
[]
[]
[]
[]
[]
[]
[]
[]
[]
[]
[]
[]
[]
[]
[]
[]
[]
[]
[]
[]
[]
[]
[]
[]
[]
[]
[]
[]
[]
[]
[]
[]
[]
[]
[]
[]
[]
[]
[]
[]
[]
[]
[]
[]
[]
[]
[]
[]
[]
[]
[]
[]
[]
[]
[]
[]
[]
[]
[]
[]
[]
[]
[]
[]
[]
[]
[]
[]
[]
[]
[]
[]
[]
[]
[]
[]
[]
[]
[]
[]
[]
[]
[]
[]
[]
[]
[]
[]
[]
[]
[]
[]
[]
[]
[]
[]
[]
[]
[]
[]
[]
[]
[]
[]
[]
[]
[]
[]
[]
[]
[]
[]
[]
[]
[]
[]
[]
[]
[]
[]
[]
[]
[]
[]
[]
[]
[]
[]
[]
[]
[]
[]
[]
[]
[]
[]
[]
[]
[]
[]
[]
[]
[]
[]
[]
[]
[]
[]
[]
[]
[]
[]
[]
[]
[]
[]
[]
[]
[]
[]
[]
[]
[]
[]
[]
[]
[]
[]
[]
[]
[]
[]
[]
[]
[]
[]
[]
[]
[]
[]
[]
[]
[]
[]
[]
[]
[]
[]
[]
[]
[]
[]
[]
[]
[]
[]
[]
[]
[]
[]
[]
[]
[]
[]
[]
[]
[]
[]
[]
[]
[]
[]
[]
[]
[]
[]
[]
[]
[]
[]
[]
[]
[]
[]
[]
[]
[]
[]
[]
[]
[]
[]
[]
[]
[]
[]
[]
[]
[]
[]
[]
[]
[]
[]
[]
[]
[]
[]
[]
[]
[]
[]
[]
[]
[]
[]
[]
[]
[]
[]
[]
[]
[]
[]
[]
[]
[]
[]
[]
[]
[]
[]
[]
[]
[]
[]
[]
[]
[]
[]
[]
[]
[]
[]
[]
[]
[]
[]
[]
[]
[]
[]
[]
[]
[]
[]
[]
[]
[]
[]
[]
[]
[]
[]
[]
[]
[]
[]
[]
[]
[]
[]
[]
[]
[]
[]
[]
[]
[]
[]
[]
[]
[]
[]
[]
[]
[]
[]
[]
[]
[]
[]
[]
[]
[]
[]
[]
[]
[]
[]
[]
[]
[]
[]
[]
[]
[]
[]
[]
[]
[]
[]
[]
[]
[]
[]
[]
[]
[]
[]
[]
[]
[]
[]
[]
[]
[]
[]
[]
[]
[]
[]
[]
[]
[]
[]
[]
[]
[]
[]
[]
[]
[]
[]
[]
[]
[]
[]
[]
[]
[]
[]
[]
[]
[]
[]
[]
[]
[]
[]
[]
[]
[]
[]
[]
[]
[]
[]
[]
[]
[]
[]
[]
[]
[]
[]
[]
[]
[]
[]
[]
[]
[]
[]
[]
[]
[]
[]
[]
[]
[]
[]
[]
[]
[]
[]
[]
[]
[]
[]
[]
[]
[]
[]
[]
[]
[]
[]
[]
[]
[]
[]
[]
[]
[]
[]
[]
[]
[]
[]
[]
[]
[]
[]
[]
[]
[]
[]
[]
[]
[]
[]
[]
[]
[]
[]
[]
[]
[]
[]
[]
[]
[]
[]
[]
[]
[]
[]
[]
[]
[]
[]
[]
[]
[]
[]
[]
[]
[]
[]
[]
[]
[]
[]
[]
[]
[]
[]
[]
[]
[]
[]
[]
[]
[]
[]
[]
[]
[]
[]
[]
[]
[]
[]
[]
[]
[]
[]
[]
[]
[]
[]
[]
[]
[]
[]
[]
[]
[]
[]
[]
[]
[]
[]
[]
[]
[]
[]
[]
[]
[]
[]
[]
[]
[]
[]
[]
[]
[]
[]
[]
[]
[]
[]
[]
[]
[]
[]
[]
[]
[]
[]
[]
[]
[]
[]
[]
[]
[]
[]
[]
[]
[]
[]
[]
[]
[]
[]
[]
[]
[]
[]
[]
[]
[]
[]
[]
[]
[]
[]
[]
[]
[]
[]
[]
[]
[]
[]
[]
[]
[]
[]
[]
[]
[]
[]
[]
[]
[]
[]
[]
[]
[]
[]
[]
[]
[]
[]
[]
[]
[]
[]
[]
[]
[]
[]
[]
[]
[]
[]
[]
[]
[]
[]
[]
[]
[]
[]
[]
[]
[]
[]
[]
[]
[]
[]
[]
[]
[]
[]
[]
[]
[]
[]
[]
[]
[]
[]
[]
[]
[]
[]
[]
[]
[]
[]
[]
[]
[]
[]
[]
[]
[]
[]
[]
[]
[]
[]
[]
[]
[]
[]
[]
[]
[]
[]
[]
[]
[]
[]
[]
[]
[]
[]
[]
[]
[]
[]
[]
[]
[]
[]
[]
[]
[]
[]
[]
[]
[]
[]
[]
[]
[]
[]
[]
[]
[]
[]
[]
[]
[]
[]
[]
[]
[]
[]
[]
[]
[]
[]
[]
[]
[]
[]
[]
[]
[]
[]
[]
[]
[]
[]
[]
[]
[]
[]
[]
[]
[]
[]
[]
[]
[]
[]
[]
[]
[]
[]
[]
[]
[]
[]
[]
[]
[]
[]
[]
[]
[]
[]
[]
[]
[]
[]
[]
[]
[]
[]
[]
[]
[]
[]
[]
[]
[]
[]
[]
[]
[]
[]
[]
[]
[]
[]
[]
[]
[]
[]
[]
[]
[]
[]
[]
[]
[]
[]
[]
[]
[]
[]
[]
[]
[]
[]
[]
[]
[]
[]
[]
[]
[]
[]
[]
[]
[]
[]
[]
[]
[]
[]
[]
[]
[]
[]
[]
[]
[]
[]
[]
[]
[]
[]
[]
[]
[]
[]
[]
[]
[]
[]
[]
[]
[]
[]
[]
[]
[]
[]
[]
[]
[]
[]
[]
[]
[]
[]
[]
[]
[]
[]
[]
[]
[]
[]
[]
[]
[]
[]
[]
[]
[]
[]
[]
[]
[]
[]
[]
[]
[]
[]
[]
[]
[]
[]
[]
[]
[]
[]
[]
[]
[]
[]
[]
[]
[]
[]
[]
[]
[]
[]
[]
[]
[]
[]
[]
[]
[]
[]
[]
[]
[]
[]
[]
[]
[]
[]
[]
[]
[]
[]
[]
[]
[]
[]
[]
[]
[]
[]
[]
[]
[]
[]
[]
[]
[]
[]
[]
[]
[]
[]
[]
[]
[]
[]
[]
[]
[]
[]
[]
[]
[]
[]
[]
[]
[]
[]
[]
[]
[]
[]
[]
[]
[]
[]
[]
[]
[]
[]
[]
[]
[]
[]
[]
[]
[]
[]
[]
[]
[]
[]
[]
[]
[]
[]
[]
[]
[]
[]
[]
[]
[]
[]
[]
[]
[]
[]
[]
[]
[]
[]
[]
[]
[]
[]
[]
[]
[]
[]
[]
[]
[]
[]
[]
[]
[]
[]
[]
[]
[]
[]
[]
[]
[]
[]
[]
[]
[]
[]
[]
[]
[]
[]
[]
[]
[]
[]
[]
[]
[]
[]
[]
[]
[]
[]
[]
[]
[]
[]
[]
[]
[]
[]
[]
[]
[]
[]
[]
[]
[]
[]
[]
[]
[]
[]
[]
[]
[]
[]
[]
[]
[]
[]
[]
[]
[]
[]
[]
[]
[]
[]
[]
[]
[]
[]
[]
[]
[]
[]
[]
[]
[]
[]
[]
[]
[]
[]
[]
[]
[]
[]
[]
[]
[]
[]
[]
[]
[]
[]
[]
[]
[]
[]
[]
[]
[]
[]
[]
[]
[]
[]
[]
[]
[]
[]
[]
[]
[]
[]
[]
[]
[]
[]
[]
[]
[]
[]
[]
[]
[]
[]
[]
[]
[]
[]
[]
[]
[]
[]
[]
[]
[]
[]
[]
[]
[]
[]
[]
[]
[]
[]
[]
[]
[]
[]
[]
[]
[]
[]
[]
[]
[]
[]
[]
[]
[]
[]
[]
[]
[]
[]
[]
[]
[]
[]
[]
[]
[]
[]
[]
[]
[]
[]
[]
[]
[]
[]
[]
[]
[]
[]
[]
[]
[]
[]
[]
[]
[]
[]
[]
[]
[]
[]
[]
[]
[]
[]
[]
[]
[]
[]
[]
[]
[]
[]
[]
[]
[]
[]
[]
[]
[]
[]
[]
[]
[]
[]
[]
[]
[]
[]
[]
[]
[]
[]
[]
[]
[]
[]
[]
[]
[]
[]
[]
[]
[]
[]
[]
[]
[]
[]
[]
[]
[]
[]
[]
[]
[]
[]
[]
[]
[]
[]
[]
[]
[]
[]
[]
[]
[]
[]
[]
[]
[]
[]
[]
[]
[]
[]
[]
[]
[]
[]
[]
[]
[]
[]
[]
[]
[]
[]
[]
[]
[]
[]
[]
[]
[]
[]
[]
[]
[]
[]
[]
[]
[]
[]
[]
[]
[]
[]
[]
[]
[]
[]
[]
[]
[]
[]
[]
[]
[]
[]
[]
[]
[]
[]
[]
[]
[]
[]
[]
[]
[]
[]
[]
[]
[]
[]
[]
[]
[]
[]
[]
[]
[]
[]
[]
[]
[]
[]
[]
[]
[]
[]
[]
[]
[]
[]
[]
[]
[]
[]
[]
[]
[]
[]
[]
[]
[]
[]
[]
[]
[]
[]
[]
[]
[]
[]
[]
[]
[]
[]
[]
[]
[]
[]
[]
[]
[]
[]
[]
[]
[]
[]
[]
[]
[]
[]
[]
[]
[]
[]
[]
[]
[]
[]
[]
[]
[]
[]
[]
[]
[]
[]
[]
[]
[]
[]
[]
[]
[]
[]
[]
[]
[]
[]
[]
[]
[]
[]
[]
[]
[]
[]
[]
[]
[]
[]
[]
[]
[]
[]
[]
[]
[]
[]
[]
[]
[]
[]
[]
[]
[]
[]
[]
[]
[]
[]
[]
[]
[]
[]
[]
[]
[]
[]
[]
[]
[]
[]
[]
[]
[]
[]
[]
[]
[]
[]
[]
[]
[]
[]
[]
[]
[]
[]
[]
[]
[]
[]
[]
[]
[]
[]
[]
[]
[]
[]
[]
[]
[]
[]
[]
[]
[]
[]
[]
[]
[]
[]
[]
[]
[]
[]
[]
[]
[]
[]
[]
[]
[]
[]
[]
[]
[]
[]
[]
[]
[]
[]
[]
[]
[]
[]
[]
[]
[]
[]
[]
[]
[]
[]
[]
[]
[]
[]
[]
[]
[]
[]
[]
[]
[]
[]
[]
[]
[]
[]
[]
[]
[]
[]
[]
[]
[]
[]
[]
[]
[]
[]
[]
[]
[]
[]
[]
[]
[]
[]
[]
[]
[]
[]
[]
[]
[]
[]
[]
[]
[]
[]
[]
[]
[]
[]
[]
[]
[]
[]
[]
[]
[]
[]
[]
[]
[]
[]
[]
[]
[]
[]
[]
[]
[]
[]
[]
[]
[]
[]
[]
[]
[]
[]
[]
[]
[]
[]
[]
[]
[]
[]
[]
[]
[]
[]
[]
[]
[]
[]
[]
[]
[]
[]
[]
[]
[]
[]
[]
[]
[]
[]
[]
[]
[]
[]
[]
[]
[]
[]
[]
[]
[]
[]
[]
[]
[]
[]
[]
[]
[]
[]
[]
[]
[]
[]
[]
[]
[]
[]
[]
[]
[]
[]
[]
[]
[]
[]
[]
[]
[]
[]
[]
[]
[]
[]
[]
[]
[]
[]
[]
[]
[]
[]
[]
[]
[]
[]
[]
[]
[]
[]
[]
[]
[]
[]
[]
[]
[]
[]
[]
[]
[]
[]
[]
[]
[]
[]
[]
[]
[]
[]
[]
[]
[]
[]
[]
[]
[]
[]
[]
[]
[]
[]
[]
[]
[]
[]
[]
[]
[]
[]
[]
[]
[]
[]
[]
[]
[]
[]
[]
[]
[]
[]
[]
[]
[]
[]
[]
[]
[]
[]
[]
[]
[]
[]
[]
[]
[]
[]
[]
[]
[]
[]
[]
[]
[]
[]
[]
[]
[]
[]
[]
[]
[]
[]
[]
[]
[]
[]
[]
[]
[]
[]
[]
[]
[]
[]
[]
[]
[]
[]
[]
[]
[]
[]
[]
[]
[]
[]
[]
[]
[]
[]
[]
[]
[]
[]
[]
[]
[]
[]
[]
[]
[]
[]
[]
[]
[]
[]
[]
[]
[]
[]
[]
[]
[]
[]
[]
[]
[]
[]
[]
[]
[]
[]
[]
[]
[]
[]
[]
[]
[]
[]
[]
[]
[]
[]
[]
[]
[]
[]
[]
[]
[]
[]
[]
[]
[]
[]
[]
[]
[]
[]
[]
[]
[]
[]
[]
[]
[]
[]
[]
[]
[]
[]
[]
[]
[]
[]
[]
[]
[]
[]
[]
[]
[]
[]
[]
[]
[]
[]
[]
[]
[]
[]
[]
[]
[]
[]
[]
[]
[]
[]
[]
[]
[]
[]
[]
[]
[]
[]
[]
[]
[]
[]
[]
[]
[]
[]
[]
[]
[]
[]
[]
[]
[]
[]
[]
[]
[]
[]
[]
[]
[]
[]
[]
[]
[]
[]
[]
[]
[]
[]
[]
[]
[]
[]
[]
[]
[]
[]
[]
[]
[]
[]
[]
[]
[]
[]
[]
[]
[]
[]
[]
[]
[]
[]
[]
[]
[]
[]
[]
[]
[]
[]
[]
[]
[]
[]
[]
[]
[]
[]
[]
[]
[]
[]
[]
[]
[]
[]
[]
[]
[]
[]
[]
[]
[]
[]
[]
[]
[]
[]
[]
[]
[]
[]
[]
[]
[]
[]
[]
[]
[]
[]
[]
[]
[]
[]
[]
[]
[]
[]
[]
[]
[]
[]
[]
[]
[]
[]
[]
[]
[]
[]
[]
[]
[]
[]
[]
[]
[]
[]
[]
[]
[]
[]
[]
[]
[]
[]
[]
[]
[]
[]
[]
[]
[]
[]
[]
[]
[]
[]
[]
[]
[]
[]
[]
[]
[]
[]
[]
[]
[]
[]
[]
[]
[]
[]
[]
[]
[]
[]
[]
[]
[]
[]
[]
[]
[]
[]
[]
[]
[]
[]
[]
[]
[]
[]
[]
[]
[]
[]
[]
[]
[]
[]
[]
[]
[]
[]
[]
[]
[]
[]
[]
[]
[]
[]
[]
[]
[]
[]
[]
[]
[]
[]
[]
[]
[]
[]
[]
[]
[]
[]
[]
[]
[]
[]
[]
[]
[]
[]
[]
[]
[]
[]
[]
[]
[]
[]
[]
[]
[]
[]
[]
[]
[]
[]
[]
[]
[]
[]
[]
[]
[]
[]
[]
[]
[]
[]
[]
[]
[]
[]
[]
[]
[]
[]
[]
[]
[]
[]
[]
[]
[]
[]
[]
[]
[]
[]
[]
[]
[]
[]
[]
[]
[]
[]
[]
[]
[]
[]
[]
[]
[]
[]
[]
[]
[]
[]
[]
[]
[]
[]
[]
[]
[]
[]
[]
[]
[]
[]
[]
[]
[]
[]
[]
[]
[]
[]
[]
[]
[]
[]
[]
[]
[]
[]
[]
[]
[]
[]
[]
[]
[]
[]
[]
[]
[]
[]
[]
[]
[]
[]
[]
[]
[]
[]
[]
[]
[]
[]
[]
[]
[]
[]
[]
[]
[]
[]
[]
[]
[]
[]
[]
[]
[]
[]
[]
[]
[]
[]
[]
[]
[]
[]
[]
[]
[]
[]
[]
[]
[]
[]
[]
[]
[]
[]
[]
[]
[]
[]
[]
[]
[]
[]
[]
[]
[]
[]
[]
[]
[]
[]
[]
[]
[]
[]
[]
[]
[]
[]
[]
[]
[]
[]
[]
[]
[]
[]
[]
[]
[]
[]
[]
[]
[]
[]
[]
[]
[]
[]
[]
[]
[]
[]
[]
[]
[]
[]
[]
[]
[]
[]
[]
[]
[]
[]
[]
[]
[]
[]
[]
[]
[]
[]
[]
[]
[]
[]
[]
[]
[]
[]
[]
[]
[]
[]
[]
[]
[]
[]
[]
[]
[]
[]
[]
[]
[]
[]
[]
[]
[]
[]
[]
[]
[]
[]
[]
[]
[]
[]
[]
[]
[]
[]
[]
[]
[]
[]
[]
[]
[]
[]
[]
[]
[]
[]
[]
[]
[]
[]
[]
[]
[]
[]
[]
[]
[]
[]
[]
[]
[]
[]
[]
[]
[]
[]
[]
[]
[]
[]
[]
[]
[]
[]
[]
[]
[]
[]
[]
[]
[]
[]
[]
[]
[]
[]
[]
[]
[]
[]
[]
[]
[]
[]
[]
[]
[]
[]
[]
[]
[]
[]
[]
[]
[]
[]
[]
[]
[]
[]
[]
[]
[]
[]
[]
[]
[]
[]
[]
[]
[]
[]
[]
[]
[]
[]
[]
[]
[]
[]
[]
[]
[]
[]
[]
[]
[]
[]
[]
[]
[]
[]
[]
[]
[]
[]
[]
[]
[]
[]
[]
[]
[]
[]
[]
[]
[]
[]
[]
[]
[]
[]
[]
[]
[]
[]
[]
[]
[]
[]
[]
[]
[]
[]
[]
[]
[]
[]
[]
[]
[]
[]
[]
[]
[]
[]
[]
[]
[]
[]
[]
[]
[]
[]
[]
[]
[]
[]
[]
[]
[]
[]
[]
[]
[]
[]
[]
[]
[]
[]
[]
[]
[]
[]
[]
[]
[]
[]
[]
[]
[]
[]
[]
[]
[]
[]
[]
[]
[]
[]
[]
[]
[]
[]
[]
[]
[]
[]
[]
[]
[]
[]
[]
[]
[]
[]
[]
[]
[]
[]
[]
[]
[]
[]
[]
[]
[]
[]
[]
[]
[]
[]
[]
[]
[]
[]
[]
[]
[]
[]
[]
[]
[]
[]
[]
[]
[]
[]
[]
[]
[]
[]
[]
[]
[]
[]
[]
[]
[]
[]
[]
[]
[]
[]
[]
[]
[]
[]
[]
[]
[]
[]
[]
[]
[]
[]
[]
[]
[]
[]
[]
[]
[]
[]
[]
[]
[]
[]
[]
[]
[]
[]
[]
[]
[]
[]
[]
[]
[]
[]
[]
[]
[]
[]
[]
[]
[]
[]
[]
[]
[]
[]
[]
[]
[]
[]
[]
[]
[]
[]
[]
[]
[]
[]
[]
[]
[]
[]
[]
[]
[]
[]
[]
[]
[]
[]
[]
[]
[]
[]
[]
[]
[]
[]
[]
[]
[]
[]
[]
[]
[]
[]
[]
[]
[]
[]
[]
[]
[]
[]
[]
[]
[]
[]
[]
[]
[]
[]
[]
[]
[]
[]
[]
[]
[]
[]
[]
[]
[]
[]
[]
[]
[]
[]
[]
[]
[]
[]
[]
[]
[]
[]
[]
[]
[]
[]
[]
[]
[]
[]
[]
[]
[]
[]
[]
[]
[]
[]
[]
[]
[]
[]
[]
[]
[]
[]
[]
[]
[]
[]
[]
[]
[]
[]
[]
[]
[]
[]
[]
[]
[]
[]
[]
[]
[]
[]
[]
[]
[]
[]
[]
[]
[]
[]
[]
[]
[]
[]
[]
[]
[]
[]
[]
[]
[]
[]
[]
[]
[]
[]
[]
[]
[]
[]
[]
[]
[]
[]
[]
[]
[]
[]
[]
[]
[]
[]
[]
[]
[]
[]
[]
[]
[]
[]
[]
[]
[]
[]
[]
[]
[]
[]
[]
[]
[]
[]
[]
[]
[]
[]
[]
[]
[]
[]
[]
[]
[]
[]
[]
[]
[]
[]
[]
[]
[]
[]
[]
[]
[]
[]
[]
[]
[]
[]
[]
[]
[]
[]
[]
[]
[]
[]
[]
[]
[]
[]
[]
[]
[]
[]
[]
[]
[]
[]
[]
[]
[]
[]
[]
[]
[]
[]
[]
[]
[]
[]
[]
[]
[]
[]
[]
[]
[]
[]
[]
[]
[]
[]
[]
[]
[]
[]
[]
[]
[]
[]
[]
[]
[]
[]
[]
[]
[]
[]
[]
[]
[]
[]
[]
[]
[]
[]
[]
[]
[]
[]
[]
[]
[]
[]
[]
[]
[]
[]
[]
[]
[]
[]
[]
[]
[]
[]
[]
[]
[]
[]
[]
[]
[]
[]
[]
[]
[]
[]
[]
[]
[]
[]
[]
[]
[]
[]
[]
[]
[]
[]
[]
[]
[]
[]
[]
[]
[]
[]
[]
[]
[]
[]
[]
[]
[]
[]
[]
[]
[]
[]
[]
[]
[]
[]
[]
[]
[]
[]
[]
[]
[]
[]
[]
[]
[]
[]
[]
[]
[]
[]
[]
[]
[]
[]
[]
[]
[]
[]
[]
[]
[]
[]
[]
[]
[]
[]
[]
[]
[]
[]
[]
[]
[]
[]
[]
[]
[]
[]
[]
[]
[]
[]
[]
[]
[]
[]
[]
[]
[]
[]
[]
[]
[]
[]
[]
[]
[]
[]
[]
[]
[]
[]
[]
[]
[]
[]
[]
[]
[]
[]
[]
[]
[]
[]
[]
[]
[]
[]
[]
[]
[]
[]
[]
[]
[]
[]
[]
[]
[]
[]
[]
[]
[]
[]
[]
[]
[]
[]
[]
[]
[]
[]
[]
[]
[]
[]
[]
[]
[]
[]
[]
[]
[]
[]
[]
[]
[]
[]
[]
[]
[]
[]
[]
[]
[]
[]
[]
[]
[]
[]
[]
[]
[]
[]
[]
[]
[]
[]
[]
[]
[]
[]
[]
[]
[]
[]
[]
[]
[]
[]
[]
[]
[]
[]
[]
[]
[]
[]
[]
[]
[]
[]
[]
[]
[]
[]
[]
[]
[]
[]
[]
[]
[]
[]
[]
[]
[]
[]
[]
[]
[]
[]
[]
[]
[]
[]
[]
[]
[]
[]
[]
[]
[]
[]
[]
[]
[]
[]
[]
[]
[]
[]
[]
[]
[]
[]
[]
[]
[]
[]
[]
[]
[]
[]
[]
[]
[]
[]
[]
[]
[]
[]
[]
[]
[]
[]
[]
[]
[]
[]
[]
[]
[]
[]
[]
[]
[]
[]
[]
[]
[]
[]
[]
[]
[]
[]
[]
[]
[]
[]
[]
[]
[]
[]
[]
[]
[]
[]
[]
[]
[]
[]
[]
[]
[]
[]
[]
[]
[]
[]
[]
[]
[]
[]
[]
[]
[]
[]
[]
[]
[]
[]
[]
[]
[]
[]
[]
[]
[]
[]
[]
[]
[]
[]
[]
[]
[]
[]
[]
[]
[]
[]
[]
[]
[]
[]
[]
[]
[]
[]
[]
[]
[]
[]
[]
[]
[]
[]
[]
[]
[]
[]
[]
[]
[]
[]
[]
[]
[]
[]
[]
[]
[]
[]
[]
[]
[]
[]
[]
[]
[]
[]
[]
[]
[]
[]
[]
[]
[]
[]
[]
[]
[]
[]
[]
[]
[]
[]
[]
[]
[]
[]
[]
[]
[]
[]
[]
[]
[]
[]
[]
[]
[]
[]
[]
[]
[]
[]
[]
[]
[]
[]
[]
[]
[]
[]
[]
[]
[]
[]
[]
[]
[]
[]
[]
[]
[]
[]
[]
[]
[]
[]
[]
[]
[]
[]
[]
[]
[]
[]
[]
[]
[]
[]
[]
[]
[]
[]
[]
[]
[]
[]
[]
[]
[]
[]
[]
[]
[]
[]
[]
[]
[]
[]
[]
[]
[]
[]
[]
[]
[]
[]
[]
[]
[]
[]
[]
[]
[]
[]
[]
[]
[]
[]
[]
[]
[]
[]
[]
[]
[]
[]
[]
[]
[]
[]
[]
[]
[]
[]
[]
[]
[]
[]
[]
[]
[]
[]
[]
[]
[]
[]
[]
[]
[]
[]
[]
[]
[]
[]
[]
[]
[]
[]
[]
[]
[]
[]
[]
[]
[]
[]
[]
[]
[]
[]
[]
[]
[]
[]
[]
[]
[]
[]
[]
[]
[]
[]
[]
[]
[]
[]
[]
[]
[]
[]
[]
[]
[]
[]
[]
[]
[]
[]
[]
[]
[]
[]
[]
[]
[]
[]
[]
[]
[]
[]
[]
[]
[]
[]
[]
[]
[]
[]
[]
[]
[]
[]
[]
[]
[]
[]
[]
[]
[]
[]
[]
[]
[]
[]
[]
[]
[]
[]
[]
[]
[]
[]
[]
[]
[]
[]
[]
[]
[]
[]
[]
[]
[]
[]
[]
[]
[]
[]
[]
[]
[]
[]
[]
[]
[]
[]
[]
[]
[]
[]
[]
[]
[]
[]
[]
[]
[]
[]
[]
[]
[]
[]
[]
[]
[]
[]
[]
[]
[]
[]
[]
[]
[]
[]
[]
[]
[]
[]
[]
[]
[]
[]
[]
[]
[]
[]
[]
[]
[]
[]
[]
[]
[]
[]
[]
[]
[]
[]
[]
[]
[]
[]
[]
[]
[]
[]
[]
[]
[]
[]
[]
[]
[]
[]
[]
[]
[]
[]
[]
[]
[]
[]
[]
[]
[]
[]
[]
[]
[]
[]
[]
[]
[]
[]
[]
[]
[]
[]
[]
[]
[]
[]
[]
[]
[]
[]
[]
[]
[]
[]
[]
[]
[]
[]
[]
[]
[]
[]
[]
[]
[]
[]
[]
[]
[]
[]
[]
[]
[]
[]
[]
[]
[]
[]
[]
[]
[]
[]
[]
[]
[]
[]
[]
[]
[]
[]
[]
[]
[]
[]
[]
[]
[]
[]
[]
[]
[]
[]
[]
[]
[]
[]
[]
[]
[]
[]
[]
[]
[]
[]
[]
[]
[]
[]
[]
[]
[]
[]
[]
[]
[]
[]
[]
[]
[]
[]
[]
[]
[]
[]
[]
[]
[]
[]
[]
[]
[]
[]
[]
[]
[]
[]
[]
[]
[]
[]
[]
[]
[]
[]
[]
[]
[]
[]
[]
[]
[]
[]
[]
[]
[]
[]
[]
[]
[]
[]
[]
[]
[]
[]
[]
[]
[]
[]
[]
[]
[]
[]
[]
[]
[]
[]
[]
[]
[]
[]
[]
[]
[]
[]
[]
[]
[]
[]
[]
[]
[]
[]
[]
[]
[]
[]
[]
[]
[]
[]
[]
[]
[]
[]
[]
[]
[]
[]
[]
[]
[]
[]
[]
[]
[]
[]
[]
[]
[]
[]
[]
[]
[]
[]
[]
[]
[]
[]
[]
[]
[]
[]
[]
[]
[]
[]
[]
[]
[]
[]
[]
[]
[]
[]
[]
[]
[]
[]
[]
[]
[]
[]
[]
[]
[]
[]
[]
[]
[]
[]
[]
[]
[]
[]
[]
[]
[]
[]
[]
[]
[]
[]
[]
[]
[]
[]
[]
[]
[]
[]
[]
[]
[]
[]
[]
[]
[]
[]
[]
[]
[]
[]
[]
[]
[]
[]
[]
[]
[]
[]
[]
[]
[]
[]
[]
[]
[]
[]
[]
[]
[]
[]
[]
[]
[]
[]
[]
[]
[]
[]
[]
[]
[]
[]
[]
[]
[]
[]
[]
[]
[]
[]
[]
[]
[]
[]
[]
[]
[]
[]
[]
[]
[]
[]
[]
[]
[]
[]
[]
[]
[]
[]
[]
[]
[]
[]
[]
[]
[]
[]
[]
[]
[]
[]
[]
[]
[]
[]
[]
[]
[]
[]
[]
[]
[]
[]
[]
[]
[]
[]
[]
[]
[]
[]
[]
[]
[]
[]
[]
[]
[]
[]
[]
[]
[]
[]
[]
[]
[]
[]
[]
[]
[]
[]
[]
[]
[]
[]
[]
[]
[]
[]
[]
[]
[]
[]
[]
[]
[]
[]
[]
[]
[]
[]
[]
[]
[]
[]
[]
[]
[]
[]
[]
[]
[]
[]
[]
[]
[]
[]
[]
[]
[]
[]
[]
[]
[]
[]
[]
[]
[]
[]
[]
[]
[]
[]
[]
[]
[]
[]
[]
[]
[]
[]
[]
[]
[]
[]
[]
[]
[]
[]
[]
[]
[]
[]
[]
[]
[]
[]
[]
[]
[]
[]
[]
[]
[]
[]
[]
[]
[]
[]
[]
[]
[]
[]
[]
[]
[]
[]
[]
[]
[]
[]
[]
[]
[]
[]
[]
[]
[]
[]
[]
[]
[]
[]
[]
[]
[]
[]
[]
[]
[]
[]
[]
[]
[]
[]
[]
[]
[]
[]
[]
[]
[]
[]
[]
[]
[]
[]
[]
[]
[]
[]
[]
[]
[]
[]
[]
[]
[]
[]
[]
[]
[]
[]
[]
[]
[]
[]
[]
[]
[]
[]
[]
[]
[]
[]
[]
[]
[]
[]
[]
[]
[]
[]
[]
[]
[]
[]
[]
[]
[]
[]
[]
[]
[]
[]
[]
[]
[]
[]
[]
[]
[]
[]
[]
[]
[]
[]
[]
[]
[]
[]
[]
[]
[]
[]
[]
[]
[]
[]
[]
[]
[]
[]
[]
[]
[]
[]
[]
[]
[]
[]
[]
[]
[]
[]
[]
[]
[]
[]
[]
[]
[]
[]
[]
[]
[]
[]
[]
[]
[]
[]
[]
[]
[]
[]
[]
[]
[]
[]
[]
[]
[]
[]
[]
[]
[]
[]
[]
[]
[]
[]
[]
[]
[]
[]
[]
[]
[]
[]
[]
[]
[]
[]
[]
[]
[]
[]
[]
[]
[]
[]
[]
[]
[]
[]
[]
[]
[]
[]
[]
[]
[]
[]
[]
[]
[]
[]
[]
[]
[]
[]
[]
[]
[]
[]
[]
[]
[]
[]
[]
[]
[]
[]
[]
[]
[]
[]
[]
[]
[]
[]
[]
[]
[]
[]
[]
[]
[]
[]
[]
[]
[]
[]
[]
[]
[]
[]
[]
[]
[]
[]
[]
[]
[]
[]
[]
[]
[]
[]
[]
[]
[]
[]
[]
[]
[]
[]
[]
[]
[]
[]
[]
[]
[]
[]
[]
[]
[]
[]
[]
[]
[]
[]
[]
[]
[]
[]
[]
[]
[]
[]
[]
[]
[]
[]
[]
[]
[]
[]
[]
[]
[]
[]
[]
[]
[]
[]
[]
[]
[]
[]
[]
[]
[]
[]
[]
[]
[]
[]
[]
[]
[]
[]
[]
[]
[]
[]
[]
[]
[]
[]
[]
[]
[]
[]
[]
[]
[]
[]
[]
[]
[]
[]
[]
[]
[]
[]
[]
[]
[]
[]
[]
[]
[]
[]
[]
[]
[]
[]
[]
[]
[]
[]
[]
[]
[]
[]
[]
[]
[]
[]
[]
[]
[]
[]
[]
[]
[]
[]
[]
[]
[]
[]
[]
[]
[]
[]
[]
[]
[]
[]
[]
[]
[]
[]
[]
[]
[]
[]
[]
[]
[]
[]
[]
[]
[]
[]
[]
[]
[]
[]
[]
[]
[]
[]
[]
[]
[]
[]
[]
[]
[]
[]
[]
[]
[]
[]
[]
[]
[]
[]
[]
[]
[]
[]
[]
[]
[]
[]
[]
[]
[]
[]
[]
[]
[]
[]
[]
[]
[]
[]
[]
[]
[]
[]
[]
[]
[]
[]
[]
[]
[]
[]
[]
[]
[]
[]
[]
[]
[]
[]
[]
[]
[]
[]
[]
[]
[]
[]
[]
[]
[]
[]
[]
[]
[]
[]
[]
[]
[]
[]
[]
[]
[]
[]
[]
[]
[]
[]
[]
[]
[]
[]
[]
[]
[]
[]
[]
[]
[]
[]
[]
[]
[]
[]
[]
[]
[]
[]
[]
[]
[]
[]
[]
[]
[]
[]
[]
[]
[]
[]
[]
[]
[]
[]
[]
[]
[]
[]
[]
[]
[]
[]
[]
[]
[]
[]
[]
[]
[]
[]
[]
[]
[]
[]
[]
[]
[]
[]
[]
[]
[]
[]
[]
[]
[]
[]
[]
[]
[]
[]
[]
[]
[]
[]
[]
[]
[]
[]
[]
[]
[]
[]
[]
[]
[]
[]
[]
[]
[]
[]
[]
[]
[]
[]
[]
[]
[]
[]
[]
[]
[]
[]
[]
[]
[]
[]
[]
[]
[]
[]
[]
[]
[]
[]
[]
[]
[]
[]
[]
[]
[]
[]
[]
[]
[]
[]
[]
[]
[]
[]
[]
[]
[]
[]
[]
[]
[]
[]
[]
[]
[]
[]
[]
[]
[]
[]
[]
[]
[]
[]
[]
[]
[]
[]
[]
[]
[]
[]
[]
[]
[]
[]
[]
[]
[]
[]
[]
[]
[]
[]
[]
[]
[]
[]
[]
[]
[]
[]
[]
[]
[]
[]
[]
[]
[]
[]
[]
[]
[]
[]
[]
[]
[]
[]
[]
[]
[]
[]
[]
[]
[]
[]
[]
[]
[]
[]
[]
[]
[]
[]
[]
[]
[]
[]
[]
[]
[]
[]
[]
[]
[]
[]
[]
[]
[]
[]
[]
[]
[]
[]
[]
[]
[]
[]
[]
[]
[]
[]
[]
[]
[]
[]
[]
[]
[]
[]
[]
[]
[]
[]
[]
[]
[]
[]
[]
[]
[]
[]
[]
[]
[]
[]
[]
[]
[]
[]
[]
[]
[]
[]
[]
[]
[]
[]
[]
[]
[]
[]
[]
[]
[]
[]
[]
[]
[]
[]
[]
[]
[]
[]
[]
[]
[]
[]
[]
[]
[]
[]
[]
[]
[]
[]
[]
[]
[]
[]
[]
[]
[]
[]
[]
[]
[]
[]
[]
[]
[]
[]
[]
[]
[]
[]
[]
[]
[]
[]
[]
[]
[]
[]
[]
[]
[]
[]
[]
[]
[]
[]
[]
[]
[]
[]
[]
[]
[]
[]
[]
[]
[]
[]
[]
[]
[]
[]
[]
[]
[]
[]
[]
[]
[]
[]
[]
[]
[]
[]
[]
[]
[]
[]
[]
[]
[]
[]
[]
[]
[]
[]
[]
[]
[]
[]
[]
[]
[]
[]
[]
[]
[]
[]
[]
[]
[]
[]
[]
[]
[]
[]
[]
[]
[]
[]
[]
[]
[]
[]
[]
[]
[]
[]
[]
[]
[]
[]
[]
[]
[]
[]
[]
[]
[]
[]
[]
[]
[]
[]
[]
[]
[]
[]
[]
[]
[]
[]
[]
[]
[]
[]
[]
[]
[]
[]
[]
[]
[]
[]
[]
[]
[]
[]
[]
[]
[]
[]
[]
[]
[]
[]
[]
[]
[]
[]
[]
[]
[]
[]
[]
[]
[]
[]
[]
[]
[]
[]
[]
[]
[]
[]
[]
[]
[]
[]
[]
[]
[]
[]
[]
[]
[]
[]
[]
[]
[]
[]
[]
[]
[]
[]
[]
[]
[]
[]
[]
[]
[]
[]
[]
[]
[]
[]
[]
[]
[]
[]
[]
[]
[]
[]
[]
[]
[]
[]
[]
[]
[]
[]
[]
[]
[]
[]
[]
[]
[]
[]
[]
[]
[]
[]
[]
[]
[]
[]
[]
[]
[]
[]
[]
[]
[]
[]
[]
[]
[]
[]
[]
[]
[]
[]
[]
[]
[]
[]
[]
[]
[]
[]
[]
[]
[]
[]
[]
[]
[]
[]
[]
[]
[]
[]
[]
[]
[]
[]
[]
[]
[]
[]
[]
[]
[]
[]
[]
[]
[]
[]
[]
[]
[]
[]
[]
[]
[]
[]
[]
[]
[]
[]
[]
[]
[]
[]
[]
[]
[]
[]
[]
[]
[]
[]
[]
[]
[]
[]
[]
[]
[]
[]
[]
[]
[]
[]
[]
[]
[]
[]
[]
[]
[]
[]
[]
[]
[]
[]
[]
[]
[]
[]
[]
[]
[]
[]
[]
[]
[]
[]
[]
[]
[]
[]
[]
[]
[]
[]
[]
[]
[]
[]
[]
[]
[]
[]
[]
[]
[]
[]
[]
[]
[]
[]
[]
[]
[]
[]
[]
[]
[]
[]
[]
[]
[]
[]
[]
[]
[]
[]
[]
[]
[]
[]
[]
[]
[]
[]
[]
[]
[]
[]
[]
[]
[]
[]
[]
[]
[]
[]
[]
[]
[]
[]
[]
[]
[]
[]
[]
[]
[]
[]
[]
[]
[]
[]
[]
[]
[]
[]
[]
[]
[]
[]
[]
[]
[]
[]
[]
[]
[]
[]
[]
[]
[]
[]
[]
[]
[]
[]
[]
[]
[]
[]
[]
[]
[]
[]
[]
[]
[]
[]
[]
[]
[]
[]
[]
[]
[]
[]
[]
[]
[]
[]
[]
[]
[]
[]
[]
[]
[]
[]
[]
[]
[]
[]
[]
[]
[]
[]
[]
[]
[]
[]
[]
[]
[]
[]
[]
[]
[]
[]
[]
[]
[]
[]
[]
[]
[]
[]
[]
[]
[]
[]
[]
[]
[]
[]
[]
[]
[]
[]
[]
[]
[]
[]
[]
[]
[]
[]
[]
[]
[]
[]
[]
[]
[]
[]
[]
[]
[]
[]
[]
[]
[]
[]
[]
[]
[]
[]
[]
[]
[]
[]
[]
[]
[]
[]
[]
[]
[]
[]
[]
[]
[]
[]
[]
[]
[]
[]
[]
[]
[]
[]
[]
[]
[]
[]
[]
[]
[]
[]
[]
[]
[]
[]
[]
[]
[]
[]
[]
[]
[]
[]
[]
[]
[]
[]
[]
[]
[]
[]
[]
[]
[]
[]
[]
[]
[]
[]
[]
[]
[]
[]
[]
[]
[]
[]
[]
[]
[]
[]
[]
[]
[]
[]
[]
[]
[]
[]
[]
[]
[]
[]
[]
[]
[]
[]
[]
[]
[]
[]
[]
[]
[]
[]
[]
[]
[]
[]
[]
[]
[]
[]
[]
[]
[]
[]
[]
[]
[]
[]
[]
[]
[]
[]
[]
[]
[]
[]
[]
[]
[]
[]
[]
[]
[]
[]
[]
[]
[]
[]
[]
[]
[]
[]
[]
[]
[]
[]
[]
[]
[]
[]
[]
[]
[]
[]
[]
[]
[]
[]
[]
[]
[]
[]
[]
[]
[]
[]
[]
[]
[]
[]
[]
[]
[]
[]
[]
[]
[]
[]
[]
[]
[]
[]
[]
[]
[]
[]
[]
[]
[]
[]
[]
[]
[]
[]
[]
[]
[]
[]
[]
[]
[]
[]
[]
[]
[]
[]
[]
[]
[]
[]
[]
[]
[]
[]
[]
[]
[]
[]
[]
[]
[]
[]
[]
[]
[]
[]
[]
[]
[]
[]
[]
[]
[]
[]
[]
[]
[]
[]
[]
[]
[]
[]
[]
[]
[]
[]
[]
[]
[]
[]
[]
[]
[]
[]
[]
[]
[]
[]
[]
[]
[]
[]
[]
[]
[]
[]
[]
[]
[]
[]
[]
[]
[]
[]
[]
[]
[]
[]
[]
[]
[]
[]
[]
[]
[]
[]
[]
[]
[]
[]
[]
[]
[]
[]
[]
[]
[]
[]
[]
[]
[]
[]
[]
[]
[]
[]
[]
[]
[]
[]
[]
[]
[]
[]
[]
[]
[]
[]
[]
[]
[]
[]
[]
[]
[]
[]
[]
[]
[]
[]
[]
[]
[]
[]
[]
[]
[]
[]
[]
[]
[]
[]
[]
[]
[]
[]
[]
[]
[]
[]
[]
[]
[]
[]
[]
[]
[]
[]
[]
[]
[]
[]
[]
[]
[]
[]
[]
[]
[]
[]
[]
[]
[]
[]
[]
[]
[]
[]
[]
[]
[]
[]
[]
[]
[]
[]
[]
[]
[]
[]
[]
[]
[]
[]
[]
[]
[]
[]
[]
[]
[]
[]
[]
[]
[]
[]
[]
[]
[]
[]
[]
[]
[]
[]
[]
[]
[]
[]
[]
[]
[]
[]
[]
[]
[]
[]
[]
[]
[]
[]
[]
[]
[]
[]
[]
[]
[]
[]
[]
[]
[]
[]
[]
[]
[]
[]
[]
[]
[]
[]
[]
[]
[]
[]
[]
[]
[]
[]
[]
[]
[]
[]
[]
[]
[]
[]
[]
[]
[]
[]
[]
[]
[]
[]
[]
[]
[]
[]
[]
[]
[]
[]
[]
[]
[]
[]
[]
[]
[]
[]
[]
[]
[]
[]
[]
[]
[]
[]
[]
[]
[]
[]
[]
[]
[]
[]
[]
[]
[]
[]
[]
[]
[]
[]
[]
[]
[]
[]
[]
[]
[]
[]
[]
[]
[]
[]
[]
[]
[]
[]
[]
[]
[]
[]
[]
[]
[]
[]
[]
[]
[]
[]
[]
[]
[]
[]
[]
[]
[]
[]
[]
[]
[]
[]
[]
[]
[]
[]
[]
[]
[]
[]
[]
[]
[]
[]
[]
[]
[]
[]
[]
[]
[]
[]
[]
[]
[]
[]
[]
[]
[]
[]
[]
[]
[]
[]
[]
[]
[]
[]
[]
[]
[]
[]
[]
[]
[]
[]
[]
[]
[]
[]
[]
[]
[]
[]
[]
[]
[]
[]
[]
[]
[]
[]
[]
[]
[]
[]
[]
[]
[]
[]
[]
[]
[]
[]
[]
[]
[]
[]
[]
[]
[]
[]
[]
[]
[]
[]
[]
[]
[]
[]
[]
[]
[]
[]
[]
[]
[]
[]
[]
[]
[]
[]
[]
[]
[]
[]
[]
[]
[]
[]
[]
[]
[]
[]
[]
[]
[]
[]
[]
[]
[]
[]
[]
[]
[]
[]
[]
[]
[]
[]
[]
[]
[]
[]
[]
[]
[]
[]
[]
[]
[]
[]
[]
[]
[]
[]
[]
[]
[]
[]
[]
[]
[]
[]
[]
[]
[]
[]
[]
[]
[]
[]
[]
[]
[]
[]
[]
[]
[]
[]
[]
[]
[]
[]
[]
[]
[]
[]
[]
[]
[]
[]
[]
[]
[]
[]
[]
[]
[]
[]
[]
[]
[]
[]
[]
[]
[]
[]
[]
[]
[]
[]
[]
[]
[]
[]
[]
[]
[]
[]
[]
[]
[]
[]
[]
[]
[]
[]
[]
[]
[]
[]
[]
[]
[]
[]
[]
[]
[]
[]
[]
[]
[]
[]
[]
[]
[]
[]
[]
[]
[]
[]
[]
[]
[]
[]
[]
[]
[]
[]
[]
[]
[]
[]
[]
[]
[]
[]
[]
[]
[]
[]
[]
[]
[]
[]
[]
[]
[]
[]
[]
[]
[]
[]
[]
[]
[]
[]
[]
[]
[]
[]
[]
[]
[]
[]
[]
[]
[]
[]
[]
[]
[]
[]
[]
[]
[]
[]
[]
[]
[]
[]
[]
[]
[]
[]
[]
[]
[]
[]
[]
[]
[]
[]
[]
[]
[]
[]
[]
[]
[]
[]
[]
[]
[]
[]
[]
[]
[]
[]
[]
[]
[]
[]
[]
[]
[]
[]
[]
[]
[]
[]
[]
[]
[]
[]
[]
[]
[]
[]
[]
[]
[]
[]
[]
[]
[]
[]
[]
[]
[]
[]
[]
[]
[]
[]
[]
[]
[]
[]
[]
[]
[]
[]
[]
[]
[]
[]
[]
[]
[]
[]
[]
[]
[]
[]
[]
[]
[]
[]
[]
[]
[]
[]
[]
[]
[]
[]
[]
[]
[]
[]
[]
[]
[]
[]
[]
[]
[]
[]
[]
[]
[]
[]
[]
[]
[]
[]
[]
[]
[]
[]
[]
[]
[]
[]
[]
[]
[]
[]
[]
[]
[]
[]
[]
[]
[]
[]
[]
[]
[]
[]
[]
[]
[]
[]
[]
[]
[]
[]
[]
[]
[]
[]
[]
[]
[]
[]
[]
[]
[]
[]
[]
[]
[]
[]
[]
[]
[]
[]
[]
[]
[]
[]
[]
[]
[]
[]
[]
[]
[]
[]
[]
[]
[]
[]
[]
[]
[]
[]
[]
[]
[]
[]
[]
[]
[]
[]
[]
[]
[]
[]
[]
[]
[]
[]
[]
[]
[]
[]
[]
[]
[]
[]
[]
[]
[]
[]
[]
[]
[]
[]
[]
[]
[]
[]
[]
[]
[]
[]
[]
[]
[]
[]
[]
[]
[]
[]
[]
[]
[]
[]
[]
[]
[]
[]
[]
[]
[]
[]
[]
[]
[]
[]
[]
[]
[]
[]
[]
[]
[]
[]
[]
[]
[]
[]
[]
[]
[]
[]
[]
[]
[]
[]
[]
[]
[]
[]
[]
[]
[]
[]
[]
[]
[]
[]
[]
[]
[]
[]
[]
[]
[]
[]
[]
[]
[]
[]
[]
[]
[]
[]
[]
[]
[]
[]
[]
[]
[]
[]
[]
[]
[]
[]
[]
[]
[]
[]
[]
[]
[]
[]
[]
[]
[]
[]
[]
[]
[]
[]
[]
[]
[]
[]
[]
[]
[]
[]
[]
[]
[]
[]
[]
[]
[]
[]
[]
[]
[]
[]
[]
[]
[]
[]
[]
[]
[]
[]
[]
[]
[]
[]
[]
[]
[]
[]
[]
[]
[]
[]
[]
[]
[]
[]
[]
[]
[]
[]
[]
[]
[]
[]
[]
[]
[]
[]
[]
[]
[]
[]
[]
[]
[]
[]
[]
[]
[]
[]
[]
[]
[]
[]
[]
[]
[]
[]
[]
[]
[]
[]
[]
[]
[]
[]
[]
[]
[]
[]
[]
[]
[]
[]
[]
[]
[]
[]
[]
[]
[]
[]
[]
[]
[]
[]
[]
[]
[]
[]
[]
[]
[]
[]
[]
[]
[]
[]
[]
[]
[]
[]
[]
[]
[]
[]
[]
[]
[]
[]
[]
[]
[]
[]
[]
[]
[]
[]
[]
[]
[]
[]
[]
[]
[]
[]
[]
[]
[]
[]
[]
[]
[]
[]
[]
[]
[]
[]
[]
[]
[]
[]
[]
[]
[]
[]
[]
[]
[]
[]
[]
[]
[]
[]
[]
[]
[]
[]
[]
[]
[]
[]
[]
[]
[]
[]
[]
[]
[]
[]
[]
[]
[]
[]
[]
[]
[]
[]
[]
[]
[]
[]
[]
[]
[]
[]
[]
[]
[]
[]
[]
[]
[]
[]
[]
[]
[]
[]
[]
[]
[]
[]
[]
[]
[]
[]
[]
[]
[]
[]
[]
[]
[]
[]
[]
[]
[]
[]
[]
[]
[]
[]
[]
[]
[]
[]
[]
[]
[]
[]
[]
[]
[]
[]
[]
[]
[]
[]
[]
[]
[]
[]
[]
[]
[]
[]
[]
[]
[]
[]
[]
[]
[]
[]
[]
[]
[]
[]
[]
[]
[]
[]
[]
[]
[]
[]
[]
[]
[]
[]
[]
[]
[]
[]
[]
[]
[]
[]
[]
[]
[]
[]
[]
[]
[]
[]
[]
[]
[]
[]
[]
[]
[]
[]
[]
[]
[]
[]
[]
[]
[]
[]
[]
[]
[]
[]
[]
[]
[]
[]
[]
[]
[]
[]
[]
[]
[]
[]
[]
[]
[]
[]
[]
[]
[]
[]
[]
[]
[]
[]
[]
[]
[]
[]
[]
[]
[]
[]
[]
[]
[]
[]
[]
[]
[]
[]
[]
[]
[]
[]
[]
[]
[]
[]
[]
[]
[]
[]
[]
[]
[]
[]
[]
[]
[]
[]
[]
[]
[]
[]
[]
[]
[]
[]
[]
[]
[]
[]
[]
[]
[]
[]
[]
[]
[]
[]
[]
[]
[]
[]
[]
[]
[]
[]
[]
[]
[]
[]
[]
[]
[]
[]
[]
[]
[]
[]
[]
[]
[]
[]
[]
[]
[]
[]
[]
[]
[]
[]
[]
[]
[]
[]
[]
[]
[]
[]
[]
[]
[]
[]
[]
[]
[]
[]
[]
[]
[]
[]
[]
[]
[]
[]
[]
[]
[]
[]
[]
[]
[]
[]
[]
[]
[]
[]
[]
[]
[]
[]
[]
[]
[]
[]
[]
[]
[]
[]
[]
[]
[]
[]
[]
[]
[]
[]
[]
[]
[]
[]
[]
[]
[]
[]
[]
[]
[]
[]
[]
[]
[]
[]
[]
[]
[]
[]
[]
[]
[]
[]
[]
[]
[]
[]
[]
[]
[]
[]
[]
[]
[]
[]
[]
[]
[]
[]
[]
[]
[]
[]
[]
[]
[]
[]
[]
[]
[]
[]
[]
[]
[]
[]
[]
[]
[]
[]
[]
[]
[]
[]
[]
[]
[]
[]
[]
[]
[]
[]
[]
[]
[]
[]
[]
[]
[]
[]
[]
[]
[]
[]
[]
[]
[]
[]
[]
[]
[]
[]
[]
[]
[]
[]
[]
[]
[]
[]
[]
[]
[]
[]
[]
[]
[]
[]
[]
[]
[]
[]
[]
[]
[]
[]
[]
[]
[]
[]
[]
[]
[]
[]
[]
[]
[]
[]
[]
[]
[]
[]
[]
[]
[]
[]
[]
[]
[]
[]
[]
[]
[]
[]
[]
[]
[]
[]
[]
[]
[]
[]
[]
[]
[]
[]
[]
[]
[]
[]
[]
[]
[]
[]
[]
[]
[]
[]
[]
[]
[]
[]
[]
[]
[]
[]
[]
[]
[]
[]
[]
[]
[]
[]
[]
[]
[]
[]
[]
[]
[]
[]
[]
[]
[]
[]
[]
[]
[]
[]
[]
[]
[]
[]
[]
[]
[]
[]
[]
[]
[]
[]
[]
[]
[]
[]
[]
[]
[]
[]
[]
[]
[]
[]
[]
[]
[]
[]
[]
[]
[]
[]
[]
[]
[]
[]
[]
[]
[]
[]
[]
[]
[]
[]
[]
[]
[]
[]
[]
[]
[]
[]
[]
[]
[]
[]
[]
[]
[]
[]
[]
[]
[]
[]
[]
[]
[]
[]
[]
[]
[]
[]
[]
[]
[]
[]
[]
[]
[]
[]
[]
[]
[]
[]
[]
[]
[]
[]
[]
[]
[]
[]
[]
[]
[]
[]
[]
[]
[]
[]
[]
[]
[]
[]
[]
[]
[]
[]
[]
[]
[]
[]
[]
[]
[]
[]
[]
[]
[]
[]
[]
[]
[]
[]
[]
[]
[]
[]
[]
[]
[]
[]
[]
[]
[]
[]
[]
[]
[]
[]
[]
[]
[]
[]
[]
[]
[]
[]
[]
[]
[]
[]
[]
[]
[]
[]
[]
[]
[]
[]
[]
[]
[]
[]
[]
[]
[]
[]
[]
[]
[]
[]
[]
[]
[]
[]
[]
[]
[]
[]
[]
[]
[]
[]
[]
[]
[]
[]
[]
[]
[]
[]
[]
[]
[]
[]
[]
[]
[]
[]
[]
[]
[]
[]
[]
[]
[]
[]
[]
[]
[]
[]
[]
[]
[]
[]
[]
[]
[]
[]
[]
[]
[]
[]
[]
[]
[]
[]
[]
[]
[]
[]
[]
[]
[]
[]
[]
[]
[]
[]
[]
[]
[]
[]
[]
[]
[]
[]
[]
[]
[]
[]
[]
[]
[]
[]
[]
[]
[]
[]
[]
[]
[]
[]
[]
[]
[]
[]
[]
[]
[]
[]
[]
[]
[]
[]
[]
[]
[]
[]
[]
[]
[]
[]
[]
[]
[]
[]
[]
[]
[]
[]
[]
[]
[]
[]
[]
[]
[]
[]
[]
[]
[]
[]
[]
[]
[]
[]
[]
[]
[]
[]
[]
[]
[]
[]
[]
[]
[]
[]
[]
[]
[]
[]
[]
[]
[]
[]
[]
[]
[]
[]
[]
[]
[]
[]
[]
[]
[]
[]
[]
[]
[]
[]
[]
[]
[]
[]
[]
[]
[]
[]
[]
[]
[]
[]
[]
[]
[]
[]
[]
[]
[]
[]
[]
[]
[]
[]
[]
[]
[]
[]
[]
[]
[]
[]
[]
[]
[]
[]
[]
[]
[]
[]
[]
[]
[]
[]
[]
[]
[]
[]
[]
[]
[]
[]
[]
[]
[]
[]
[]
[]
[]
[]
[]
[]
[]
[]
[]
[]
[]
[]
[]
[]
[]
[]
[]
[]
[]
[]
[]
[]
[]
[]
[]
[]
[]
[]
[]
[]
[]
[]
[]
[]
[]
[]
[]
[]
[]
[]
[]
[]
[]
[]
[]
[]
[]
[]
[]
[]
[]
[]
[]
[]
[]
[]
[]
[]
[]
[]
[]
[]
[]
[]
[]
[]
[]
[]
[]
[]
[]
[]
[]
[]
[]
[]
[]
[]
[]
[]
[]
[]
[]
[]
[]
[]
[]
[]
[]
[]
[]
[]
[]
[]
[]
[]
[]
[]
[]
[]
[]
[]
[]
[]
[]
[]
[]
[]
[]
[]
[]
[]
[]
[]
[]
[]
[]
[]
[]
[]
[]
[]
[]
[]
[]
[]
[]
[]
[]
[]
[]
[]
[]
[]
[]
[]
[]
[]
[]
[]
[]
[]
[]
[]
[]
[]
[]
[]
[]
[]
[]
[]
[]
[]
[]
[]
[]
[]
[]
[]
[]
[]
[]
[]
[]
[]
[]
[]
[]
[]
[]
[]
[]
[]
[]
[]
[]
[]
[]
[]
[]
[]
[]
[]
[]
[]
[]
[]
[]
[]
[]
[]
[]
[]
[]
[]
[]
[]
[]
[]
[]
[]
[]
[]
[]
[]
[]
[]
[]
[]
[]
[]
[]
[]
[]
[]
[]
[]
[]
[]
[]
[]
[]
[]
[]
[]
[]
[]
[]
[]
[]
[]
[]
[]
[]
[]
[]
[]
[]
[]
[]
[]
[]
[]
[]
[]
[]
[]
[]
[]
[]
[]
[]
[]
[]
[]
[]
[]
[]
[]
[]
[]
[]
[]
[]
[]
[]
[]
[]
[]
[]
[]
[]
[]
[]
[]
[]
[]
[]
[]
[]
[]
[]
[]
[]
[]
[]
[]
[]
[]
[]
[]
[]
[]
[]
[]
[]
[]
[]
[]
[]
[]
[]
[]
[]
[]
[]
[]
[]
[]
[]
[]
[]
[]
[]
[]
[]
[]
[]
[]
[]
[]
[]
[]
[]
[]
[]
[]
[]
[]
[]
[]
[]
[]
[]
[]
[]
[]
[]
[]
[]
[]
[]
[]
[]
[]
[]
[]
[]
[]
[]
[]
[]
[]
[]
[]
[]
[]
[]
[]
[]
[]
[]
[]
[]
[]
[]
[]
[]
[]
[]
[]
[]
[]
[]
[]
[]
[]
[]
[]
[]
[]
[]
[]
[]
[]
[]
[]
[]
[]
[]
[]
[]
[]
[]
[]
[]
[]
[]
[]
[]
[]
[]
[]
[]
[]
[]
[]
[]
[]
[]
[]
[]
[]
[]
[]
[]
[]
[]
[]
[]
[]
[]
[]
[]
[]
[]
[]
[]
[]
[]
[]
[]
[]
[]
[]
[]
[]
[]
[]
[]
[]
[]
[]
[]
[]
[]
[]
[]
[]
[]
[]
[]
[]
[]
[]
[]
[]
[]
[]
[]
[]
[]
[]
[]
[]
[]
[]
[]
[]
[]
[]
[]
[]
[]
[]
[]
[]
[]
[]
[]
[]
[]
[]
[]
[]
[]
[]
[]
[]
[]
[]
[]
[]
[]
[]
[]
[]
[]
[]
[]
[]
[]
[]
[]
[]
[]
[]
[]
[]
[]
[]
[]
[]
[]
[]
[]
[]
[]
[]
[]
[]
[]
[]
[]
[]
[]
[]
[]
[]
[]
[]
[]
[]
[]
[]
[]
[]
[]
[]
[]
[]
[]
[]
[]
[]
[]
[]
[]
[]
[]
[]
[]
[]
[]
[]
[]
[]
[]
[]
[]
[]
[]
[]
[]
[]
[]
[]
[]
[]
[]
[]
[]
[]
[]
[]
[]
[]
[]
[]
[]
[]
[]
[]
[]
[]
[]
[]
[]
[]
[]
[]
[]
[]
[]
[]
[]
[]
[]
[]
[]
[]
[]
[]
[]
[]
[]
[]
[]
[]
[]
[]
[]
[]
[]
[]
[]
[]
[]
[]
[]
[]
[]
[]
[]
[]
[]
[]
[]
[]
[]
[]
[]
[]
[]
[]
[]
[]
[]
[]
[]
[]
[]
[]
[]
[]
[]
[]
[]
[]
[]
[]
[]
[]
[]
[]
[]
[]
[]
[]
[]
[]
[]
[]
[]
[]
[]
[]
[]
[]
[]
[]
[]
[]
[]
[]
[]
[]
[]
[]
[]
[]
[]
[]
[]
[]
[]
[]
[]
[]
[]
[]
[]
[]
[]
[]
[]
[]
[]
[]
[]
[]
[]
[]
[]
[]
[]
[]
[]
[]
[]
[]
[]
[]
[]
[]
[]
[]
[]
[]
[]
[]
[]
[]
[]
[]
[]
[]
[]
[]
[]
[]
[]
[]
[]
[]
[]
[]
[]
[]
[]
[]
[]
[]
[]
[]
[]
[]
[]
[]
[]
[]
[]
[]
[]
[]
[]
[]
[]
[]
[]
[]
[]
[]
[]
[]
[]
[]
[]
[]
[]
[]
[]
[]
[]
[]
[]
[]
[]
[]
[]
[]
[]
[]
[]
[]
[]
[]
[]
[]
[]
[]
[]
[]
[]
[]
[]
[]
[]
[]
[]
[]
[]
[]
[]
[]
[]
[]
[]
[]
[]
[]
[]
[]
[]
[]
[]
[]
[]
[]
[]
[]
[]
[]
[]
[]
[]
[]
[]
[]
[]
[]
[]
[]
[]
[]
[]
[]
[]
[]
[]
[]
[]
[]
[]
[]
[]
[]
[]
[]
[]
[]
[]
[]
[]
[]
[]
[]
[]
[]
[]
[]
[]
[]
[]
[]
[]
[]
[]
[]
[]
[]
[]
[]
[]
[]
[]
[]
[]
[]
[]
[]
[]
[]
[]
[]
[]
[]
[]
[]
[]
[]
[]
[]
[]
[]
[]
[]
[]
[]
[]
[]
[]
[]
[]
[]
[]
[]
[]
[]
[]
[]
[]
[]
[]
[]
[]
[]
[]
[]
[]
[]
[]
[]
[]
[]
[]
[]
[]
[]
[]
[]
[]
[]
[]
[]
[]
[]
[]
[]
[]
[]
[]
[]
[]
[]
[]
[]
[]
[]
[]
[]
[]
[]
[]
[]
[]
[]
[]
[]
[]
[]
[]
[]
[]
[]
[]
[]
[]
[]
[]
[]
[]
[]
[]
[]
[]
[]
[]
[]
[]
[]
[]
[]
[]
[]
[]
[]
[]
[]
[]
[]
[]
[]
[]
[]
[]
[]
[]
[]
[]
[]
[]
[]
[]
[]
[]
[]
[]
[]
[]
[]
[]
[]
[]
[]
[]
[]
[]
[]
[]
[]
[]
[]
[]
[]
[]
[]
[]
[]
[]
[]
[]
[]
[]
[]
[]
[]
[]
[]
[]
[]
[]
[]
[]
[]
[]
[]
[]
[]
[]
[]
[]
[]
[]
[]
[]
[]
[]
[]
[]
[]
[]
[]
[]
[]
[]
[]
[]
[]
[]
[]
[]
[]
[]
[]
[]
[]
[]
[]
[]
[]
[]
[]
[]
[]
[]
[]
[]
[]
[]
[]
[]
[]
[]
[]
[]
[]
[]
[]
[]
[]
[]
[]
[]
[]
[]
[]
[]
[]
[]
[]
[]
[]
[]
[]
[]
[]
[]
[]
[]
[]
[]
[]
[]
[]
[]
[]
[]
[]
[]
[]
[]
[]
[]
[]
[]
[]
[]
[]
[]
[]
[]
[]
[]
[]
[]
[]
[]
[]
[]
[]
[]
[]
[]
[]
[]
[]
[]
[]
[]
[]
[]
[]
[]
[]
[]
[]
[]
[]
[]
[]
[]
[]
[]
[]
[]
[]
[]
[]
[]
[]
[]
[]
[]
[]
[]
[]
[]
[]
[]
[]
[]
[]
[]
[]
[]
[]
[]
[]
[]
[]
[]
[]
[]
[]
[]
[]
[]
[]
[]
[]
[]
[]
[]
[]
[]
[]
[]
[]
[]
[]
[]
[]
[]
[]
[]
[]
[]
[]
[]
[]
[]
[]
[]
[]
[]
[]
[]
[]
[]
[]
[]
[]
[]
[]
[]
[]
[]
[]
[]
[]
[]
[]
[]
[]
[]
[]
[]
[]
[]
[]
[]
[]
[]
[]
[]
[]
[]
[]
[]
[]
[]
[]
[]
[]
[]
[]
[]
[]
[]
[]
[]
[]
[]
[]
[]
[]
[]
[]
[]
[]
[]
[]
[]
[]
[]
[]
[]
[]
[]
[]
[]
[]
[]
[]
[]
[]
[]
[]
[]
[]
[]
[]
[]
[]
[]
[]
[]
[]
[]
[]
[]
[]
[]
[]
[]
[]
[]
[]
[]
[]
[]
[]
[]
[]
[]
[]
[]
[]
[]
[]
[]
[]
[]
[]
[]
[]
[]
[]
[]
[]
[]
[]
[]
[]
[]
[]
[]
[]
[]
[]
[]
[]
[]
[]
[]
[]
[]
[]
[]
[]
[]
[]
[]
[]
[]
[]
[]
[]
[]
[]
[]
[]
[]
[]
[]
[]
[]
[]
[]
[]
[]
[]
[]
[]
[]
[]
[]
[]
[]
[]
[]
[]
[]
[]
[]
[]
[]
[]
[]
[]
[]
[]
[]
[]
[]
[]
[]
[]
[]
[]
[]
[]
[]
[]
[]
[]
[]
[]
[]
[]
[]
[]
[]
[]
[]
[]
[]
[]
[]
[]
[]
[]
[]
[]
[]
[]
[]
[]
[]
[]
[]
[]
[]
[]
[]
[]
[]
[]
[]
[]
[]
[]
[]
[]
[]
[]
[]
[]
[]
[]
[]
[]
[]
[]
[]
[]
[]
[]
[]
[]
[]
[]
[]
[]
[]
[]
[]
[]
[]
[]
[]
[]
[]
[]
[]
[]
[]
[]
[]
[]
[]
[]
[]
[]
[]
[]
[]
[]
[]
[]
[]
[]
[]
[]
[]
[]
[]
[]
[]
[]
[]
[]
[]
[]
[]
[]
[]
[]
[]
[]
[]
[]
[]
[]
[]
[]
[]
[]
[]
[]
[]
[]
[]
[]
[]
[]
[]
[]
[]
[]
[]
[]
[]
[]
[]
[]
[]
[]
[]
[]
[]
[]
[]
[]
[]
[]
[]
[]
[]
[]
[]
[]
[]
[]
[]
[]
[]
[]
[]
[]
[]
[]
[]
[]
[]
[]
[]
[]
[]
[]
[]
[]
[]
[]
[]
[]
[]
[]
[]
[]
[]
[]
[]
[]
[]
[]
[]
[]
[]
[]
[]
[]
[]
[]
[]
[]
[]
[]
[]
[]
[]
[]
[]
[]
[]
[]
[]
[]
[]
[]
[]
[]
[]
[]
[]
[]
[]
[]
[]
[]
[]
[]
[]
[]
[]
[]
[]
[]
[]
[]
[]
[]
[]
[]
[]
[]
[]
[]
[]
[]
[]
[]
[]
[]
[]
[]
[]
[]
[]
[]
[]
[]
[]
[]
[]
[]
[]
[]
[]
[]
[]
[]
[]
[]
[]
[]
[]
[]
[]
[]
[]
[]
[]
[]
[]
[]
[]
[]
[]
[]
[]
[]
[]
[]
[]
[]
[]
[]
[]
[]
[]
[]
[]
[]
[]
[]
[]
[]
[]
[]
[]
[]
[]
[]
[]
[]
[]
[]
[]
[]
[]
[]
[]
[]
[]
[]
[]
[]
[]
[]
[]
[]
[]
[]
[]
[]
[]
[]
[]
[]
[]
[]
[]
[]
[]
[]
[]
[]
[]
[]
[]
[]
[]
[]
[]
[]
[]
[]
[]
[]
[]
[]
[]
[]
[]
[]
[]
[]
[]
[]
[]
[]
[]
[]
[]
[]
[]
[]
[]
[]
[]
[]
[]
[]
[]
[]
[]
[]
[]
[]
[]
[]
[]
[]
[]
[]
[]
[]
[]
[]
[]
[]
[]
[]
[]
[]
[]
[]
[]
[]
[]
[]
[]
[]
[]
[]
[]
[]
[]
[]
[]
[]
[]
[]
[]
[]
[]
[]
[]
[]
[]
[]
[]
[]
[]
[]
[]
[]
[]
[]
[]
[]
[]
[]
[]
[]
[]
[]
[]
[]
[]
[]
[]
[]
[]
[]
[]
[]
[]
[]
[]
[]
[]
[]
[]
[]
[]
[]
[]
[]
[]
[]
[]
[]
[]
[]
[]
[]
[]
[]
[]
[]
[]
[]
[]
[]
[]
[]
[]
[]
[]
[]
[]
[]
[]
[]
[]
[]
[]
[]
[]
[]
[]
[]
[]
[]
[]
[]
[]
[]
[]
[]
[]
[]
[]
[]
[]
[]
[]
[]
[]
[]
[]
[]
[]
[]
[]
[]
[]
[]
[]
[]
[]
[]
[]
[]
[]
[]
[]
[]
[]
[]
[]
[]
[]
[]
[]
[]
[]
[]
[]
[]
[]
[]
[]
[]
[]
[]
[]
[]
[]
[]
[]
[]
[]
[]
[]
[]
[]
[]
[]
[]
[]
[]
[]
[]
[]
[]
[]
[]
[]
[]
[]
[]
[]
[]
[]
[]
[]
[]
[]
[]
[]
[]
[]
[]
[]
[]
[]
[]
[]
[]
[]
[]
[]
[]
[]
[]
[]
[]
[]
[]
[]
[]
[]
[]
[]
[]
[]
[]
[]
[]
[]
[]
[]
[]
[]
[]
[]
[]
[]
[]
[]
[]
[]
[]
[]
[]
[]
[]
[]
[]
[]
[]
[]
[]
[]
[]
[]
[]
[]
[]
[]
[]
[]
[]
[]
[]
[]
[]
[]
[]
[]
[]
[]
[]
[]
[]
[]
[]
[]
[]
[]
[]
[]
[]
[]
[]
[]
[]
[]
[]
[]
[]
[]
[]
[]
[]
[]
[]
[]
[]
[]
[]
[]
[]
[]
[]
[]
[]
[]
[]
[]
[]
[]
[]
[]
[]
[]
[]
[]
[]
[]
[]
[]
[]
[]
[]
[]
[]
[]
[]
[]
[]
[]
[]
[]
[]
[]
[]
[]
[]
[]
[]
[]
[]
[]
[]
[]
[]
[]
[]
[]
[]
[]
[]
[]
[]
[]
[]
[]
[]
[]
[]
[]
[]
[]
[]
[]
[]
[]
[]
[]
[]
[]
[]
[]
[]
[]
[]
[]
[]
[]
[]
[]
[]
[]
[]
[]
[]
[]
[]
[]
[]
[]
[]
[]
[]
[]
[]
[]
[]
[]
[]
[]
[]
[]
[]
[]
[]
[]
[]
[]
[]
[]
[]
[]
[]
[]
[]
[]
[]
[]
[]
[]
[]
[]
[]
[]
[]
[]
[]
[]
[]
[]
[]
[]
[]
[]
[]
[]
[]
[]
[]
[]
[]
[]
[]
[]
[]
[]
[]
[]
[]
[]
[]
[]
[]
[]
[]
[]
[]
[]
[]
[]
[]
[]
[]
[]
[]
[]
[]
[]
[]
[]
[]
[]
[]
[]
[]
[]
[]
[]
[]
[]
[]
[]
[]
[]
[]
[]
[]
[]
[]
[]
[]
[]
[]
[]
[]
[]
[]
[]
[]
[]
[]
[]
[]
[]
[]
[]
[]
[]
[]
[]
[]
[]
[]
[]
[]
[]
[]
[]
[]
[]
[]
[]
[]
[]
[]
[]
[]
[]
[]
[]
[]
[]
[]
[]
[]
[]
[]
[]
[]
[]
[]
[]
[]
[]
[]
[]
[]
[]
[]
[]
[]
[]
[]
[]
[]
[]
[]
[]
[]
[]
[]
[]
[]
[]
[]
[]
[]
[]
[]
[]
[]
[]
[]
[]
[]
[]
[]
[]
[]
[]
[]
[]
[]
[]
[]
[]
[]
[]
[]
[]
[]
[]
[]
[]
[]
[]
[]
[]
[]
[]
[]
[]
[]
[]
[]
[]
[]
[]
[]
[]
[]
[]
[]
[]
[]
[]
[]
[]
[]
[]
[]
[]
[]
[]
[]
[]
[]
[]
[]
[]
[]
[]
[]
[]
[]
[]
[]
[]
[]
[]
[]
[]
[]
[]
[]
[]
[]
[]
[]
[]
[]
[]
[]
[]
[]
[]
[]
[]
[]
[]
[]
[]
[]
[]
[]
[]
[]
[]
[]
[]
[]
[]
[]
[]
[]
[]
[]
[]
[]
[]
[]
[]
[]
[]
[]
[]
[]
[]
[]
[]
[]
[]
[]
[]
[]
[]
[]
[]
[]
[]
[]
[]
[]
[]
[]
[]
[]
[]
[]
[]
[]
[]
[]
[]
[]
[]
[]
[]
[]
[]
[]
[]
[]
[]
[]
[]
[]
[]
[]
[]
[]
[]
[]
[]
[]
[]
[]
[]
[]
[]
[]
[]
[]
[]
[]
[]
[]
[]
[]
[]
[]
[]
[]
[]
[]
[]
[]
[]
[]
[]
[]
[]
[]
[]
[]
[]
[]
[]
[]
[]
[]
[]
[]
[]
[]
[]
[]
[]
[]
[]
[]
[]
[]
[]
[]
[]
[]
[]
[]
[]
[]
[]
[]
[]
[]
[]
[]
[]
[]
[]
[]
[]
[]
[]
[]
[]
[]
[]
[]
[]
[]
[]
[]
[]
[]
[]
[]
[]
[]
[]
[]
[]
[]
[]
[]
[]
[]
[]
[]
[]
[]
[]
[]
[]
[]
[]
[]
[]
[]
[]
[]
[]
[]
[]
[]
[]
[]
[]
[]
[]
[]
[]
[]
[]
[]
[]
[]
[]
[]
[]
[]
[]
[]
[]
[]
[]
[]
[]
[]
[]
[]
[]
[]
[]
[]
[]
[]
[]
[]
[]
[]
[]
[]
[]
[]
[]
[]
[]
[]
[]
[]
[]
[]
[]
[]
[]
[]
[]
[]
[]
[]
[]
[]
[]
[]
[]
[]
[]
[]
[]
[]
[]
[]
[]
[]
[]
[]
[]
[]
[]
[]
[]
[]
[]
[]
[]
[]
[]
[]
[]
[]
[]
[]
[]
[]
[]
[]
[]
[]
[]
[]
[]
[]
[]
[]
[]
[]
[]
[]
[]
[]
[]
[]
[]
[]
[]
[]
[]
[]
[]
[]
[]
[]
[]
[]
[]
[]
[]
[]
[]
[]
[]
[]
[]
[]
[]
[]
[]
[]
[]
[]
[]
[]
[]
[]
[]
[]
[]
[]
[]
[]
[]
[]
[]
[]
[]
[]
[]
[]
[]
[]
[]
[]
[]
[]
[]
[]
[]
[]
[]
[]
[]
[]
[]
[]
[]
[]
[]
[]
[]
[]
[]
[]
[]
[]
[]
[]
[]
[]
[]
[]
[]
[]
[]
[]
[]
[]
[]
[]
[]
[]
[]
[]
[]
[]
[]
[]
[]
[]
[]
[]
[]
[]
[]
[]
[]
[]
[]
[]
[]
[]
[]
[]
[]
[]
[]
[]
[]
[]
[]
[]
[]
[]
[]
[]
[]
[]
[]
[]
[]
[]
[]
[]
[]
[]
[]
[]
[]
[]
[]
[]
[]
[]
[]
[]
[]
[]
[]
[]
[]
[]
[]
[]
[]
[]
[]
[]
[]
[]
[]
[]
[]
[]
[]
[]
[]
[]
[]
[]
[]
[]
[]
[]
[]
[]
[]
[]
[]
[]
[]
[]
[]
[]
[]
[]
[]
[]
[]
[]
[]
[]
[]
[]
[]
[]
[]
[]
[]
[]
[]
[]
[]
[]
[]
[]
[]
[]
[]
[]
[]
[]
[]
[]
[]
[]
[]
[]
[]
[]
[]
[]
[]
[]
[]
[]
[]
[]
[]
[]
[]
[]
[]
[]
[]
[]
[]
[]
[]
[]
[]
[]
[]
[]
[]
[]
[]
[]
[]
[]
[]
[]
[]
[]
[]
[]
[]
[]
[]
[]
[]
[]
[]
[]
[]
[]
[]
[]
[]
[]
[]
[]
[]
[]
[]
[]
[]
[]
[]
[]
[]
[]
[]
[]
[]
[]
[]
[]
[]
[]
[]
[]
[]
[]
[]
[]
[]
[]
[]
[]
[]
[]
[]
[]
[]
[]
[]
[]
[]
[]
[]
[]
[]
[]
[]
[]
[]
[]
[]
[]
[]
[]
[]
[]
[]
[]
[]
[]
[]
[]
[]
[]
[]
[]
[]
[]
[]
[]
[]
[]
[]
[]
[]
[]
[]
[]
[]
[]
[]
[]
[]
[]
[]
[]
[]
[]
[]
[]
[]
[]
[]
[]
[]
[]
[]
[]
[]
[]
[]
[]
[]
[]
[]
[]
[]
[]
[]
[]
[]
[]
[]
[]
[]
[]
[]
[]
[]
[]
[]
[]
[]
[]
[]
[]
[]
[]
[]
[]
[]
[]
[]
[]
[]
[]
[]
[]
[]
[]
[]
[]
[]
[]
[]
[]
[]
[]
[]
[]
[]
[]
[]
[]
[]
[]
[]
[]
[]
[]
[]
[]
[]
[]
[]
[]
[]
[]
[]
[]
[]
[]
[]
[]
[]
[]
[]
[]
[]
[]
[]
[]
[]
[]
[]
[]
[]
[]
[]
[]
[]
[]
[]
[]
[]
[]
[]
[]
[]
[]
[]
[]
[]
[]
[]
[]
[]
[]
[]
[]
[]
[]
[]
[]
[]
[]
[]
[]
[]
[]
[]
[]
[]
[]
[]
[]
[]
[]
[]
[]
[]
[]
[]
[]
[]
[]
[]
[]
[]
[]
[]
[]
[]
[]
[]
[]
[]
[]
[]
[]
[]
[]
[]
[]
[]
[]
[]
[]
[]
[]
[]
[]
[]
[]
[]
[]
[]
[]
[]
[]
[]
[]
[]
[]
[]
[]
[]
[]
[]
[]
[]
[]
[]
[]
[]
[]
[]
[]
[]
[]
[]
[]
[]
[]
[]
[]
[]
[]
[]
[]
[]
[]
[]
[]
[]
[]
[]
[]
[]
[]
[]
[]
[]
[]
[]
[]
[]
[]
[]
[]
[]
[]
[]
[]
[]
[]
[]
[]
[]
[]
[]
[]
[]
[]
[]
[]
[]
[]
[]
[]
[]
[]
[]
[]
[]
[]
[]
[]
[]
[]
[]
[]
[]
[]
[]
[]
[]
[]
[]
[]
[]
[]
[]
[]
[]
[]
[]
[]
[]
[]
[]
[]
[]
[]
[]
[]
[]
[]
[]
[]
[]
[]
[]
[]
[]
[]
[]
[]
[]
[]
[]
[]
[]
[]
[]
[]
[]
[]
[]
[]
[]
[]
[]
[]
[]
[]
[]
[]
[]
[]
[]
[]
[]
[]
[]
[]
[]
[]
[]
[]
[]
[]
[]
[]
[]
[]
[]
[]
[]
[]
[]
[]
[]
[]
[]
[]
[]
[]
[]
[]
[]
[]
[]
[]
[]
[]
[]
[]
[]
[]
[]
[]
[]
[]
[]
[]
[]
[]
[]
[]
[]
[]
[]
[]
[]
[]
[]
[]
[]
[]
[]
[]
[]
[]
[]
[]
[]
[]
[]
[]
[]
[]
[]
[]
[]
[]
[]
[]
[]
[]
[]
[]
[]
[]
[]
[]
[]
[]
[]
[]
[]
[]
[]
[]
[]
[]
[]
[]
[]
[]
[]
[]
[]
[]
[]
[]
[]
[]
[]
[]
[]
[]
[]
[]
[]
[]
[]
[]
[]
[]
[]
[]
[]
[]
[]
[]
[]
[]
[]
[]
[]
[]
[]
[]
[]
[]
[]
[]
[]
[]
[]
[]
[]
[]
[]
[]
[]
[]
[]
[]
[]
[]
[]
[]
[]
[]
[]
[]
[]
[]
[]
[]
[]
[]
[]
[]
[]
[]
[]
[]
[]
[]
[]
[]
[]
[]
[]
[]
[]
[]
[]
[]
[]
[]
[]
[]
[]
[]
[]
[]
[]
[]
[]
[]
[]
[]
[]
[]
[]
[]
[]
[]
[]
[]
[]
[]
[]
[]
[]
[]
[]
[]
[]
[]
[]
[]
[]
[]
[]
[]
[]
[]
[]
[]
[]
[]
[]
[]
[]
[]
[]
[]
[]
[]
[]
[]
[]
[]
[]
[]
[]
[]
[]
[]
[]
[]
[]
[]
[]
[]
[]
[]
[]
[]
[]
[]
[]
[]
[]
[]
[]
[]
[]
[]
[]
[]
[]
[]
[]
[]
[]
[]
[]
[]
[]
[]
[]
[]
[]
[]
[]
[]
[]
[]
[]
[]
[]
[]
[]
[]
[]
[]
[]
[]
[]
[]
[]
[]
[]
[]
[]
[]
[]
[]
[]
[]
[]
[]
[]
[]
[]
[]
[]
[]
[]
[]
[]
[]
[]
[]
[]
[]
[]
[]
[]
[]
[]
[]
[]
[]
[]
[]
[]
[]
[]
[]
[]
[]
[]
[]
[]
[]
[]
[]
[]
[]
[]
[]
[]
[]
[]
[]
[]
[]
[]
[]
[]
[]
[]
[]
[]
[]
[]
[]
[]
[]
[]
[]
[]
[]
[]
[]
[]
[]
[]
[]
[]
[]
[]
[]
[]
[]
[]
[]
[]
[]
[]
[]
[]
[]
[]
[]
[]
[]
[]
[]
[]
[]
[]
[]
[]
[]
[]
[]
[]
[]
[]
[]
[]
[]
[]
[]
[]
[]
[]
[]
[]
[]
[]
[]
[]
[]
[]
[]
[]
[]
[]
[]
[]
[]
[]
[]
[]
[]
[]
[]
[]
[]
[]
[]
[]
[]
[]
[]
[]
[]
[]
[]
[]
[]
[]
[]
[]
[]
[]
[]
[]
[]
[]
[]
[]
[]
[]
[]
[]
[]
[]
[]
[]
[]
[]
[]
[]
[]
[]
[]
[]
[]
[]
[]
[]
[]
[]
[]
[]
[]
[]
[]
[]
[]
[]
[]
[]
[]
[]
[]
[]
[]
[]
[]
[]
[]
[]
[]
[]
[]
[]
[]
[]
[]
[]
[]
[]
[]
[]
[]
[]
[]
[]
[]
[]
[]
[]
[]
[]
[]
[]
[]
[]
[]
[]
[]
[]
[]
[]
[]
[]
[]
[]
[]
[]
[]
[]
[]
[]
[]
[]
[]
[]
[]
[]
[]
[]
[]
[]
[]
[]
[]
[]
[]
[]
[]
[]
[]
[]
[]
[]
[]
[]
[]
[]
[]
[]
[]
[]
[]
[]
[]
[]
[]
[]
[]
[]
[]
[]
[]
[]
[]
[]
[]
[]
[]
[]
[]
[]
[]
[]
[]
[]
[]
[]
[]
[]
[]
[]
[]
[]
[]
[]
[]
[]
[]
[]
[]
[]
[]
[]
[]
[]
[]
[]
[]
[]
[]
[]
[]
[]
[]
[]
[]
[]
[]
[]
[]
[]
[]
[]
[]
[]
[]
[]
[]
[]
[]
[]
[]
[]
[]
[]
[]
[]
[]
[]
[]
[]
[]
[]
[]
[]
[]
[]
[]
[]
[]
[]
[]
[]
[]
[]
[]
[]
[]
[]
[]
[]
[]
[]
[]
[]
[]
[]
[]
[]
[]
[]
[]
[]
[]
[]
[]
[]
[]
[]
[]
[]
[]
[]
[]
[]
[]
[]
[]
[]
[]
[]
[]
[]
[]
[]
[]
[]
[]
[]
[]
[]
[]
[]
[]
[]
[]
[]
[]
[]
[]
[]
[]
[]
[]
[]
[]
[]
[]
[]
[]
[]
[]
[]
[]
[]
[]
[]
[]
[]
[]
[]
[]
[]
[]
[]
[]
[]
[]
[]
[]
[]
[]
[]
[]
[]
[]
[]
[]
[]
[]
[]
[]
[]
[]
[]
[]
[]
[]
[]
[]
[]
[]
[]
[]
[]
[]
[]
[]
[]
[]
[]
[]
[]
[]
[]
[]
[]
[]
[]
[]
[]
[]
[]
[]
[]
[]
[]
[]
[]
[]
[]
[]
[]
[]
[]
[]
[]
[]
[]
[]
[]
[]
[]
[]
[]
[]
[]
[]
[]
[]
[]
[]
[]
[]
[]
[]
[]
[]
[]
[]
[]
[]
[]
[]
[]
[]
[]
[]
[]
[]
[]
[]
[]
[]
[]
[]
[]
[]
[]
[]
[]
[]
[]
[]
[]
[]
[]
[]
[]
[]
[]
[]
[]
[]
[]
[]
[]
[]
[]
[]
[]
[]
[]
[]
[]
[]
[]
[]
[]
[]
[]
[]
[]
[]
[]
[]
[]
[]
[]
[]
[]
[]
[]
[]
[]
[]
[]
[]
[]
[]
[]
[]
[]
[]
[]
[]
[]
[]
[]
[]
[]
[]
[]
[]
[]
[]
[]
[]
[]
[]
[]
[]
[]
[]
[]
[]
[]
[]
[]
[]
[]
[]
[]
[]
[]
[]
[]
[]
[]
[]
[]
[]
[]
[]
[]
[]
[]
[]
[]
[]
[]
[]
[]
[]
[]
[]
[]
[]
[]
[]
[]
[]
[]
[]
[]
[]
[]
[]
[]
[]
[]
[]
[]
[]
[]
[]
[]
[]
[]
[]
[]
[]
[]
[]
[]
[]
[]
[]
[]
[]
[]
[]
[]
[]
[]
[]
[]
[]
[]
[]
[]
[]
[]
[]
[]
[]
[]
[]
[]
[]
[]
[]
[]
[]
[]
[]
[]
[]
[]
[]
[]
[]
[]
[]
[]
[]
[]
[]
[]
[]
[]
[]
[]
[]
[]
[]
[]
[]
[]
[]
[]
[]
[]
[]
[]
[]
[]
[]
[]
[]
[]
[]
[]
[]
[]
[]
[]
[]
[]
[]
[]
[]
[]
[]
[]
[]
[]
[]
[]
[]
[]
[]
[]
[]
[]
[]
[]
[]
[]
[]
[]
[]
[]
[]
[]
[]
[]
[]
[]
[]
[]
[]
[]
[]
[]
[]
[]
[]
[]
[]
[]
[]
[]
[]
[]
[]
[]
[]
[]
[]
[]
[]
[]
[]
[]
[]
[]
[]
[]
[]
[]
[]
[]
[]
[]
[]
[]
[]
[]
[]
[]
[]
[]
[]
[]
[]
[]
[]
[]
[]
[]
[]
[]
[]
[]
[]
[]
[]
[]
[]
[]
[]
[]
[]
[]
[]
[]
[]
[]
[]
[]
[]
[]
[]
[]
[]
[]
[]
[]
[]
[]
[]
[]
[]
[]
[]
[]
[]
[]
[]
[]
[]
[]
[]
[]
[]
[]
[]
[]
[]
[]
[]
[]
[]
[]
[]
[]
[]
[]
[]
[]
[]
[]
[]
[]
[]
[]
[]
[]
[]
[]
[]
[]
[]
[]
[]
[]
[]
[]
[]
[]
[]
[]
[]
[]
[]
[]
[]
[]
[]
[]
[]
[]
[]
[]
[]
[]
[]
[]
[]
[]
[]
[]
[]
[]
[]
[]
[]
[]
[]
[]
[]
[]
[]
[]
[]
[]
[]
[]
[]
[]
[]
[]
[]
[]
[]
[]
[]
[]
[]
[]
[]
[]
[]
[]
[]
[]
[]
[]
[]
[]
[]
[]
[]
[]
[]
[]
[]
[]
[]
[]
[]
[]
[]
[]
[]
[]
[]
[]
[]
[]
[]
[]
[]
[]
[]
[]
[]
[]
[]
[]
[]
[]
[]
[]
[]
[]
[]
[]
[]
[]
[]
[]
[]
[]
[]
[]
[]
[]
[]
[]
[]
[]
[]
[]
[]
[]
[]
[]
[]
[]
[]
[]
[]
[]
[]
[]
[]
[]
[]
[]
[]
[]
[]
[]
[]
[]
[]
[]
[]
[]
[]
[]
[]
[]
[]
[]
[]
[]
[]
[]
[]
[]
[]
[]
[]
[]
[]
[]
[]
[]
[]
[]
[]
[]
[]
[]
[]
[]
[]
[]
[]
[]
[]
[]
[]
[]
[]
[]
[]
[]
[]
[]
[]
[]
[]
[]
[]
[]
[]
[]
[]
[]
[]
[]
[]
[]
[]
[]
[]
[]
[]
[]
[]
[]
[]
[]
[]
[]
[]
[]
[]
[]
[]
[]
[]
[]
[]
[]
[]
[]
[]
[]
[]
[]
[]
[]
[]
[]
[]
[]
[]
[]
[]
[]
[]
[]
[]
[]
[]
[]
[]
[]
[]
[]
[]
[]
[]
[]
[]
[]
[]
[]
[]
[]
[]
[]
[]
[]
[]
[]
[]
[]
[]
[]
[]
[]
[]
[]
[]
[]
[]
[]
[]
[]
[]
[]
[]
[]
[]
[]
[]
[]
[]
[]
[]
[]
[]
[]
[]
[]
[]
[]
[]
[]
[]
[]
[]
[]
[]
[]
[]
[]
[]
[]
[]
[]
[]
[]
[]
[]
[]
[]
[]
[]
[]
[]
[]
[]
[]
[]
[]
[]
[]
[]
[]
[]
[]
[]
[]
[]
[]
[]
[]
[]
[]
[]
[]
[]
[]
[]
[]
[]
[]
[]
[]
[]
[]
[]
[]
[]
[]
[]
[]
[]
[]
[]
[]
[]
[]
[]
[]
[]
[]
[]
[]
[]
[]
[]
[]
[]
[]
[]
[]
[]
[]
[]
[]
[]
[]
[]
[]
[]
[]
[]
[]
[]
[]
[]
[]
[]
[]
[]
[]
[]
[]
[]
[]
[]
[]
[]
[]
[]
[]
[]
[]
[]
[]
[]
[]
[]
[]
[]
[]
[]
[]
[]
[]
[]
[]
[]
[]
[]
[]
[]
[]
[]
[]
[]
[]
[]
[]
[]
[]
[]
[]
[]
[]
[]
[]
[]
[]
[]
[]
[]
[]
[]
[]
[]
[]
[]
[]
[]
[]
[]
[]
[]
[]
[]
[]
[]
[]
[]
[]
[]
[]
[]
[]
[]
[]
[]
[]
[]
[]
[]
[]
[]
[]
[]
[]
[]
[]
[]
[]
[]
[]
[]
[]
[]
[]
[]
[]
[]
[]
[]
[]
[]
[]
[]
[]
[]
[]
[]
[]
[]
[]
[]
[]
[]
[]
[]
[]
[]
[]
[]
[]
[]
[]
[]
[]
[]
[]
[]
[]
[]
[]
[]
[]
[]
[]
[]
[]
[]
[]
[]
[]
[]
[]
[]
[]
[]
[]
[]
[]
[]
[]
[]
[]
[]
[]
[]
[]
[]
[]
[]
[]
[]
[]
[]
[]
[]
[]
[]
[]
[]
[]
[]
[]
[]
[]
[]
[]
[]
[]
[]
[]
[]
[]
[]
[]
[]
[]
[]
[]
[]
[]
[]
[]
[]
[]
[]
[]
[]
[]
[]
[]
[]
[]
[]
[]
[]
[]
[]
[]
[]
[]
[]
[]
[]
[]
[]
[]
[]
[]
[]
[]
[]
[]
[]
[]
[]
[]
[]
[]
[]
[]
[]
[]
[]
[]
[]
[]
[]
[]
[]
[]
[]
[]
[]
[]
[]
[]
[]
[]
[]
[]
[]
[]
[]
[]
[]
[]
[]
[]
[]
[]
[]
[]
[]
[]
[]
[]
[]
[]
[]
[]
[]
[]
[]
[]
[]
[]
[]
[]
[]
[]
[]
[]
[]
[]
[]
[]
[]
[]
[]
[]
[]
[]
[]
[]
[]
[]
[]
[]
[]
[]
[]
[]
[]
[]
[]
[]
[]
[]
[]
[]
[]
[]
[]
[]
[]
[]
[]
[]
[]
[]
[]
[]
[]
[]
[]
[]
[]
[]
[]
[]
[]
[]
[]
[]
[]
[]
[]
[]
[]
[]
[]
[]
[]
[]
[]
[]
[]
[]
[]
[]
[]
[]
[]
[]
[]
[]
[]
[]
[]
[]
[]
[]
[]
[]
[]
[]
[]
[]
[]
[]
[]
[]
[]
[]
[]
[]
[]
[]
[]
[]
[]
[]
[]
[]
[]
[]
[]
[]
[]
[]
[]
[]
[]
[]
[]
[]
[]
[]
[]
[]
[]
[]
[]
[]
[]
[]
[]
[]
[]
[]
[]
[]
[]
[]
[]
[]
[]
[]
[]
[]
[]
[]
[]
[]
[]
[]
[]
[]
[]
[]
[]
[]
[]
[]
[]
[]
[]
[]
[]
[]
[]
[]
[]
[]
[]
[]
[]
[]
[]
[]
[]
[]
[]
[]
[]
[]
[]
[]
[]
[]
[]
[]
[]
[]
[]
[]
[]
[]
[]
[]
[]
[]
[]
[]
[]
[]
[]
[]
[]
[]
[]
[]
[]
[]
[]
[]
[]
[]
[]
[]
[]
[]
[]
[]
[]
[]
[]
[]
[]
[]
[]
[]
[]
[]
[]
[]
[]
[]
[]
[]
[]
[]
[]
[]
[]
[]
[]
[]
[]
[]
[]
[]
[]
[]
[]
[]
[]
[]
[]
[]
[]
[]
[]
[]
[]
[]
[]
[]
[]
[]
[]
[]
[]
[]
[]
[]
[]
[]
[]
[]
[]
[]
[]
[]
[]
[]
[]
[]
[]
[]
[]
[]
[]
[]
[]
[]
[]
[]
[]
[]
[]
[]
[]
[]
[]
[]
[]
[]
[]
[]
[]
[]
[]
[]
[]
[]
[]
[]
[]
[]
[]
[]
[]
[]
[]
[]
[]
[]
[]
[]
[]
[]
[]
[]
[]
[]
[]
[]
[]
[]
[]
[]
[]
[]
[]
[]
[]
[]
[]
[]
[]
[]
[]
[]
[]
[]
[]
[]
[]
[]
[]
[]
[]
[]
[]
[]
[]
[]
[]
[]
[]
[]
[]
[]
[]
[]
[]
[]
[]
[]
[]
[]
[]
[]
[]
[]
[]
[]
[]
[]
[]
[]
[]
[]
[]
[]
[]
[]
[]
[]
[]
[]
[]
[]
[]
[]
[]
[]
[]
[]
[]
[]
[]
[]
[]
[]
[]
[]
[]
[]
[]
[]
[]
[]
[]
[]
[]
[]
[]
[]
[]
[]
[]
[]
[]
[]
[]
[]
[]
[]
[]
[]
[]
[]
[]
[]
[]
[]
[]
[]
[]
[]
[]
[]
[]
[]
[]
[]
[]
[]
[]
[]
[]
[]
[]
[]
[]
[]
[]
[]
[]
[]
[]
[]
[]
[]
[]
[]
[]
[]
[]
[]
[]
[]
[]
[]
[]
[]
[]
[]
[]
[]
[]
[]
[]
[]
[]
[]
[]
[]
[]
[]
[]
[]
[]
[]
[]
[]
[]
[]
[]
[]
[]
[]
[]
[]
[]
[]
[]
[]
[]
[]
[]
[]
[]
[]
[]
[]
[]
[]
[]
[]
[]
[]
[]
[]
[]
[]
[]
[]
[]
[]
[]
[]
[]
[]
[]
[]
[]
[]
[]
[]
[]
[]
[]
[]
[]
[]
[]
[]
[]
[]
[]
[]
[]
[]
[]
[]
[]
[]
[]
[]
[]
[]
[]
[]
[]
[]
[]
[]
[]
[]
[]
[]
[]
[]
[]
[]
[]
[]
[]
[]
[]
[]
[]
[]
[]
[]
[]
[]
[]
[]
[]
[]
[]
[]
[]
[]
[]
[]
[]
[]
[]
[]
[]
[]
[]
[]
[]
[]
[]
[]
[]
[]
[]
[]
[]
[]
[]
[]
[]
[]
[]
[]
[]
[]
[]
[]
[]
[]
[]
[]
[]
[]
[]
[]
[]
[]
[]
[]
[]
[]
[]
[]
[]
[]
[]
[]
[]
[]
[]
[]
[]
[]
[]
[]
[]
[]
[]
[]
[]
[]
[]
[]
[]
[]
[]
[]
[]
[]
[]
[]
[]
[]
[]
[]
[]
[]
[]
[]
[]
[]
[]
[]
[]
[]
[]
[]
[]
[]
[]
[]
[]
[]
[]
[]
[]
[]
[]
[]
[]
[]
[]
[]
[]
[]
[]
[]
[]
[]
[]
[]
[]
[]
[]
[]
[]
[]
[]
[]
[]
[]
[]
[]
[]
[]
[]
[]
[]
[]
[]
[]
[]
[]
[]
[]
[]
[]
[]
[]
[]
[]
[]
[]
[]
[]
[]
[]
[]
[]
[]
[]
[]
[]
[]
[]
[]
[]
[]
[]
[]
[]
[]
[]
[]
[]
[]
[]
[]
[]
[]
[]
[]
[]
[]
[]
[]
[]
[]
[]
[]
[]
[]
[]
[]
[]
[]
[]
[]
[]
[]
[]
[]
[]
[]
[]
[]
[]
[]
[]
[]
[]
[]
[]
[]
[]
[]
[]
[]
[]
[]
[]
[]
[]
[]
[]
[]
[]
[]
[]
[]
[]
[]
[]
[]
[]
[]
[]
[]
[]
[]
[]
[]
[]
[]
[]
[]
[]
[]
[]
[]
[]
[]
[]
[]
[]
[]
[]
[]
[]
[]
[]
[]
[]
[]
[]
[]
[]
[]
[]
[]
[]
[]
[]
[]
[]
[]
[]
[]
[]
[]
[]
[]
[]
[]
[]
[]
[]
[]
[]
[]
[]
[]
[]
[]
[]
[]
[]
[]
[]
[]
[]
[]
[]
[]
[]
[]
[]
[]
[]
[]
[]
[]
[]
[]
[]
[]
[]
[]
[]
[]
[]
[]
[]
[]
[]
[]
[]
[]
[]
[]
[]
[]
[]
[]
[]
[]
[]
[]
[]
[]
[]
[]
[]
[]
[]
[]
[]
[]
[]
[]
[]
[]
[]
[]
[]
[]
[]
[]
[]
[]
[]
[]
[]
[]
[]
[]
[]
[]
[]
[]
[]
[]
[]
[]
[]
[]
[]
[]
[]
[]
[]
[]
[]
[]
[]
[]
[]
[]
[]
[]
[]
[]
[]
[]
[]
[]
[]
[]
[]
[]
[]
[]
[]
[]
[]
[]
[]
[]
[]
[]
[]
[]
[]
[]
[]
[]
[]
[]
[]
[]
[]
[]
[]
[]
[]
[]
[]
[]
[]
[]
[]
[]
[]
[]
[]
[]
[]
[]
[]
[]
[]
[]
[]
[]
[]
[]
[]
[]
[]
[]
[]
[]
[]
[]
[]
[]
[]
[]
[]
[]
[]
[]
[]
[]
[]
[]
[]
[]
[]
[]
[]
[]
[]
[]
[]
[]
[]
[]
[]
[]
[]
[]
[]
[]
[]
[]
[]
[]
[]
[]
[]
[]
[]
[]
[]
[]
[]
[]
[]
[]
[]
[]
[]
[]
[]
[]
[]
[]
[]
[]
[]
[]
[]
[]
[]
[]
[]
[]
[]
[]
[]
[]
[]
[]
[]
[]
[]
[]
[]
[]
[]
[]
[]
[]
[]
[]
[]
[]
[]
[]
[]
[]
[]
[]
[]
[]
[]
[]
[]
[]
[]
[]
[]
[]
[]
[]
[]
[]
[]
[]
[]
[]
[]
[]
[]
[]
[]
[]
[]
[]
[]
[]
[]
[]
[]
[]
[]
[]
[]
[]
[]
[]
[]
[]
[]
[]
[]
[]
[]
[]
[]
[]
[]
[]
[]
[]
[]
[]
[]
[]
[]
[]
[]
[]
[]
[]
[]
[]
[]
[]
[]
[]
[]
[]
[]
[]
[]
[]
[]
[]
[]
[]
[]
[]
[]
[]
[]
[]
[]
[]
[]
[]
[]
[]
[]
[]
[]
[]
[]
[]
[]
[]
[]
[]
[]
[]
[]
[]
[]
[]
[]
[]
[]
[]
[]
[]
[]
[]
[]
[]
[]
[]
[]
[]
[]
[]
[]
[]
[]
[]
[]
[]
[]
[]
[]
[]
[]
[]
[]
[]
[]
[]
[]
[]
[]
[]
[]
[]
[]
[]
[]
[]
[]
[]
[]
[]
[]
[]
[]
[]
[]
[]
[]
[]
[]
[]
[]
[]
[]
[]
[]
[]
[]
[]
[]
[]
[]
[]
[]
[]
[]
[]
[]
[]
[]
[]
[]
[]
[]
[]
[]
[]
[]
[]
[]
[]
[]
[]
[]
[]
[]
[]
[]
[]
[]
[]
[]
[]
[]
[]
[]
[]
[]
[]
[]
[]
[]
[]
[]
[]
[]
[]
[]
[]
[]
[]
[]
[]
[]
[]
[]
[]
[]
[]
[]
[]
[]
[]
[]
[]
[]
[]
[]
[]
[]
[]
[]
[]
[]
[]
[]
[]
[]
[]
[]
[]
[]
[]
[]
[]
[]
[]
[]
[]
[]
[]
[]
[]
[]
[]
[]
[]
[]
[]
[]
[]
[]
[]
[]
[]
[]
[]
[]
[]
[]
[]
[]
[]
[]
[]
[]
[]
[]
[]
[]
[]
[]
[]
[]
[]
[]
[]
[]
[]
[]
[]
[]
[]
[]
[]
[]
[]
[]
[]
[]
[]
[]
[]
[]
[]
[]
[]
[]
[]
[]
[]
[]
[]
[]
[]
[]
[]
[]
[]
[]
[]
[]
[]
[]
[]
[]
[]
[]
[]
[]
[]
[]
[]
[]
[]
[]
[]
[]
[]
[]
[]
[]
[]
[]
[]
[]
[]
[]
[]
[]
[]
[]
[]
[]
[]
[]
[]
[]
[]
[]
[]
[]
[]
[]
[]
[]
[]
[]
[]
[]
[]
[]
[]
[]
[]
[]
[]
[]
[]
[]
[]
[]
[]
[]
[]
[]
[]
[]
[]
[]
[]
[]
[]
[]
[]
[]
[]
[]
[]
[]
[]
[]
[]
[]
[]
[]
[]
[]
[]
[]
[]
[]
[]
[]
[]
[]
[]
[]
[]
[]
[]
[]
[]
[]
[]
[]
[]
[]
[]
[]
[]
[]
[]
[]
[]
[]
[]
[]
[]
[]
[]
[]
[]
[]
[]
[]
[]
[]
[]
[]
[]
[]
[]
[]
[]
[]
[]
[]
[]
[]
[]
[]
[]
[]
[]
[]
[]
[]
[]
[]
[]
[]
[]
[]
[]
[]
[]
[]
[]
[]
[]
[]
[]
[]
[]
[]
[]
[]
[]
[]
[]
[]
[]
[]
[]
[]
[]
[]
[]
[]
[]
[]
[]
[]
[]
[]
[]
[]
[]
[]
[]
[]
[]
[]
[]
[]
[]
[]
[]
[]
[]
[]
[]
[]
[]
[]
[]
[]
[]
[]
[]
[]
[]
[]
[]
[]
[]
[]
[]
[]
[]
[]
[]
[]
[]
[]
[]
[]
[]
[]
[]
[]
[]
[]
[]
[]
[]
[]
[]
[]
[]
[]
[]
[]
[]
[]
[]
[]
[]
[]
[]
[]
[]
[]
[]
[]
[]
[]
[]
[]
[]
[]
[]
[]
[]
[]
[]
[]
[]
[]
[]
[]
[]
[]
[]
[]
[]
[]
[]
[]
[]
[]
[]
[]
[]
[]
[]
[]
[]
[]
[]
[]
[]
[]
[]
[]
[]
[]
[]
[]
[]
[]
[]
[]
[]
[]
[]
[]
[]
[]
[]
[]
[]
[]
[]
[]
[]
[]
[]
[]
[]
[]
[]
[]
[]
[]
[]
[]
[]
[]
[]
[]
[]
[]
[]
[]
[]
[]
[]
[]
[]
[]
[]
[]
[]
[]
[]
[]
[]
[]
[]
[]
[]
[]
[]
[]
[]
[]
[]
[]
[]
[]
[]
[]
[]
[]
[]
[]
[]
[]
[]
[]
[]
[]
[]
[]
[]
[]
[]
[]
[]
[]
[]
[]
[]
[]
[]
[]
[]
[]
[]
[]
[]
[]
[]
[]
[]
[]
[]
[]
[]
[]
[]
[]
[]
[]
[]
[]
[]
[]
[]
[]
[]
[]
[]
[]
[]
[]
[]
[]
[]
[]
[]
[]
[]
[]
[]
[]
[]
[]
[]
[]
[]
[]
[]
[]
[]
[]
[]
[]
[]
[]
[]
[]
[]
[]
[]
[]
[]
[]
[]
[]
[]
[]
[]
[]
[]
[]
[]
[]
[]
[]
[]
[]
[]
[]
[]
[]
[]
[]
[]
[]
[]
[]
[]
[]
[]
[]
[]
[]
[]
[]
[]
[]
[]
[]
[]
[]
[]
[]
[]
[]
[]
[]
[]
[]
[]
[]
[]
[]
[]
[]
[]
[]
[]
[]
[]
[]
[]
[]
[]
[]
[]
[]
[]
[]
[]
[]
[]
[]
[]
[]
[]
[]
[]
[]
[]
[]
[]
[]
[]
[]
[]
[]
[]
[]
[]
[]
[]
[]
[]
[]
[]
[]
[]
[]
[]
[]
[]
[]
[]
[]
[]
[]
[]
[]
[]
[]
[]
[]
[]
[]
[]
[]
[]
[]
[]
[]
[]
[]
[]
[]
[]
[]
[]
[]
[]
[]
[]
[]
[]
[]
[]
[]
[]
[]
[]
[]
[]
[]
[]
[]
[]
[]
[]
[]
[]
[]
[]
[]
[]
[]
[]
[]
[]
[]
[]
[]
[]
[]
[]
[]
[]
[]
[]
[]
[]
[]
[]
[]
[]
[]
[]
[]
[]
[]
[]
[]
[]
[]
[]
[]
[]
[]
[]
[]
[]
[]
[]
[]
[]
[]
[]
[]
[]
[]
[]
[]
[]
[]
[]
[]
[]
[]
[]
[]
[]
[]
[]
[]
[]
[]
[]
[]
[]
[]
[]
[]
[]
[]
[]
[]
[]
[]
[]
[]
[]
[]
[]
[]
[]
[]
[]
[]
[]
[]
[]
[]
[]
[]
[]
[]
[]
[]
[]
[]
[]
[]
[]
[]
[]
[]
[]
[]
[]
[]
[]
[]
[]
[]
[]
[]
[]
[]
[]
[]
[]
[]
[]
[]
[]
[]
[]
[]
[]
[]
[]
[]
[]
[]
[]
[]
[]
[]
[]
[]
[]
[]
[]
[]
[]
[]
[]
[]
[]
[]
[]
[]
[]
[]
[]
[]
[]
[]
[]
[]
[]
[]
[]
[]
[]
[]
[]
[]
[]
[]
[]
[]
[]
[]
[]
[]
[]
[]
[]
[]
[]
[]
[]
[]
[]
[]
[]
[]
[]
[]
[]
[]
[]
[]
[]
[]
[]
[]
[]
[]
[]
[]
[]
[]
[]
[]
[]
[]
[]
[]
[]
[]
[]
[]
[]
[]
[]
[]
[]
[]
[]
[]
[]
[]
[]
[]
[]
[]
[]
[]
[]
[]
[]
[]
[]
[]
[]
[]
[]
[]
[]
[]
[]
[]
[]
[]
[]
[]
[]
[]
[]
[]
[]
[]
[]
[]
[]
[]
[]
[]
[]
[]
[]
[]
[]
[]
[]
[]
[]
[]
[]
[]
[]
[]
[]
[]
[]
[]
[]
[]
[]
[]
[]
[]
[]
[]
[]
[]
[]
[]
[]
[]
[]
[]
[]
[]
[]
[]
[]
[]
[]
[]
[]
[]
[]
[]
[]
[]
[]
[]
[]
[]
[]
[]
[]
[]
[]
[]
[]
[]
[]
[]
[]
[]
[]
[]
[]
[]
[]
[]
[]
[]
[]
[]
[]
[]
[]
[]
[]
[]
[]
[]
[]
[]
[]
[]
[]
[]
[]
[]
[]
[]
[]
[]
[]
[]
[]
[]
[]
[]
[]
[]
[]
[]
[]
[]
[]
[]
[]
[]
[]
[]
[]
[]
[]
[]
[]
[]
[]
[]
[]
[]
[]
[]
[]
[]
[]
[]
[]
[]
[]
[]
[]
[]
[]
[]
[]
[]
[]
[]
[]
[]
[]
[]
[]
[]
[]
[]
[]
[]
[]
[]
[]
[]
[]
[]
[]
[]
[]
[]
[]
[]
[]
[]
[]
[]
[]
[]
[]
[]
[]
[]
[]
[]
[]
[]
[]
[]
[]
[]
[]
[]
[]
[]
[]
[]
[]
[]
[]
[]
[]
[]
[]
[]
[]
[]
[]
[]
[]
[]
[]
[]
[]
[]
[]
[]
[]
[]
[]
[]
[]
[]
[]
[]
[]
[]
[]
[]
[]
[]
[]
[]
[]
[]
[]
[]
[]
[]
[]
[]
[]
[]
[]
[]
[]
[]
[]
[]
[]
[]
[]
[]
[]
[]
[]
[]
[]
[]
[]
[]
[]
[]
[]
[]
[]
[]
[]
[]
[]
[]
[]
[]
[]
[]
[]
[]
[]
[]
[]
[]
[]
[]
[]
[]
[]
[]
[]
[]
[]
[]
[]
[]
[]
[]
[]
[]
[]
[]
[]
[]
[]
[]
[]
[]
[]
[]
[]
[]
[]
[]
[]
[]
[]
[]
[]
[]
[]
[]
[]
[]
[]
[]
[]
[]
[]
[]
[]
[]
[]
[]
[]
[]
[]
[]
[]
[]
[]
[]
[]
[]
[]
[]
[]
[]
[]
[]
[]
[]
[]
[]
[]
[]
[]
[]
[]
[]
[]
[]
[]
[]
[]
[]
[]
[]
[]
[]
[]
[]
[]
[]
[]
[]
[]
[]
[]
[]
[]
[]
[]
[]
[]
[]
[]
[]
[]
[]
[]
[]
[]
[]
[]
[]
[]
[]
[]
[]
[]
[]
[]
[]
[]
[]
[]
[]
[]
[]
[]
[]
[]
[]
[]
[]
[]
[]
[]
[]
[]
[]
[]
[]
[]
[]
[]
[]
[]
[]
[]
[]
[]
[]
[]
[]
[]
[]
[]
[]
[]
[]
[]
[]
[]
[]
[]
[]
[]
[]
[]
[]
[]
[]
[]
[]
[]
[]
[]
[]
[]
[]
[]
[]
[]
[]
[]
[]
[]
[]
[]
[]
[]
[]
[]
[]
[]
[]
[]
[]
[]
[]
[]
[]
[]
[]
[]
[]
[]
[]
[]
[]
[]
[]
[]
[]
[]
[]
[]
[]
[]
[]
[]
[]
[]
[]
[]
[]
[]
[]
[]
[]
[]
[]
[]
[]
[]
[]
[]
[]
[]
[]
[]
[]
[]
[]
[]
[]
[]
[]
[]
[]
[]
[]
[]
[]
[]
[]
[]
[]
[]
[]
[]
[]
[]
[]
[]
[]
[]
[]
[]
[]
[]
[]
[]
[]
[]
[]
[]
[]
[]
[]
[]
[]
[]
[]
[]
[]
[]
[]
[]
[]
[]
[]
[]
[]
[]
[]
[]
[]
[]
[]
[]
[]
[]
[]
[]
[]
[]
[]
[]
[]
[]
[]
[]
[]
[]
[]
[]
[]
[]
[]
[]
[]
[]
[]
[]
[]
[]
[]
[]
[]
[]
[]
[]
[]
[]
[]
[]
[]
[]
[]
[]
[]
[]
[]
[]
[]
[]
[]
[]
[]
[]
[]
[]
[]
[]
[]
[]
[]
[]
[]
[]
[]
[]
[]
[]
[]
[]
[]
[]
[]
[]
[]
[]
[]
[]
[]
[]
[]
[]
[]
[]
[]
[]
[]
[]
[]
[]
[]
[]
[]
[]
[]
[]
[]
[]
[]
[]
[]
[]
[]
[]
[]
[]
[]
[]
[]
[]
[]
[]
[]
[]
[]
[]
[]
[]
[]
[]
[]
[]
[]
[]
[]
[]
[]
[]
[]
[]
[]
[]
[]
[]
[]
[]
[]
[]
[]
[]
[]
[]
[]
[]
[]
[]
[]
[]
[]
[]
[]
[]
[]
[]
[]
[]
[]
[]
[]
[]
[]
[]
[]
[]
[]
[]
[]
[]
[]
[]
[]
[]
[]
[]
[]
[]
[]
[]
[]
[]
[]
[]
[]
[]
[]
[]
[]
[]
[]
[]
[]
[]
[]
[]
[]
[]
[]
[]
[]
[]
[]
[]
[]
[]
[]
[]
[]
[]
[]
[]
[]
[]
[]
[]
[]
[]
[]
[]
[]
[]
[]
[]
[]
[]
[]
[]
[]
[]
[]
[]
[]
[]
[]
[]
[]
[]
[]
[]
[]
[]
[]
[]
[]
[]
[]
[]
[]
[]
[]
[]
[]
[]
[]
[]
[]
[]
[]
[]
[]
[]
[]
[]
[]
[]
[]
[]
[]
[]
[]
[]
[]
[]
[]
[]
[]
[]
[]
[]
[]
[]
[]
[]
[]
[]
[]
[]
[]
[]
[]
[]
[]
[]
[]
[]
[]
[]
[]
[]
[]
[]
[]
[]
[]
[]
[]
[]
[]
[]
[]
[]
[]
[]
[]
[]
[]
[]
[]
[]
[]
[]
[]
[]
[]
[]
[]
[]
[]
[]
[]
[]
[]
[]
[]
[]
[]
[]
[]
[]
[]
[]
[]
[]
[]
[]
[]
[]
[]
[]
[]
[]
[]
[]
[]
[]
[]
[]
[]
[]
[]
[]
[]
[]
[]
[]
[]
[]
[]
[]
[]
[]
[]
[]
[]
[]
[]
[]
[]
[]
[]
[]
[]
[]
[]
[]
[]
[]
[]
[]
[]
[]
[]
[]
[]
[]
[]
[]
[]
[]
[]
[]
[]
[]
[]
[]
[]
[]
[]
[]
[]
[]
[]
[]
[]
[]
[]
[]
[]
[]
[]
[]
[]
[]
[]
[]
[]
[]
[]
[]
[]
[]
[]
[]
[]
[]
[]
[]
[]
[]
[]
[]
[]
[]
[]
[]
[]
[]
[]
[]
[]
[]
[]
[]
[]
[]
[]
[]
[]
[]
[]
[]
[]
[]
[]
[]
[]
[]
[]
[]
[]
[]
[]
[]
[]
[]
[]
[]
[]
[]
[]
[]
[]
[]
[]
[]
[]
[]
[]
[]
[]
[]
[]
[]
[]
[]
[]
[]
[]
[]
[]
[]
[]
[]
[]
[]
[]
[]
[]
[]
[]
[]
[]
[]
[]
[]
[]
[]
[]
[]
[]
[]
[]
[]
[]
[]
[]
[]
[]
[]
[]
[]
[]
[]
[]
[]
[]
[]
[]
[]
[]
[]
[]
[]
[]
[]
[]
[]
[]
[]
[]
[]
[]
[]
[]
[]
[]
[]
[]
[]
[]
[]
[]
[]
[]
[]
[]
[]
[]
[]
[]
[]
[]
[]
[]
[]
[]
[]
[]
[]
[]
[]
[]
[]
[]
[]
[]
[]
[]
[]
[]
[]
[]
[]
[]
[]
[]
[]
[]
[]
[]
[]
[]
[]
[]
[]
[]
[]
[]
[]
[]
[]
[]
[]
[]
[]
[]
[]
[]
[]
[]
[]
[]
[]
[]
[]
[]
[]
[]
[]
[]
[]
[]
[]
[]
[]
[]
[]
[]
[]
[]
[]
[]
[]
[]
[]
[]
[]
[]
[]
[]
[]
[]
[]
[]
[]
[]
[]
[]
[]
[]
[]
[]
[]
[]
[]
[]
[]
[]
[]
[]
[]
[]
[]
[]
[]
[]
[]
[]
[]
[]
[]
[]
[]
[]
[]
[]
[]
[]
[]
[]
[]
[]
[]
[]
[]
[]
[]
[]
[]
[]
[]
[]
[]
[]
[]
[]
[]
[]
[]
[]
[]
[]
[]
[]
[]
[]
[]
[]
[]
[]
[]
[]
[]
[]
[]
[]
[]
[]
[]
[]
[]
[]
[]
[]
[]
[]
[]
[]
[]
[]
[]
[]
[]
[]
[]
[]
[]
[]
[]
[]
[]
[]
[]
[]
[]
[]
[]
[]
[]
[]
[]
[]
[]
[]
[]
[]
[]
[]
[]
[]
[]
[]
[]
[]
[]
[]
[]
[]
[]
[]
[]
[]
[]
[]
[]
[]
[]
[]
[]
[]
[]
[]
[]
[]
[]
[]
[]
[]
[]
[]
[]
[]
[]
[]
[]
[]
[]
[]
[]
[]
[]
[]
[]
[]
[]
[]
[]
[]
[]
[]
[]
[]
[]
[]
[]
[]
[]
[]
[]
[]
[]
[]
[]
[]
[]
[]
[]
[]
[]
[]
[]
[]
[]
[]
[]
[]
[]
[]
[]
[]
[]
[]
[]
[]
[]
[]
[]
[]
[]
[]
[]
[]
[]
[]
[]
[]
[]
[]
[]
[]
[]
[]
[]
[]
[]
[]
[]
[]
[]
[]
[]
[]
[]
[]
[]
[]
[]
[]
[]
[]
[]
[]
[]
[]
[]
[]
[]
[]
[]
[]
[]
[]
[]
[]
[]
[]
[]
[]
[]
[]
[]
[]
[]
[]
[]
[]
[]
[]
[]
[]
[]
[]
[]
[]
[]
[]
[]
[]
[]
[]
[]
[]
[]
[]
[]
[]
[]
[]
[]
[]
[]
[]
[]
[]
[]
[]
[]
[]
[]
[]
[]
[]
[]
[]
[]
[]
[]
[]
[]
[]
[]
[]
[]
[]
[]
[]
[]
[]
[]
[]
[]
[]
[]
[]
[]
[]
[]
[]
[]
[]
[]
[]
[]
[]
[]
[]
[]
[]
[]
[]
[]
[]
[]
[]
[]
[]
[]
[]
[]
[]
[]
[]
[]
[]
[]
[]
[]
[]
[]
[]
[]
[]
[]
[]
[]
[]
[]
[]
[]
[]
[]
[]
[]
[]
[]
[]
[]
[]
[]
[]
[]
[]
[]
[]
[]
[]
[]
[]
[]
[]
[]
[]
[]
[]
[]
[]
[]
[]
[]
[]
[]
[]
[]
[]
[]
[]
[]
[]
[]
[]
[]
[]
[]
[]
[]
[]
[]
[]
[]
[]
[]
[]
[]
[]
[]
[]
[]
[]
[]
[]
[]
[]
[]
[]
[]
[]
[]
[]
[]
[]
[]
[]
[]
[]
[]
[]
[]
[]
[]
[]
[]
[]
[]
[]
[]
[]
[]
[]
[]
[]
[]
[]
[]
[]
[]
[]
[]
[]
[]
[]
[]
[]
[]
[]
[]
[]
[]
[]
[]
[]
[]
[]
[]
[]
[]
[]
[]
[]
[]
[]
[]
[]
[]
[]
[]
[]
[]
[]
[]
[]
[]
[]
[]
[]
[]
[]
[]
[]
[]
[]
[]
[]
[]
[]
[]
[]
[]
[]
[]
[]
[]
[]
[]
[]
[]
[]
[]
[]
[]
[]
[]
[]
[]
[]
[]
[]
[]
[]
[]
[]
[]
[]
[]
[]
[]
[]
[]
[]
[]
[]
[]
[]
[]
[]
[]
[]
[]
[]
[]
[]
[]
[]
[]
[]
[]
[]
[]
[]
[]
[]
[]
[]
[]
[]
[]
[]
[]
[]
[]
[]
[]
[]
[]
[]
[]
[]
[]
[]
[]
[]
[]
[]
[]
[]
[]
[]
[]
[]
[]
[]
[]
[]
[]
[]
[]
[]
[]
[]
[]
[]
[]
[]
[]
[]
[]
[]
[]
[]
[]
[]
[]
[]
[]
[]
[]
[]
[]
[]
[]
[]
[]
[]
[]
[]
[]
[]
[]
[]
[]
[]
[]
[]
[]
[]
[]
[]
[]
[]
[]
[]
[]
[]
[]
[]
[]
[]
[]
[]
[]
[]
[]
[]
[]
[]
[]
[]
[]
[]
[]
[]
[]
[]
[]
[]
[]
[]
[]
[]
[]
[]
[]
[]
[]
[]
[]
[]
[]
[]
[]
[]
[]
[]
[]
[]
[]
[]
[]
[]
[]
[]
[]
[]
[]
[]
[]
[]
[]
[]
[]
[]
[]
[]
[]
[]
[]
[]
[]
[]
[]
[]
[]
[]
[]
[]
[]
[]
[]
[]
[]
[]
[]
[]
[]
[]
[]
[]
[]
[]
[]
[]
[]
[]
[]
[]
[]
[]
[]
[]
[]
[]
[]
[]
[]
[]
[]
[]
[]
[]
[]
[]
[]
[]
[]
[]
[]
[]
[]
[]
[]
[]
[]
[]
[]
[]
[]
[]
[]
[]
[]
[]
[]
[]
[]
[]
[]
[]
[]
[]
[]
[]
[]
[]
[]
[]
[]
[]
[]
[]
[]
[]
[]
[]
[]
[]
[]
[]
[]
[]
[]
[]
[]
[]
[]
[]
[]
[]
[]
[]
[]
[]
[]
[]
[]
[]
[]
[]
[]
[]
[]
[]
[]
[]
[]
[]
[]
[]
[]
[]
[]
[]
[]
[]
[]
[]
[]
[]
[]
[]
[]
[]
[]
[]
[]
[]
[]
[]
[]
[]
[]
[]
[]
[]
[]
[]
[]
[]
[]
[]
[]
[]
[]
[]
[]
[]
[]
[]
[]
[]
[]
[]
[]
[]
[]
[]
[]
[]
[]
[]
[]
[]
[]
[]
[]
[]
[]
[]
[]
[]
[]
[]
[]
[]
[]
[]
[]
[]
[]
[]
[]
[]
[]
[]
[]
[]
[]
[]
[]
[]
[]
[]
[]
[]
[]
[]
[]
[]
[]
[]
[]
[]
[]
[]
[]
[]
[]
[]
[]
[]
[]
[]
[]
[]
[]
[]
[]
[]
[]
[]
[]
[]
[]
[]
[]
[]
[]
[]
[]
[]
[]
[]
[]
[]
[]
[]
[]
[]
[]
[]
[]
[]
[]
[]
[]
[]
[]
[]
[]
[]
[]
[]
[]
[]
[]
[]
[]
[]
[]
[]
[]
[]
[]
[]
[]
[]
[]
[]
[]
[]
[]
[]
[]
[]
[]
[]
[]
[]
[]
[]
[]
[]
[]
[]
[]
[]
[]
[]
[]
[]
[]
[]
[]
[]
[]
[]
[]
[]
[]
[]
[]
[]
[]
[]
[]
[]
[]
[]
[]
[]
[]
[]
[]
[]
[]
[]
[]
[]
[]
[]
[]
[]
[]
[]
[]
[]
[]
[]
[]
[]
[]
[]
[]
[]
[]
[]
[]
[]
[]
[]
[]
[]
[]
[]
[]
[]
[]
[]
[]
[]
[]
[]
[]
[]
[]
[]
[]
[]
[]
[]
[]
[]
[]
[]
[]
[]
[]
[]
[]
[]
[]
[]
[]
[]
[]
[]
[]
[]
[]
[]
[]
[]
[]
[]
[]
[]
[]
[]
[]
[]
[]
[]
[]
[]
[]
[]
[]
[]
[]
[]
[]
[]
[]
[]
[]
[]
[]
[]
[]
[]
[]
[]
[]
[]
[]
[]
[]
[]
[]
[]
[]
[]
[]
[]
[]
[]
[]
[]
[]
[]
[]
[]
[]
[]
[]
[]
[]
[]
[]
[]
[]
[]
[]
[]
[]
[]
[]
[]
[]
[]
[]
[]
[]
[]
[]
[]
[]
[]
[]
[]
[]
[]
[]
[]
[]
[]
[]
[]
[]
[]
[]
[]
[]
[]
[]
[]
[]
[]
[]
[]
[]
[]
[]
[]
[]
[]
[]
[]
[]
[]
[]
[]
[]
[]
[]
[]
[]
[]
[]
[]
[]
[]
[]
[]
[]
[]
[]
[]
[]
[]
[]
[]
[]
[]
[]
[]
[]
[]
[]
[]
[]
[]
[]
[]
[]
[]
[]
[]
[]
[]
[]
[]
[]
[]
[]
[]
[]
[]
[]
[]
[]
[]
[]
[]
[]
[]
[]
[]
[]
[]
[]
[]
[]
[]
[]
[]
[]
[]
[]
[]
[]
[]
[]
[]
[]
[]
[]
[]
[]
[]
[]
[]
[]
[]
[]
[]
[]
[]
[]
[]
[]
[]
[]
[]
[]
[]
[]
[]
[]
[]
[]
[]
[]
[]
[]
[]
[]
[]
[]
[]
[]
[]
[]
[]
[]
[]
[]
[]
[]
[]
[]
[]
[]
[]
[]
[]
[]
[]
[]
[]
[]
[]
[]
[]
[]
[]
[]
[]
[]
[]
[]
[]
[]
[]
[]
[]
[]
[]
[]
[]
[]
[]
[]
[]
[]
[]
[]
[]
[]
[]
[]
[]
[]
[]
[]
[]
[]
[]
[]
[]
[]
[]
[]
[]
[]
[]
[]
[]
[]
[]
[]
[]
[]
[]
[]
[]
[]
[]
[]
[]
[]
[]
[]
[]
[]
[]
[]
[]
[]
[]
[]
[]
[]
[]
[]
[]
[]
[]
[]
[]
[]
[]
[]
[]
[]
[]
[]
[]
[]
[]
[]
[]
[]
[]
[]
[]
[]
[]
[]
[]
[]
[]
[]
[]
[]
[]
[]
[]
[]
[]
[]
[]
[]
[]
[]
[]
[]
[]
[]
[]
[]
[]
[]
[]
[]
[]
[]
[]
[]
[]
[]
[]
[]
[]
[]
[]
[]
[]
[]
[]
[]
[]
[]
[]
[]
[]
[]
[]
[]
[]
[]
[]
[]
[]
[]
[]
[]
[]
[]
[]
[]
[]
[]
[]
[]
[]
[]
[]
[]
[]
[]
[]
[]
[]
[]
[]
[]
[]
[]
[]
[]
[]
[]
[]
[]
[]
[]
[]
[]
[]
[]
[]
[]
[]
[]
[]
[]
[]
[]
[]
[]
[]
[]
[]
[]
[]
[]
[]
[]
[]
[]
[]
[]
[]
[]
[]
[]
[]
[]
[]
[]
[]
[]
[]
[]
[]
[]
[]
[]
[]
[]
[]
[]
[]
[]
[]
[]
[]
[]
[]
[]
[]
[]
[]
[]
[]
[]
[]
[]
[]
[]
[]
[]
[]
[]
[]
[]
[]
[]
[]
[]
[]
[]
[]
[]
[]
[]
[]
[]
[]
[]
[]
[]
[]
[]
[]
[]
[]
[]
[]
[]
[]
[]
[]
[]
[]
[]
[]
[]
[]
[]
[]
[]
[]
[]
[]
[]
[]
[]
[]
[]
[]
[]
[]
[]
[]
[]
[]
[]
[]
[]
[]
[]
[]
[]
[]
[]
[]
[]
[]
[]
[]
[]
[]
[]
[]
[]
[]
[]
[]
[]
[]
[]
[]
[]
[]
[]
[]
[]
[]
[]
[]
[]
[]
[]
[]
[]
[]
[]
[]
[]
[]
[]
[]
[]
[]
[]
[]
[]
[]
[]
[]
[]
[]
[]
[]
[]
[]
[]
[]
[]
[]
[]
[]
[]
[]
[]
[]
[]
[]
[]
[]
[]
[]
[]
[]
[]
[]
[]
[]
[]
[]
[]
[]
[]
[]
[]
[]
[]
[]
[]
[]
[]
[]
[]
[]
[]
[]
[]
[]
[]
[]
[]
[]
[]
[]
[]
[]
[]
[]
[]
[]
[]
[]
[]
[]
[]
[]
[]
[]
[]
[]
[]
[]
[]
[]
[]
[]
[]
[]
[]
[]
[]
[]
[]
[]
[]
[]
[]
[]
[]
[]
[]
[]
[]
[]
[]
[]
[]
[]
[]
[]
[]
[]
[]
[]
[]
[]
[]
[]
[]
[]
[]
[]
[]
[]
[]
[]
[]
[]
[]
[]
[]
[]
[]
[]
[]
[]
[]
[]
[]
[]
[]
[]
[]
[]
[]
[]
[]
[]
[]
[]
[]
[]
[]
[]
[]
[]
[]
[]
[]
[]
[]
[]
[]
[]
[]
[]
[]
[]
[]
[]
[]
[]
[]
[]
[]
[]
[]
[]
[]
[]
[]
[]
[]
[]
[]
[]
[]
[]
[]
[]
[]
[]
[]
[]
[]
[]
[]
[]
[]
[]
[]
[]
[]
[]
[]
[]
[]
[]
[]
[]
[]
[]
[]
[]
[]
[]
[]
[]
[]
[]
[]
[]
[]
[]
[]
[]
[]
[]
[]
[]
[]
[]
[]
[]
[]
[]
[]
[]
[]
[]
[]
[]
[]
[]
[]
[]
[]
[]
[]
[]
[]
[]
[]
[]
[]
[]
[]
[]
[]
[]
[]
[]
[]
[]
[]
[]
[]
[]
[]
[]
[]
[]
[]
[]
[]
[]
[]
[]
[]
[]
[]
[]
[]
[]
[]
[]
[]
[]
[]
[]
[]
[]
[]
[]
[]
[]
[]
[]
[]
[]
[]
[]
[]
[]
[]
[]
[]
[]
[]
[]
[]
[]
[]
[]
[]
[]
[]
[]
[]
[]
[]
[]
[]
[]
[]
[]
[]
[]
[]
[]
[]
[]
[]
[]
[]
[]
[]
[]
[]
[]
[]
[]
[]
[]
[]
[]
[]
[]
[]
[]
[]
[]
[]
[]
[]
[]
[]
[]
[]
[]
[]
[]
[]
[]
[]
[]
[]
[]
[]
[]
[]
[]
[]
[]
[]
[]
[]
[]
[]
[]
[]
[]
[]
[]
[]
[]
[]
[]
[]
[]
[]
[]
[]
[]
[]
[]
[]
[]
[]
[]
[]
[]
[]
[]
[]
[]
[]
[]
[]
[]
[]
[]
[]
[]
[]
[]
[]
[]
[]
[]
[]
[]
[]
[]
[]
[]
[]
[]
[]
[]
[]
[]
[]
[]
[]
[]
[]
[]
[]
[]
[]
[]
[]
[]
[]
[]
[]
[]
[]
[]
[]
[]
[]
[]
[]
[]
[]
[]
[]
[]
[]
[]
[]
[]
[]
[]
[]
[]
[]
[]
[]
[]
[]
[]
[]
[]
[]
[]
[]
[]
[]
[]
[]
[]
[]
[]
[]
[]
[]
[]
[]
[]
[]
[]
[]
[]
[]
[]
[]
[]
[]
[]
[]
[]
[]
[]
[]
[]
[]
[]
[]
[]
[]
[]
[]
[]
[]
[]
[]
[]
[]
[]
[]
[]
[]
[]
[]
[]
[]
[]
[]
[]
[]
[]
[]
[]
[]
[]
[]
[]
[]
[]
[]
[]
[]
[]
[]
[]
[]
[]
[]
[]
[]
[]
[]
[]
[]
[]
[]
[]
[]
[]
[]
[]
[]
[]
[]
[]
[]
[]
[]
[]
[]
[]
[]
[]
[]
[]
[]
[]
[]
[]
[]
[]
[]
[]
[]
[]
[]
[]
[]
[]
[]
[]
[]
[]
[]
[]
[]
[]
[]
[]
[]
[]
[]
[]
[]
[]
[]
[]
[]
[]
[]
[]
[]
[]
[]
[]
[]
[]
[]
[]
[]
[]
[]
[]
[]
[]
[]
[]
[]
[]
[]
[]
[]
[]
[]
[]
[]
[]
[]
[]
[]
[]
[]
[]
[]
[]
[]
[]
[]
[]
[]
[]
[]
[]
[]
[]
[]
[]
[]
[]
[]
[]
[]
[]
[]
[]
[]
[]
[]
[]
[]
[]
[]
[]
[]
[]
[]
[]
[]
[]
[]
[]
[]
[]
[]
[]
[]
[]
[]
[]
[]
[]
[]
[]
[]
[]
[]
[]
[]
[]
[]
[]
[]
[]
[]
[]
[]
[]
[]
[]
[]
[]
[]
[]
[]
[]
[]
[]
[]
[]
[]
[]
[]
[]
[]
[]
[]
[]
[]
[]
[]
[]
[]
[]
[]
[]
[]
[]
[]
[]
[]
[]
[]
[]
[]
[]
[]
[]
[]
[]
[]
[]
[]
[]
[]
[]
[]
[]
[]
[]
[]
[]
[]
[]
[]
[]
[]
[]
[]
[]
[]
[]
[]
[]
[]
[]
[]
[]
[]
[]
[]
[]
[]
[]
[]
[]
[]
[]
[]
[]
[]
[]
[]
[]
[]
[]
[]
[]
[]
[]
[]
[]
[]
[]
[]
[]
[]
[]
[]
[]
[]
[]
[]
[]
[]
[]
[]
[]
[]
[]
[]
[]
[]
[]
[]
[]
[]
[]
[]
[]
[]
[]
[]
[]
[]
[]
[]
[]
[]
[]
[]
[]
[]
[]
[]
[]
[]
[]
[]
[]
[]
[]
[]
[]
[]
[]
[]
[]
[]
[]
[]
[]
[]
[]
[]
[]
[]
[]
[]
[]
[]
[]
[]
[]
[]
[]
[]
[]
[]
[]
[]
[]
[]
[]
[]
[]
[]
[]
[]
[]
[]
[]
[]
[]
[]
[]
[]
[]
[]
[]
[]
[]
[]
[]
[]
[]
[]
[]
[]
[]
[]
[]
[]
[]
[]
[]
[]
[]
[]
[]
[]
[]
[]
[]
[]
[]
[]
[]
[]
[]
[]
[]
[]
[]
[]
[]
[]
[]
[]
[]
[]
[]
[]
[]
[]
[]
[]
[]
[]
[]
[]
[]
[]
[]
[]
[]
[]
[]
[]
[]
[]
[]
[]
[]
[]
[]
[]
[]
[]
[]
[]
[]
[]
[]
[]
[]
[]
[]
[]
[]
[]
[]
[]
[]
[]
[]
[]
[]
[]
[]
[]
[]
[]
[]
[]
[]
[]
[]
[]
[]
[]
[]
[]
[]
[]
[]
[]
[]
[]
[]
[]
[]
[]
[]
[]
[]
[]
[]
[]
[]
[]
[]
[]
[]
[]
[]
[]
[]
[]
[]
[]
[]
[]
[]
[]
[]
[]
[]
[]
[]
[]
[]
[]
[]
[]
[]
[]
[]
[]
[]
[]
[]
[]
[]
[]
[]
[]
[]
[]
[]
[]
[]
[]
[]
[]
[]
[]
[]
[]
[]
[]
[]
[]
[]
[]
[]
[]
[]
[]
[]
[]
[]
[]
[]
[]
[]
[]
[]
[]
[]
[]
[]
[]
[]
[]
[]
[]
[]
[]
[]
[]
[]
[]
[]
[]
[]
[]
[]
[]
[]
[]
[]
[]
[]
[]
[]
[]
[]
[]
[]
[]
[]
[]
[]
[]
[]
[]
[]
[]
[]
[]
[]
[]
[]
[]
[]
[]
[]
[]
[]
[]
[]
[]
[]
[]
[]
[]
[]
[]
[]
[]
[]
[]
[]
[]
[]
[]
[]
[]
[]
[]
[]
[]
[]
[]
[]
[]
[]
[]
[]
[]
[]
[]
[]
[]
[]
[]
[]
[]
[]
[]
[]
[]
[]
[]
[]
[]
[]
[]
[]
[]
[]
[]
[]
[]
[]
[]
[]
[]
[]
[]
[]
[]
[]
[]
[]
[]
[]
[]
[]
[]
[]
[]
[]
[]
[]
[]
[]
[]
[]
[]
[]
[]
[]
[]
[]
[]
[]
[]
[]
[]
[]
[]
[]
[]
[]
[]
[]
[]
[]
[]
[]
[]
[]
[]
[]
[]
[]
[]
[]
[]
[]
[]
[]
[]
[]
[]
[]
[]
[]
[]
[]
[]
[]
[]
[]
[]
[]
[]
[]
[]
[]
[]
[]
[]
[]
[]
[]
[]
[]
[]
[]
[]
[]
[]
[]
[]
[]
[]
[]
[]
[]
[]
[]
[]
[]
[]
[]
[]
[]
[]
[]
[]
[]
[]
[]
[]
[]
[]
[]
[]
[]
[]
[]
[]
[]
[]
[]
[]
[]
[]
[]
[]
[]
[]
[]
[]
[]
[]
[]
[]
[]
[]
[]
[]
[]
[]
[]
[]
[]
[]
[]
[]
[]
[]
[]
[]
[]
[]
[]
[]
[]
[]
[]
[]
[]
[]
[]
[]
[]
[]
[]
[]
[]
[]
[]
[]
[]
[]
[]
[]
[]
[]
[]
[]
[]
[]
[]
[]
[]
[]
[]
[]
[]
[]
[]
[]
[]
[]
[]
[]
[]
[]
[]
[]
[]
[]
[]
[]
[]
[]
[]
[]
[]
[]
[]
[]
[]
[]
[]
[]
[]
[]
[]
[]
[]
[]
[]
[]
[]
[]
[]
[]
[]
[]
[]
[]
[]
[]
[]
[]
[]
[]
[]
[]
[]
[]
[]
[]
[]
[]
[]
[]
[]
[]
[]
[]
[]
[]
[]
[]
[]
[]
[]
[]
[]
[]
[]
[]
[]
[]
[]
[]
[]
[]
[]
[]
[]
[]
[]
[]
[]
[]
[]
[]
[]
[]
[]
[]
[]
[]
[]
[]
[]
[]
[]
[]
[]
[]
[]
[]
[]
[]
[]
[]
[]
[]
[]
[]
[]
[]
[]
[]
[]
[]
[]
[]
[]
[]
[]
[]
[]
[]
[]
[]
[]
[]
[]
[]
[]
[]
[]
[]
[]
[]
[]
[]
[]
[]
[]
[]
[]
[]
[]
[]
[]
[]
[]
[]
[]
[]
[]
[]
[]
[]
[]
[]
[]
[]
[]
[]
[]
[]
[]
[]
[]
[]
[]
[]
[]
[]
[]
[]
[]
[]
[]
[]
[]
[]
[]
[]
[]
[]
[]
[]
[]
[]
[]
[]
[]
[]
[]
[]
[]
[]
[]
[]
[]
[]
[]
[]
[]
[]
[]
[]
[]
[]
[]
[]
[]
[]
[]
[]
[]
[]
[]
[]
[]
[]
[]
[]
[]
[]
[]
[]
[]
[]
[]
[]
[]
[]
[]
[]
[]
[]
[]
[]
[]
[]
[]
[]
[]
[]
[]
[]
[]
[]
[]
[]
[]
[]
[]
[]
[]
[]
[]
[]
[]
[]
[]
[]
[]
[]
[]
[]
[]
[]
[]
[]
[]
[]
[]
[]
[]
[]
[]
[]
[]
[]
[]
[]
[]
[]
[]
[]
[]
[]
[]
[]
[]
[]
[]
[]
[]
[]
[]
[]
[]
[]
[]
[]
[]
[]
[]
[]
[]
[]
[]
[]
[]
[]
[]
[]
[]
[]
[]
[]
[]
[]
[]
[]
[]
[]
[]
[]
[]
[]
[]
[]
[]
[]
[]
[]
[]
[]
[]
[]
[]
[]
[]
[]
[]
[]
[]
[]
[]
[]
[]
[]
[]
[]
[]
[]
[]
[]
[]
[]
[]
[]
[]
[]
[]
[]
[]
[]
[]
[]
[]
[]
[]
[]
[]
[]
[]
[]
[]
[]
[]
[]
[]
[]
[]
[]
[]
[]
[]
[]
[]
[]
[]
[]
[]
[]
[]
[]
[]
[]
[]
[]
[]
[]
[]
[]
[]
[]
[]
[]
[]
[]
[]
[]
[]
[]
[]
[]
[]
[]
[]
[]
[]
[]
[]
[]
[]
[]
[]
[]
[]
[]
[]
[]
[]
[]
[]
[]
[]
[]
[]
[]
[]
[]
[]
[]
[]
[]
[]
[]
[]
[]
[]
[]
[]
[]
[]
[]
[]
[]
[]
[]
[]
[]
[]
[]
[]
[]
[]
[]
[]
[]
[]
[]
[]
[]
[]
[]
[]
[]
[]
[]
[]
[]
[]
[]
[]
[]
[]
[]
[]
[]
[]
[]
[]
[]
[]
[]
[]
[]
[]
[]
[]
[]
[]
[]
[]
[]
[]
[]
[]
[]
[]
[]
[]
[]
[]
[]
[]
[]
[]
[]
[]
[]
[]
[]
[]
[]
[]
[]
[]
[]
[]
[]
[]
[]
[]
[]
[]
[]
[]
[]
[]
[]
[]
[]
[]
[]
[]
[]
[]
[]
[]
[]
[]
[]
[]
[]
[]
[]
[]
[]
[]
[]
[]
[]
[]
[]
[]
[]
[]
[]
[]
[]
[]
[]
[]
[]
[]
[]
[]
[]
[]
[]
[]
[]
[]
[]
[]
[]
[]
[]
[]
[]
[]
[]
[]
[]
[]
[]
[]
[]
[]
[]
[]
[]
[]
[]
[]
[]
[]
[]
[]
[]
[]
[]
[]
[]
[]
[]
[]
[]
[]
[]
[]
[]
[]
[]
[]
[]
[]
[]
[]
[]
[]
[]
[]
[]
[]
[]
[]
[]
[]
[]
[]
[]
[]
[]
[]
[]
[]
[]
[]
[]
[]
[]
[]
[]
[]
[]
[]
[]
[]
[]
[]
[]
[]
[]
[]
[]
[]
[]
[]
[]
[]
[]
[]
[]
[]
[]
[]
[]
[]
[]
[]
[]
[]
[]
[]
[]
[]
[]
[]
[]
[]
[]
[]
[]
[]
[]
[]
[]
[]
[]
[]
[]
[]
[]
[]
[]
[]
[]
[]
[]
[]
[]
[]
[]
[]
[]
[]
[]
[]
[]
[]
[]
[]
[]
[]
[]
[]
[]
[]
[]
[]
[]
[]
[]
[]
[]
[]
[]
[]
[]
[]
[]
[]
[]
[]
[]
[]
[]
[]
[]
[]
[]
[]
[]
[]
[]
[]
[]
[]
[]
[]
[]
[]
[]
[]
[]
[]
[]
[]
[]
[]
[]
[]
[]
[]
[]
[]
[]
[]
[]
[]
[]
[]
[]
[]
[]
[]
[]
[]
[]
[]
[]
[]
[]
[]
[]
[]
[]
[]
[]
[]
[]
[]
[]
[]
[]
[]
[]
[]
[]
[]
[]
[]
[]
[]
[]
[]
[]
[]
[]
[]
[]
[]
[]
[]
[]
[]
[]
[]
[]
[]
[]
[]
[]
[]
[]
[]
[]
[]
[]
[]
[]
[]
[]
[]
[]
[]
[]
[]
[]
[]
[]
[]
[]
[]
[]
[]
[]
[]
[]
[]
[]
[]
[]
[]
[]
[]
[]
[]
[]
[]
[]
[]
[]
[]
[]
[]
[]
[]
[]
[]
[]
[]
[]
[]
[]
[]
[]
[]
[]
[]
[]
[]
[]
[]
[]
[]
[]
[]
[]
[]
[]
[]
[]
[]
[]
[]
[]
[]
[]
[]
[]
[]
[]
[]
[]
[]
[]
[]
[]
[]
[]
[]
[]
[]
[]
[]
[]
[]
[]
[]
[]
[]
[]
[]
[]
[]
[]
[]
[]
[]
[]
[]
[]
[]
[]
[]
[]
[]
[]
[]
[]
[]
[]
[]
[]
[]
[]
[]
[]
[]
[]
[]
[]
[]
[]
[]
[]
[]
[]
[]
[]
[]
[]
[]
[]
[]
[]
[]
[]
[]
[]
[]
[]
[]
[]
[]
[]
[]
[]
[]
[]
[]
[]
[]
[]
[]
[]
[]
[]
[]
[]
[]
[]
[]
[]
[]
[]
[]
[]
[]
[]
[]
[]
[]
[]
[]
[]
[]
[]
[]
[]
[]
[]
[]
[]
[]
[]
[]
[]
[]
[]
[]
[]
[]
[]
[]
[]
[]
[]
[]
[]
[]
[]
[]
[]
[]
[]
[]
[]
[]
[]
[]
[]
[]
[]
[]
[]
[]
[]
[]
[]
[]
[]
[]
[]
[]
[]
[]
[]
[]
[]
[]
[]
[]
[]
[]
[]
[]
[]
[]
[]
[]
[]
[]
[]
[]
[]
[]
[]
[]
[]
[]
[]
[]
[]
[]
[]
[]
[]
[]
[]
[]
[]
[]
[]
[]
[]
[]
[]
[]
[]
[]
[]
[]
[]
[]
[]
[]
[]
[]
[]
[]
[]
[]
[]
[]
[]
[]
[]
[]
[]
[]
[]
[]
[]
[]
[]
[]
[]
[]
[]
[]
[]
[]
[]
[]
[]
[]
[]
[]
[]
[]
[]
[]
[]
[]
[]
[]
[]
[]
[]
[]
[]
[]
[]
[]
[]
[]
[]
[]
[]
[]
[]
[]
[]
[]
[]
[]
[]
[]
[]
[]
[]
[]
[]
[]
[]
[]
[]
[]
[]
[]
[]
[]
[]
[]
[]
[]
[]
[]
[]
[]
[]
[]
[]
[]
[]
[]
[]
[]
[]
[]
[]
[]
[]
[]
[]
[]
[]
[]
[]
[]
[]
[]
[]
[]
[]
[]
[]
[]
[]
[]
[]
[]
[]
[]
[]
[]
[]
[]
[]
[]
[]
[]
[]
[]
[]
[]
[]
[]
[]
[]
[]
[]
[]
[]
[]
[]
[]
[]
[]
[]
[]
[]
[]
[]
[]
[]
[]
[]
[]
[]
[]
[]
[]
[]
[]
[]
[]
[]
[]
[]
[]
[]
[]
[]
[]
[]
[]
[]
[]
[]
[]
[]
[]
[]
[]
[]
[]
[]
[]
[]
[]
[]
[]
[]
[]
[]
[]
[]
[]
[]
[]
[]
[]
[]
[]
[]
[]
[]
[]
[]
[]
[]
[]
[]
[]
[]
[]
[]
[]
[]
[]
[]
[]
[]
[]
[]
[]
[]
[]
[]
[]
[]
[]
[]
[]
[]
[]
[]
[]
[]
[]
[]
[]
[]
[]
[]
[]
[]
[]
[]
[]
[]
[]
[]
[]
[]
[]
[]
[]
[]
[]
[]
[]
[]
[]
[]
[]
[]
[]
[]
[]
[]
[]
[]
[]
[]
[]
[]
[]
[]
[]
[]
[]
[]
[]
[]
[]
[]
[]
[]
[]
[]
[]
[]
[]
[]
[]
[]
[]
[]
[]
[]
[]
[]
[]
[]
[]
[]
[]
[]
[]
[]
[]
[]
[]
[]
[]
[]
[]
[]
[]
[]
[]
[]
[]
[]
[]
[]
[]
[]
[]
[]
[]
[]
[]
[]
[]
[]
[]
[]
[]
[]
[]
[]
[]
[]
[]
[]
[]
[]
[]
[]
[]
[]
[]
[]
[]
[]
[]
[]
[]
[]
[]
[]
[]
[]
[]
[]
[]
[]
[]
[]
[]
[]
[]
[]
[]
[]
[]
[]
[]
[]
[]
[]
[]
[]
[]
[]
[]
[]
[]
[]
[]
[]
[]
[]
[]
[]
[]
[]
[]
[]
[]
[]
[]
[]
[]
[]
[]
[]
[]
[]
[]
[]
[]
[]
[]
[]
[]
[]
[]
[]
[]
[]
[]
[]
[]
[]
[]
[]
[]
[]
[]
[]
[]
[]
[]
[]
[]
[]
[]
[]
[]
[]
[]
[]
[]
[]
[]
[]
[]
[]
[]
[]
[]
[]
[]
[]
[]
[]
[]
[]
[]
[]
[]
[]
[]
[]
[]
[]
[]
[]
[]
[]
[]
[]
[]
[]
[]
[]
[]
[]
[]
[]
[]
[]
[]
[]
[]
[]
[]
[]
[]
[]
[]
[]
[]
[]
[]
[]
[]
[]
[]
[]
[]
[]
[]
[]
[]
[]
[]
[]
[]
[]
[]
[]
[]
[]
[]
[]
[]
[]
[]
[]
[]
[]
[]
[]
[]
[]
[]
[]
[]
[]
[]
[]
[]
[]
[]
[]
[]
[]
[]
[]
[]
[]
[]
[]
[]
[]
[]
[]
[]
[]
[]
[]
[]
[]
[]
[]
[]
[]
[]
[]
[]
[]
[]
[]
[]
[]
[]
[]
[]
[]
[]
[]
[]
[]
[]
[]
[]
[]
[]
[]
[]
[]
[]
[]
[]
[]
[]
[]
[]
[]
[]
[]
[]
[]
[]
[]
[]
[]
[]
[]
[]
[]
[]
[]
[]
[]
[]
[]
[]
[]
[]
[]
[]
[]
[]
[]
[]
[]
[]
[]
[]
[]
[]
[]
[]
[]
[]
[]
[]
[]
[]
[]
[]
[]
[]
[]
[]
[]
[]
[]
[]
[]
[]
[]
[]
[]
[]
[]
[]
[]
[]
[]
[]
[]
[]
[]
[]
[]
[]
[]
[]
[]
[]
[]
[]
[]
[]
[]
[]
[]
[]
[]
[]
[]
[]
[]
[]
[]
[]
[]
[]
[]
[]
[]
[]
[]
[]
[]
[]
[]
[]
[]
[]
[]
[]
[]
[]
[]
[]
[]
[]
[]
[]
[]
[]
[]
[]
[]
[]
[]
[]
[]
[]
[]
[]
[]
[]
[]
[]
[]
[]
[]
[]
[]
[]
[]
[]
[]
[]
[]
[]
[]
[]
[]
[]
[]
[]
[]
[]
[]
[]
[]
[]
[]
[]
[]
[]
[]
[]
[]
[]
[]
[]
[]
[]
[]
[]
[]
[]
[]
[]
[]
[]
[]
[]
[]
[]
[]
[]
[]
[]
[]
[]
[]
[]
[]
[]
[]
[]
[]
[]
[]
[]
[]
[]
[]
[]
[]
[]
[]
[]
[]
[]
[]
[]
[]
[]
[]
[]
[]
[]
[]
[]
[]
[]
[]
[]
[]
[]
[]
[]
[]
[]
[]
[]
[]
[]
[]
[]
[]
[]
[]
[]
[]
[]
[]
[]
[]
[]
[]
[]
[]
[]
[]
[]
[]
[]
[]
[]
[]
[]
[]
[]
[]
[]
[]
[]
[]
[]
[]
[]
[]
[]
[]
[]
[]
[]
[]
[]
[]
[]
[]
[]
[]
[]
[]
[]
[]
[]
[]
[]
[]
[]
[]
[]
[]
[]
[]
[]
[]
[]
[]
[]
[]
[]
[]
[]
[]
[]
[]
[]
[]
[]
[]
[]
[]
[]
[]
[]
[]
[]
[]
[]
[]
[]
[]
[]
[]
[]
[]
[]
[]
[]
[]
[]
[]
[]
[]
[]
[]
[]
[]
[]
[]
[]
[]
[]
[]
[]
[]
[]
[]
[]
[]
[]
[]
[]
[]
[]
[]
[]
[]
[]
[]
[]
[]
[]
[]
[]
[]
[]
[]
[]
[]
[]
[]
[]
[]
[]
[]
[]
[]
[]
[]
[]
[]
[]
[]
[]
[]
[]
[]
[]
[]
[]
[]
[]
[]
[]
[]
[]
[]
[]
[]
[]
[]
[]
[]
[]
[]
[]
[]
[]
[]
[]
[]
[]
[]
[]
[]
[]
[]
[]
[]
[]
[]
[]
[]
[]
[]
[]
[]
[]
[]
[]
[]
[]
[]
[]
[]
[]
[]
[]
[]
[]
[]
[]
[]
[]
[]
[]
[]
[]
[]
[]
[]
[]
[]
[]
[]
[]
[]
[]
[]
[]
[]
[]
[]
[]
[]
[]
[]
[]
[]
[]
[]
[]
[]
[]
[]
[]
[]
[]
[]
[]
[]
[]
[]
[]
[]
[]
[]
[]
[]
[]
[]
[]
[]
[]
[]
[]
[]
[]
[]
[]
[]
[]
[]
[]
[]
[]
[]
[]
[]
[]
[]
[]
[]
[]
[]
[]
[]
[]
[]
[]
[]
[]
[]
[]
[]
[]
[]
[]
[]
[]
[]
[]
[]
[]
[]
[]
[]
[]
[]
[]
[]
[]
[]
[]
[]
[]
[]
[]
[]
[]
[]
[]
[]
[]
[]
[]
[]
[]
[]
[]
[]
[]
[]
[]
[]
[]
[]
[]
[]
[]
[]
[]
[]
[]
[]
[]
[]
[]
[]
[]
[]
[]
[]
[]
[]
[]
[]
[]
[]
[]
[]
[]
[]
[]
[]
[]
[]
[]
[]
[]
[]
[]
[]
[]
[]
[]
[]
[]
[]
[]
[]
[]
[]
[]
[]
[]
[]
[]
[]
[]
[]
[]
[]
[]
[]
[]
[]
[]
[]
[]
[]
[]
[]
[]
[]
[]
[]
[]
[]
[]
[]
[]
[]
[]
[]
[]
[]
[]
[]
[]
[]
[]
[]
[]
[]
[]
[]
[]
[]
[]
[]
[]
[]
[]
[]
[]
[]
[]
[]
[]
[]
[]
[]
[]
[]
[]
[]
[]
[]
[]
[]
[]
[]
[]
[]
[]
[]
[]
[]
[]
[]
[]
[]
[]
[]
[]
[]
[]
[]
[]
[]
[]
[]
[]
[]
[]
[]
[]
[]
[]
[]
[]
[]
[]
[]
[]
[]
[]
[]
[]
[]
[]
[]
[]
[]
[]
[]
[]
[]
[]
[]
[]
[]
[]
[]
[]
[]
[]
[]
[]
[]
[]
[]
[]
[]
[]
[]
[]
[]
[]
[]
[]
[]
[]
[]
[]
[]
[]
[]
[]
[]
[]
[]
[]
[]
[]
[]
[]
[]
[]
[]
[]
[]
[]
[]
[]
[]
[]
[]
[]
[]
[]
[]
[]
[]
[]
[]
[]
[]
[]
[]
[]
[]
[]
[]
[]
[]
[]
[]
[]
[]
[]
[]
[]
[]
[]
[]
[]
[]
[]
[]
[]
[]
[]
[]
[]
[]
[]
[]
[]
[]
[]
[]
[]
[]
[]
[]
[]
[]
[]
[]
[]
[]
[]
[]
[]
[]
[]
[]
[]
[]
[]
[]
[]
[]
[]
[]
[]
[]
[]
[]
[]
[]
[]
[]
[]
[]
[]
[]
[]
[]
[]
[]
[]
[]
[]
[]
[]
[]
[]
[]
[]
[]
[]
[]
[]
[]
[]
[]
[]
[]
[]
[]
[]
[]
[]
[]
[]
[]
[]
[]
[]
[]
[]
[]
[]
[]
[]
[]
[]
[]
[]
[]
[]
[]
[]
[]
[]
[]
[]
[]
[]
[]
[]
[]
[]
[]
[]
[]
[]
[]
[]
[]
[]
[]
[]
[]
[]
[]
[]
[]
[]
[]
[]
[]
[]
[]
[]
[]
[]
[]
[]
[]
[]
[]
[]
[]
[]
[]
[]
[]
[]
[]
[]
[]
[]
[]
[]
[]
[]
[]
[]
[]
[]
[]
[]
[]
[]
[]
[]
[]
[]
[]
[]
[]
[]
[]
[]
[]
[]
[]
[]
[]
[]
[]
[]
[]
[]
[]
[]
[]
[]
[]
[]
[]
[]
[]
[]
[]
[]
[]
[]
[]
[]
[]
[]
[]
[]
[]
[]
[]
[]
[]
[]
[]
[]
[]
[]
[]
[]
[]
[]
[]
[]
[]
[]
[]
[]
[]
[]
[]
[]
[]
[]
[]
[]
[]
[]
[]
[]
[]
[]
[]
[]
[]
[]
[]
[]
[]
[]
[]
[]
[]
[]
[]
[]
[]
[]
[]
[]
[]
[]
[]
[]
[]
[]
[]
[]
[]
[]
[]
[]
[]
[]
[]
[]
[]
[]
[]
[]
[]
[]
[]
[]
[]
[]
[]
[]
[]
[]
[]
[]
[]
[]
[]
[]
[]
[]
[]
[]
[]
[]
[]
[]
[]
[]
[]
[]
[]
[]
[]
[]
[]
[]
[]
[]
[]
[]
[]
[]
[]
[]
[]
[]
[]
[]
[]
[]
[]
[]
[]
[]
[]
[]
[]
[]
[]
[]
[]
[]
[]
[]
[]
[]
[]
[]
[]
[]
[]
[]
[]
[]
[]
[]
[]
[]
[]
[]
[]
[]
[]
[]
[]
[]
[]
[]
[]
[]
[]
[]
[]
[]
[]
[]
[]
[]
[]
[]
[]
[]
[]
[]
[]
[]
[]
[]
[]
[]
[]
[]
[]
[]
[]
[]
[]
[]
[]
[]
[]
[]
[]
[]
[]
[]
[]
[]
[]
[]
[]
[]
[]
[]
[]
[]
[]
[]
[]
[]
[]
[]
[]
[]
[]
[]
[]
[]
[]
[]
[]
[]
[]
[]
[]
[]
[]
[]
[]
[]
[]
[]
[]
[]
[]
[]
[]
[]
[]
[]
[]
[]
[]
[]
[]
[]
[]
[]
[]
[]
[]
[]
[]
[]
[]
[]
[]
[]
[]
[]
[]
[]
[]
[]
[]
[]
[]
[]
[]
[]
[]
[]
[]
[]
[]
[]
[]
[]
[]
[]
[]
[]
[]
[]
[]
[]
[]
[]
[]
[]
[]
[]
[]
[]
[]
[]
[]
[]
[]
[]
[]
[]
[]
[]
[]
[]
[]
[]
[]
[]
[]
[]
[]
[]
[]
[]
[]
[]
[]
[]
[]
[]
[]
[]
[]
[]
[]
[]
[]
[]
[]
[]
[]
[]
[]
[]
[]
[]
[]
[]
[]
[]
[]
[]
[]
[]
[]
[]
[]
[]
[]
[]
[]
[]
[]
[]
[]
[]
[]
[]
[]
[]
[]
[]
[]
[]
[]
[]
[]
[]
[]
[]
[]
[]
[]
[]
[]
[]
[]
[]
[]
[]
[]
[]
[]
[]
[]
[]
[]
[]
[]
[]
[]
[]
[]
[]
[]
[]
[]
[]
[]
[]
[]
[]
[]
[]
[]
[]
[]
[]
[]
[]
[]
[]
[]
[]
[]
[]
[]
[]
[]
[]
[]
[]
[]
[]
[]
[]
[]
[]
[]
[]
[]
[]
[]
[]
[]
[]
[]
[]
[]
[]
[]
[]
[]
[]
[]
[]
[]
[]
[]
[]
[]
[]
[]
[]
[]
[]
[]
[]
[]
[]
[]
[]
[]
[]
[]
[]
[]
[]
[]
[]
[]
[]
[]
[]
[]
[]
[]
[]
[]
[]
[]
[]
[]
[]
[]
[]
[]
[]
[]
[]
[]
[]
[]
[]
[]
[]
[]
[]
[]
[]
[]
[]
[]
[]
[]
[]
[]
[]
[]
[]
[]
[]
[]
[]
[]
[]
[]
[]
[]
[]
[]
[]
[]
[]
[]
[]
[]
[]
[]
[]
[]
[]
[]
[]
[]
[]
[]
[]
[]
[]
[]
[]
[]
[]
[]
[]
[]
[]
[]
[]
[]
[]
[]
[]
[]
[]
[]
[]
[]
[]
[]
[]
[]
[]
[]
[]
[]
[]
[]
[]
[]
[]
[]
[]
[]
[]
[]
[]
[]
[]
[]
[]
[]
[]
[]
[]
[]
[]
[]
[]
[]
[]
[]
[]
[]
[]
[]
[]
[]
[]
[]
[]
[]
[]
[]
[]
[]
[]
[]
[]
[]
[]
[]
[]
[]
[]
[]
[]
[]
[]
[]
[]
[]
[]
[]
[]
[]
[]
[]
[]
[]
[]
[]
[]
[]
[]
[]
[]
[]
[]
[]
[]
[]
[]
[]
[]
[]
[]
[]
[]
[]
[]
[]
[]
[]
[]
[]
[]
[]
[]
[]
[]
[]
[]
[]
[]
[]
[]
[]
[]
[]
[]
[]
[]
[]
[]
[]
[]
[]
[]
[]
[]
[]
[]
[]
[]
[]
[]
[]
[]
[]
[]
[]
[]
[]
[]
[]
[]
[]
[]
[]
[]
[]
[]
[]
[]
[]
[]
[]
[]
[]
[]
[]
[]
[]
[]
[]
[]
[]
[]
[]
[]
[]
[]
[]
[]
[]
[]
[]
[]
[]
[]
[]
[]
[]
[]
[]
[]
[]
[]
[]
[]
[]
[]
[]
[]
[]
[]
[]
[]
[]
[]
[]
[]
[]
[]
[]
[]
[]
[]
[]
[]
[]
[]
[]
[]
[]
[]
[]
[]
[]
[]
[]
[]
[]
[]
[]
[]
[]
[]
[]
[]
[]
[]
[]
[]
[]
[]
[]
[]
[]
[]
[]
[]
[]
[]
[]
[]
[]
[]
[]
[]
[]
[]
[]
[]
[]
[]
[]
[]
[]
[]
[]
[]
[]
[]
[]
[]
[]
[]
[]
[]
[]
[]
[]
[]
[]
[]
[]
[]
[]
[]
[]
[]
[]
[]
[]
[]
[]
[]
[]
[]
[]
[]
[]
[]
[]
[]
[]
[]
[]
[]
[]
[]
[]
[]
[]
[]
[]
[]
[]
[]
[]
[]
[]
[]
[]
[]
[]
[]
[]
[]
[]
[]
[]
[]
[]
[]
[]
[]
[]
[]
[]
[]
[]
[]
[]
[]
[]
[]
[]
[]
[]
[]
[]
[]
[]
[]
[]
[]
[]
[]
[]
[]
[]
[]
[]
[]
[]
[]
[]
[]
[]
[]
[]
[]
[]
[]
[]
[]
[]
[]
[]
[]
[]
[]
[]
[]
[]
[]
[]
[]
[]
[]
[]
[]
[]
[]
[]
[]
[]
[]
[]
[]
[]
[]
[]
[]
[]
[]
[]
[]
[]
[]
[]
[]
[]
[]
[]
[]
[]
[]
[]
[]
[]
[]
[]
[]
[]
[]
[]
[]
[]
[]
[]
[]
[]
[]
[]
[]
[]
[]
[]
[]
[]
[]
[]
[]
[]
[]
[]
[]
[]
[]
[]
[]
[]
[]
[]
[]
[]
[]
[]
[]
[]
[]
[]
[]
[]
[]
[]
[]
[]
[]
[]
[]
[]
[]
[]
[]
[]
[]
[]
[]
[]
[]
[]
[]
[]
[]
[]
[]
[]
[]
[]
[]
[]
[]
[]
[]
[]
[]
[]
[]
[]
[]
[]
[]
[]
[]
[]
[]
[]
[]
[]
[]
[]
[]
[]
[]
[]
[]
[]
[]
[]
[]
[]
[]
[]
[]
[]
[]
[]
[]
[]
[]
[]
[]
[]
[]
[]
[]
[]
[]
[]
[]
[]
[]
[]
[]
[]
[]
[]
[]
[]
[]
[]
[]
[]
[]
[]
[]
[]
[]
[]
[]
[]
[]
[]
[]
[]
[]
[]
[]
[]
[]
[]
[]
[]
[]
[]
[]
[]
[]
[]
[]
[]
[]
[]
[]
[]
[]
[]
[]
[]
[]
[]
[]
[]
[]
[]
[]
[]
[]
[]
[]
[]
[]
[]
[]
[]
[]
[]
[]
[]
[]
[]
[]
[]
[]
[]
[]
[]
[]
[]
[]
[]
[]
[]
[]
[]
[]
[]
[]
[]
[]
[]
[]
[]
[]
[]
[]
[]
[]
[]
[]
[]
[]
[]
[]
[]
[]
[]
[]
[]
[]
[]
[]
[]
[]
[]
[]
[]
[]
[]
[]
[]
[]
[]
[]
[]
[]
[]
[]
[]
[]
[]
[]
[]
[]
[]
[]
[]
[]
[]
[]
[]
[]
[]
[]
[]
[]
[]
[]
[]
[]
[]
[]
[]
[]
[]
[]
[]
[]
[]
[]
[]
[]
[]
[]
[]
[]
[]
[]
[]
[]
[]
[]
[]
[]
[]
[]
[]
[]
[]
[]
[]
[]
[]
[]
[]
[]
[]
[]
[]
[]
[]
[]
[]
[]
[]
[]
[]
[]
[]
[]
[]
[]
[]
[]
[]
[]
[]
[]
[]
[]
[]
[]
[]
[]
[]
[]
[]
[]
[]
[]
[]
[]
[]
[]
[]
[]
[]
[]
[]
[]
[]
[]
[]
[]
[]
[]
[]
[]
[]
[]
[]
[]
[]
[]
[]
[]
[]
[]
[]
[]
[]
[]
[]
[]
[]
[]
[]
[]
[]
[]
[]
[]
[]
[]
[]
[]
[]
[]
[]
[]
[]
[]
[]
[]
[]
[]
[]
[]
[]
[]
[]
[]
[]
[]
[]
[]
[]
[]
[]
[]
[]
[]
[]
[]
[]
[]
[]
[]
[]
[]
[]
[]
[]
[]
[]
[]
[]
[]
[]
[]
[]
[]
[]
[]
[]
[]
[]
[]
[]
[]
[]
[]
[]
[]
[]
[]
[]
[]
[]
[]
[]
[]
[]
[]
[]
[]
[]
[]
[]
[]
[]
[]
[]
[]
[]
[]
[]
[]
[]
[]
[]
[]
[]
[]
[]
[]
[]
[]
[]
[]
[]
[]
[]
[]
[]
[]
[]
[]
[]
[]
[]
[]
[]
[]
[]
[]
[]
[]
[]
[]
[]
[]
[]
[]
[]
[]
[]
[]
[]
[]
[]
[]
[]
[]
[]
[]
[]
[]
[]
[]
[]
[]
[]
[]
[]
[]
[]
[]
[]
[]
[]
[]
[]
[]
[]
[]
[]
[]
[]
[]
[]
[]
[]
[]
[]
[]
[]
[]
[]
[]
[]
[]
[]
[]
[]
[]
[]
[]
[]
[]
[]
[]
[]
[]
[]
[]
[]
[]
[]
[]
[]
[]
[]
[]
[]
[]
[]
[]
[]
[]
[]
[]
[]
[]
[]
[]
[]
[]
[]
[]
[]
[]
[]
[]
[]
[]
[]
[]
[]
[]
[]
[]
[]
[]
[]
[]
[]
[]
[]
[]
[]
[]
[]
[]
[]
[]
[]
[]
[]
[]
[]
[]
[]
[]
[]
[]
[]
[]
[]
[]
[]
[]
[]
[]
[]
[]
[]
[]
[]
[]
[]
[]
[]
[]
[]
[]
[]
[]
[]
[]
[]
[]
[]
[]
[]
[]
[]
[]
[]
[]
[]
[]
[]
[]
[]
[]
[]
[]
[]
[]
[]
[]
[]
[]
[]
[]
[]
[]
[]
[]
[]
[]
[]
[]
[]
[]
[]
[]
[]
[]
[]
[]
[]
[]
[]
[]
[]
[]
[]
[]
[]
[]
[]
[]
[]
[]
[]
[]
[]
[]
[]
[]
[]
[]
[]
[]
[]
[]
[]
[]
[]
[]
[]
[]
[]
[]
[]
[]
[]
[]
[]
[]
[]
[]
[]
[]
[]
[]
[]
[]
[]
[]
[]
[]
[]
[]
[]
[]
[]
[]
[]
[]
[]
[]
[]
[]
[]
[]
[]
[]
[]
[]
[]
[]
[]
[]
[]
[]
[]
[]
[]
[]
[]
[]
[]
[]
[]
[]
[]
[]
[]
[]
[]
[]
[]
[]
[]
[]
[]
[]
[]
[]
[]
[]
[]
[]
[]
[]
[]
[]
[]
[]
[]
[]
[]
[]
[]
[]
[]
[]
[]
[]
[]
[]
[]
[]
[]
[]
[]
[]
[]
[]
[]
[]
[]
[]
[]
[]
[]
[]
[]
[]
[]
[]
[]
[]
[]
[]
[]
[]
[]
[]
[]
[]
[]
[]
[]
[]
[]
[]
[]
[]
[]
[]
[]
[]
[]
[]
[]
[]
[]
[]
[]
[]
[]
[]
[]
[]
[]
[]
[]
[]
[]
[]
[]
[]
[]
[]
[]
[]
[]
[]
[]
[]
[]
[]
[]
[]
[]
[]
[]
[]
[]
[]
[]
[]
[]
[]
[]
[]
[]
[]
[]
[]
[]
[]
[]
[]
[]
[]
[]
[]
[]
[]
[]
[]
[]
[]
[]
[]
[]
[]
[]
[]
[]
[]
[]
[]
[]
[]
[]
[]
[]
[]
[]
[]
[]
[]
[]
[]
[]
[]
[]
[]
[]
[]
[]
[]
[]
[]
[]
[]
[]
[]
[]
[]
[]
[]
[]
[]
[]
[]
[]
[]
[]
[]
[]
[]
[]
[]
[]
[]
[]
[]
[]
[]
[]
[]
[]
[]
[]
[]
[]
[]
[]
[]
[]
[]
[]
[]
[]
[]
[]
[]
[]
[]
[]
[]
[]
[]
[]
[]
[]
[]
[]
[]
[]
[]
[]
[]
[]
[]
[]
[]
[]
[]
[]
[]
[]
[]
[]
[]
[]
[]
[]
[]
[]
[]
[]
[]
[]
[]
[]
[]
[]
[]
[]
[]
[]
[]
[]
[]
[]
[]
[]
[]
[]
[]
[]
[]
[]
[]
[]
[]
[]
[]
[]
[]
[]
[]
[]
[]
[]
[]
[]
[]
[]
[]
[]
[]
[]
[]
[]
[]
[]
[]
[]
[]
[]
[]
[]
[]
[]
[]
[]
[]
[]
[]
[]
[]
[]
[]
[]
[]
[]
[]
[]
[]
[]
[]
[]
[]
[]
[]
[]
[]
[]
[]
[]
[]
[]
[]
[]
[]
[]
[]
[]
[]
[]
[]
[]
[]
[]
[]
[]
[]
[]
[]
[]
[]
[]
[]
[]
[]
[]
[]
[]
[]
[]
[]
[]
[]
[]
[]
[]
[]
[]
[]
[]
[]
[]
[]
[]
[]
[]
[]
[]
[]
[]
[]
[]
[]
[]
[]
[]
[]
[]
[]
[]
[]
[]
[]
[]
[]
[]
[]
[]
[]
[]
[]
[]
[]
[]
[]
[]
[]
[]
[]
[]
[]
[]
[]
[]
[]
[]
[]
[]
[]
[]
[]
[]
[]
[]
[]
[]
[]
[]
[]
[]
[]
[]
[]
[]
[]
[]
[]
[]
[]
[]
[]
[]
[]
[]
[]
[]
[]
[]
[]
[]
[]
[]
[]
[]
[]
[]
[]
[]
[]
[]
[]
[]
[]
[]
[]
[]
[]
[]
[]
[]
[]
[]
[]
[]
[]
[]
[]
[]
[]
[]
[]
[]
[]
[]
[]
[]
[]
[]
[]
[]
[]
[]
[]
[]
[]
[]
[]
[]
[]
[]
[]
[]
[]
[]
[]
[]
[]
[]
[]
[]
[]
[]
[]
[]
[]
[]
[]
[]
[]
[]
[]
[]
[]
[]
[]
[]
[]
[]
[]
[]
[]
[]
[]
[]
[]
[]
[]
[]
[]
[]
[]
[]
[]
[]
[]
[]
[]
[]
[]
[]
[]
[]
[]
[]
[]
[]
[]
[]
[]
[]
[]
[]
[]
[]
[]
[]
[]
[]
[]
[]
[]
[]
[]
[]
[]
[]
[]
[]
[]
[]
[]
[]
[]
[]
[]
[]
[]
[]
[]
[]
[]
[]
[]
[]
[]
[]
[]
[]
[]
[]
[]
[]
[]
[]
[]
[]
[]
[]
[]
[]
[]
[]
[]
[]
[]
[]
[]
[]
[]
[]
[]
[]
[]
[]
[]
[]
[]
[]
[]
[]
[]
[]
[]
[]
[]
[]
[]
[]
[]
[]
[]
[]
[]
[]
[]
[]
[]
[]
[]
[]
[]
[]
[]
[]
[]
[]
[]
[]
[]
[]
[]
[]
[]
[]
[]
[]
[]
[]
[]
[]
[]
[]
[]
[]
[]
[]
[]
[]
[]
[]
[]
[]
[]
[]
[]
[]
[]
[]
[]
[]
[]
[]
[]
[]
[]
[]
[]
[]
[]
[]
[]
[]
[]
[]
[]
[]
[]
[]
[]
[]
[]
[]
[]
[]
[]
[]
[]
[]
[]
[]
[]
[]
[]
[]
[]
[]
[]
[]
[]
[]
[]
[]
[]
[]
[]
[]
[]
[]
[]
[]
[]
[]
[]
[]
[]
[]
[]
[]
[]
[]
[]
[]
[]
[]
[]
[]
[]
[]
[]
[]
[]
[]
[]
[]
[]
[]
[]
[]
[]
[]
[]
[]
[]
[]
[]
[]
[]
[]
[]
[]
[]
[]
[]
[]
[]
[]
[]
[]
[]
[]
[]
[]
[]
[]
[]
[]
[]
[]
[]
[]
[]
[]
[]
[]
[]
[]
[]
[]
[]
[]
[]
[]
[]
[]
[]
[]
[]
[]
[]
[]
[]
[]
[]
[]
[]
[]
[]
[]
[]
[]
[]
[]
[]
[]
[]
[]
[]
[]
[]
[]
[]
[]
[]
[]
[]
[]
[]
[]
[]
[]
[]
[]
[]
[]
[]
[]
[]
[]
[]
[]
[]
[]
[]
[]
[]
[]
[]
[]
[]
[]
[]
[]
[]
[]
[]
[]
[]
[]
[]
[]
[]
[]
[]
[]
[]
[]
[]
[]
[]
[]
[]
[]
[]
[]
[]
[]
[]
[]
[]
[]
[]
[]
[]
[]
[]
[]
[]
[]
[]
[]
[]
[]
[]
[]
[]
[]
[]
[]
[]
[]
[]
[]
[]
[]
[]
[]
[]
[]
[]
[]
[]
[]
[]
[]
[]
[]
[]
[]
[]
[]
[]
[]
[]
[]
[]
[]
[]
[]
[]
[]
[]
[]
[]
[]
[]
[]
[]
[]
[]
[]
[]
[]
[]
[]
[]
[]
[]
[]
[]
[]
[]
[]
[]
[]
[]
[]
[]
[]
[]
[]
[]
[]
[]
[]
[]
[]
[]
[]
[]
[]
[]
[]
[]
[]
[]
[]
[]
[]
[]
[]
[]
[]
[]
[]
[]
[]
[]
[]
[]
[]
[]
[]
[]
[]
[]
[]
[]
[]
[]
[]
[]
[]
[]
[]
[]
[]
[]
[]
[]
[]
[]
[]
[]
[]
[]
[]
[]
[]
[]
[]
[]
[]
[]
[]
[]
[]
[]
[]
[]
[]
[]
[]
[]
[]
[]
[]
[]
[]
[]
[]
[]
[]
[]
[]
[]
[]
[]
[]
[]
[]
[]
[]
[]
[]
[]
[]
[]
[]
[]
[]
[]
[]
[]
[]
[]
[]
[]
[]
[]
[]
[]
[]
[]
[]
[]
[]
[]
[]
[]
[]
[]
[]
[]
[]
[]
[]
[]
[]
[]
[]
[]
[]
[]
[]
[]
[]
[]
[]
[]
[]
[]
[]
[]
[]
[]
[]
[]
[]
[]
[]
[]
[]
[]
[]
[]
[]
[]
[]
[]
[]
[]
[]
[]
[]
[]
[]
[]
[]
[]
[]
[]
[]
[]
[]
[]
[]
[]
[]
[]
[]
[]
[]
[]
[]
[]
[]
[]
[]
[]
[]
[]
[]
[]
[]
[]
[]
[]
[]
[]
[]
[]
[]
[]
[]
[]
[]
[]
[]
[]
[]
[]
[]
[]
[]
[]
[]
[]
[]
[]
[]
[]
[]
[]
[]
[]
[]
[]
[]
[]
[]
[]
[]
[]
[]
[]
[]
[]
[]
[]
[]
[]
[]
[]
[]
[]
[]
[]
[]
[]
[]
[]
[]
[]
[]
[]
[]
[]
[]
[]
[]
[]
[]
[]
[]
[]
[]
[]
[]
[]
[]
[]
[]
[]
[]
[]
[]
[]
[]
[]
[]
[]
[]
[]
[]
[]
[]
[]
[]
[]
[]
[]
[]
[]
[]
[]
[]
[]
[]
[]
[]
[]
[]
[]
[]
[]
[]
[]
[]
[]
[]
[]
[]
[]
[]
[]
[]
[]
[]
[]
[]
[]
[]
[]
[]
[]
[]
[]
[]
[]
[]
[]
[]
[]
[]
[]
[]
[]
[]
[]
[]
[]
[]
[]
[]
[]
[]
[]
[]
[]
[]
[]
[]
[]
[]
[]
[]
[]
[]
[]
[]
[]
[]
[]
[]
[]
[]
[]
[]
[]
[]
[]
[]
[]
[]
[]
[]
[]
[]
[]
[]
[]
[]
[]
[]
[]
[]
[]
[]
[]
[]
[]
[]
[]
[]
[]
[]
[]
[]
[]
[]
[]
[]
[]
[]
[]
[]
[]
[]
[]
[]
[]
[]
[]
[]
[]
[]
[]
[]
[]
[]
[]
[]
[]
[]
[]
[]
[]
[]
[]
[]
[]
[]
[]
[]
[]
[]
[]
[]
[]
[]
[]
[]
[]
[]
[]
[]
[]
[]
[]
[]
[]
[]
[]
[]
[]
[]
[]
[]
[]
[]
[]
[]
[]
[]
[]
[]
[]
[]
[]
[]
[]
[]
[]
[]
[]
[]
[]
[]
[]
[]
[]
[]
[]
[]
[]
[]
[]
[]
[]
[]
[]
[]
[]
[]
[]
[]
[]
[]
[]
[]
[]
[]
[]
[]
[]
[]
[]
[]
[]
[]
[]
[]
[]
[]
[]
[]
[]
[]
[]
[]
[]
[]
[]
[]
[]
[]
[]
[]
[]
[]
[]
[]
[]
[]
[]
[]
[]
[]
[]
[]
[]
[]
[]
[]
[]
[]
[]
[]
[]
[]
[]
[]
[]
[]
[]
[]
[]
[]
[]
[]
[]
[]
[]
[]
[]
[]
[]
[]
[]
[]
[]
[]
[]
[]
[]
[]
[]
[]
[]
[]
[]
[]
[]
[]
[]
[]
[]
[]
[]
[]
[]
[]
[]
[]
[]
[]
[]
[]
[]
[]
[]
[]
[]
[]
[]
[]
[]
[]
[]
[]
[]
[]
[]
[]
[]
[]
[]
[]
[]
[]
[]
[]
[]
[]
[]
[]
[]
[]
[]
[]
[]
[]
[]
[]
[]
[]
[]
[]
[]
[]
[]
[]
[]
[]
[]
[]
[]
[]
[]
[]
[]
[]
[]
[]
[]
[]
[]
[]
[]
[]
[]
[]
[]
[]
[]
[]
[]
[]
[]
[]
[]
[]
[]
[]
[]
[]
[]
[]
[]
[]
[]
[]
[]
[]
[]
[]
[]
[]
[]
[]
[]
[]
[]
[]
[]
[]
[]
[]
[]
[]
[]
[]
[]
[]
[]
[]
[]
[]
[]
[]
[]
[]
[]
[]
[]
[]
[]
[]
[]
[]
[]
[]
[]
[]
[]
[]
[]
[]
[]
[]
[]
[]
[]
[]
[]
[]
[]
[]
[]
[]
[]
[]
[]
[]
[]
[]
[]
[]
[]
[]
[]
[]
[]
[]
[]
[]
[]
[]
[]
[]
[]
[]
[]
[]
[]
[]
[]
[]
[]
[]
[]
[]
[]
[]
[]
[]
[]
[]
[]
[]
[]
[]
[]
[]
[]
[]
[]
[]
[]
[]
[]
[]
[]
[]
[]
[]
[]
[]
[]
[]
[]
[]
[]
[]
[]
[]
[]
[]
[]
[]
[]
[]
[]
[]
[]
[]
[]
[]
[]
[]
[]
[]
[]
[]
[]
[]
[]
[]
[]
[]
[]
[]
[]
[]
[]
[]
[]
[]
[]
[]
[]
[]
[]
[]
[]
[]
[]
[]
[]
[]
[]
[]
[]
[]
[]
[]
[]
[]
[]
[]
[]
[]
[]
[]
[]
[]
[]
[]
[]
[]
[]
[]
[]
[]
[]
[]
[]
[]
[]
[]
[]
[]
[]
[]
[]
[]
[]
[]
[]
[]
[]
[]
[]
[]
[]
[]
[]
[]
[]
[]
[]
[]
[]
[]
[]
[]
[]
[]
[]
[]
[]
[]
[]
[]
[]
[]
[]
[]
[]
[]
[]
[]
[]
[]
[]
[]
[]
[]
[]
[]
[]
[]
[]
[]
[]
[]
[]
[]
[]
[]
[]
[]
[]
[]
[]
[]
[]
[]
[]
[]
[]
[]
[]
[]
[]
[]
[]
[]
[]
[]
[]
[]
[]
[]
[]
[]
[]
[]
[]
[]
[]
[]
[]
[]
[]
[]
[]
[]
[]
[]
[]
[]
[]
[]
[]
[]
[]
[]
[]
[]
[]
[]
[]
[]
[]
[]
[]
[]
[]
[]
[]
[]
[]
[]
[]
[]
[]
[]
[]
[]
[]
[]
[]
[]
[]
[]
[]
[]
[]
[]
[]
[]
[]
[]
[]
[]
[]
[]
[]
[]
[]
[]
[]
[]
[]
[]
[]
[]
[]
[]
[]
[]
[]
[]
[]
[]
[]
[]
[]
[]
[]
[]
[]
[]
[]
[]
[]
[]
[]
[]
[]
[]
[]
[]
[]
[]
[]
[]
[]
[]
[]
[]
[]
[]
[]
[]
[]
[]
[]
[]
[]
[]
[]
[]
[]
[]
[]
[]
[]
[]
[]
[]
[]
[]
[]
[]
[]
[]
[]
[]
[]
[]
[]
[]
[]
[]
[]
[]
[]
[]
[]
[]
[]
[]
[]
[]
[]
[]
[]
[]
[]
[]
[]
[]
[]
[]
[]
[]
[]
[]
[]
[]
[]
[]
[]
[]
[]
[]
[]
[]
[]
[]
[]
[]
[]
[]
[]
[]
[]
[]
[]
[]
[]
[]
[]
[]
[]
[]
[]
[]
[]
[]
[]
[]
[]
[]
[]
[]
[]
[]
[]
[]
[]
[]
[]
[]
[]
[]
[]
[]
[]
[]
[]
[]
[]
[]
[]
[]
[]
[]
[]
[]
[]
[]
[]
[]
[]
[]
[]
[]
[]
[]
[]
[]
[]
[]
[]
[]
[]
[]
[]
[]
[]
[]
[]
[]
[]
[]
[]
[]
[]
[]
[]
[]
[]
[]
[]
[]
[]
[]
[]
[]
[]
[]
[]
[]
[]
[]
[]
[]
[]
[]
[]
[]
[]
[]
[]
[]
[]
[]
[]
[]
[]
[]
[]
[]
[]
[]
[]
[]
[]
[]
[]
[]
[]
[]
[]
[]
[]
[]
[]
[]
[]
[]
[]
[]
[]
[]
[]
[]
[]
[]
[]
[]
[]
[]
[]
[]
[]
[]
[]
[]
[]
[]
[]
[]
[]
[]
[]
[]
[]
[]
[]
[]
[]
[]
[]
[]
[]
[]
[]
[]
[]
[]
[]
[]
[]
[]
[]
[]
[]
[]
[]
[]
[]
[]
[]
[]
[]
[]
[]
[]
[]
[]
[]
[]
[]
[]
[]
[]
[]
[]
[]
[]
[]
[]
[]
[]
[]
[]
[]
[]
[]
[]
[]
[]
[]
[]
[]
[]
[]
[]
[]
[]
[]
[]
[]
[]
[]
[]
[]
[]
[]
[]
[]
[]
[]
[]
[]
[]
[]
[]
[]
[]
[]
[]
[]
[]
[]
[]
[]
[]
[]
[]
[]
[]
[]
[]
[]
[]
[]
[]
[]
[]
[]
[]
[]
[]
[]
[]
[]
[]
[]
[]
[]
[]
[]
[]
[]
[]
[]
[]
[]
[]
[]
[]
[]
[]
[]
[]
[]
[]
[]
[]
[]
[]
[]
[]
[]
[]
[]
[]
[]
[]
[]
[]
[]
[]
[]
[]
[]
[]
[]
[]
[]
[]
[]
[]
[]
[]
[]
[]
[]
[]
[]
[]
[]
[]
[]
[]
[]
[]
[]
[]
[]
[]
[]
[]
[]
[]
[]
[]
[]
[]
[]
[]
[]
[]
[]
[]
[]
[]
[]
[]
[]
[]
[]
[]
[]
[]
[]
[]
[]
[]
[]
[]
[]
[]
[]
[]
[]
[]
[]
[]
[]
[]
[]
[]
[]
[]
[]
[]
[]
[]
[]
[]
[]
[]
[]
[]
[]
[]
[]
[]
[]
[]
[]
[]
[]
[]
[]
[]
[]
[]
[]
[]
[]
[]
[]
[]
[]
[]
[]
[]
[]
[]
[]
[]
[]
[]
[]
[]
[]
[]
[]
[]
[]
[]
[]
[]
[]
[]
[]
[]
[]
[]
[]
[]
[]
[]
[]
[]
[]
[]
[]
[]
[]
[]
[]
[]
[]
[]
[]
[]
[]
[]
[]
[]
[]
[]
[]
[]
[]
[]
[]
[]
[]
[]
[]
[]
[]
[]
[]
[]
[]
[]
[]
[]
[]
[]
[]
[]
[]
[]
[]
[]
[]
[]
[]
[]
[]
[]
[]
[]
[]
[]
[]
[]
[]
[]
[]
[]
[]
[]
[]
[]
[]
[]
[]
[]
[]
[]
[]
[]
[]
[]
[]
[]
[]
[]
[]
[]
[]
[]
[]
[]
[]
[]
[]
[]
[]
[]
[]
[]
[]
[]
[]
[]
[]
[]
[]
[]
[]
[]
[]
[]
[]
[]
[]
[]
[]
[]
[]
[]
[]
[]
[]
[]
[]
[]
[]
[]
[]
[]
[]
[]
[]
[]
[]
[]
[]
[]
[]
[]
[]
[]
[]
[]
[]
[]
[]
[]
[]
[]
[]
[]
[]
[]
[]
[]
[]
[]
[]
[]
[]
[]
[]
[]
[]
[]
[]
[]
[]
[]
[]
[]
[]
[]
[]
[]
[]
[]
[]
[]
[]
[]
[]
[]
[]
[]
[]
[]
[]
[]
[]
[]
[]
[]
[]
[]
[]
[]
[]
[]
[]
[]
[]
[]
[]
[]
[]
[]
[]
[]
[]
[]
[]
[]
[]
[]
[]
[]
[]
[]
[]
[]
[]
[]
[]
[]
[]
[]
[]
[]
[]
[]
[]
[]
[]
[]
[]
[]
[]
[]
[]
[]
[]
[]
[]
[]
[]
[]
[]
[]
[]
[]
[]
[]
[]
[]
[]
[]
[]
[]
[]
[]
[]
[]
[]
[]
[]
[]
[]
[]
[]
[]
[]
[]
[]
[]
[]
[]
[]
[]
[]
[]
[]
[]
[]
[]
[]
[]
[]
[]
[]
[]
[]
[]
[]
[]
[]
[]
[]
[]
[]
[]
[]
[]
[]
[]
[]
[]
[]
[]
[]
[]
[]
[]
[]
[]
[]
[]
[]
[]
[]
[]
[]
[]
[]
[]
[]
[]
[]
[]
[]
[]
[]
[]
[]
[]
[]
[]
[]
[]
[]
[]
[]
[]
[]
[]
[]
[]
[]
[]
[]
[]
[]
[]
[]
[]
[]
[]
[]
[]
[]
[]
[]
[]
[]
[]
[]
[]
[]
[]
[]
[]
[]
[]
[]
[]
[]
[]
[]
[]
[]
[]
[]
[]
[]
[]
[]
[]
[]
[]
[]
[]
[]
[]
[]
[]
[]
[]
[]
[]
[]
[]
[]
[]
[]
[]
[]
[]
[]
[]
[]
[]
[]
[]
[]
[]
[]
[]
[]
[]
[]
[]
[]
[]
[]
[]
[]
[]
[]
[]
[]
[]
[]
[]
[]
[]
[]
[]
[]
[]
[]
[]
[]
[]
[]
[]
[]
[]
[]
[]
[]
[]
[]
[]
[]
[]
[]
[]
[]
[]
[]
[]
[]
[]
[]
[]
[]
[]
[]
[]
[]
[]
[]
[]
[]
[]
[]
[]
[]
[]
[]
[]
[]
[]
[]
[]
[]
[]
[]
[]
[]
[]
[]
[]
[]
[]
[]
[]
[]
[]
[]
[]
[]
[]
[]
[]
[]
[]
[]
[]
[]
[]
[]
[]
[]
[]
[]
[]
[]
[]
[]
[]
[]
[]
[]
[]
[]
[]
[]
[]
[]
[]
[]
[]
[]
[]
[]
[]
[]
[]
[]
[]
[]
[]
[]
[]
[]
[]
[]
[]
[]
[]
[]
[]
[]
[]
[]
[]
[]
[]
[]
[]
[]
[]
[]
[]
[]
[]
[]
[]
[]
[]
[]
[]
[]
[]
[]
[]
[]
[]
[]
[]
[]
[]
[]
[]
[]
[]
[]
[]
[]
[]
[]
[]
[]
[]
[]
[]
[]
[]
[]
[]
[]
[]
[]
[]
[]
[]
[]
[]
[]
[]
[]
[]
[]
[]
[]
[]
[]
[]
[]
[]
[]
[]
[]
[]
[]
[]
[]
[]
[]
[]
[]
[]
[]
[]
[]
[]
[]
[]
[]
[]
[]
[]
[]
[]
[]
[]
[]
[]
[]
[]
[]
[]
[]
[]
[]
[]
[]
[]
[]
[]
[]
[]
[]
[]
[]
[]
[]
[]
[]
[]
[]
[]
[]
[]
[]
[]
[]
[]
[]
[]
[]
[]
[]
[]
[]
[]
[]
[]
[]
[]
[]
[]
[]
[]
[]
[]
[]
[]
[]
[]
[]
[]
[]
[]
[]
[]
[]
[]
[]
[]
[]
[]
[]
[]
[]
[]
[]
[]
[]
[]
[]
[]
[]
[]
[]
[]
[]
[]
[]
[]
[]
[]
[]
[]
[]
[]
[]
[]
[]
[]
[]
[]
[]
[]
[]
[]
[]
[]
[]
[]
[]
[]
[]
[]
[]
[]
[]
[]
[]
[]
[]
[]
[]
[]
[]
[]
[]
[]
[]
[]
[]
[]
[]
[]
[]
[]
[]
[]
[]
[]
[]
[]
[]
[]
[]
[]
[]
[]
[]
[]
[]
[]
[]
[]
[]
[]
[]
[]
[]
[]
[]
[]
[]
[]
[]
[]
[]
[]
[]
[]
[]
[]
[]
[]
[]
[]
[]
[]
[]
[]
[]
[]
[]
[]
[]
[]
[]
[]
[]
[]
[]
[]
[]
[]
[]
[]
[]
[]
[]
[]
[]
[]
[]
[]
[]
[]
[]
[]
[]
[]
[]
[]
[]
[]
[]
[]
[]
[]
[]
[]
[]
[]
[]
[]
[]
[]
[]
[]
[]
[]
[]
[]
[]
[]
[]
[]
[]
[]
[]
[]
[]
[]
[]
[]
[]
[]
[]
[]
[]
[]
[]
[]
[]
[]
[]
[]
[]
[]
[]
[]
[]
[]
[]
[]
[]
[]
[]
[]
[]
[]
[]
[]
[]
[]
[]
[]
[]
[]
[]
[]
[]
[]
[]
[]
[]
[]
[]
[]
[]
[]
[]
[]
[]
[]
[]
[]
[]
[]
[]
[]
[]
[]
[]
[]
[]
[]
[]
[]
[]
[]
[]
[]
[]
[]
[]
[]
[]
[]
[]
[]
[]
[]
[]
[]
[]
[]
[]
[]
[]
[]
[]
[]
[]
[]
[]
[]
[]
[]
[]
[]
[]
[]
[]
[]
[]
[]
[]
[]
[]
[]
[]
[]
[]
[]
[]
[]
[]
[]
[]
[]
[]
[]
[]
[]
[]
[]
[]
[]
[]
[]
[]
[]
[]
[]
[]
[]
[]
[]
[]
[]
[]
[]
[]
[]
[]
[]
[]
[]
[]
[]
[]
[]
[]
[]
[]
[]
[]
[]
[]
[]
[]
[]
[]
[]
[]
[]
[]
[]
[]
[]
[]
[]
[]
[]
[]
[]
[]
[]
[]
[]
[]
[]
[]
[]
[]
[]
[]
[]
[]
[]
[]
[]
[]
[]
[]
[]
[]
[]
[]
[]
[]
[]
[]
[]
[]
[]
[]
[]
[]
[]
[]
[]
[]
[]
[]
[]
[]
[]
[]
[]
[]
[]
[]
[]
[]
[]
[]
[]
[]
[]
[]
[]
[]
[]
[]
[]
[]
[]
[]
[]
[]
[]
[]
[]
[]
[]
[]
[]
[]
[]
[]
[]
[]
[]
[]
[]
[]
[]
[]
[]
[]
[]
[]
[]
[]
[]
[]
[]
[]
[]
[]
[]
[]
[]
[]
[]
[]
[]
[]
[]
[]
[]
[]
[]
[]
[]
[]
[]
[]
[]
[]
[]
[]
[]
[]
[]
[]
[]
[]
[]
[]
[]
[]
[]
[]
[]
[]
[]
[]
[]
[]
[]
[]
[]
[]
[]
[]
[]
[]
[]
[]
[]
[]
[]
[]
[]
[]
[]
[]
[]
[]
[]
[]
[]
[]
[]
[]
[]
[]
[]
[]
[]
[]
[]
[]
[]
[]
[]
[]
[]
[]
[]
[]
[]
[]
[]
[]
[]
[]
[]
[]
[]
[]
[]
[]
[]
[]
[]
[]
[]
[]
[]
[]
[]
[]
[]
[]
[]
[]
[]
[]
[]
[]
[]
[]
[]
[]
[]
[]
[]
[]
[]
[]
[]
[]
[]
[]
[]
[]
[]
[]
[]
[]
[]
[]
[]
[]
[]
[]
[]
[]
[]
[]
[]
[]
[]
[]
[]
[]
[]
[]
[]
[]
[]
[]
[]
[]
[]
[]
[]
[]
[]
[]
[]
[]
[]
[]
[]
[]
[]
[]
[]
[]
[]
[]
[]
[]
[]
[]
[]
[]
[]
[]
[]
[]
[]
[]
[]
[]
[]
[]
[]
[]
[]
[]
[]
[]
[]
[]
[]
[]
[]
[]
[]
[]
[]
[]
[]
[]
[]
[]
[]
[]
[]
[]
[]
[]
[]
[]
[]
[]
[]
[]
[]
[]
[]
[]
[]
[]
[]
[]
[]
[]
[]
[]
[]
[]
[]
[]
[]
[]
[]
[]
[]
[]
[]
[]
[]
[]
[]
[]
[]
[]
[]
[]
[]
[]
[]
[]
[]
[]
[]
[]
[]
[]
[]
[]
[]
[]
[]
[]
[]
[]
[]
[]
[]
[]
[]
[]
[]
[]
[]
[]
[]
[]
[]
[]
[]
[]
[]
[]
[]
[]
[]
[]
[]
[]
[]
[]
[]
[]
[]
[]
[]
[]
[]
[]
[]
[]
[]
[]
[]
[]
[]
[]
[]
[]
[]
[]
[]
[]
[]
[]
[]
[]
[]
[]
[]
[]
[]
[]
[]
[]
[]
[]
[]
[]
[]
[]
[]
[]
[]
[]
[]
[]
[]
[]
[]
[]
[]
[]
[]
[]
[]
[]
[]
[]
[]
[]
[]
[]
[]
[]
[]
[]
[]
[]
[]
[]
[]
[]
[]
[]
[]
[]
[]
[]
[]
[]
[]
[]
[]
[]
[]
[]
[]
[]
[]
[]
[]
[]
[]
[]
[]
[]
[]
[]
[]
[]
[]
[]
[]
[]
[]
[]
[]
[]
[]
[]
[]
[]
[]
[]
[]
[]
[]
[]
[]
[]
[]
[]
[]
[]
[]
[]
[]
[]
[]
[]
[]
[]
[]
[]
[]
[]
[]
[]
[]
[]
[]
[]
[]
[]
[]
[]
[]
[]
[]
[]
[]
[]
[]
[]
[]
[]
[]
[]
[]
[]
[]
[]
[]
[]
[]
[]
[]
[]
[]
[]
[]
[]
[]
[]
[]
[]
[]
[]
[]
[]
[]
[]
[]
[]
[]
[]
[]
[]
[]
[]
[]
[]
[]
[]
[]
[]
[]
[]
[]
[]
[]
[]
[]
[]
[]
[]
[]
[]
[]
[]
[]
[]
[]
[]
[]
[]
[]
[]
[]
[]
[]
[]
[]
[]
[]
[]
[]
[]
[]
[]
[]
[]
[]
[]
[]
[]
[]
[]
[]
[]
[]
[]
[]
[]
[]
[]
[]
[]
[]
[]
[]
[]
[]
[]
[]
[]
[]
[]
[]
[]
[]
[]
[]
[]
[]
[]
[]
[]
[]
[]
[]
[]
[]
[]
[]
[]
[]
[]
[]
[]
[]
[]
[]
[]
[]
[]
[]
[]
[]
[]
[]
[]
[]
[]
[]
[]
[]
[]
[]
[]
[]
[]
[]
[]
[]
[]
[]
[]
[]
[]
[]
[]
[]
[]
[]
[]
[]
[]
[]
[]
[]
[]
[]
[]
[]
[]
[]
[]
[]
[]
[]
[]
[]
[]
[]
[]
[]
[]
[]
[]
[]
[]
[]
[]
[]
[]
[]
[]
[]
[]
[]
[]
[]
[]
[]
[]
[]
[]
[]
[]
[]
[]
[]
[]
[]
[]
[]
[]
[]
[]
[]
[]
[]
[]
[]
[]
[]
[]
[]
[]
[]
[]
[]
[]
[]
[]
[]
[]
[]
[]
[]
[]
[]
[]
[]
[]
[]
[]
[]
[]
[]
[]
[]
[]
[]
[]
[]
[]
[]
[]
[]
[]
[]
[]
[]
[]
[]
[]
[]
[]
[]
[]
[]
[]
[]
[]
[]
[]
[]
[]
[]
[]
[]
[]
[]
[]
[]
[]
[]
[]
[]
[]
[]
[]
[]
[]
[]
[]
[]
[]
[]
[]
[]
[]
[]
[]
[]
[]
[]
[]
[]
[]
[]
[]
[]
[]
[]
[]
[]
[]
[]
[]
[]
[]
[]
[]
[]
[]
[]
[]
[]
[]
[]
[]
[]
[]
[]
[]
[]
[]
[]
[]
[]
[]
[]
[]
[]
[]
[]
[]
[]
[]
[]
[]
[]
[]
[]
[]
[]
[]
[]
[]
[]
[]
[]
[]
[]
[]
[]
[]
[]
[]
[]
[]
[]
[]
[]
[]
[]
[]
[]
[]
[]
[]
[]
[]
[]
[]
[]
[]
[]
[]
[]
[]
[]
[]
[]
[]
[]
[]
[]
[]
[]
[]
[]
[]
[]
[]
[]
[]
[]
[]
[]
[]
[]
[]
[]
[]
[]
[]
[]
[]
[]
[]
[]
[]
[]
[]
[]
[]
[]
[]
[]
[]
[]
[]
[]
[]
[]
[]
[]
[]
[]
[]
[]
[]
[]
[]
[]
[]
[]
[]
[]
[]
[]
[]
[]
[]
[]
[]
[]
[]
[]
[]
[]
[]
[]
[]
[]
[]
[]
[]
[]
[]
[]
[]
[]
[]
[]
[]
[]
[]
[]
[]
[]
[]
[]
[]
[]
[]
[]
[]
[]
[]
[]
[]
[]
[]
[]
[]
[]
[]
[]
[]
[]
[]
[]
[]
[]
[]
[]
[]
[]
[]
[]
[]
[]
[]
[]
[]
[]
[]
[]
[]
[]
[]
[]
[]
[]
[]
[]
[]
[]
[]
[]
[]
[]
[]
[]
[]
[]
[]
[]
[]
[]
[]
[]
[]
[]
[]
[]
[]
[]
[]
[]
[]
[]
[]
[]
[]
[]
[]
[]
[]
[]
[]
[]
[]
[]
[]
[]
[]
[]
[]
[]
[]
[]
[]
[]
[]
[]
[]
[]
[]
[]
[]
[]
[]
[]
[]
[]
[]
[]
[]
[]
[]
[]
[]
[]
[]
[]
[]
[]
[]
[]
[]
[]
[]
[]
[]
[]
[]
[]
[]
[]
[]
[]
[]
[]
[]
[]
[]
[]
[]
[]
[]
[]
[]
[]
[]
[]
[]
[]
[]
[]
[]
[]
[]
[]
[]
[]
[]
[]
[]
[]
[]
[]
[]
[]
[]
[]
[]
[]
[]
[]
[]
[]
[]
[]
[]
[]
[]
[]
[]
[]
[]
[]
[]
[]
[]
[]
[]
[]
[]
[]
[]
[]
[]
[]
[]
[]
[]
[]
[]
[]
[]
[]
[]
[]
[]
[]
[]
[]
[]
[]
[]
[]
[]
[]
[]
[]
[]
[]
[]
[]
[]
[]
[]
[]
[]
[]
[]
[]
[]
[]
[]
[]
[]
[]
[]
[]
[]
[]
[]
[]
[]
[]
[]
[]
[]
[]
[]
[]
[]
[]
[]
[]
[]
[]
[]
[]
[]
[]
[]
[]
[]
[]
[]
[]
[]
[]
[]
[]
[]
[]
[]
[]
[]
[]
[]
[]
[]
[]
[]
[]
[]
[]
[]
[]
[]
[]
[]
[]
[]
[]
[]
[]
[]
[]
[]
[]
[]
[]
[]
[]
[]
[]
[]
[]
[]
[]
[]
[]
[]
[]
[]
[]
[]
[]
[]
[]
[]
[]
[]
[]
[]
[]
[]
[]
[]
[]
[]
[]
[]
[]
[]
[]
[]
[]
[]
[]
[]
[]
[]
[]
[]
[]
[]
[]
[]
[]
[]
[]
[]
[]
[]
[]
[]
[]
[]
[]
[]
[]
[]
[]
[]
[]
[]
[]
[]
[]
[]
[]
[]
[]
[]
[]
[]
[]
[]
[]
[]
[]
[]
[]
[]
[]
[]
[]
[]
[]
[]
[]
[]
[]
[]
[]
[]
[]
[]
[]
[]
[]
[]
[]
[]
[]
[]
[]
[]
[]
[]
[]
[]
[]
[]
[]
[]
[]
[]
[]
[]
[]
[]
[]
[]
[]
[]
[]
[]
[]
[]
[]
[]
[]
[]
[]
[]
[]
[]
[]
[]
[]
[]
[]
[]
[]
[]
[]
[]
[]
[]
[]
[]
[]
[]
[]
[]
[]
[]
[]
[]
[]
[]
[]
[]
[]
[]
[]
[]
[]
[]
[]
[]
[]
[]
[]
[]
[]
[]
[]
[]
[]
[]
[]
[]
[]
[]
[]
[]
[]
[]
[]
[]
[]
[]
[]
[]
[]
[]
[]
[]
[]
[]
[]
[]
[]
[]
[]
[]
[]
[]
[]
[]
[]
[]
[]
[]
[]
[]
[]
[]
[]
[]
[]
[]
[]
[]
[]
[]
[]
[]
[]
[]
[]
[]
[]
[]
[]
[]
[]
[]
[]
[]
[]
[]
[]
[]
[]
[]
[]
[]
[]
[]
[]
[]
[]
[]
[]
[]
[]
[]
[]
[]
[]
[]
[]
[]
[]
[]
[]
[]
[]
[]
[]
[]
[]
[]
[]
[]
[]
[]
[]
[]
[]
[]
[]
[]
[]
[]
[]
[]
[]
[]
[]
[]
[]
[]
[]
[]
[]
[]
[]
[]
[]
[]
[]
[]
[]
[]
[]
[]
[]
[]
[]
[]
[]
[]
[]
[]
[]
[]
[]
[]
[]
[]
[]
[]
[]
[]
[]
[]
[]
[]
[]
[]
[]
[]
[]
[]
[]
[]
[]
[]
[]
[]
[]
[]
[]
[]
[]
[]
[]
[]
[]
[]
[]
[]
[]
[]
[]
[]
[]
[]
[]
[]
[]
[]
[]
[]
[]
[]
[]
[]
[]
[]
[]
[]
[]
[]
[]
[]
[]
[]
[]
[]
[]
[]
[]
[]
[]
[]
[]
[]
[]
[]
[]
[]
[]
[]
[]
[]
[]
[]
[]
[]
[]
[]
[]
[]
[]
[]
[]
[]
[]
[]
[]
[]
[]
[]
[]
[]
[]
[]
[]
[]
[]
[]
[]
[]
[]
[]
[]
[]
[]
[]
[]
[]
[]
[]
[]
[]
[]
[]
[]
[]
[]
[]
[]
[]
[]
[]
[]
[]
[]
[]
[]
[]
[]
[]
[]
[]
[]
[]
[]
[]
[]
[]
[]
[]
[]
[]
[]
[]
[]
[]
[]
[]
[]
[]
[]
[]
[]
[]
[]
[]
[]
[]
[]
[]
[]
[]
[]
[]
[]
[]
[]
[]
[]
[]
[]
[]
[]
[]
[]
[]
[]
[]
[]
[]
[]
[]
[]
[]
[]
[]
[]
[]
[]
[]
[]
[]
[]
[]
[]
[]
[]
[]
[]
[]
[]
[]
[]
[]
[]
[]
[]
[]
[]
[]
[]
[]
[]
[]
[]
[]
[]
[]
[]
[]
[]
[]
[]
[]
[]
[]
[]
[]
[]
[]
[]
[]
[]
[]
[]
[]
[]
[]
[]
[]
[]
[]
[]
[]
[]
[]
[]
[]
[]
[]
[]
[]
[]
[]
[]
[]
[]
[]
[]
[]
[]
[]
[]
[]
[]
[]
[]
[]
[]
[]
[]
[]
[]
[]
[]
[]
[]
[]
[]
[]
[]
[]
[]
[]
[]
[]
[]
[]
[]
[]
[]
[]
[]
[]
[]
[]
[]
[]
[]
[]
[]
[]
[]
[]
[]
[]
[]
[]
[]
[]
[]
[]
[]
[]
[]
[]
[]
[]
[]
[]
[]
[]
[]
[]
[]
[]
[]
[]
[]
[]
[]
[]
[]
[]
[]
[]
[]
[]
[]
[]
[]
[]
[]
[]
[]
[]
[]
[]
[]
[]
[]
[]
[]
[]
[]
[]
[]
[]
[]
[]
[]
[]
[]
[]
[]
[]
[]
[]
[]
[]
[]
[]
[]
[]
[]
[]
[]
[]
[]
[]
[]
[]
[]
[]
[]
[]
[]
[]
[]
[]
[]
[]
[]
[]
[]
[]
[]
[]
[]
[]
[]
[]
[]
[]
[]
[]
[]
[]
[]
[]
[]
[]
[]
[]
[]
[]
[]
[]
[]
[]
[]
[]
[]
[]
[]
[]
[]
[]
[]
[]
[]
[]
[]
[]
[]
[]
[]
[]
[]
[]
[]
[]
[]
[]
[]
[]
[]
[]
[]
[]
[]
[]
[]
[]
[]
[]
[]
[]
[]
[]
[]
[]
[]
[]
[]
[]
[]
[]
[]
[]
[]
[]
[]
[]
[]
[]
[]
[]
[]
[]
[]
[]
[]
[]
[]
[]
[]
[]
[]
[]
[]
[]
[]
[]
[]
[]
[]
[]
[]
[]
[]
[]
[]
[]
[]
[]
[]
[]
[]
[]
[]
[]
[]
[]
[]
[]
[]
[]
[]
[]
[]
[]
[]
[]
[]
[]
[]
[]
[]
[]
[]
[]
[]
[]
[]
[]
[]
[]
[]
[]
[]
[]
[]
[]
[]
[]
[]
[]
[]
[]
[]
[]
[]
[]
[]
[]
[]
[]
[]
[]
[]
[]
[]
[]
[]
[]
[]
[]
[]
[]
[]
[]
[]
[]
[]
[]
[]
[]
[]
[]
[]
[]
[]
[]
[]
[]
[]
[]
[]
[]
[]
[]
[]
[]
[]
[]
[]
[]
[]
[]
[]
[]
[]
[]
[]
[]
[]
[]
[]
[]
[]
[]
[]
[]
[]
[]
[]
[]
[]
[]
[]
[]
[]
[]
[]
[]
[]
[]
[]
[]
[]
[]
[]
[]
[]
[]
[]
[]
[]
[]
[]
[]
[]
[]
[]
[]
[]
[]
[]
[]
[]
[]
[]
[]
[]
[]
[]
[]
[]
[]
[]
[]
[]
[]
[]
[]
[]
[]
[]
[]
[]
[]
[]
[]
[]
[]
[]
[]
[]
[]
[]
[]
[]
[]
[]
[]
[]
[]
[]
[]
[]
[]
[]
[]
[]
[]
[]
[]
[]
[]
[]
[]
[]
[]
[]
[]
[]
[]
[]
[]
[]
[]
[]
[]
[]
[]
[]
[]
[]
[]
[]
[]
[]
[]
[]
[]
[]
[]
[]
[]
[]
[]
[]
[]
[]
[]
[]
[]
[]
[]
[]
[]
[]
[]
[]
[]
[]
[]
[]
[]
[]
[]
[]
[]
[]
[]
[]
[]
[]
[]
[]
[]
[]
[]
[]
[]
[]
[]
[]
[]
[]
[]
[]
[]
[]
[]
[]
[]
[]
[]
[]
[]
[]
[]
[]
[]
[]
[]
[]
[]
[]
[]
[]
[]
[]
[]
[]
[]
[]
[]
[]
[]
[]
[]
[]
[]
[]
[]
[]
[]
[]
[]
[]
[]
[]
[]
[]
[]
[]
[]
[]
[]
[]
[]
[]
[]
[]
[]
[]
[]
[]
[]
[]
[]
[]
[]
[]
[]
[]
[]
[]
[]
[]
[]
[]
[]
[]
[]
[]
[]
[]
[]
[]
[]
[]
[]
[]
[]
[]
[]
[]
[]
[]
[]
[]
[]
[]
[]
[]
[]
[]
[]
[]
[]
[]
[]
[]
[]
[]
[]
[]
[]
[]
[]
[]
[]
[]
[]
[]
[]
[]
[]
[]
[]
[]
[]
[]
[]
[]
[]
[]
[]
[]
[]
[]
[]
[]
[]
[]
[]
[]
[]
[]
[]
[]
[]
[]
[]
[]
[]
[]
[]
[]
[]
[]
[]
[]
[]
[]
[]
[]
[]
[]
[]
[]
[]
[]
[]
[]
[]
[]
[]
[]
[]
[]
[]
[]
[]
[]
[]
[]
[]
[]
[]
[]
[]
[]
[]
[]
[]
[]
[]
[]
[]
[]
[]
[]
[]
[]
[]
[]
[]
[]
[]
[]
[]
[]
[]
[]
[]
[]
[]
[]
[]
[]
[]
[]
[]
[]
[]
[]
[]
[]
[]
[]
[]
[]
[]
[]
[]
[]
[]
[]
[]
[]
[]
[]
[]
[]
[]
[]
[]
[]
[]
[]
[]
[]
[]
[]
[]
[]
[]
[]
[]
[]
[]
[]
[]
[]
[]
[]
[]
[]
[]
[]
[]
[]
[]
[]
[]
[]
[]
[]
[]
[]
[]
[]
[]
[]
[]
[]
[]
[]
[]
[]
[]
[]
[]
[]
[]
[]
[]
[]
[]
[]
[]
[]
[]
[]
[]
[]
[]
[]
[]
[]
[]
[]
[]
[]
[]
[]
[]
[]
[]
[]
[]
[]
[]
[]
[]
[]
[]
[]
[]
[]
[]
[]
[]
[]
[]
[]
[]
[]
[]
[]
[]
[]
[]
[]
[]
[]
[]
[]
[]
[]
[]
[]
[]
[]
[]
[]
[]
[]
[]
[]
[]
[]
[]
[]
[]
[]
[]
[]
[]
[]
[]
[]
[]
[]
[]
[]
[]
[]
[]
[]
[]
[]
[]
[]
[]
[]
[]
[]
[]
[]
[]
[]
[]
[]
[]
[]
[]
[]
[]
[]
[]
[]
[]
[]
[]
[]
[]
[]
[]
[]
[]
[]
[]
[]
[]
[]
[]
[]
[]
[]
[]
[]
[]
[]
[]
[]
[]
[]
[]
[]
[]
[]
[]
[]
[]
[]
[]
[]
[]
[]
[]
[]
[]
[]
[]
[]
[]
[]
[]
[]
[]
[]
[]
[]
[]
[]
[]
[]
[]
[]
[]
[]
[]
[]
[]
[]
[]
[]
[]
[]
[]
[]
[]
[]
[]
[]
[]
[]
[]
[]
[]
[]
[]
[]
[]
[]
[]
[]
[]
[]
[]
[]
[]
[]
[]
[]
[]
[]
[]
[]
[]
[]
[]
[]
[]
[]
[]
[]
[]
[]
[]
[]
[]
[]
[]
[]
[]
[]
[]
[]
[]
[]
[]
[]
[]
[]
[]
[]
[]
[]
[]
[]
[]
[]
[]
[]
[]
[]
[]
[]
[]
[]
[]
[]
[]
[]
[]
[]
[]
[]
[]
[]
[]
[]
[]
[]
[]
[]
[]
[]
[]
[]
[]
[]
[]
[]
[]
[]
[]
[]
[]
[]
[]
[]
[]
[]
[]
[]
[]
[]
[]
[]
[]
[]
[]
[]
[]
[]
[]
[]
[]
[]
[]
[]
[]
[]
[]
[]
[]
[]
[]
[]
[]
[]
[]
[]
[]
[]
[]
[]
[]
[]
[]
[]
[]
[]
[]
[]
[]
[]
[]
[]
[]
[]
[]
[]
[]
[]
[]
[]
[]
[]
[]
[]
[]
[]
[]
[]
[]
[]
[]
[]
[]
[]
[]
[]
[]
[]
[]
[]
[]
[]
[]
[]
[]
[]
[]
[]
[]
[]
[]
[]
[]
[]
[]
[]
[]
[]
[]
[]
[]
[]
[]
[]
[]
[]
[]
[]
[]
[]
[]
[]
[]
[]
[]
[]
[]
[]
[]
[]
[]
[]
[]
[]
[]
[]
[]
[]
[]
[]
[]
[]
[]
[]
[]
[]
[]
[]
[]
[]
[]
[]
[]
[]
[]
[]
[]
[]
[]
[]
[]
[]
[]
[]
[]
[]
[]
[]
[]
[]
[]
[]
[]
[]
[]
[]
[]
[]
[]
[]
[]
[]
[]
[]
[]
[]
[]
[]
[]
[]
[]
[]
[]
[]
[]
[]
[]
[]
[]
[]
[]
[]
[]
[]
[]
[]
[]
[]
[]
[]
[]
[]
[]
[]
[]
[]
[]
[]
[]
[]
[]
[]
[]
[]
[]
[]
[]
[]
[]
[]
[]
[]
[]
[]
[]
[]
[]
[]
[]
[]
[]
[]
[]
[]
[]
[]
[]
[]
[]
[]
[]
[]
[]
[]
[]
[]
[]
[]
[]
[]
[]
[]
[]
[]
[]
[]
[]
[]
[]
[]
[]
[]
[]
[]
[]
[]
[]
[]
[]
[]
[]
[]
[]
[]
[]
[]
[]
[]
[]
[]
[]
[]
[]
[]
[]
[]
[]
[]
[]
[]
[]
[]
[]
[]
[]
[]
[]
[]
[]
[]
[]
[]
[]
[]
[]
[]
[]
[]
[]
[]
[]
[]
[]
[]
[]
[]
[]
[]
[]
[]
[]
[]
[]
[]
[]
[]
[]
[]
[]
[]
[]
[]
[]
[]
[]
[]
[]
[]
[]
[]
[]
[]
[]
[]
[]
[]
[]
[]
[]
[]
[]
[]
[]
[]
[]
[]
[]
[]
[]
[]
[]
[]
[]
[]
[]
[]
[]
[]
[]
[]
[]
[]
[]
[]
[]
[]
[]
[]
[]
[]
[]
[]
[]
[]
[]
[]
[]
[]
[]
[]
[]
[]
[]
[]
[]
[]
[]
[]
[]
[]
[]
[]
[]
[]
[]
[]
[]
[]
[]
[]
[]
[]
[]
[]
[]
[]
[]
[]
[]
[]
[]
[]
[]
[]
[]
[]
[]
[]
[]
[]
[]
[]
[]
[]
[]
[]
[]
[]
[]
[]
[]
[]
[]
[]
[]
[]
[]
[]
[]
[]
[]
[]
[]
[]
[]
[]
[]
[]
[]
[]
[]
[]
[]
[]
[]
[]
[]
[]
[]
[]
[]
[]
[]
[]
[]
[]
[]
[]
[]
[]
[]
[]
[]
[]
[]
[]
[]
[]
[]
[]
[]
[]
[]
[]
[]
[]
[]
[]
[]
[]
[]
[]
[]
[]
[]
[]
[]
[]
[]
[]
[]
[]
[]
[]
[]
[]
[]
[]
[]
[]
[]
[]
[]
[]
[]
[]
[]
[]
[]
[]
[]
[]
[]
[]
[]
[]
[]
[]
[]
[]
[]
[]
[]
[]
[]
[]
[]
[]
[]
[]
[]
[]
[]
[]
[]
[]
[]
[]
[]
[]
[]
[]
[]
[]
[]
[]
[]
[]
[]
[]
[]
[]
[]
[]
[]
[]
[]
[]
[]
[]
[]
[]
[]
[]
[]
[]
[]
[]
[]
[]
[]
[]
[]
[]
[]
[]
[]
[]
[]
[]
[]
[]
[]
[]
[]
[]
[]
[]
[]
[]
[]
[]
[]
[]
[]
[]
[]
[]
[]
[]
[]
[]
[]
[]
[]
[]
[]
[]
[]
[]
[]
[]
[]
[]
[]
[]
[]
[]
[]
[]
[]
[]
[]
[]
[]
[]
[]
[]
[]
[]
[]
[]
[]
[]
[]
[]
[]
[]
[]
[]
[]
[]
[]
[]
[]
[]
[]
[]
[]
[]
[]
[]
[]
[]
[]
[]
[]
[]
[]
[]
[]
[]
[]
[]
[]
[]
[]
[]
[]
[]
[]
[]
[]
[]
[]
[]
[]
[]
[]
[]
[]
[]
[]
[]
[]
[]
[]
[]
[]
[]
[]
[]
[]
[]
[]
[]
[]
[]
[]
[]
[]
[]
[]
[]
[]
[]
[]
[]
[]
[]
[]
[]
[]
[]
[]
[]
[]
[]
[]
[]
[]
[]
[]
[]
[]
[]
[]
[]
[]
[]
[]
[]
[]
[]
[]
[]
[]
[]
[]
[]
[]
[]
[]
[]
[]
[]
[]
[]
[]
[]
[]
[]
[]
[]
[]
[]
[]
[]
[]
[]
[]
[]
[]
[]
[]
[]
[]
[]
[]
[]
[]
[]
[]
[]
[]
[]
[]
[]
[]
[]
[]
[]
[]
[]
[]
[]
[]
[]
[]
[]
[]
[]
[]
[]
[]
[]
[]
[]
[]
[]
[]
[]
[]
[]
[]
[]
[]
[]
[]
[]
[]
[]
[]
[]
[]
[]
[]
[]
[]
[]
[]
[]
[]
[]
[]
[]
[]
[]
[]
[]
[]
[]
[]
[]
[]
[]
[]
[]
[]
[]
[]
[]
[]
[]
[]
[]
[]
[]
[]
[]
[]
[]
[]
[]
[]
[]
[]
[]
[]
[]
[]
[]
[]
[]
[]
[]
[]
[]
[]
[]
[]
[]
[]
[]
[]
[]
[]
[]
[]
[]
[]
[]
[]
[]
[]
[]
[]
[]
[]
[]
[]
[]
[]
[]
[]
[]
[]
[]
[]
[]
[]
[]
[]
[]
[]
[]
[]
[]
[]
[]
[]
[]
[]
[]
[]
[]
[]
[]
[]
[]
[]
[]
[]
[]
[]
[]
[]
[]
[]
[]
[]
[]
[]
[]
[]
[]
[]
[]
[]
[]
[]
[]
[]
[]
[]
[]
[]
[]
[]
[]
[]
[]
[]
[]
[]
[]
[]
[]
[]
[]
[]
[]
[]
[]
[]
[]
[]
[]
[]
[]
[]
[]
[]
[]
[]
[]
[]
[]
[]
[]
[]
[]
[]
[]
[]
[]
[]
[]
[]
[]
[]
[]
[]
[]
[]
[]
[]
[]
[]
[]
[]
[]
[]
[]
[]
[]
[]
[]
[]
[]
[]
[]
[]
[]
[]
[]
[]
[]
[]
[]
[]
[]
[]
[]
[]
[]
[]
[]
[]
[]
[]
[]
[]
[]
[]
[]
[]
[]
[]
[]
[]
[]
[]
[]
[]
[]
[]
[]
[]
[]
[]
[]
[]
[]
[]
[]
[]
[]
[]
[]
[]
[]
[]
[]
[]
[]
[]
[]
[]
[]
[]
[]
[]
[]
[]
[]
[]
[]
[]
[]
[]
[]
[]
[]
[]
[]
[]
[]
[]
[]
[]
[]
[]
[]
[]
[]
[]
[]
[]
[]
[]
[]
[]
[]
[]
[]
[]
[]
[]
[]
[]
[]
[]
[]
[]
[]
[]
[]
[]
[]
[]
[]
[]
[]
[]
[]
[]
[]
[]
[]
[]
[]
[]
[]
[]
[]
[]
[]
[]
[]
[]
[]
[]
[]
[]
[]
[]
[]
[]
[]
[]
[]
[]
[]
[]
[]
[]
[]
[]
[]
[]
[]
[]
[]
[]
[]
[]
[]
[]
[]
[]
[]
[]
[]
[]
[]
[]
[]
[]
[]
[]
[]
[]
[]
[]
[]
[]
[]
[]
[]
[]
[]
[]
[]
[]
[]
[]
[]
[]
[]
[]
[]
[]
[]
[]
[]
[]
[]
[]
[]
[]
[]
[]
[]
[]
[]
[]
[]
[]
[]
[]
[]
[]
[]
[]
[]
[]
[]
[]
[]
[]
[]
[]
[]
[]
[]
[]
[]
[]
[]
[]
[]
[]
[]
[]
[]
[]
[]
[]
[]
[]
[]
[]
[]
[]
[]
[]
[]
[]
[]
[]
[]
[]
[]
[]
[]
[]
[]
[]
[]
[]
[]
[]
[]
[]
[]
[]
[]
[]
[]
[]
[]
[]
[]
[]
[]
[]
[]
[]
[]
[]
[]
[]
[]
[]
[]
[]
[]
[]
[]
[]
[]
[]
[]
[]
[]
[]
[]
[]
[]
[]
[]
[]
[]
[]
[]
[]
[]
[]
[]
[]
[]
[]
[]
[]
[]
[]
[]
[]
[]
[]
[]
[]
[]
[]
[]
[]
[]
[]
[]
[]
[]
[]
[]
[]
[]
[]
[]
[]
[]
[]
[]
[]
[]
[]
[]
[]
[]
[]
[]
[]
[]
[]
[]
[]
[]
[]
[]
[]
[]
[]
[]
[]
[]
[]
[]
[]
[]
[]
[]
[]
[]
[]
[]
[]
[]
[]
[]
[]
[]
[]
[]
[]
[]
[]
[]
[]
[]
[]
[]
[]
[]
[]
[]
[]
[]
[]
[]
[]
[]
[]
[]
[]
[]
[]
[]
[]
[]
[]
[]
[]
[]
[]
[]
[]
[]
[]
[]
[]
[]
[]
[]
[]
[]
[]
[]
[]
[]
[]
[]
[]
[]
[]
[]
[]
[]
[]
[]
[]
[]
[]
[]
[]
[]
[]
[]
[]
[]
[]
[]
[]
[]
[]
[]
[]
[]
[]
[]
[]
[]
[]
[]
[]
[]
[]
[]
[]
[]
[]
[]
[]
[]
[]
[]
[]
[]
[]
[]
[]
[]
[]
[]
[]
[]
[]
[]
[]
[]
[]
[]
[]
[]
[]
[]
[]
[]
[]
[]
[]
[]
[]
[]
[]
[]
[]
[]
[]
[]
[]
[]
[]
[]
[]
[]
[]
[]
[]
[]
[]
[]
[]
[]
[]
[]
[]
[]
[]
[]
[]
[]
[]
[]
[]
[]
[]
[]
[]
[]
[]
[]
[]
[]
[]
[]
[]
[]
[]
[]
[]
[]
[]
[]
[]
[]
[]
[]
[]
[]
[]
[]
[]
[]
[]
[]
[]
[]
[]
[]
[]
[]
[]
[]
[]
[]
[]
[]
[]
[]
[]
[]
[]
[]
[]
[]
[]
[]
[]
[]
[]
[]
[]
[]
[]
[]
[]
[]
[]
[]
[]
[]
[]
[]
[]
[]
[]
[]
[]
[]
[]
[]
[]
[]
[]
[]
[]
[]
[]
[]
[]
[]
[]
[]
[]
[]
[]
[]
[]
[]
[]
[]
[]
[]
[]
[]
[]
[]
[]
[]
[]
[]
[]
[]
[]
[]
[]
[]
[]
[]
[]
[]
[]
[]
[]
[]
[]
[]
[]
[]
[]
[]
[]
[]
[]
[]
[]
[]
[]
[]
[]
[]
[]
[]
[]
[]
[]
[]
[]
[]
[]
[]
[]
[]
[]
[]
[]
[]
[]
[]
[]
[]
[]
[]
[]
[]
[]
[]
[]
[]
[]
[]
[]
[]
[]
[]
[]
[]
[]
[]
[]
[]
[]
[]
[]
[]
[]
[]
[]
[]
[]
[]
[]
[]
[]
[]
[]
[]
[]
[]
[]
[]
[]
[]
[]
[]
[]
[]
[]
[]
[]
[]
[]
[]
[]
[]
[]
[]
[]
[]
[]
[]
[]
[]
[]
[]
[]
[]
[]
[]
[]
[]
[]
[]
[]
[]
[]
[]
[]
[]
[]
[]
[]
[]
[]
[]
[]
[]
[]
[]
[]
[]
[]
[]
[]
[]
[]
[]
[]
[]
[]
[]
[]
[]
[]
[]
[]
[]
[]
[]
[]
[]
[]
[]
[]
[]
[]
[]
[]
[]
[]
[]
[]
[]
[]
[]
[]
[]
[]
[]
[]
[]
[]
[]
[]
[]
[]
[]
[]
[]
[]
[]
[]
[]
[]
[]
[]
[]
[]
[]
[]
[]
[]
[]
[]
[]
[]
[]
[]
[]
[]
[]
[]
[]
[]
[]
[]
[]
[]
[]
[]
[]
[]
[]
[]
[]
[]
[]
[]
[]
[]
[]
[]
[]
[]
[]
[]
[]
[]
[]
[]
[]
[]
[]
[]
[]
[]
[]
[]
[]
[]
[]
[]
[]
[]
[]
[]
[]
[]
[]
[]
[]
[]
[]
[]
[]
[]
[]
[]
[]
[]
[]
[]
[]
[]
[]
[]
[]
[]
[]
[]
[]
[]
[]
[]
[]
[]
[]
[]
[]
[]
[]
[]
[]
[]
[]
[]
[]
[]
[]
[]
[]
[]
[]
[]
[]
[]
[]
[]
[]
[]
[]
[]
[]
[]
[]
[]
[]
[]
[]
[]
[]
[]
[]
[]
[]
[]
[]
[]
[]
[]
[]
[]
[]
[]
[]
[]
[]
[]
[]
[]
[]
[]
[]
[]
[]
[]
[]
[]
[]
[]
[]
[]
[]
[]
[]
[]
[]
[]
[]
[]
[]
[]
[]
[]
[]
[]
[]
[]
[]
[]
[]
[]
[]
[]
[]
[]
[]
[]
[]
[]
[]
[]
[]
[]
[]
[]
[]
[]
[]
[]
[]
[]
[]
[]
[]
[]
[]
[]
[]
[]
[]
[]
[]
[]
[]
[]
[]
[]
[]
[]
[]
[]
[]
[]
[]
[]
[]
[]
[]
[]
[]
[]
[]
[]
[]
[]
[]
[]
[]
[]
[]
[]
[]
[]
[]
[]
[]
[]
[]
[]
[]
[]
[]
[]
[]
[]
[]
[]
[]
[]
[]
[]
[]
[]
[]
[]
[]
[]
[]
[]
[]
[]
[]
[]
[]
[]
[]
[]
[]
[]
[]
[]
[]
[]
[]
[]
[]
[]
[]
[]
[]
[]
[]
[]
[]
[]
[]
[]
[]
[]
[]
[]
[]
[]
[]
[]
[]
[]
[]
[]
[]
[]
[]
[]
[]
[]
[]
[]
[]
[]
[]
[]
[]
[]
[]
[]
[]
[]
[]
[]
[]
[]
[]
[]
[]
[]
[]
[]
[]
[]
[]
[]
[]
[]
[]
[]
[]
[]
[]
[]
[]
[]
[]
[]
[]
[]
[]
[]
[]
[]
[]
[]
[]
[]
[]
[]
[]
[]
[]
[]
[]
[]
[]
[]
[]
[]
[]
[]
[]
[]
[]
[]
[]
[]
[]
[]
[]
[]
[]
[]
[]
[]
[]
[]
[]
[]
[]
[]
[]
[]
[]
[]
[]
[]
[]
[]
[]
[]
[]
[]
[]
[]
[]
[]
[]
[]
[]
[]
[]
[]
[]
[]
[]
[]
[]
[]
[]
[]
[]
[]
[]
[]
[]
[]
[]
[]
[]
[]
[]
[]
[]
[]
[]
[]
[]
[]
[]
[]
[]
[]
[]
[]
[]
[]
[]
[]
[]
[]
[]
[]
[]
[]
[]
[]
[]
[]
[]
[]
[]
[]
[]
[]
[]
[]
[]
[]
[]
[]
[]
[]
[]
[]
[]
[]
[]
[]
[]
[]
[]
[]
[]
[]
[]
[]
[]
[]
[]
[]
[]
[]
[]
[]
[]
[]
[]
[]
[]
[]
[]
[]
[]
[]
[]
[]
[]
[]
[]
[]
[]
[]
[]
[]
[]
[]
[]
[]
[]
[]
[]
[]
[]
[]
[]
[]
[]
[]
[]
[]
[]
[]
[]
[]
[]
[]
[]
[]
[]
[]
[]
[]
[]
[]
[]
[]
[]
[]
[]
[]
[]
[]
[]
[]
[]
[]
[]
[]
[]
[]
[]
[]
[]
[]
[]
[]
[]
[]
[]
[]
[]
[]
[]
[]
[]
[]
[]
[]
[]
[]
[]
[]
[]
[]
[]
[]
[]
[]
[]
[]
[]
[]
[]
[]
[]
[]
[]
[]
[]
[]
[]
[]
[]
[]
[]
[]
[]
[]
[]
[]
[]
[]
[]
[]
[]
[]
[]
[]
[]
[]
[]
[]
[]
[]
[]
[]
[]
[]
[]
[]
[]
[]
[]
[]
[]
[]
[]
[]
[]
[]
[]
[]
[]
[]
[]
[]
[]
[]
[]
[]
[]
[]
[]
[]
[]
[]
[]
[]
[]
[]
[]
[]
[]
[]
[]
[]
[]
[]
[]
[]
[]
[]
[]
[]
[]
[]
[]
[]
[]
[]
[]
[]
[]
[]
[]
[]
[]
[]
[]
[]
[]
[]
[]
[]
[]
[]
[]
[]
[]
[]
[]
[]
[]
[]
[]
[]
[]
[]
[]
[]
[]
[]
[]
[]
[]
[]
[]
[]
[]
[]
[]
[]
[]
[]
[]
[]
[]
[]
[]
[]
[]
[]
[]
[]
[]
[]
[]
[]
[]
[]
[]
[]
[]
[]
[]
[]
[]
[]
[]
[]
[]
[]
[]
[]
[]
[]
[]
[]
[]
[]
[]
[]
[]
[]
[]
[]
[]
[]
[]
[]
[]
[]
[]
[]
[]
[]
[]
[]
[]
[]
[]
[]
[]
[]
[]
[]
[]
[]
[]
[]
[]
[]
[]
[]
[]
[]
[]
[]
[]
[]
[]
[]
[]
[]
[]
[]
[]
[]
[]
[]
[]
[]
[]
[]
[]
[]
[]
[]
[]
[]
[]
[]
[]
[]
[]
[]
[]
[]
[]
[]
[]
[]
[]
[]
[]
[]
[]
[]
[]
[]
[]
[]
[]
[]
[]
[]
[]
[]
[]
[]
[]
[]
[]
[]
[]
[]
[]
[]
[]
[]
[]
[]
[]
[]
[]
[]
[]
[]
[]
[]
[]
[]
[]
[]
[]
[]
[]
[]
[]
[]
[]
[]
[]
[]
[]
[]
[]
[]
[]
[]
[]
[]
[]
[]
[]
[]
[]
[]
[]
[]
[]
[]
[]
[]
[]
[]
[]
[]
[]
[]
[]
[]
[]
[]
[]
[]
[]
[]
[]
[]
[]
[]
[]
[]
[]
[]
[]
[]
[]
[]
[]
[]
[]
[]
[]
[]
[]
[]
[]
[]
[]
[]
[]
[]
[]
[]
[]
[]
[]
[]
[]
[]
[]
[]
[]
[]
[]
[]
[]
[]
[]
[]
[]
[]
[]
[]
[]
[]
[]
[]
[]
[]
[]
[]
[]
[]
[]
[]
[]
[]
[]
[]
[]
[]
[]
[]
[]
[]
[]
[]
[]
[]
[]
[]
[]
[]
[]
[]
[]
[]
[]
[]
[]
[]
[]
[]
[]
[]
[]
[]
[]
[]
[]
[]
[]
[]
[]
[]
[]
[]
[]
[]
[]
[]
[]
[]
[]
[]
[]
[]
[]
[]
[]
[]
[]
[]
[]
[]
[]
[]
[]
[]
[]
[]
[]
[]
[]
[]
[]
[]
[]
[]
[]
[]
[]
[]
[]
[]
[]
[]
[]
[]
[]
[]
[]
[]
[]
[]
[]
[]
[]
[]
[]
[]
[]
[]
[]
[]
[]
[]
[]
[]
[]
[]
[]
[]
[]
[]
[]
[]
[]
[]
[]
[]
[]
[]
[]
[]
[]
[]
[]
[]
[]
[]
[]
[]
[]
[]
[]
[]
[]
[]
[]
[]
[]
[]
[]
[]
[]
[]
[]
[]
[]
[]
[]
[]
[]
[]
[]
[]
[]
[]
[]
[]
[]
[]
[]
[]
[]
[]
[]
[]
[]
[]
[]
[]
[]
[]
[]
[]
[]
[]
[]
[]
[]
[]
[]
[]
[]
[]
[]
[]
[]
[]
[]
[]
[]
[]
[]
[]
[]
[]
[]
[]
[]
[]
[]
[]
[]
[]
[]
[]
[]
[]
[]
[]
[]
[]
[]
[]
[]
[]
[]
[]
[]
[]
[]
[]
[]
[]
[]
[]
[]
[]
[]
[]
[]
[]
[]
[]
[]
[]
[]
[]
[]
[]
[]
[]
[]
[]
[]
[]
[]
[]
[]
[]
[]
[]
[]
[]
[]
[]
[]
[]
[]
[]
[]
[]
[]
[]
[]
[]
[]
[]
[]
[]
[]
[]
[]
[]
[]
[]
[]
[]
[]
[]
[]
[]
[]
[]
[]
[]
[]
[]
[]
[]
[]
[]
[]
[]
[]
[]
[]
[]
[]
[]
[]
[]
[]
[]
[]
[]
[]
[]
[]
[]
[]
[]
[]
[]
[]
[]
[]
[]
[]
[]
[]
[]
[]
[]
[]
[]
[]
[]
[]
[]
[]
[]
[]
[]
[]
[]
[]
[]
[]
[]
[]
[]
[]
[]
[]
[]
[]
[]
[]
[]
[]
[]
[]
[]
[]
[]
[]
[]
[]
[]
[]
[]
[]
[]
[]
[]
[]
[]
[]
[]
[]
[]
[]
[]
[]
[]
[]
[]
[]
[]
[]
[]
[]
[]
[]
[]
[]
[]
[]
[]
[]
[]
[]
[]
[]
[]
[]
[]
[]
[]
[]
[]
[]
[]
[]
[]
[]
[]
[]
[]
[]
[]
[]
[]
[]
[]
[]
[]
[]
[]
[]
[]
[]
[]
[]
[]
[]
[]
[]
[]
[]
[]
[]
[]
[]
[]
[]
[]
[]
[]
[]
[]
[]
[]
[]
[]
[]
[]
[]
[]
[]
[]
[]
[]
[]
[]
[]
[]
[]
[]
[]
[]
[]
[]
[]
[]
[]
[]
[]
[]
[]
[]
[]
[]
[]
[]
[]
[]
[]
[]
[]
[]
[]
[]
[]
[]
[]
[]
[]
[]
[]
[]
[]
[]
[]
[]
[]
[]
[]
[]
[]
[]
[]
[]
[]
[]
[]
[]
[]
[]
[]
[]
[]
[]
[]
[]
[]
[]
[]
[]
[]
[]
[]
[]
[]
[]
[]
[]
[]
[]
[]
[]
[]
[]
[]
[]
[]
[]
[]
[]
[]
[]
[]
[]
[]
[]
[]
[]
[]
[]
[]
[]
[]
[]
[]
[]
[]
[]
[]
[]
[]
[]
[]
[]
[]
[]
[]
[]
[]
[]
[]
[]
[]
[]
[]
[]
[]
[]
[]
[]
[]
[]
[]
[]
[]
[]
[]
[]
[]
[]
[]
[]
[]
[]
[]
[]
[]
[]
[]
[]
[]
[]
[]
[]
[]
[]
[]
[]
[]
[]
[]
[]
[]
[]
[]
[]
[]
[]
[]
[]
[]
[]
[]
[]
[]
[]
[]
[]
[]
[]
[]
[]
[]
[]
[]
[]
[]
[]
[]
[]
[]
[]
[]
[]
[]
[]
[]
[]
[]
[]
[]
[]
[]
[]
[]
[]
[]
[]
[]
[]
[]
[]
[]
[]
[]
[]
[]
[]
[]
[]
[]
[]
[]
[]
[]
[]
[]
[]
[]
[]
[]
[]
[]
[]
[]
[]
[]
[]
[]
[]
[]
[]
[]
[]
[]
[]
[]
[]
[]
[]
[]
[]
[]
[]
[]
[]
[]
[]
[]
[]
[]
[]
[]
[]
[]
[]
[]
[]
[]
[]
[]
[]
[]
[]
[]
[]
[]
[]
[]
[]
[]
[]
[]
[]
[]
[]
[]
[]
[]
[]
[]
[]
[]
[]
[]
[]
[]
[]
[]
[]
[]
[]
[]
[]
[]
[]
[]
[]
[]
[]
[]
[]
[]
[]
[]
[]
[]
[]
[]
[]
[]
[]
[]
[]
[]
[]
[]
[]
[]
[]
[]
[]
[]
[]
[]
[]
[]
[]
[]
[]
[]
[]
[]
[]
[]
[]
[]
[]
[]
[]
[]
[]
[]
[]
[]
[]
[]
[]
[]
[]
[]
[]
[]
[]
[]
[]
[]
[]
[]
[]
[]
[]
[]
[]
[]
[]
[]
[]
[]
[]
[]
[]
[]
[]
[]
[]
[]
[]
[]
[]
[]
[]
[]
[]
[]
[]
[]
[]
[]
[]
[]
[]
[]
[]
[]
[]
[]
[]
[]
[]
[]
[]
[]
[]
[]
[]
[]
[]
[]
[]
[]
[]
[]
[]
[]
[]
[]
[]
[]
[]
[]
[]
[]
[]
[]
[]
[]
[]
[]
[]
[]
[]
[]
[]
[]
[]
[]
[]
[]
[]
[]
[]
[]
[]
[]
[]
[]
[]
[]
[]
[]
[]
[]
[]
[]
[]
[]
[]
[]
[]
[]
[]
[]
[]
[]
[]
[]
[]
[]
[]
[]
[]
[]
[]
[]
[]
[]
[]
[]
[]
[]
[]
[]
[]
[]
[]
[]
[]
[]
[]
[]
[]
[]
[]
[]
[]
[]
[]
[]
[]
[]
[]
[]
[]
[]
[]
[]
[]
[]
[]
[]
[]
[]
[]
[]
[]
[]
[]
[]
[]
[]
[]
[]
[]
[]
[]
[]
[]
[]
[]
[]
[]
[]
[]
[]
[]
[]
[]
[]
[]
[]
[]
[]
[]
[]
[]
[]
[]
[]
[]
[]
[]
[]
[]
[]
[]
[]
[]
[]
[]
[]
[]
[]
[]
[]
[]
[]
[]
[]
[]
[]
[]
[]
[]
[]
[]
[]
[]
[]
[]
[]
[]
[]
[]
[]
[]
[]
[]
[]
[]
[]
[]
[]
[]
[]
[]
[]
[]
[]
[]
[]
[]
[]
[]
[]
[]
[]
[]
[]
[]
[]
[]
[]
[]
[]
[]
[]
[]
[]
[]
[]
[]
[]
[]
[]
[]
[]
[]
[]
[]
[]
[]
[]
[]
[]
[]
[]
[]
[]
[]
[]
[]
[]
[]
[]
[]
[]
[]
[]
[]
[]
[]
[]
[]
[]
[]
[]
[]
[]
[]
[]
[]
[]
[]
[]
[]
[]
[]
[]
[]
[]
[]
[]
[]
[]
[]
[]
[]
[]
[]
[]
[]
[]
[]
[]
[]
[]
[]
[]
[]
[]
[]
[]
[]
[]
[]
[]
[]
[]
[]
[]
[]
[]
[]
[]
[]
[]
[]
[]
[]
[]
[]
[]
[]
[]
[]
[]
[]
[]
[]
[]
[]
[]
[]
[]
[]
[]
[]
[]
[]
[]
[]
[]
[]
[]
[]
[]
[]
[]
[]
[]
[]
[]
[]
[]
[]
[]
[]
[]
[]
[]
[]
[]
[]
[]
[]
[]
[]
[]
[]
[]
[]
[]
[]
[]
[]
[]
[]
[]
[]
[]
[]
[]
[]
[]
[]
[]
[]
[]
[]
[]
[]
[]
[]
[]
[]
[]
[]
[]
[]
[]
[]
[]
[]
[]
[]
[]
[]
[]
[]
[]
[]
[]
[]
[]
[]
[]
[]
[]
[]
[]
[]
[]
[]
[]
[]
[]
[]
[]
[]
[]
[]
[]
[]
[]
[]
[]
[]
[]
[]
[]
[]
[]
[]
[]
[]
[]
[]
[]
[]
[]
[]
[]
[]
[]
[]
[]
[]
[]
[]
[]
[]
[]
[]
[]
[]
[]
[]
[]
[]
[]
[]
[]
[]
[]
[]
[]
[]
[]
[]
[]
[]
[]
[]
[]
[]
[]
[]
[]
[]
[]
[]
[]
[]
[]
[]
[]
[]
[]
[]
[]
[]
[]
[]
[]
[]
[]
[]
[]
[]
[]
[]
[]
[]
[]
[]
[]
[]
[]
[]
[]
[]
[]
[]
[]
[]
[]
[]
[]
[]
[]
[]
[]
[]
[]
[]
[]
[]
[]
[]
[]
[]
[]
[]
[]
[]
[]
[]
[]
[]
[]
[]
[]
[]
[]
[]
[]
[]
[]
[]
[]
[]
[]
[]
[]
[]
[]
[]
[]
[]
[]
[]
[]
[]
[]
[]
[]
[]
[]
[]
[]
[]
[]
[]
[]
[]
[]
[]
[]
[]
[]
[]
[]
[]
[]
[]
[]
[]
[]
[]
[]
[]
[]
[]
[]
[]
[]
[]
[]
[]
[]
[]
[]
[]
[]
[]
[]
[]
[]
[]
[]
[]
[]
[]
[]
[]
[]
[]
[]
[]
[]
[]
[]
[]
[]
[]
[]
[]
[]
[]
[]
[]
[]
[]
[]
[]
[]
[]
[]
[]
[]
[]
[]
[]
[]
[]
[]
[]
[]
[]
[]
[]
[]
[]
[]
[]
[]
[]
[]
[]
[]
[]
[]
[]
[]
[]
[]
[]
[]
[]
[]
[]
[]
[]
[]
[]
[]
[]
[]
[]
[]
[]
[]
[]
[]
[]
[]
[]
[]
[]
[]
[]
[]
[]
[]
[]
[]
[]
[]
[]
[]
[]
[]
[]
[]
[]
[]
[]
[]
[]
[]
[]
[]
[]
[]
[]
[]
[]
[]
[]
[]
[]
[]
[]
[]
[]
[]
[]
[]
[]
[]
[]
[]
[]
[]
[]
[]
[]
[]
[]
[]
[]
[]
[]
[]
[]
[]
[]
[]
[]
[]
[]
[]
[]
[]
[]
[]
[]
[]
[]
[]
[]
[]
[]
[]
[]
[]
[]
[]
[]
[]
[]
[]
[]
[]
[]
[]
[]
[]
[]
[]
[]
[]
[]
[]
[]
[]
[]
[]
[]
[]
[]
[]
[]
[]
[]
[]
[]
[]
[]
[]
[]
[]
[]
[]
[]
[]
[]
[]
[]
[]
[]
[]
[]
[]
[]
[]
[]
[]
[]
[]
[]
[]
[]
[]
[]
[]
[]
[]
[]
[]
[]
[]
[]
[]
[]
[]
[]
[]
[]
[]
[]
[]
[]
[]
[]
[]
[]
[]
[]
[]
[]
[]
[]
[]
[]
[]
[]
[]
[]
[]
[]
[]
[]
[]
[]
[]
[]
[]
[]
[]
[]
[]
[]
[]
[]
[]
[]
[]
[]
[]
[]
[]
[]
[]
[]
[]
[]
[]
[]
[]
[]
[]
[]
[]
[]
[]
[]
[]
[]
[]
[]
[]
[]
[]
[]
[]
[]
[]
[]
[]
[]
[]
[]
[]
[]
[]
[]
[]
[]
[]
[]
[]
[]
[]
[]
[]
[]
[]
[]
[]
[]
[]
[]
[]
[]
[]
[]
[]
[]
[]
[]
[]
[]
[]
[]
[]
[]
[]
[]
[]
[]
[]
[]
[]
[]
[]
[]
[]
[]
[]
[]
[]
[]
[]
[]
[]
[]
[]
[]
[]
[]
[]
[]
[]
[]
[]
[]
[]
[]
[]
[]
[]
[]
[]
[]
[]
[]
[]
[]
[]
[]
[]
[]
[]
[]
[]
[]
[]
[]
[]
[]
[]
[]
[]
[]
[]
[]
[]
[]
[]
[]
[]
[]
[]
[]
[]
[]
[]
[]
[]
[]
[]
[]
[]
[]
[]
[]
[]
[]
[]
[]
[]
[]
[]
[]
[]
[]
[]
[]
[]
[]
[]
[]
[]
[]
[]
[]
[]
[]
[]
[]
[]
[]
[]
[]
[]
[]
[]
[]
[]
[]
[]
[]
[]
[]
[]
[]
[]
[]
[]
[]
[]
[]
[]
[]
[]
[]
[]
[]
[]
[]
[]
[]
[]
[]
[]
[]
[]
[]
[]
[]
[]
[]
[]
[]
[]
[]
[]
[]
[]
[]
[]
[]
[]
[]
[]
[]
[]
[]
[]
[]
[]
[]
[]
[]
[]
[]
[]
[]
[]
[]
[]
[]
[]
[]
[]
[]
[]
[]
[]
[]
[]
[]
[]
[]
[]
[]
[]
[]
[]
[]
[]
[]
[]
[]
[]
[]
[]
[]
[]
[]
[]
[]
[]
[]
[]
[]
[]
[]
[]
[]
[]
[]
[]
[]
[]
[]
[]
[]
[]
[]
[]
[]
[]
[]
[]
[]
[]
[]
[]
[]
[]
[]
[]
[]
[]
[]
[]
[]
[]
[]
[]
[]
[]
[]
[]
[]
[]
[]
[]
[]
[]
[]
[]
[]
[]
[]
[]
[]
[]
[]
[]
[]
[]
[]
[]
[]
[]
[]
[]
[]
[]
[]
[]
[]
[]
[]
[]
[]
[]
[]
[]
[]
[]
[]
[]
[]
[]
[]
[]
[]
[]
[]
[]
[]
[]
[]
[]
[]
[]
[]
[]
[]
[]
[]
[]
[]
[]
[]
[]
[]
[]
[]
[]
[]
[]
[]
[]
[]
[]
[]
[]
[]
[]
[]
[]
[]
[]
[]
[]
[]
[]
[]
[]
[]
[]
[]
[]
[]
[]
[]
[]
[]
[]
[]
[]
[]
[]
[]
[]
[]
[]
[]
[]
[]
[]
[]
[]
[]
[]
[]
[]
[]
[]
[]
[]
[]
[]
[]
[]
[]
[]
[]
[]
[]
[]
[]
[]
[]
[]
[]
[]
[]
[]
[]
[]
[]
[]
[]
[]
[]
[]
[]
[]
[]
[]
[]
[]
[]
[]
[]
[]
[]
[]
[]
[]
[]
[]
[]
[]
[]
[]
[]
[]
[]
[]
[]
[]
[]
[]
[]
[]
[]
[]
[]
[]
[]
[]
[]
[]
[]
[]
[]
[]
[]
[]
[]
[]
[]
[]
[]
[]
[]
[]
[]
[]
[]
[]
[]
[]
[]
[]
[]
[]
[]
[]
[]
[]
[]
[]
[]
[]
[]
[]
[]
[]
[]
[]
[]
[]
[]
[]
[]
[]
[]
[]
[]
[]
[]
[]
[]
[]
[]
[]
[]
[]
[]
[]
[]
[]
[]
[]
[]
[]
[]
[]
[]
[]
[]
[]
[]
[]
[]
[]
[]
[]
[]
[]
[]
[]
[]
[]
[]
[]
[]
[]
[]
[]
[]
[]
[]
[]
[]
[]
[]
[]
[]
[]
[]
[]
[]
[]
[]
[]
[]
[]
[]
[]
[]
[]
[]
[]
[]
[]
[]
[]
[]
[]
[]
[]
[]
[]
[]
[]
[]
[]
[]
[]
[]
[]
[]
[]
[]
[]
[]
[]
[]
[]
[]
[]
[]
[]
[]
[]
[]
[]
[]
[]
[]
[]
[]
[]
[]
[]
[]
[]
[]
[]
[]
[]
[]
[]
[]
[]
[]
[]
[]
[]
[]
[]
[]
[]
[]
[]
[]
[]
[]
[]
[]
[]
[]
[]
[]
[]
[]
[]
[]
[]
[]
[]
[]
[]
[]
[]
[]
[]
[]
[]
[]
[]
[]
[]
[]
[]
[]
[]
[]
[]
[]
[]
[]
[]
[]
[]
[]
[]
[]
[]
[]
[]
[]
[]
[]
[]
[]
[]
[]
[]
[]
[]
[]
[]
[]
[]
[]
[]
[]
[]
[]
[]
[]
[]
[]
[]
[]
[]
[]
[]
[]
[]
[]
[]
[]
[]
[]
[]
[]
[]
[]
[]
[]
[]
[]
[]
[]
[]
[]
[]
[]
[]
[]
[]
[]
[]
[]
[]
[]
[]
[]
[]
[]
[]
[]
[]
[]
[]
[]
[]
[]
[]
[]
[]
[]
[]
[]
[]
[]
[]
[]
[]
[]
[]
[]
[]
[]
[]
[]
[]
[]
[]
[]
[]
[]
[]
[]
[]
[]
[]
[]
[]
[]
[]
[]
[]
[]
[]
[]
[]
[]
[]
[]
[]
[]
[]
[]
[]
[]
[]
[]
[]
[]
[]
[]
[]
[]
[]
[]
[]
[]
[]
[]
[]
[]
[]
[]
[]
[]
[]
[]
[]
[]
[]
[]
[]
[]
[]
[]
[]
[]
[]
[]
[]
[]
[]
[]
[]
[]
[]
[]
[]
[]
[]
[]
[]
[]
[]
[]
[]
[]
[]
[]
[]
[]
[]
[]
[]
[]
[]
[]
[]
[]
[]
[]
[]
[]
[]
[]
[]
[]
[]
[]
[]
[]
[]
[]
[]
[]
[]
[]
[]
[]
[]
[]
[]
[]
[]
[]
[]
[]
[]
[]
[]
[]
[]
[]
[]
[]
[]
[]
[]
[]
[]
[]
[]
[]
[]
[]
[]
[]
[]
[]
[]
[]
[]
[]
[]
[]
[]
[]
[]
[]
[]
[]
[]
[]
[]
[]
[]
[]
[]
[]
[]
[]
[]
[]
[]
[]
[]
[]
[]
[]
[]
[]
[]
[]
[]
[]
[]
[]
[]
[]
[]
[]
[]
[]
[]
[]
[]
[]
[]
[]
[]
[]
[]
[]
[]
[]
[]
[]
[]
[]
[]
[]
[]
[]
[]
[]
[]
[]
[]
[]
[]
[]
[]
[]
[]
[]
[]
[]
[]
[]
[]
[]
[]
[]
[]
[]
[]
[]
[]
[]
[]
[]
[]
[]
[]
[]
[]
[]
[]
[]
[]
[]
[]
[]
[]
[]
[]
[]
[]
[]
[]
[]
[]
[]
[]
[]
[]
[]
[]
[]
[]
[]
[]
[]
[]
[]
[]
[]
[]
[]
[]
[]
[]
[]
[]
[]
[]
[]
[]
[]
[]
[]
[]
[]
[]
[]
[]
[]
[]
[]
[]
[]
[]
[]
[]
[]
[]
[]
[]
[]
[]
[]
[]
[]
[]
[]
[]
[]
[]
[]
[]
[]
[]
[]
[]
[]
[]
[]
[]
[]
[]
[]
[]
[]
[]
[]
[]
[]
[]
[]
[]
[]
[]
[]
[]
[]
[]
[]
[]
[]
[]
[]
[]
[]
[]
[]
[]
[]
[]
[]
[]
[]
[]
[]
[]
[]
[]
[]
[]
[]
[]
[]
[]
[]
[]
[]
[]
[]
[]
[]
[]
[]
[]
[]
[]
[]
[]
[]
[]
[]
[]
[]
[]
[]
[]
[]
[]
[]
[]
[]
[]
[]
[]
[]
[]
[]
[]
[]
[]
[]
[]
[]
[]
[]
[]
[]
[]
[]
[]
[]
[]
[]
[]
[]
[]
[]
[]
[]
[]
[]
[]
[]
[]
[]
[]
[]
[]
[]
[]
[]
[]
[]
[]
[]
[]
[]
[]
[]
[]
[]
[]
[]
[]
[]
[]
[]
[]
[]
[]
[]
[]
[]
[]
[]
[]
[]
[]
[]
[]
[]
[]
[]
[]
[]
[]
[]
[]
[]
[]
[]
[]
[]
[]
[]
[]
[]
[]
[]
[]
[]
[]
[]
[]
[]
[]
[]
[]
[]
[]
[]
[]
[]
[]
[]
[]
[]
[]
[]
[]
[]
[]
[]
[]
[]
[]
[]
[]
[]
[]
[]
[]
[]
[]
[]
[]
[]
[]
[]
[]
[]
[]
[]
[]
[]
[]
[]
[]
[]
[]
[]
[]
[]
[]
[]
[]
[]
[]
[]
[]
[]
[]
[]
[]
[]
[]
[]
[]
[]
[]
[]
[]
[]
[]
[]
[]
[]
[]
[]
[]
[]
[]
[]
[]
[]
[]
[]
[]
[]
[]
[]
[]
[]
[]
[]
[]
[]
[]
[]
[]
[]
[]
[]
[]
[]
[]
[]
[]
[]
[]
[]
[]
[]
[]
[]
[]
[]
[]
[]
[]
[]
[]
[]
[]
[]
[]
[]
[]
[]
[]
[]
[]
[]
[]
[]
[]
[]
[]
[]
[]
[]
[]
[]
[]
[]
[]
[]
[]
[]
[]
[]
[]
[]
[]
[]
[]
[]
[]
[]
[]
[]
[]
[]
[]
[]
[]
[]
[]
[]
[]
[]
[]
[]
[]
[]
[]
[]
[]
[]
[]
[]
[]
[]
[]
[]
[]
[]
[]
[]
[]
[]
[]
[]
[]
[]
[]
[]
[]
[]
[]
[]
[]
[]
[]
[]
[]
[]
[]
[]
[]
[]
[]
[]
[]
[]
[]
[]
[]
[]
[]
[]
[]
[]
[]
[]
[]
[]
[]
[]
[]
[]
[]
[]
[]
[]
[]
[]
[]
[]
[]
[]
[]
[]
[]
[]
[]
[]
[]
[]
[]
[]
[]
[]
[]
[]
[]
[]
[]
[]
[]
[]
[]
[]
[]
[]
[]
[]
[]
[]
[]
[]
[]
[]
[]
[]
[]
[]
[]
[]
[]
[]
[]
[]
[]
[]
[]
[]
[]
[]
[]
[]
[]
[]
[]
[]
[]
[]
[]
[]
[]
[]
[]
[]
[]
[]
[]
[]
[]
[]
[]
[]
[]
[]
[]
[]
[]
[]
[]
[]
[]
[]
[]
[]
[]
[]
[]
[]
[]
[]
[]
[]
[]
[]
[]
[]
[]
[]
[]
[]
[]
[]
[]
[]
[]
[]
[]
[]
[]
[]
[]
[]
[]
[]
[]
[]
[]
[]
[]
[]
[]
[]
[]
[]
[]
[]
[]
[]
[]
[]
[]
[]
[]
[]
[]
[]
[]
[]
[]
[]
[]
[]
[]
[]
[]
[]
[]
[]
[]
[]
[]
[]
[]
[]
[]
[]
[]
[]
[]
[]
[]
[]
[]
[]
[]
[]
[]
[]
[]
[]
[]
[]
[]
[]
[]
[]
[]
[]
[]
[]
[]
[]
[]
[]
[]
[]
[]
[]
[]
[]
[]
[]
[]
[]
[]
[]
[]
[]
[]
[]
[]
[]
[]
[]
[]
[]
[]
[]
[]
[]
[]
[]
[]
[]
[]
[]
[]
[]
[]
[]
[]
[]
[]
[]
[]
[]
[]
[]
[]
[]
[]
[]
[]
[]
[]
[]
[]
[]
[]
[]
[]
[]
[]
[]
[]
[]
[]
[]
[]
[]
[]
[]
[]
[]
[]
[]
[]
[]
[]
[]
[]
[]
[]
[]
[]
[]
[]
[]
[]
[]
[]
[]
[]
[]
[]
[]
[]
[]
[]
[]
[]
[]
[]
[]
[]
[]
[]
[]
[]
[]
[]
[]
[]
[]
[]
[]
[]
[]
[]
[]
[]
[]
[]
[]
[]
[]
[]
[]
[]
[]
[]
[]
[]
[]
[]
[]
[]
[]
[]
[]
[]
[]
[]
[]
[]
[]
[]
[]
[]
[]
[]
[]
[]
[]
[]
[]
[]
[]
[]
[]
[]
[]
[]
[]
[]
[]
[]
[]
[]
[]
[]
[]
[]
[]
[]
[]
[]
[]
[]
[]
[]
[]
[]
[]
[]
[]
[]
[]
[]
[]
[]
[]
[]
[]
[]
[]
[]
[]
[]
[]
[]
[]
[]
[]
[]
[]
[]
[]
[]
[]
[]
[]
[]
[]
[]
[]
[]
[]
[]
[]
[]
[]
[]
[]
[]
[]
[]
[]
[]
[]
[]
[]
[]
[]
[]
[]
[]
[]
[]
[]
[]
[]
[]
[]
[]
[]
[]
[]
[]
[]
[]
[]
[]
[]
[]
[]
[]
[]
[]
[]
[]
[]
[]
[]
[]
[]
[]
[]
[]
[]
[]
[]
[]
[]
[]
[]
[]
[]
[]
[]
[]
[]
[]
[]
[]
[]
[]
[]
[]
[]
[]
[]
[]
[]
[]
[]
[]
[]
[]
[]
[]
[]
[]
[]
[]
[]
[]
[]
[]
[]
[]
[]
[]
[]
[]
[]
[]
[]
[]
[]
[]
[]
[]
[]
[]
[]
[]
[]
[]
[]
[]
[]
[]
[]
[]
[]
[]
[]
[]
[]
[]
[]
[]
[]
[]
[]
[]
[]
[]
[]
[]
[]
[]
[]
[]
[]
[]
[]
[]
[]
[]
[]
[]
[]
[]
[]
[]
[]
[]
[]
[]
[]
[]
[]
[]
[]
[]
[]
[]
[]
[]
[]
[]
[]
[]
[]
[]
[]
[]
[]
[]
[]
[]
[]
[]
[]
[]
[]
[]
[]
[]
[]
[]
[]
[]
[]
[]
[]
[]
[]
[]
[]
[]
[]
[]
[]
[]
[]
[]
[]
[]
[]
[]
[]
[]
[]
[]
[]
[]
[]
[]
[]
[]
[]
[]
[]
[]
[]
[]
[]
[]
[]
[]
[]
[]
[]
[]
[]
[]
[]
[]
[]
[]
[]
[]
[]
[]
[]
[]
[]
[]
[]
[]
[]
[]
[]
[]
[]
[]
[]
[]
[]
[]
[]
[]
[]
[]
[]
[]
[]
[]
[]
[]
[]
[]
[]
[]
[]
[]
[]
[]
[]
[]
[]
[]
[]
[]
[]
[]
[]
[]
[]
[]
[]
[]
[]
[]
[]
[]
[]
[]
[]
[]
[]
[]
[]
[]
[]
[]
[]
[]
[]
[]
[]
[]
[]
[]
[]
[]
[]
[]
[]
[]
[]
[]
[]
[]
[]
[]
[]
[]
[]
[]
[]
[]
[]
[]
[]
[]
[]
[]
[]
[]
[]
[]
[]
[]
[]
[]
[]
[]
[]
[]
[]
[]
[]
[]
[]
[]
[]
[]
[]
[]
[]
[]
[]
[]
[]
[]
[]
[]
[]
[]
[]
[]
[]
[]
[]
[]
[]
[]
[]
[]
[]
[]
[]
[]
[]
[]
[]
[]
[]
[]
[]
[]
[]
[]
[]
[]
[]
[]
[]
[]
[]
[]
[]
[]
[]
[]
[]
[]
[]
[]
[]
[]
[]
[]
[]
[]
[]
[]
[]
[]
[]
[]
[]
[]
[]
[]
[]
[]
[]
[]
[]
[]
[]
[]
[]
[]
[]
[]
[]
[]
[]
[]
[]
[]
[]
[]
[]
[]
[]
[]
[]
[]
[]
[]
[]
[]
[]
[]
[]
[]
[]
[]
[]
[]
[]
[]
[]
[]
[]
[]
[]
[]
[]
[]
[]
[]
[]
[]
[]
[]
[]
[]
[]
[]
[]
[]
[]
[]
[]
[]
[]
[]
[]
[]
[]
[]
[]
[]
[]
[]
[]
[]
[]
[]
[]
[]
[]
[]
[]
[]
[]
[]
[]
[]
[]
[]
[]
[]
[]
[]
[]
[]
[]
[]
[]
[]
[]
[]
[]
[]
[]
[]
[]
[]
[]
[]
[]
[]
[]
[]
[]
[]
[]
[]
[]
[]
[]
[]
[]
[]
[]
[]
[]
[]
[]
[]
[]
[]
[]
[]
[]
[]
[]
[]
[]
[]
[]
[]
[]
[]
[]
[]
[]
[]
[]
[]
[]
[]
[]
[]
[]
[]
[]
[]
[]
[]
[]
[]
[]
[]
[]
[]
[]
[]
[]
[]
[]
[]
[]
[]
[]
[]
[]
[]
[]
[]
[]
[]
[]
[]
[]
[]
[]
[]
[]
[]
[]
[]
[]
[]
[]
[]
[]
[]
[]
[]
[]
[]
[]
[]
[]
[]
[]
[]
[]
[]
[]
[]
[]
[]
[]
[]
[]
[]
[]
[]
[]
[]
[]
[]
[]
[]
[]
[]
[]
[]
[]
[]
[]
[]
[]
[]
[]
[]
[]
[]
[]
[]
[]
[]
[]
[]
[]
[]
[]
[]
[]
[]
[]
[]
[]
[]
[]
[]
[]
[]
[]
[]
[]
[]
[]
[]
[]
[]
[]
[]
[]
[]
[]
[]
[]
[]
[]
[]
[]
[]
[]
[]
[]
[]
[]
[]
[]
[]
[]
[]
[]
[]
[]
[]
[]
[]
[]
[]
[]
[]
[]
[]
[]
[]
[]
[]
[]
[]
[]
[]
[]
[]
[]
[]
[]
[]
[]
[]
[]
[]
[]
[]
[]
[]
[]
[]
[]
[]
[]
[]
[]
[]
[]
[]
[]
[]
[]
[]
[]
[]
[]
[]
[]
[]
[]
[]
[]
[]
[]
[]
[]
[]
[]
[]
[]
[]
[]
[]
[]
[]
[]
[]
[]
[]
[]
[]
[]
[]
[]
[]
[]
[]
[]
[]
[]
[]
[]
[]
[]
[]
[]
[]
[]
[]
[]
[]
[]
[]
[]
[]
[]
[]
[]
[]
[]
[]
[]
[]
[]
[]
[]
[]
[]
[]
[]
[]
[]
[]
[]
[]
[]
[]
[]
[]
[]
[]
[]
[]
[]
[]
[]
[]
[]
[]
[]
[]
[]
[]
[]
[]
[]
[]
[]
[]
[]
[]
[]
[]
[]
[]
[]
[]
[]
[]
[]
[]
[]
[]
[]
[]
[]
[]
[]
[]
[]
[]
[]
[]
[]
[]
[]
[]
[]
[]
[]
[]
[]
[]
[]
[]
[]
[]
[]
[]
[]
[]
[]
[]
[]
[]
[]
[]
[]
[]
[]
[]
[]
[]
[]
[]
[]
[]
[]
[]
[]
[]
[]
[]
[]
[]
[]
[]
[]
[]
[]
[]
[]
[]
[]
[]
[]
[]
[]
[]
[]
[]
[]
[]
[]
[]
[]
[]
[]
[]
[]
[]
[]
[]
[]
[]
[]
[]
[]
[]
[]
[]
[]
[]
[]
[]
[]
[]
[]
[]
[]
[]
[]
[]
[]
[]
[]
[]
[]
[]
[]
[]
[]
[]
[]
[]
[]
[]
[]
[]
[]
[]
[]
[]
[]
[]
[]
[]
[]
[]
[]
[]
[]
[]
[]
[]
[]
[]
[]
[]
[]
[]
[]
[]
[]
[]
[]
[]
[]
[]
[]
[]
[]
[]
[]
[]
[]
[]
[]
[]
[]
[]
[]
[]
[]
[]
[]
[]
[]
[]
[]
[]
[]
[]
[]
[]
[]
[]
[]
[]
[]
[]
[]
[]
[]
[]
[]
[]
[]
[]
[]
[]
[]
[]
[]
[]
[]
[]
[]
[]
[]
[]
[]
[]
[]
[]
[]
[]
[]
[]
[]
[]
[]
[]
[]
[]
[]
[]
[]
[]
[]
[]
[]
[]
[]
[]
[]
[]
[]
[]
[]
[]
[]
[]
[]
[]
[]
[]
[]
[]
[]
[]
[]
[]
[]
[]
[]
[]
[]
[]
[]
[]
[]
[]
[]
[]
[]
[]
[]
[]
[]
[]
[]
[]
[]
[]
[]
[]
[]
[]
[]
[]
[]
[]
[]
[]
[]
[]
[]
[]
[]
[]
[]
[]
[]
[]
[]
[]
[]
[]
[]
[]
[]
[]
[]
[]
[]
[]
[]
[]
[]
[]
[]
[]
[]
[]
[]
[]
[]
[]
[]
[]
[]
[]
[]
[]
[]
[]
[]
[]
[]
[]
[]
[]
[]
[]
[]
[]
[]
[]
[]
[]
[]
[]
[]
[]
[]
[]
[]
[]
[]
[]
[]
[]
[]
[]
[]
[]
[]
[]
[]
[]
[]
[]
[]
[]
[]
[]
[]
[]
[]
[]
[]
[]
[]
[]
[]
[]
[]
[]
[]
[]
[]
[]
[]
[]
[]
[]
[]
[]
[]
[]
[]
[]
[]
[]
[]
[]
[]
[]
[]
[]
[]
[]
[]
[]
[]
[]
[]
[]
[]
[]
[]
[]
[]
[]
[]
[]
[]
[]
[]
[]
[]
[]
[]
[]
[]
[]
[]
[]
[]
[]
[]
[]
[]
[]
[]
[]
[]
[]
[]
[]
[]
[]
[]
[]
[]
[]
[]
[]
[]
[]
[]
[]
[]
[]
[]
[]
[]
[]
[]
[]
[]
[]
[]
[]
[]
[]
[]
[]
[]
[]
[]
[]
[]
[]
[]
[]
[]
[]
[]
[]
[]
[]
[]
[]
[]
[]
[]
[]
[]
[]
[]
[]
[]
[]
[]
[]
[]
[]
[]
[]
[]
[]
[]
[]
[]
[]
[]
[]
[]
[]
[]
[]
[]
[]
[]
[]
[]
[]
[]
[]
[]
[]
[]
[]
[]
[]
[]
[]
[]
[]
[]
[]
[]
[]
[]
[]
[]
[]
[]
[]
[]
[]
[]
[]
[]
[]
[]
[]
[]
[]
[]
[]
[]
[]
[]
[]
[]
[]
[]
[]
[]
[]
[]
[]
[]
[]
[]
[]
[]
[]
[]
[]
[]
[]
[]
[]
[]
[]
[]
[]
[]
[]
[]
[]
[]
[]
[]
[]
[]
[]
[]
[]
[]
[]
[]
[]
[]
[]
[]
[]
[]
[]
[]
[]
[]
[]
[]
[]
[]
[]
[]
[]
[]
[]
[]
[]
[]
[]
[]
[]
[]
[]
[]
[]
[]
[]
[]
[]
[]
[]
[]
[]
[]
[]
[]
[]
[]
[]
[]
[]
[]
[]
[]
[]
[]
[]
[]
[]
[]
[]
[]
[]
[]
[]
[]
[]
[]
[]
[]
[]
[]
[]
[]
[]
[]
[]
[]
[]
[]
[]
[]
[]
[]
[]
[]
[]
[]
[]
[]
[]
[]
[]
[]
[]
[]
[]
[]
[]
[]
[]
[]
[]
[]
[]
[]
[]
[]
[]
[]
[]
[]
[]
[]
[]
[]
[]
[]
[]
[]
[]
[]
[]
[]
[]
[]
[]
[]
[]
[]
[]
[]
[]
[]
[]
[]
[]
[]
[]
[]
[]
[]
[]
[]
[]
[]
[]
[]
[]
[]
[]
[]
[]
[]
[]
[]
[]
[]
[]
[]
[]
[]
[]
[]
[]
[]
[]
[]
[]
[]
[]
[]
[]
[]
[]
[]
[]
[]
[]
[]
[]
[]
[]
[]
[]
[]
[]
[]
[]
[]
[]
[]
[]
[]
[]
[]
[]
[]
[]
[]
[]
[]
[]
[]
[]
[]
[]
[]
[]
[]
[]
[]
[]
[]
[]
[]
[]
[]
[]
[]
[]
[]
[]
[]
[]
[]
[]
[]
[]
[]
[]
[]
[]
[]
[]
[]
[]
[]
[]
[]
[]
[]
[]
[]
[]
[]
[]
[]
[]
[]
[]
[]
[]
[]
[]
[]
[]
[]
[]
[]
[]
[]
[]
[]
[]
[]
[]
[]
[]
[]
[]
[]
[]
[]
[]
[]
[]
[]
[]
[]
[]
[]
[]
[]
[]
[]
[]
[]
[]
[]
[]
[]
[]
[]
[]
[]
[]
[]
[]
[]
[]
[]
[]
[]
[]
[]
[]
[]
[]
[]
[]
[]
[]
[]
[]
[]
[]
[]
[]
[]
[]
[]
[]
[]
[]
[]
[]
[]
[]
[]
[]
[]
[]
[]
[]
[]
[]
[]
[]
[]
[]
[]
[]
[]
[]
[]
[]
[]
[]
[]
[]
[]
[]
[]
[]
[]
[]
[]
[]
[]
[]
[]
[]
[]
[]
[]
[]
[]
[]
[]
[]
[]
[]
[]
[]
[]
[]
[]
[]
[]
[]
[]
[]
[]
[]
[]
[]
[]
[]
[]
[]
[]
[]
[]
[]
[]
[]
[]
[]
[]
[]
[]
[]
[]
[]
[]
[]
[]
[]
[]
[]
[]
[]
[]
[]
[]
[]
[]
[]
[]
[]
[]
[]
[]
[]
[]
[]
[]
[]
[]
[]
[]
[]
[]
[]
[]
[]
[]
[]
[]
[]
[]
[]
[]
[]
[]
[]
[]
[]
[]
[]
[]
[]
[]
[]
[]
[]
[]
[]
[]
[]
[]
[]
[]
[]
[]
[]
[]
[]
[]
[]
[]
[]
[]
[]
[]
[]
[]
[]
[]
[]
[]
[]
[]
[]
[]
[]
[]
[]
[]
[]
[]
[]
[]
[]
[]
[]
[]
[]
[]
[]
[]
[]
[]
[]
[]
[]
[]
[]
[]
[]
[]
[]
[]
[]
[]
[]
[]
[]
[]
[]
[]
[]
[]
[]
[]
[]
[]
[]
[]
[]
[]
[]
[]
[]
[]
[]
[]
[]
[]
[]
[]
[]
[]
[]
[]
[]
[]
[]
[]
[]
[]
[]
[]
[]
[]
[]
[]
[]
[]
[]
[]
[]
[]
[]
[]
[]
[]
[]
[]
[]
[]
[]
[]
[]
[]
[]
[]
[]
[]
[]
[]
[]
[]
[]
[]
[]
[]
[]
[]
[]
[]
[]
[]
[]
[]
[]
[]
[]
[]
[]
[]
[]
[]
[]
[]
[]
[]
[]
[]
[]
[]
[]
[]
[]
[]
[]
[]
[]
[]
[]
[]
[]
[]
[]
[]
[]
[]
[]
[]
[]
[]
[]
[]
[]
[]
[]
[]
[]
[]
[]
[]
[]
[]
[]
[]
[]
[]
[]
[]
[]
[]
[]
[]
[]
[]
[]
[]
[]
[]
[]
[]
[]
[]
[]
[]
[]
[]
[]
[]
[]
[]
[]
[]
[]
[]
[]
[]
[]
[]
[]
[]
[]
[]
[]
[]
[]
[]
[]
[]
[]
[]
[]
[]
[]
[]
[]
[]
[]
[]
[]
[]
[]
[]
[]
[]
[]
[]
[]
[]
[]
[]
[]
[]
[]
[]
[]
[]
[]
[]
[]
[]
[]
[]
[]
[]
[]
[]
[]
[]
[]
[]
[]
[]
[]
[]
[]
[]
[]
[]
[]
[]
[]
[]
[]
[]
[]
[]
[]
[]
[]
[]
[]
[]
[]
[]
[]
[]
[]
[]
[]
[]
[]
[]
[]
[]
[]
[]
[]
[]
[]
[]
[]
[]
[]
[]
[]
[]
[]
[]
[]
[]
[]
[]
[]
[]
[]
[]
[]
[]
[]
[]
[]
[]
[]
[]
[]
[]
[]
[]
[]
[]
[]
[]
[]
[]
[]
[]
[]
[]
[]
[]
[]
[]
[]
[]
[]
[]
[]
[]
[]
[]
[]
[]
[]
[]
[]
[]
[]
[]
[]
[]
[]
[]
[]
[]
[]
[]
[]
[]
[]
[]
[]
[]
[]
[]
[]
[]
[]
[]
[]
[]
[]
[]
[]
[]
[]
[]
[]
[]
[]
[]
[]
[]
[]
[]
[]
[]
[]
[]
[]
[]
[]
[]
[]
[]
[]
[]
[]
[]
[]
[]
[]
[]
[]
[]
[]
[]
[]
[]
[]
[]
[]
[]
[]
[]
[]
[]
[]
[]
[]
[]
[]
[]
[]
[]
[]
[]
[]
[]
[]
[]
[]
[]
[]
[]
[]
[]
[]
[]
[]
[]
[]
[]
[]
[]
[]
[]
[]
[]
[]
[]
[]
[]
[]
[]
[]
[]
[]
[]
[]
[]
[]
[]
[]
[]
[]
[]
[]
[]
[]
[]
[]
[]
[]
[]
[]
[]
[]
[]
[]
[]
[]
[]
[]
[]
[]
[]
[]
[]
[]
[]
[]
[]
[]
[]
[]
[]
[]
[]
[]
[]
[]
[]
[]
[]
[]
[]
[]
[]
[]
[]
[]
[]
[]
[]
[]
[]
[]
[]
[]
[]
[]
[]
[]
[]
[]
[]
[]
[]
[]
[]
[]
[]
[]
[]
[]
[]
[]
[]
[]
[]
[]
[]
[]
[]
[]
[]
[]
[]
[]
[]
[]
[]
[]
[]
[]
[]
[]
[]
[]
[]
[]
[]
[]
[]
[]
[]
[]
[]
[]
[]
[]
[]
[]
[]
[]
[]
[]
[]
[]
[]
[]
[]
[]
[]
[]
[]
[]
[]
[]
[]
[]
[]
[]
[]
[]
[]
[]
[]
[]
[]
[]
[]
[]
[]
[]
[]
[]
[]
[]
[]
[]
[]
[]
[]
[]
[]
[]
[]
[]
[]
[]
[]
[]
[]
[]
[]
[]
[]
[]
[]
[]
[]
[]
[]
[]
[]
[]
[]
[]
[]
[]
[]
[]
[]
[]
[]
[]
[]
[]
[]
[]
[]
[]
[]
[]
[]
[]
[]
[]
[]
[]
[]
[]
[]
[]
[]
[]
[]
[]
[]
[]
[]
[]
[]
[]
[]
[]
[]
[]
[]
[]
[]
[]
[]
[]
[]
[]
[]
[]
[]
[]
[]
[]
[]
[]
[]
[]
[]
[]
[]
[]
[]
[]
[]
[]
[]
[]
[]
[]
[]
[]
[]
[]
[]
[]
[]
[]
[]
[]
[]
[]
[]
[]
[]
[]
[]
[]
[]
[]
[]
[]
[]
[]
[]
[]
[]
[]
[]
[]
[]
[]
[]
[]
[]
[]
[]
[]
[]
[]
[]
[]
[]
[]
[]
[]
[]
[]
[]
[]
[]
[]
[]
[]
[]
[]
[]
[]
[]
[]
[]
[]
[]
[]
[]
[]
[]
[]
[]
[]
[]
[]
[]
[]
[]
[]
[]
[]
[]
[]
[]
[]
[]
[]
[]
[]
[]
[]
[]
[]
[]
[]
[]
[]
[]
[]
[]
[]
[]
[]
[]
[]
[]
[]
[]
[]
[]
[]
[]
[]
[]
[]
[]
[]
[]
[]
[]
[]
[]
[]
[]
[]
[]
[]
[]
[]
[]
[]
[]
[]
[]
[]
[]
[]
[]
[]
[]
[]
[]
[]
[]
[]
[]
[]
[]
[]
[]
[]
[]
[]
[]
[]
[]
[]
[]
[]
[]
[]
[]
[]
[]
[]
[]
[]
[]
[]
[]
[]
[]
[]
[]
[]
[]
[]
[]
[]
[]
[]
[]
[]
[]
[]
[]
[]
[]
[]
[]
[]
[]
[]
[]
[]
[]
[]
[]
[]
[]
[]
[]
[]
[]
[]
[]
[]
[]
[]
[]
[]
[]
[]
[]
[]
[]
[]
[]
[]
[]
[]
[]
[]
[]
[]
[]
[]
[]
[]
[]
[]
[]
[]
[]
[]
[]
[]
[]
[]
[]
[]
[]
[]
[]
[]
[]
[]
[]
[]
[]
[]
[]
[]
[]
[]
[]
[]
[]
[]
[]
[]
[]
[]
[]
[]
[]
[]
[]
[]
[]
[]
[]
[]
[]
[]
[]
[]
[]
[]
[]
[]
[]
[]
[]
[]
[]
[]
[]
[]
[]
[]
[]
[]
[]
[]
[]
[]
[]
[]
[]
[]
[]
[]
[]
[]
[]
[]
[]
[]
[]
[]
[]
[]
[]
[]
[]
[]
[]
[]
[]
[]
[]
[]
[]
[]
[]
[]
[]
[]
[]
[]
[]
[]
[]
[]
[]
[]
[]
[]
[]
[]
[]
[]
[]
[]
[]
[]
[]
[]
[]
[]
[]
[]
[]
[]
[]
[]
[]
[]
[]
[]
[]
[]
[]
[]
[]
[]
[]
[]
[]
[]
[]
[]
[]
[]
[]
[]
[]
[]
[]
[]
[]
[]
[]
[]
[]
[]
[]
[]
[]
[]
[]
[]
[]
[]
[]
[]
[]
[]
[]
[]
[]
[]
[]
[]
[]
[]
[]
[]
[]
[]
[]
[]
[]
[]
[]
[]
[]
[]
[]
[]
[]
[]
[]
[]
[]
[]
[]
[]
[]
[]
[]
[]
[]
[]
[]
[]
[]
[]
[]
[]
[]
[]
[]
[]
[]
[]
[]
[]
[]
[]
[]
[]
[]
[]
[]
[]
[]
[]
[]
[]
[]
[]
[]
[]
[]
[]
[]
[]
[]
[]
[]
[]
[]
[]
[]
[]
[]
[]
[]
[]
[]
[]
[]
[]
[]
[]
[]
[]
[]
[]
[]
[]
[]
[]
[]
[]
[]
[]
[]
[]
[]
[]
[]
[]
[]
[]
[]
[]
[]
[]
[]
[]
[]
[]
[]
[]
[]
[]
[]
[]
[]
[]
[]
[]
[]
[]
[]
[]
[]
[]
[]
[]
[]
[]
[]
[]
[]
[]
[]
[]
[]
[]
[]
[]
[]
[]
[]
[]
[]
[]
[]
[]
[]
[]
[]
[]
[]
[]
[]
[]
[]
[]
[]
[]
[]
[]
[]
[]
[]
[]
[]
[]
[]
[]
[]
[]
[]
[]
[]
[]
[]
[]
[]
[]
[]
[]
[]
[]
[]
[]
[]
[]
[]
[]
[]
[]
[]
[]
[]
[]
[]
[]
[]
[]
[]
[]
[]
[]
[]
[]
[]
[]
[]
[]
[]
[]
[]
[]
[]
[]
[]
[]
[]
[]
[]
[]
[]
[]
[]
[]
[]
[]
[]
[]
[]
[]
[]
[]
[]
[]
[]
[]
[]
[]
[]
[]
[]
[]
[]
[]
[]
[]
[]
[]
[]
[]
[]
[]
[]
[]
[]
[]
[]
[]
[]
[]
[]
[]
[]
[]
[]
[]
[]
[]
[]
[]
[]
[]
[]
[]
[]
[]
[]
[]
[]
[]
[]
[]
[]
[]
[]
[]
[]
[]
[]
[]
[]
[]
[]
[]
[]
[]
[]
[]
[]
[]
[]
[]
[]
[]
[]
[]
[]
[]
[]
[]
[]
[]
[]
[]
[]
[]
[]
[]
[]
[]
[]
[]
[]
[]
[]
[]
[]
[]
[]
[]
[]
[]
[]
[]
[]
[]
[]
[]
[]
[]
[]
[]
[]
[]
[]
[]
[]
[]
[]
[]
[]
[]
[]
[]
[]
[]
[]
[]
[]
[]
[]
[]
[]
[]
[]
[]
[]
[]
[]
[]
[]
[]
[]
[]
[]
[]
[]
[]
[]
[]
[]
[]
[]
[]
[]
[]
[]
[]
[]
[]
[]
[]
[]
[]
[]
[]
[]
[]
[]
[]
[]
[]
[]
[]
[]
[]
[]
[]
[]
[]
[]
[]
[]
[]
[]
[]
[]
[]
[]
[]
[]
[]
[]
[]
[]
[]
[]
[]
[]
[]
[]
[]
[]
[]
[]
[]
[]
[]
[]
[]
[]
[]
[]
[]
[]
[]
[]
[]
[]
[]
[]
[]
[]
[]
[]
[]
[]
[]
[]
[]
[]
[]
[]
[]
[]
[]
[]
[]
[]
[]
[]
[]
[]
[]
[]
[]
[]
[]
[]
[]
[]
[]
[]
[]
[]
[]
[]
[]
[]
[]
[]
[]
[]
[]
[]
[]
[]
[]
[]
[]
[]
[]
[]
[]
[]
[]
[]
[]
[]
[]
[]
[]
[]
[]
[]
[]
[]
[]
[]
[]
[]
[]
[]
[]
[]
[]
[]
[]
[]
[]
[]
[]
[]
[]
[]
[]
[]
[]
[]
[]
[]
[]
[]
[]
[]
[]
[]
[]
[]
[]
[]
[]
[]
[]
[]
[]
[]
[]
[]
[]
[]
[]
[]
[]
[]
[]
[]
[]
[]
[]
[]
[]
[]
[]
[]
[]
[]
[]
[]
[]
[]
[]
[]
[]
[]
[]
[]
[]
[]
[]
[]
[]
[]
[]
[]
[]
[]
[]
[]
[]
[]
[]
[]
[]
[]
[]
[]
[]
[]
[]
[]
[]
[]
[]
[]
[]
[]
[]
[]
[]
[]
[]
[]
[]
[]
[]
[]
[]
[]
[]
[]
[]
[]
[]
[]
[]
[]
[]
[]
[]
[]
[]
[]
[]
[]
[]
[]
[]
[]
[]
[]
[]
[]
[]
[]
[]
[]
[]
[]
[]
[]
[]
[]
[]
[]
[]
[]
[]
[]
[]
[]
[]
[]
[]
[]
[]
[]
[]
[]
[]
[]
[]
[]
[]
[]
[]
[]
[]
[]
[]
[]
[]
[]
[]
[]
[]
[]
[]
[]
[]
[]
[]
[]
[]
[]
[]
[]
[]
[]
[]
[]
[]
[]
[]
[]
[]
[]
[]
[]
[]
[]
[]
[]
[]
[]
[]
[]
[]
[]
[]
[]
[]
[]
[]
[]
[]
[]
[]
[]
[]
[]
[]
[]
[]
[]
[]
[]
[]
[]
[]
[]
[]
[]
[]
[]
[]
[]
[]
[]
[]
[]
[]
[]
[]
[]
[]
[]
[]
[]
[]
[]
[]
[]
[]
[]
[]
[]
[]
[]
[]
[]
[]
[]
[]
[]
[]
[]
[]
[]
[]
[]
[]
[]
[]
[]
[]
[]
[]
[]
[]
[]
[]
[]
[]
[]
[]
[]
[]
[]
[]
[]
[]
[]
[]
[]
[]
[]
[]
[]
[]
[]
[]
[]
[]
[]
[]
[]
[]
[]
[]
[]
[]
[]
[]
[]
[]
[]
[]
[]
[]
[]
[]
[]
[]
[]
[]
[]
[]
[]
[]
[]
[]
[]
[]
[]
[]
[]
[]
[]
[]
[]
[]
[]
[]
[]
[]
[]
[]
[]
[]
[]
[]
[]
[]
[]
[]
[]
[]
[]
[]
[]
[]
[]
[]
[]
[]
[]
[]
[]
[]
[]
[]
[]
[]
[]
[]
[]
[]
[]
[]
[]
[]
[]
[]
[]
[]
[]
[]
[]
[]
[]
[]
[]
[]
[]
[]
[]
[]
[]
[]
[]
[]
[]
[]
[]
[]
[]
[]
[]
[]
[]
[]
[]
[]
[]
[]
[]
[]
[]
[]
[]
[]
[]
[]
[]
[]
[]
[]
[]
[]
[]
[]
[]
[]
[]
[]
[]
[]
[]
[]
[]
[]
[]
[]
[]
[]
[]
[]
[]
[]
[]
[]
[]
[]
[]
[]
[]
[]
[]
[]
[]
[]
[]
[]
[]
[]
[]
[]
[]
[]
[]
[]
[]
[]
[]
[]
[]
[]
[]
[]
[]
[]
[]
[]
[]
[]
[]
[]
[]
[]
[]
[]
[]
[]
[]
[]
[]
[]
[]
[]
[]
[]
[]
[]
[]
[]
[]
[]
[]
[]
[]
[]
[]
[]
[]
[]
[]
[]
[]
[]
[]
[]
[]
[]
[]
[]
[]
[]
[]
[]
[]
[]
[]
[]
[]
[]
[]
[]
[]
[]
[]
[]
[]
[]
[]
[]
[]
[]
[]
[]
[]
[]
[]
[]
[]
[]
[]
[]
[]
[]
[]
[]
[]
[]
[]
[]
[]
[]
[]
[]
[]
[]
[]
[]
[]
[]
[]
[]
[]
[]
[]
[]
[]
[]
[]
[]
[]
[]
[]
[]
[]
[]
[]
[]
[]
[]
[]
[]
[]
[]
[]
[]
[]
[]
[]
[]
[]
[]
[]
[]
[]
[]
[]
[]
[]
[]
[]
[]
[]
[]
[]
[]
[]
[]
[]
[]
[]
[]
[]
[]
[]
[]
[]
[]
[]
[]
[]
[]
[]
[]
[]
[]
[]
[]
[]
[]
[]
[]
[]
[]
[]
[]
[]
[]
[]
[]
[]
[]
[]
[]
[]
[]
[]
[]
[]
[]
[]
[]
[]
[]
[]
[]
[]
[]
[]
[]
[]
[]
[]
[]
[]
[]
[]
[]
[]
[]
[]
[]
[]
[]
[]
[]
[]
[]
[]
[]
[]
[]
[]
[]
[]
[]
[]
[]
[]
[]
[]
[]
[]
[]
[]
[]
[]
[]
[]
[]
[]
[]
[]
[]
[]
[]
[]
[]
[]
[]
[]
[]
[]
[]
[]
[]
[]
[]
[]
[]
[]
[]
[]
[]
[]
[]
[]
[]
[]
[]
[]
[]
[]
[]
[]
[]
[]
[]
[]
[]
[]
[]
[]
[]
[]
[]
[]
[]
[]
[]
[]
[]
[]
[]
[]
[]
[]
[]
[]
[]
[]
[]
[]
[]
[]
[]
[]
[]
[]
[]
[]
[]
[]
[]
[]
[]
[]
[]
[]
[]
[]
[]
[]
[]
[]
[]
[]
[]
[]
[]
[]
[]
[]
[]
[]
[]
[]
[]
[]
[]
[]
[]
[]
[]
[]
[]
[]
[]
[]
[]
[]
[]
[]
[]
[]
[]
[]
[]
[]
[]
[]
[]
[]
[]
[]
[]
[]
[]
[]
[]
[]
[]
[]
[]
[]
[]
[]
[]
[]
[]
[]
[]
[]
[]
[]
[]
[]
[]
[]
[]
[]
[]
[]
[]
[]
[]
[]
[]
[]
[]
[]
[]
[]
[]
[]
[]
[]
[]
[]
[]
[]
[]
[]
[]
[]
[]
[]
[]
[]
[]
[]
[]
[]
[]
[]
[]
[]
[]
[]
[]
[]
[]
[]
[]
[]
[]
[]
[]
[]
[]
[]
[]
[]
[]
[]
[]
[]
[]
[]
[]
[]
[]
[]
[]
[]
[]
[]
[]
[]
[]
[]
[]
[]
[]
[]
[]
[]
[]
[]
[]
[]
[]
[]
[]
[]
[]
[]
[]
[]
[]
[]
[]
[]
[]
[]
[]
[]
[]
[]
[]
[]
[]
[]
[]
[]
[]
[]
[]
[]
[]
[]
[]
[]
[]
[]
[]
[]
[]
[]
[]
[]
[]
[]
[]
[]
[]
[]
[]
[]
[]
[]
[]
[]
[]
[]
[]
[]
[]
[]
[]
[]
[]
[]
[]
[]
[]
[]
[]
[]
[]
[]
[]
[]
[]
[]
[]
[]
[]
[]
[]
[]
[]
[]
[]
[]
[]
[]
[]
[]
[]
[]
[]
[]
[]
[]
[]
[]
[]
[]
[]
[]
[]
[]
[]
[]
[]
[]
[]
[]
[]
[]
[]
[]
[]
[]
[]
[]
[]
[]
[]
[]
[]
[]
[]
[]
[]
[]
[]
[]
[]
[]
[]
[]
[]
[]
[]
[]
[]
[]
[]
[]
[]
[]
[]
[]
[]
[]
[]
[]
[]
[]
[]
[]
[]
[]
[]
[]
[]
[]
[]
[]
[]
[]
[]
[]
[]
[]
[]
[]
[]
[]
[]
[]
[]
[]
[]
[]
[]
[]
[]
[]
[]
[]
[]
[]
[]
[]
[]
[]
[]
[]
[]
[]
[]
[]
[]
[]
[]
[]
[]
[]
[]
[]
[]
[]
[]
[]
[]
[]
[]
[]
[]
[]
[]
[]
[]
[]
[]
[]
[]
[]
[]
[]
[]
[]
[]
[]
[]
[]
[]
[]
[]
[]
[]
[]
[]
[]
[]
[]
[]
[]
[]
[]
[]
[]
[]
[]
[]
[]
[]
[]
[]
[]
[]
[]
[]
[]
[]
[]
[]
[]
[]
[]
[]
[]
[]
[]
[]
[]
[]
[]
[]
[]
[]
[]
[]
[]
[]
[]
[]
[]
[]
[]
[]
[]
[]
[]
[]
[]
[]
[]
[]
[]
[]
[]
[]
[]
[]
[]
[]
[]
[]
[]
[]
[]
[]
[]
[]
[]
[]
[]
[]
[]
[]
[]
[]
[]
[]
[]
[]
[]
[]
[]
[]
[]
[]
[]
[]
[]
[]
[]
[]
[]
[]
[]
[]
[]
[]
[]
[]
[]
[]
[]
[]
[]
[]
[]
[]
[]
[]
[]
[]
[]
[]
[]
[]
[]
[]
[]
[]
[]
[]
[]
[]
[]
[]
[]
[]
[]
[]
[]
[]
[]
[]
[]
[]
[]
[]
[]
[]
[]
[]
[]
[]
[]
[]
[]
[]
[]
[]
[]
[]
[]
[]
[]
[]
[]
[]
[]
[]
[]
[]
[]
[]
[]
[]
[]
[]
[]
[]
[]
[]
[]
[]
[]
[]
[]
[]
[]
[]
[]
[]
[]
[]
[]
[]
[]
[]
[]
[]
[]
[]
[]
[]
[]
[]
[]
[]
[]
[]
[]
[]
[]
[]
[]
[]
[]
[]
[]
[]
[]
[]
[]
[]
[]
[]
[]
[]
[]
[]
[]
[]
[]
[]
[]
[]
[]
[]
[]
[]
[]
[]
[]
[]
[]
[]
[]
[]
[]
[]
[]
[]
[]
[]
[]
[]
[]
[]
[]
[]
[]
[]
[]
[]
[]
[]
[]
[]
[]
[]
[]
[]
[]
[]
[]
[]
[]
[]
[]
[]
[]
[]
[]
[]
[]
[]
[]
[]
[]
[]
[]
[]
[]
[]
[]
[]
[]
[]
[]
[]
[]
[]
[]
[]
[]
[]
[]
[]
[]
[]
[]
[]
[]
[]
[]
[]
[]
[]
[]
[]
[]
[]
[]
[]
[]
[]
[]
[]
[]
[]
[]
[]
[]
[]
[]
[]
[]
[]
[]
[]
[]
[]
[]
[]
[]
[]
[]
[]
[]
[]
[]
[]
[]
[]
[]
[]
[]
[]
[]
[]
[]
[]
[]
[]
[]
[]
[]
[]
[]
[]
[]
[]
[]
[]
[]
[]
[]
[]
[]
[]
[]
[]
[]
[]
[]
[]
[]
[]
[]
[]
[]
[]
[]
[]
[]
[]
[]
[]
[]
[]
[]
[]
[]
[]
[]
[]
[]
[]
[]
[]
[]
[]
[]
[]
[]
[]
[]
[]
[]
[]
[]
[]
[]
[]
[]
[]
[]
[]
[]
[]
[]
[]
[]
[]
[]
[]
[]
[]
[]
[]
[]
[]
[]
[]
[]
[]
[]
[]
[]
[]
[]
[]
[]
[]
[]
[]
[]
[]
[]
[]
[]
[]
[]
[]
[]
[]
[]
[]
[]
[]
[]
[]
[]
[]
[]
[]
[]
[]
[]
[]
[]
[]
[]
[]
[]
[]
[]
[]
[]
[]
[]
[]
[]
[]
[]
[]
[]
[]
[]
[]
[]
[]
[]
[]
[]
[]
[]
[]
[]
[]
[]
[]
[]
[]
[]
[]
[]
[]
[]
[]
[]
[]
[]
[]
[]
[]
[]
[]
[]
[]
[]
[]
[]
[]
[]
[]
[]
[]
[]
[]
[]
[]
[]
[]
[]
[]
[]
[]
[]
[]
[]
[]
[]
[]
[]
[]
[]
[]
[]
[]
[]
[]
[]
[]
[]
[]
[]
[]
[]
[]
[]
[]
[]
[]
[]
[]
[]
[]
[]
[]
[]
[]
[]
[]
[]
[]
[]
[]
[]
[]
[]
[]
[]
[]
[]
[]
[]
[]
[]
[]
[]
[]
[]
[]
[]
[]
[]
[]
[]
[]
[]
[]
[]
[]
[]
[]
[]
[]
[]
[]
[]
[]
[]
[]
[]
[]
[]
[]
[]
[]
[]
[]
[]
[]
[]
[]
[]
[]
[]
[]
[]
[]
[]
[]
[]
[]
[]
[]
[]
[]
[]
[]
[]
[]
[]
[]
[]
[]
[]
[]
[]
[]
[]
[]
[]
[]
[]
[]
[]
[]
[]
[]
[]
[]
[]
[]
[]
[]
[]
[]
[]
[]
[]
[]
[]
[]
[]
[]
[]
[]
[]
[]
[]
[]
[]
[]
[]
[]
[]
[]
[]
[]
[]
[]
[]
[]
[]
[]
[]
[]
[]
[]
[]
[]
[]
[]
[]
[]
[]
[]
[]
[]
[]
[]
[]
[]
[]
[]
[]
[]
[]
[]
[]
[]
[]
[]
[]
[]
[]
[]
[]
[]
[]
[]
[]
[]
[]
[]
[]
[]
[]
[]
[]
[]
[]
[]
[]
[]
[]
[]
[]
[]
[]
[]
[]
[]
[]
[]
[]
[]
[]
[]
[]
[]
[]
[]
[]
[]
[]
[]
[]
[]
[]
[]
[]
[]
[]
[]
[]
[]
[]
[]
[]
[]
[]
[]
[]
[]
[]
[]
[]
[]
[]
[]
[]
[]
[]
[]
[]
[]
[]
[]
[]
[]
[]
[]
[]
[]
[]
[]
[]
[]
[]
[]
[]
[]
[]
[]
[]
[]
[]
[]
[]
[]
[]
[]
[]
[]
[]
[]
[]
[]
[]
[]
[]
[]
[]
[]
[]
[]
[]
[]
[]
[]
[]
[]
[]
[]
[]
[]
[]
[]
[]
[]
[]
[]
[]
[]
[]
[]
[]
[]
[]
[]
[]
[]
[]
[]
[]
[]
[]
[]
[]
[]
[]
[]
[]
[]
[]
[]
[]
[]
[]
[]
[]
[]
[]
[]
[]
[]
[]
[]
[]
[]
[]
[]
[]
[]
[]
[]
[]
[]
[]
[]
[]
[]
[]
[]
[]
[]
[]
[]
[]
[]
[]
[]
[]
[]
[]
[]
[]
[]
[]
[]
[]
[]
[]
[]
[]
[]
[]
[]
[]
[]
[]
[]
[]
[]
[]
[]
[]
[]
[]
[]
[]
[]
[]
[]
[]
[]
[]
[]
[]
[]
[]
[]
[]
[]
[]
[]
[]
[]
[]
[]
[]
[]
[]
[]
[]
[]
[]
[]
[]
[]
[]
[]
[]
[]
[]
[]
[]
[]
[]
[]
[]
[]
[]
[]
[]
[]
[]
[]
[]
[]
[]
[]
[]
[]
[]
[]
[]
[]
[]
[]
[]
[]
[]
[]
[]
[]
[]
[]
[]
[]
[]
[]
[]
[]
[]
[]
[]
[]
[]
[]
[]
[]
[]
[]
[]
[]
[]
[]
[]
[]
[]
[]
[]
[]
[]
[]
[]
[]
[]
[]
[]
[]
[]
[]
[]
[]
[]
[]
[]
[]
[]
[]
[]
[]
[]
[]
[]
[]
[]
[]
[]
[]
[]
[]
[]
[]
[]
[]
[]
[]
[]
[]
[]
[]
[]
[]
[]
[]
[]
[]
[]
[]
[]
[]
[]
[]
[]
[]
[]
[]
[]
[]
[]
[]
[]
[]
[]
[]
[]
[]
[]
[]
[]
[]
[]
[]
[]
[]
[]
[]
[]
[]
[]
[]
[]
[]
[]
[]
[]
[]
[]
[]
[]
[]
[]
[]
[]
[]
[]
[]
[]
[]
[]
[]
[]
[]
[]
[]
[]
[]
[]
[]
[]
[]
[]
[]
[]
[]
[]
[]
[]
[]
[]
[]
[]
[]
[]
[]
[]
[]
[]
[]
[]
[]
[]
[]
[]
[]
[]
[]
[]
[]
[]
[]
[]
[]
[]
[]
[]
[]
[]
[]
[]
[]
[]
[]
[]
[]
[]
[]
[]
[]
[]
[]
[]
[]
[]
[]
[]
[]
[]
[]
[]
[]
[]
[]
[]
[]
[]
[]
[]
[]
[]
[]
[]
[]
[]
[]
[]
[]
[]
[]
[]
[]
[]
[]
[]
[]
[]
[]
[]
[]
[]
[]
[]
[]
[]
[]
[]
[]
[]
[]
[]
[]
[]
[]
[]
[]
[]
[]
[]
[]
[]
[]
[]
[]
[]
[]
[]
[]
[]
[]
[]
[]
[]
[]
[]
[]
[]
[]
[]
[]
[]
[]
[]
[]
[]
[]
[]
[]
[]
[]
[]
[]
[]
[]
[]
[]
[]
[]
[]
[]
[]
[]
[]
[]
[]
[]
[]
[]
[]
[]
[]
[]
[]
[]
[]
[]
[]
[]
[]
[]
[]
[]
[]
[]
[]
[]
[]
[]
[]
[]
[]
[]
[]
[]
[]
[]
[]
[]
[]
[]
[]
[]
[]
[]
[]
[]
[]
[]
[]
[]
[]
[]
[]
[]
[]
[]
[]
[]
[]
[]
[]
[]
[]
[]
[]
[]
[]
[]
[]
[]
[]
[]
[]
[]
[]
[]
[]
[]
[]
[]
[]
[]
[]
[]
[]
[]
[]
[]
[]
[]
[]
[]
[]
[]
[]
[]
[]
[]
[]
[]
[]
[]
[]
[]
[]
[]
[]
[]
[]
[]
[]
[]
[]
[]
[]
[]
[]
[]
[]
[]
[]
[]
[]
[]
[]
[]
[]
[]
[]
[]
[]
[]
[]
[]
[]
[]
[]
[]
[]
[]
[]
[]
[]
[]
[]
[]
[]
[]
[]
[]
[]
[]
[]
[]
[]
[]
[]
[]
[]
[]
[]
[]
[]
[]
[]
[]
[]
[]
[]
[]
[]
[]
[]
[]
[]
[]
[]
[]
[]
[]
[]
[]
[]
[]
[]
[]
[]
[]
[]
[]
[]
[]
[]
[]
[]
[]
[]
[]
[]
[]
[]
[]
[]
[]
[]
[]
[]
[]
[]
[]
[]
[]
[]
[]
[]
[]
[]
[]
[]
[]
[]
[]
[]
[]
[]
[]
[]
[]
[]
[]
[]
[]
[]
[]
[]
[]
[]
[]
[]
[]
[]
[]
[]
[]
[]
[]
[]
[]
[]
[]
[]
[]
[]
[]
[]
[]
[]
[]
[]
[]
[]
[]
[]
[]
[]
[]
[]
[]
[]
[]
[]
[]
[]
[]
[]
[]
[]
[]
[]
[]
[]
[]
[]
[]
[]
[]
[]
[]
[]
[]
[]
[]
[]
[]
[]
[]
[]
[]
[]
[]
[]
[]
[]
[]
[]
[]
[]
[]
[]
[]
[]
[]
[]
[]
[]
[]
[]
[]
[]
[]
[]
[]
[]
[]
[]
[]
[]
[]
[]
[]
[]
[]
[]
[]
[]
[]
[]
[]
[]
[]
[]
[]
[]
[]
[]
[]
[]
[]
[]
[]
[]
[]
[]
[]
[]
[]
[]
[]
[]
[]
[]
[]
[]
[]
[]
[]
[]
[]
[]
[]
[]
[]
[]
[]
[]
[]
[]
[]
[]
[]
[]
[]
[]
[]
[]
[]
[]
[]
[]
[]
[]
[]
[]
[]
[]
[]
[]
[]
[]
[]
[]
[]
[]
[]
[]
[]
[]
[]
[]
[]
[]
[]
[]
[]
[]
[]
[]
[]
[]
[]
[]
[]
[]
[]
[]
[]
[]
[]
[]
[]
[]
[]
[]
[]
[]
[]
[]
[]
[]
[]
[]
[]
[]
[]
[]
[]
[]
[]
[]
[]
[]
[]
[]
[]
[]
[]
[]
[]
[]
[]
[]
[]
[]
[]
[]
[]
[]
[]
[]
[]
[]
[]
[]
[]
[]
[]
[]
[]
[]
[]
[]
[]
[]
[]
[]
[]
[]
[]
[]
[]
[]
[]
[]
[]
[]
[]
[]
[]
[]
[]
[]
[]
[]
[]
[]
[]
[]
[]
[]
[]
[]
[]
[]
[]
[]
[]
[]
[]
[]
[]
[]
[]
[]
[]
[]
[]
[]
[]
[]
[]
[]
[]
[]
[]
[]
[]
[]
[]
[]
[]
[]
[]
[]
[]
[]
[]
[]
[]
[]
[]
[]
[]
[]
[]
[]
[]
[]
[]
[]
[]
[]
[]
[]
[]
[]
[]
[]
[]
[]
[]
[]
[]
[]
[]
[]
[]
[]
[]
[]
[]
[]
[]
[]
[]
[]
[]
[]
[]
[]
[]
[]
[]
[]
[]
[]
[]
[]
[]
[]
[]
[]
[]
[]
[]
[]
[]
[]
[]
[]
[]
[]
[]
[]
[]
[]
[]
[]
[]
[]
[]
[]
[]
[]
[]
[]
[]
[]
[]
[]
[]
[]
[]
[]
[]
[]
[]
[]
[]
[]
[]
[]
[]
[]
[]
[]
[]
[]
[]
[]
[]
[]
[]
[]
[]
[]
[]
[]
[]
[]
[]
[]
[]
[]
[]
[]
[]
[]
[]
[]
[]
[]
[]
[]
[]
[]
[]
[]
[]
[]
[]
[]
[]
[]
[]
[]
[]
[]
[]
[]
[]
[]
[]
[]
[]
[]
[]
[]
[]
[]
[]
[]
[]
[]
[]
[]
[]
[]
[]
[]
[]
[]
[]
[]
[]
[]
[]
[]
[]
[]
[]
[]
[]
[]
[]
[]
[]
[]
[]
[]
[]
[]
[]
[]
[]
[]
[]
[]
[]
[]
[]
[]
[]
[]
[]
[]
[]
[]
[]
[]
[]
[]
[]
[]
[]
[]
[]
[]
[]
[]
[]
[]
[]
[]
[]
[]
[]
[]
[]
[]
[]
[]
[]
[]
[]
[]
[]
[]
[]
[]
[]
[]
[]
[]
[]
[]
[]
[]
[]
[]
[]
[]
[]
[]
[]
[]
[]
[]
[]
[]
[]
[]
[]
[]
[]
[]
[]
[]
[]
[]
[]
[]
[]
[]
[]
[]
[]
[]
[]
[]
[]
[]
[]
[]
[]
[]
[]
[]
[]
[]
[]
[]
[]
[]
[]
[]
[]
[]
[]
[]
[]
[]
[]
[]
[]
[]
[]
[]
[]
[]
[]
[]
[]
[]
[]
[]
[]
[]
[]
[]
[]
[]
[]
[]
[]
[]
[]
[]
[]
[]
[]
[]
[]
[]
[]
[]
[]
[]
[]
[]
[]
[]
[]
[]
[]
[]
[]
[]
[]
[]
[]
[]
[]
[]
[]
[]
[]
[]
[]
[]
[]
[]
[]
[]
[]
[]
[]
[]
[]
[]
[]
[]
[]
[]
[]
[]
[]
[]
[]
[]
[]
[]
[]
[]
[]
[]
[]
[]
[]
[]
[]
[]
[]
[]
[]
[]
[]
[]
[]
[]
[]
[]
[]
[]
[]
[]
[]
[]
[]
[]
[]
[]
[]
[]
[]
[]
[]
[]
[]
[]
[]
[]
[]
[]
[]
[]
[]
[]
[]
[]
[]
[]
[]
[]
[]
[]
[]
[]
[]
[]
[]
[]
[]
[]
[]
[]
[]
[]
[]
[]
[]
[]
[]
[]
[]
[]
[]
[]
[]
[]
[]
[]
[]
[]
[]
[]
[]
[]
[]
[]
[]
[]
[]
[]
[]
[]
[]
[]
[]
[]
[]
[]
[]
[]
[]
[]
[]
[]
[]
[]
[]
[]
[]
[]
[]
[]
[]
[]
[]
[]
[]
[]
[]
[]
[]
[]
[]
[]
[]
[]
[]
[]
[]
[]
[]
[]
[]
[]
[]
[]
[]
[]
[]
[]
[]
[]
[]
[]
[]
[]
[]
[]
[]
[]
[]
[]
[]
[]
[]
[]
[]
[]
[]
[]
[]
[]
[]
[]
[]
[]
[]
[]
[]
[]
[]
[]
[]
[]
[]
[]
[]
[]
[]
[]
[]
[]
[]
[]
[]
[]
[]
[]
[]
[]
[]
[]
[]
[]
[]
[]
[]
[]
[]
[]
[]
[]
[]
[]
[]
[]
[]
[]
[]
[]
[]
[]
[]
[]
[]
[]
[]
[]
[]
[]
[]
[]
[]
[]
[]
[]
[]
[]
[]
[]
[]
[]
[]
[]
[]
[]
[]
[]
[]
[]
[]
[]
[]
[]
[]
[]
[]
[]
[]
[]
[]
[]
[]
[]
[]
[]
[]
[]
[]
[]
[]
[]
[]
[]
[]
[]
[]
[]
[]
[]
[]
[]
[]
[]
[]
[]
[]
[]
[]
[]
[]
[]
[]
[]
[]
[]
[]
[]
[]
[]
[]
[]
[]
[]
[]
[]
[]
[]
[]
[]
[]
[]
[]
[]
[]
[]
[]
[]
[]
[]
[]
[]
[]
[]
[]
[]
[]
[]
[]
[]
[]
[]
[]
[]
[]
[]
[]
[]
[]
[]
[]
[]
[]
[]
[]
[]
[]
[]
[]
[]
[]
[]
[]
[]
[]
[]
[]
[]
[]
[]
[]
[]
[]
[]
[]
[]
[]
[]
[]
[]
[]
[]
[]
[]
[]
[]
[]
[]
[]
[]
[]
[]
[]
[]
[]
[]
[]
[]
[]
[]
[]
[]
[]
[]
[]
[]
[]
[]
[]
[]
[]
[]
[]
[]
[]
[]
[]
[]
[]
[]
[]
[]
[]
[]
[]
[]
[]
[]
[]
[]
[]
[]
[]
[]
[]
[]
[]
[]
[]
[]
[]
[]
[]
[]
[]
[]
[]
[]
[]
[]
[]
[]
[]
[]
[]
[]
[]
[]
[]
[]
[]
[]
[]
[]
[]
[]
[]
[]
[]
[]
[]
[]
[]
[]
[]
[]
[]
[]
[]
[]
[]
[]
[]
[]
[]
[]
[]
[]
[]
[]
[]
[]
[]
[]
[]
[]
[]
[]
[]
[]
[]
[]
[]
[]
[]
[]
[]
[]
[]
[]
[]
[]
[]
[]
[]
[]
[]
[]
[]
[]
[]
[]
[]
[]
[]
[]
[]
[]
[]
[]
[]
[]
[]
[]
[]
[]
[]
[]
[]
[]
[]
[]
[]
[]
[]
[]
[]
[]
[]
[]
[]
[]
[]
[]
[]
[]
[]
[]
[]
[]
[]
[]
[]
[]
[]
[]
[]
[]
[]
[]
[]
[]
[]
[]
[]
[]
[]
[]
[]
[]
[]
[]
[]
[]
[]
[]
[]
[]
[]
[]
[]
[]
[]
[]
[]
[]
[]
[]
[]
[]
[]
[]
[]
[]
[]
[]
[]
[]
[]
[]
[]
[]
[]
[]
[]
[]
[]
[]
[]
[]
[]
[]
[]
[]
[]
[]
[]
[]
[]
[]
[]
[]
[]
[]
[]
[]
[]
[]
[]
[]
[]
[]
[]
[]
[]
[]
[]
[]
[]
[]
[]
[]
[]
[]
[]
[]
[]
[]
[]
[]
[]
[]
[]
[]
[]
[]
[]
[]
[]
[]
[]
[]
[]
[]
[]
[]
[]
[]
[]
[]
[]
[]
[]
[]
[]
[]
[]
[]
[]
[]
[]
[]
[]
[]
[]
[]
[]
[]
[]
[]
[]
[]
[]
[]
[]
[]
[]
[]
[]
[]
[]
[]
[]
[]
[]
[]
[]
[]
[]
[]
[]
[]
[]
[]
[]
[]
[]
[]
[]
[]
[]
[]
[]
[]
[]
[]
[]
[]
[]
[]
[]
[]
[]
[]
[]
[]
[]
[]
[]
[]
[]
[]
[]
[]
[]
[]
[]
[]
[]
[]
[]
[]
[]
[]
[]
[]
[]
[]
[]
[]
[]
[]
[]
[]
[]
[]
[]
[]
[]
[]
[]
[]
[]
[]
[]
[]
[]
[]
[]
[]
[]
[]
[]
[]
[]
[]
[]
[]
[]
[]
[]
[]
[]
[]
[]
[]
[]
[]
[]
[]
[]
[]
[]
[]
[]
[]
[]
[]
[]
[]
[]
[]
[]
[]
[]
[]
[]
[]
[]
[]
[]
[]
[]
[]
[]
[]
[]
[]
[]
[]
[]
[]
[]
[]
[]
[]
[]
[]
[]
[]
[]
[]
[]
[]
[]
[]
[]
[]
[]
[]
[]
[]
[]
[]
[]
[]
[]
[]
[]
[]
[]
[]
[]
[]
[]
[]
[]
[]
[]
[]
[]
[]
[]
[]
[]
[]
[]
[]
[]
[]
[]
[]
[]
[]
[]
[]
[]
[]
[]
[]
[]
[]
[]
[]
[]
[]
[]
[]
[]
[]
[]
[]
[]
[]
[]
[]
[]
[]
[]
[]
[]
[]
[]
[]
[]
[]
[]
[]
[]
[]
[]
[]
[]
[]
[]
[]
[]
[]
[]
[]
[]
[]
[]
[]
[]
[]
[]
[]
[]
[]
[]
[]
[]
[]
[]
[]
[]
[]
[]
[]
[]
[]
[]
[]
[]
[]
[]
[]
[]
[]
[]
[]
[]
[]
[]
[]
[]
[]
[]
[]
[]
[]
[]
[]
[]
[]
[]
[]
[]
[]
[]
[]
[]
[]
[]
[]
[]
[]
[]
[]
[]
[]
[]
[]
[]
[]
[]
[]
[]
[]
[]
[]
[]
[]
[]
[]
[]
[]
[]
[]
[]
[]
[]
[]
[]
[]
[]
[]
[]
[]
[]
[]
[]
[]
[]
[]
[]
[]
[]
[]
[]
[]
[]
[]
[]
[]
[]
[]
[]
[]
[]
[]
[]
[]
[]
[]
[]
[]
[]
[]
[]
[]
[]
[]
[]
[]
[]
[]
[]
[]
[]
[]
[]
[]
[]
[]
[]
[]
[]
[]
[]
[]
[]
[]
[]
[]
[]
[]
[]
[]
[]
[]
[]
[]
[]
[]
[]
[]
[]
[]
[]
[]
[]
[]
[]
[]
[]
[]
[]
[]
[]
[]
[]
[]
[]
[]
[]
[]
[]
[]
[]
[]
[]
[]
[]
[]
[]
[]
[]
[]
[]
[]
[]
[]
[]
[]
[]
[]
[]
[]
[]
[]
[]
[]
[]
[]
[]
[]
[]
[]
[]
[]
[]
[]
[]
[]
[]
[]
[]
[]
[]
[]
[]
[]
[]
[]
[]
[]
[]
[]
[]
[]
[]
[]
[]
[]
[]
[]
[]
[]
[]
[]
[]
[]
[]
[]
[]
[]
[]
[]
[]
[]
[]
[]
[]
[]
[]
[]
[]
[]
[]
[]
[]
[]
[]
[]
[]
[]
[]
[]
[]
[]
[]
[]
[]
[]
[]
[]
[]
[]
[]
[]
[]
[]
[]
[]
[]
[]
[]
[]
[]
[]
[]
[]
[]
[]
[]
[]
[]
[]
[]
[]
[]
[]
[]
[]
[]
[]
[]
[]
[]
[]
[]
[]
[]
[]
[]
[]
[]
[]
[]
[]
[]
[]
[]
[]
[]
[]
[]
[]
[]
[]
[]
[]
[]
[]
[]
[]
[]
[]
[]
[]
[]
[]
[]
[]
[]
[]
[]
[]
[]
[]
[]
[]
[]
[]
[]
[]
[]
[]
[]
[]
[]
[]
[]
[]
[]
[]
[]
[]
[]
[]
[]
[]
[]
[]
[]
[]
[]
[]
[]
[]
[]
[]
[]
[]
[]
[]
[]
[]
[]
[]
[]
[]
[]
[]
[]
[]
[]
[]
[]
[]
[]
[]
[]
[]
[]
[]
[]
[]
[]
[]
[]
[]
[]
[]
[]
[]
[]
[]
[]
[]
[]
[]
[]
[]
[]
[]
[]
[]
[]
[]
[]
[]
[]
[]
[]
[]
[]
[]
[]
[]
[]
[]
[]
[]
[]
[]
[]
[]
[]
[]
[]
[]
[]
[]
[]
[]
[]
[]
[]
[]
[]
[]
[]
[]
[]
[]
[]
[]
[]
[]
[]
[]
[]
[]
[]
[]
[]
[]
[]
[]
[]
[]
[]
[]
[]
[]
[]
[]
[]
[]
[]
[]
[]
[]
[]
[]
[]
[]
[]
[]
[]
[]
[]
[]
[]
[]
[]
[]
[]
[]
[]
[]
[]
[]
[]
[]
[]
[]
[]
[]
[]
[]
[]
[]
[]
[]
[]
[]
[]
[]
[]
[]
[]
[]
[]
[]
[]
[]
[]
[]
[]
[]
[]
[]
[]
[]
[]
[]
[]
[]
[]
[]
[]
[]
[]
[]
[]
[]
[]
[]
[]
[]
[]
[]
[]
[]
[]
[]
[]
[]
[]
[]
[]
[]
[]
[]
[]
[]
[]
[]
[]
[]
[]
[]
[]
[]
[]
[]
[]
[]
[]
[]
[]
[]
[]
[]
[]
[]
[]
[]
[]
[]
[]
[]
[]
[]
[]
[]
[]
[]
[]
[]
[]
[]
[]
[]
[]
[]
[]
[]
[]
[]
[]
[]
[]
[]
[]
[]
[]
[]
[]
[]
[]
[]
[]
[]
[]
[]
[]
[]
[]
[]
[]
[]
[]
[]
[]
[]
[]
[]
[]
[]
[]
[]
[]
[]
[]
[]
[]
[]
[]
[]
[]
[]
[]
[]
[]
[]
[]
[]
[]
[]
[]
[]
[]
[]
[]
[]
[]
[]
[]
[]
[]
[]
[]
[]
[]
[]
[]
[]
[]
[]
[]
[]
[]
[]
[]
[]
[]
[]
[]
[]
[]
[]
[]
[]
[]
[]
[]
[]
[]
[]
[]
[]
[]
[]
[]
[]
[]
[]
[]
[]
[]
[]
[]
[]
[]
[]
[]
[]
[]
[]
[]
[]
[]
[]
[]
[]
[]
[]
[]
[]
[]
[]
[]
[]
[]
[]
[]
[]
[]
[]
[]
[]
[]
[]
[]
[]
[]
[]
[]
[]
[]
[]
[]
[]
[]
[]
[]
[]
[]
[]
[]
[]
[]
[]
[]
[]
[]
[]
[]
[]
[]
[]
[]
[]
[]
[]
[]
[]
[]
[]
[]
[]
[]
[]
[]
[]
[]
[]
[]
[]
[]
[]
[]
[]
[]
[]
[]
[]
[]
[]
[]
[]
[]
[]
[]
[]
[]
[]
[]
[]
[]
[]
[]
[]
[]
[]
[]
[]
[]
[]
[]
[]
[]
[]
[]
[]
[]
[]
[]
[]
[]
[]
[]
[]
[]
[]
[]
[]
[]
[]
[]
[]
[]
[]
[]
[]
[]
[]
[]
[]
[]
[]
[]
[]
[]
[]
[]
[]
[]
[]
[]
[]
[]
[]
[]
[]
[]
[]
[]
[]
[]
[]
[]
[]
[]
[]
[]
[]
[]
[]
[]
[]
[]
[]
[]
[]
[]
[]
[]
[]
[]
[]
[]
[]
[]
[]
[]
[]
[]
[]
[]
[]
[]
[]
[]
[]
[]
[]
[]
[]
[]
[]
[]
[]
[]
[]
[]
[]
[]
[]
[]
[]
[]
[]
[]
[]
[]
[]
[]
[]
[]
[]
[]
[]
[]
[]
[]
[]
[]
[]
[]
[]
[]
[]
[]
[]
[]
[]
[]
[]
[]
[]
[]
[]
[]
[]
[]
[]
[]
[]
[]
[]
[]
[]
[]
[]
[]
[]
[]
[]
[]
[]
[]
[]
[]
[]
[]
[]
[]
[]
[]
[]
[]
[]
[]
[]
[]
[]
[]
[]
[]
[]
[]
[]
[]
[]
[]
[]
[]
[]
[]
[]
[]
[]
[]
[]
[]
[]
[]
[]
[]
[]
[]
[]
[]
[]
[]
[]
[]
[]
[]
[]
[]
[]
[]
[]
[]
[]
[]
[]
[]
[]
[]
[]
[]
[]
[]
[]
[]
[]
[]
[]
[]
[]
[]
[]
[]
[]
[]
[]
[]
[]
[]
[]
[]
[]
[]
[]
[]
[]
[]
[]
[]
[]
[]
[]
[]
[]
[]
[]
[]
[]
[]
[]
[]
[]
[]
[]
[]
[]
[]
[]
[]
[]
[]
[]
[]
[]
[]
[]
[]
[]
[]
[]
[]
[]
[]
[]
[]
[]
[]
[]
[]
[]
[]
[]
[]
[]
[]
[]
[]
[]
[]
[]
[]
[]
[]
[]
[]
[]
[]
[]
[]
[]
[]
[]
[]
[]
[]
[]
[]
[]
[]
[]
[]
[]
[]
[]
[]
[]
[]
[]
[]
[]
[]
[]
[]
[]
[]
[]
[]
[]
[]
[]
[]
[]
[]
[]
[]
[]
[]
[]
[]
[]
[]
[]
[]
[]
[]
[]
[]
[]
[]
[]
[]
[]
[]
[]
[]
[]
[]
[]
[]
[]
[]
[]
[]
[]
[]
[]
[]
[]
[]
[]
[]
[]
[]
[]
[]
[]
[]
[]
[]
[]
[]
[]
[]
[]
[]
[]
[]
[]
[]
[]
[]
[]
[]
[]
[]
[]
[]
[]
[]
[]
[]
[]
[]
[]
[]
[]
[]
[]
[]
[]
[]
[]
[]
[]
[]
[]
[]
[]
[]
[]
[]
[]
[]
[]
[]
[]
[]
[]
[]
[]
[]
[]
[]
[]
[]
[]
[]
[]
[]
[]
[]
[]
[]
[]
[]
[]
[]
[]
[]
[]
[]
[]
[]
[]
[]
[]
[]
[]
[]
[]
[]
[]
[]
[]
[]
[]
[]
[]
[]
[]
[]
[]
[]
[]
[]
[]
[]
[]
[]
[]
[]
[]
[]
[]
[]
[]
[]
[]
[]
[]
[]
[]
[]
[]
[]
[]
[]
[]
[]
[]
[]
[]
[]
[]
[]
[]
[]
[]
[]
[]
[]
[]
[]
[]
[]
[]
[]
[]
[]
[]
[]
[]
[]
[]
[]
[]
[]
[]
[]
[]
[]
[]
[]
[]
[]
[]
[]
[]
[]
[]
[]
[]
[]
[]
[]
[]
[]
[]
[]
[]
[]
[]
[]
[]
[]
[]
[]
[]
[]
[]
[]
[]
[]
[]
[]
[]
[]
[]
[]
[]
[]
[]
[]
[]
[]
[]
[]
[]
[]
[]
[]
[]
[]
[]
[]
[]
[]
[]
[]
[]
[]
[]
[]
[]
[]
[]
[]
[]
[]
[]
[]
[]
[]
[]
[]
[]
[]
[]
[]
[]
[]
[]
[]
[]
[]
[]
[]
[]
[]
[]
[]
[]
[]
[]
[]
[]
[]
[]
[]
[]
[]
[]
[]
[]
[]
[]
[]
[]
[]
[]
[]
[]
[]
[]
[]
[]
[]
[]
[]
[]
[]
[]
[]
[]
[]
[]
[]
[]
[]
[]
[]
[]
[]
[]
[]
[]
[]
[]
[]
[]
[]
[]
[]
[]
[]
[]
[]
[]
[]
[]
[]
[]
[]
[]
[]
[]
[]
[]
[]
[]
[]
[]
[]
[]
[]
[]
[]
[]
[]
[]
[]
[]
[]
[]
[]
[]
[]
[]
[]
[]
[]
[]
[]
[]
[]
[]
[]
[]
[]
[]
[]
[]
[]
[]
[]
[]
[]
[]
[]
[]
[]
[]
[]
[]
[]
[]
[]
[]
[]
[]
[]
[]
[]
[]
[]
[]
[]
[]
[]
[]
[]
[]
[]
[]
[]
[]
[]
[]
[]
[]
[]
[]
[]
[]
[]
[]
[]
[]
[]
[]
[]
[]
[]
[]
[]
[]
[]
[]
[]
[]
[]
[]
[]
[]
[]
[]
[]
[]
[]
[]
[]
[]
[]
[]
[]
[]
[]
[]
[]
[]
[]
[]
[]
[]
[]
[]
[]
[]
[]
[]
[]
[]
[]
[]
[]
[]
[]
[]
[]
[]
[]
[]
[]
[]
[]
[]
[]
[]
[]
[]
[]
[]
[]
[]
[]
[]
[]
[]
[]
[]
[]
[]
[]
[]
[]
[]
[]
[]
[]
[]
[]
[]
[]
[]
[]
[]
[]
[]
[]
[]
[]
[]
[]
[]
[]
[]
[]
[]
[]
[]
[]
[]
[]
[]
[]
[]
[]
[]
[]
[]
[]
[]
[]
[]
[]
[]
[]
[]
[]
[]
[]
[]
[]
[]
[]
[]
[]
[]
[]
[]
[]
[]
[]
[]
[]
[]
[]
[]
[]
[]
[]
[]
[]
[]
[]
[]
[]
[]
[]
[]
[]
[]
[]
[]
[]
[]
[]
[]
[]
[]
[]
[]
[]
[]
[]
[]
[]
[]
[]
[]
[]
[]
[]
[]
[]
[]
[]
[]
[]
[]
[]
[]
[]
[]
[]
[]
[]
[]
[]
[]
[]
[]
[]
[]
[]
[]
[]
[]
[]
[]
[]
[]
[]
[]
[]
[]
[]
[]
[]
[]
[]
[]
[]
[]
[]
[]
[]
[]
[]
[]
[]
[]
[]
[]
[]
[]
[]
[]
[]
[]
[]
[]
[]
[]
[]
[]
[]
[]
[]
[]
[]
[]
[]
[]
[]
[]
[]
[]
[]
[]
[]
[]
[]
[]
[]
[]
[]
[]
[]
[]
[]
[]
[]
[]
[]
[]
[]
[]
[]
[]
[]
[]
[]
[]
[]
[]
[]
[]
[]
[]
[]
[]
[]
[]
[]
[]
[]
[]
[]
[]
[]
[]
[]
[]
[]
[]
[]
[]
[]
[]
[]
[]
[]
[]
[]
[]
[]
[]
[]
[]
[]
[]
[]
[]
[]
[]
[]
[]
[]
[]
[]
[]
[]
[]
[]
[]
[]
[]
[]
[]
[]
[]
[]
[]
[]
[]
[]
[]
[]
[]
[]
[]
[]
[]
[]
[]
[]
[]
[]
[]
[]
[]
[]
[]
[]
[]
[]
[]
[]
[]
[]
[]
[]
[]
[]
[]
[]
[]
[]
[]
[]
[]
[]
[]
[]
[]
[]
[]
[]
[]
[]
[]
[]
[]
[]
[]
[]
[]
[]
[]
[]
[]
[]
[]
[]
[]
[]
[]
[]
[]
[]
[]
[]
[]
[]
[]
[]
[]
[]
[]
[]
[]
[]
[]
[]
[]
[]
[]
[]
[]
[]
[]
[]
[]
[]
[]
[]
[]
[]
[]
[]
[]
[]
[]
[]
[]
[]
[]
[]
[]
[]
[]
[]
[]
[]
[]
[]
[]
[]
[]
[]
[]
[]
[]
[]
[]
[]
[]
[]
[]
[]
[]
[]
[]
[]
[]
[]
[]
[]
[]
[]
[]
[]
[]
[]
[]
[]
[]
[]
[]
[]
[]
[]
[]
[]
[]
[]
[]
[]
[]
[]
[]
[]
[]
[]
[]
[]
[]
[]
[]
[]
[]
[]
[]
[]
[]
[]
[]
[]
[]
[]
[]
[]
[]
[]
[]
[]
[]
[]
[]
[]
[]
[]
[]
[]
[]
[]
[]
[]
[]
[]
[]
[]
[]
[]
[]
[]
[]
[]
[]
[]
[]
[]
[]
[]
[]
[]
[]
[]
[]
[]
[]
[]
[]
[]
[]
[]
[]
[]
[]
[]
[]
[]
[]
[]
[]
[]
[]
[]
[]
[]
[]
[]
[]
[]
[]
[]
[]
[]
[]
[]
[]
[]
[]
[]
[]
[]
[]
[]
[]
[]
[]
[]
[]
[]
[]
[]
[]
[]
[]
[]
[]
[]
[]
[]
[]
[]
[]
[]
[]
[]
[]
[]
[]
[]
[]
[]
[]
[]
[]
[]
[]
[]
[]
[]
[]
[]
[]
[]
[]
[]
[]
[]
[]
[]
[]
[]
[]
[]
[]
[]
[]
[]
[]
[]
[]
[]
[]
[]
[]
[]
[]
[]
[]
[]
[]
[]
[]
[]
[]
[]
[]
[]
[]
[]
[]
[]
[]
[]
[]
[]
[]
[]
[]
[]
[]
[]
[]
[]
[]
[]
[]
[]
[]
[]
[]
[]
[]
[]
[]
[]
[]
[]
[]
[]
[]
[]
[]
[]
[]
[]
[]
[]
[]
[]
[]
[]
[]
[]
[]
[]
[]
[]
[]
[]
[]
[]
[]
[]
[]
[]
[]
[]
[]
[]
[]
[]
[]
[]
[]
[]
[]
[]
[]
[]
[]
[]
[]
[]
[]
[]
[]
[]
[]
[]
[]
[]
[]
[]
[]
[]
[]
[]
[]
[]
[]
[]
[]
[]
[]
[]
[]
[]
[]
[]
[]
[]
[]
[]
[]
[]
[]
[]
[]
[]
[]
[]
[]
[]
[]
[]
[]
[]
[]
[]
[]
[]
[]
[]
[]
[]
[]
[]
[]
[]
[]
[]
[]
[]
[]
[]
[]
[]
[]
[]
[]
[]
[]
[]
[]
[]
[]
[]
[]
[]
[]
[]
[]
[]
[]
[]
[]
[]
[]
[]
[]
[]
[]
[]
[]
[]
[]
[]
[]
[]
[]
[]
[]
[]
[]
[]
[]
[]
[]
[]
[]
[]
[]
[]
[]
[]
[]
[]
[]
[]
[]
[]
[]
[]
[]
[]
[]
[]
[]
[]
[]
[]
[]
[]
[]
[]
[]
[]
[]
[]
[]
[]
[]
[]
[]
[]
[]
[]
[]
[]
[]
[]
[]
[]
[]
[]
[]
[]
[]
[]
[]
[]
[]
[]
[]
[]
[]
[]
[]
[]
[]
[]
[]
[]
[]
[]
[]
[]
[]
[]
[]
[]
[]
[]
[]
[]
[]
[]
[]
[]
[]
[]
[]
[]
[]
[]
[]
[]
[]
[]
[]
[]
[]
[]
[]
[]
[]
[]
[]
[]
[]
[]
[]
[]
[]
[]
[]
[]
[]
[]
[]
[]
[]
[]
[]
[]
[]
[]
[]
[]
[]
[]
[]
[]
[]
[]
[]
[]
[]
[]
[]
[]
[]
[]
[]
[]
[]
[]
[]
[]
[]
[]
[]
[]
[]
[]
[]
[]
[]
[]
[]
[]
[]
[]
[]
[]
[]
[]
[]
[]
[]
[]
[]
[]
[]
[]
[]
[]
[]
[]
[]
[]
[]
[]
[]
[]
[]
[]
[]
[]
[]
[]
[]
[]
[]
[]
[]
[]
[]
[]
[]
[]
[]
[]
[]
[]
[]
[]
[]
[]
[]
[]
[]
[]
[]
[]
[]
[]
[]
[]
[]
[]
[]
[]
[]
[]
[]
[]
[]
[]
[]
[]
[]
[]
[]
[]
[]
[]
[]
[]
[]
[]
[]
[]
[]
[]
[]
[]
[]
[]
[]
[]
[]
[]
[]
[]
[]
[]
[]
[]
[]
[]
[]
[]
[]
[]
[]
[]
[]
[]
[]
[]
[]
[]
[]
[]
[]
[]
[]
[]
[]
[]
[]
[]
[]
[]
[]
[]
[]
[]
[]
[]
[]
[]
[]
[]
[]
[]
[]
[]
[]
[]
[]
[]
[]
[]
[]
[]
[]
[]
[]
[]
[]
[]
[]
[]
[]
[]
[]
[]
[]
[]
[]
[]
[]
[]
[]
[]
[]
[]
[]
[]
[]
[]
[]
[]
[]
[]
[]
[]
[]
[]
[]
[]
[]
[]
[]
[]
[]
[]
[]
[]
[]
[]
[]
[]
[]
[]
[]
[]
[]
[]
[]
[]
[]
[]
[]
[]
[]
[]
[]
[]
[]
[]
[]
[]
[]
[]
[]
[]
[]
[]
[]
[]
[]
[]
[]
[]
[]
[]
[]
[]
[]
[]
[]
[]
[]
[]
[]
[]
[]
[]
[]
[]
[]
[]
[]
[]
[]
[]
[]
[]
[]
[]
[]
[]
[]
[]
[]
[]
[]
[]
[]
[]
[]
[]
[]
[]
[]
[]
[]
[]
[]
[]
[]
[]
[]
[]
[]
[]
[]
[]
[]
[]
[]
[]
[]
[]
[]
[]
[]
[]
[]
[]
[]
[]
[]
[]
[]
[]
[]
[]
[]
[]
[]
[]
[]
[]
[]
[]
[]
[]
[]
[]
[]
[]
[]
[]
[]
[]
[]
[]
[]
[]
[]
[]
[]
[]
[]
[]
[]
[]
[]
[]
[]
[]
[]
[]
[]
[]
[]
[]
[]
[]
[]
[]
[]
[]
[]
[]
[]
[]
[]
[]
[]
[]
[]
[]
[]
[]
[]
[]
[]
[]
[]
[]
[]
[]
[]
[]
[]
[]
[]
[]
[]
[]
[]
[]
[]
[]
[]
[]
[]
[]
[]
[]
[]
[]
[]
[]
[]
[]
[]
[]
[]
[]
[]
[]
[]
[]
[]
[]
[]
[]
[]
[]
[]
[]
[]
[]
[]
[]
[]
[]
[]
[]
[]
[]
[]
[]
[]
[]
[]
[]
[]
[]
[]
[]
[]
[]
[]
[]
[]
[]
[]
[]
[]
[]
[]
[]
[]
[]
[]
[]
[]
[]
[]
[]
[]
[]
[]
[]
[]
[]
[]
[]
[]
[]
[]
[]
[]
[]
[]
[]
[]
[]
[]
[]
[]
[]
[]
[]
[]
[]
[]
[]
[]
[]
[]
[]
[]
[]
[]
[]
[]
[]
[]
[]
[]
[]
[]
[]
[]
[]
[]
[]
[]
[]
[]
[]
[]
[]
[]
[]
[]
[]
[]
[]
[]
[]
[]
[]
[]
[]
[]
[]
[]
[]
[]
[]
[]
[]
[]
[]
[]
[]
[]
[]
[]
[]
[]
[]
[]
[]
[]
[]
[]
[]
[]
[]
[]
[]
[]
[]
[]
[]
[]
[]
[]
[]
[]
[]
[]
[]
[]
[]
[]
[]
[]
[]
[]
[]
[]
[]
[]
[]
[]
[]
[]
[]
[]
[]
[]
[]
[]
[]
[]
[]
[]
[]
[]
[]
[]
[]
[]
[]
[]
[]
[]
[]
[]
[]
[]
[]
[]
[]
[]
[]
[]
[]
[]
[]
[]
[]
[]
[]
[]
[]
[]
[]
[]
[]
[]
[]
[]
[]
[]
[]
[]
[]
[]
[]
[]
[]
[]
[]
[]
[]
[]
[]
[]
[]
[]
[]
[]
[]
[]
[]
[]
[]
[]
[]
[]
[]
[]
[]
[]
[]
[]
[]
[]
[]
[]
[]
[]
[]
[]
[]
[]
[]
[]
[]
[]
[]
[]
[]
[]
[]
[]
[]
[]
[]
[]
[]
[]
[]
[]
[]
[]
[]
[]
[]
[]
[]
[]
[]
[]
[]
[]
[]
[]
[]
[]
[]
[]
[]
[]
[]
[]
[]
[]
[]
[]
[]
[]
[]
[]
[]
[]
[]
[]
[]
[]
[]
[]
[]
[]
[]
[]
[]
[]
[]
[]
[]
[]
[]
[]
[]
[]
[]
[]
[]
[]
[]
[]
[]
[]
[]
[]
[]
[]
[]
[]
[]
[]
[]
[]
[]
[]
[]
[]
[]
[]
[]
[]
[]
[]
[]
[]
[]
[]
[]
[]
[]
[]
[]
[]
[]
[]
[]
[]
[]
[]
[]
[]
[]
[]
[]
[]
[]
[]
[]
[]
[]
[]
[]
[]
[]
[]
[]
[]
[]
[]
[]
[]
[]
[]
[]
[]
[]
[]
[]
[]
[]
[]
[]
[]
[]
[]
[]
[]
[]
[]
[]
[]
[]
[]
[]
[]
[]
[]
[]
[]
[]
[]
[]
[]
[]
[]
[]
[]
[]
[]
[]
[]
[]
[]
[]
[]
[]
[]
[]
[]
[]
[]
[]
[]
[]
[]
[]
[]
[]
[]
[]
[]
[]
[]
[]
[]
[]
[]
[]
[]
[]
[]
[]
[]
[]
[]
[]
[]
[]
[]
[]
[]
[]
[]
[]
[]
[]
[]
[]
[]
[]
[]
[]
[]
[]
[]
[]
[]
[]
[]
[]
[]
[]
[]
[]
[]
[]
[]
[]
[]
[]
[]
[]
[]
[]
[]
[]
[]
[]
[]
[]
[]
[]
[]
[]
[]
[]
[]
[]
[]
[]
[]
[]
[]
[]
[]
[]
[]
[]
[]
[]
[]
[]
[]
[]
[]
[]
[]
[]
[]
[]
[]
[]
[]
[]
[]
[]
[]
[]
[]
[]
[]
[]
[]
[]
[]
[]
[]
[]
[]
[]
[]
[]
[]
[]
[]
[]
[]
[]
[]
[]
[]
[]
[]
[]
[]
[]
[]
[]
[]
[]
[]
[]
[]
[]
[]
[]
[]
[]
[]
[]
[]
[]
[]
[]
[]
[]
[]
[]
[]
[]
[]
[]
[]
[]
[]
[]
[]
[]
[]
[]
[]
[]
[]
[]
[]
[]
[]
[]
[]
[]
[]
[]
[]
[]
[]
[]
[]
[]
[]
[]
[]
[]
[]
[]
[]
[]
[]
[]
[]
[]
[]
[]
[]
[]
[]
[]
[]
[]
[]
[]
[]
[]
[]
[]
[]
[]
[]
[]
[]
[]
[]
[]
[]
[]
[]
[]
[]
[]
[]
[]
[]
[]
[]
[]
[]
[]
[]
[]
[]
[]
[]
[]
[]
[]
[]
[]
[]
[]
[]
[]
[]
[]
[]
[]
[]
[]
[]
[]
[]
[]
[]
[]
[]
[]
[]
[]
[]
[]
[]
[]
[]
[]
[]
[]
[]
[]
[]
[]
[]
[]
[]
[]
[]
[]
[]
[]
[]
[]
[]
[]
[]
[]
[]
[]
[]
[]
[]
[]
[]
[]
[]
[]
[]
[]
[]
[]
[]
[]
[]
[]
[]
[]
[]
[]
[]
[]
[]
[]
[]
[]
[]
[]
[]
[]
[]
[]
[]
[]
[]
[]
[]
[]
[]
[]
[]
[]
[]
[]
[]
[]
[]
[]
[]
[]
[]
[]
[]
[]
[]
[]
[]
[]
[]
[]
[]
[]
[]
[]
[]
[]
[]
[]
[]
[]
[]
[]
[]
[]
[]
[]
[]
[]
[]
[]
[]
[]
[]
[]
[]
[]
[]
[]
[]
[]
[]
[]
[]
[]
[]
[]
[]
[]
[]
[]
[]
[]
[]
[]
[]
[]
[]
[]
[]
[]
[]
[]
[]
[]
[]
[]
[]
[]
[]
[]
[]
[]
[]
[]
[]
[]
[]
[]
[]
[]
[]
[]
[]
[]
[]
[]
[]
[]
[]
[]
[]
[]
[]
[]
[]
[]
[]
[]
[]
[]
[]
[]
[]
[]
[]
[]
[]
[]
[]
[]
[]
[]
[]
[]
[]
[]
[]
[]
[]
[]
[]
[]
[]
[]
[]
[]
[]
[]
[]
[]
[]
[]
[]
[]
[]
[]
[]
[]
[]
[]
[]
[]
[]
[]
[]
[]
[]
[]
[]
[]
[]
[]
[]
[]
[]
[]
[]
[]
[]
[]
[]
[]
[]
[]
[]
[]
[]
[]
[]
[]
[]
[]
[]
[]
[]
[]
[]
[]
[]
[]
[]
[]
[]
[]
[]
[]
[]
[]
[]
[]
[]
[]
[]
[]
[]
[]
[]
[]
[]
[]
[]
[]
[]
[]
[]
[]
[]
[]
[]
[]
[]
[]
[]
[]
[]
[]
[]
[]
[]
[]
[]
[]
[]
[]
[]
[]
[]
[]
[]
[]
[]
[]
[]
[]
[]
[]
[]
[]
[]
[]
[]
[]
[]
[]
[]
[]
[]
[]
[]
[]
[]
[]
[]
[]
[]
[]
[]
[]
[]
[]
[]
[]
[]
[]
[]
[]
[]
[]
[]
[]
[]
[]
[]
[]
[]
[]
[]
[]
[]
[]
[]
[]
[]
[]
[]
[]
[]
[]
[]
[]
[]
[]
[]
[]
[]
[]
[]
[]
[]
[]
[]
[]
[]
[]
[]
[]
[]
[]
[]
[]
[]
[]
[]
[]
[]
[]
[]
[]
[]
[]
[]
[]
[]
[]
[]
[]
[]
[]
[]
[]
[]
[]
[]
[]
[]
[]
[]
[]
[]
[]
[]
[]
[]
[]
[]
[]
[]
[]
[]
[]
[]
[]
[]
[]
[]
[]
[]
[]
[]
[]
[]
[]
[]
[]
[]
[]
[]
[]
[]
[]
[]
[]
[]
[]
[]
[]
[]
[]
[]
[]
[]
[]
[]
[]
[]
[]
[]
[]
[]
[]
[]
[]
[]
[]
[]
[]
[]
[]
[]
[]
[]
[]
[]
[]
[]
[]
[]
[]
[]
[]
[]
[]
[]
[]
[]
[]
[]
[]
[]
[]
[]
[]
[]
[]
[]
[]
[]
[]
[]
[]
[]
[]
[]
[]
[]
[]
[]
[]
[]
[]
[]
[]
[]
[]
[]
[]
[]
[]
[]
[]
[]
[]
[]
[]
[]
[]
[]
[]
[]
[]
[]
[]
[]
[]
[]
[]
[]
[]
[]
[]
[]
[]
[]
[]
[]
[]
[]
[]
[]
[]
[]
[]
[]
[]
[]
[]
[]
[]
[]
[]
[]
[]
[]
[]
[]
[]
[]
[]
[]
[]
[]
[]
[]
[]
[]
[]
[]
[]
[]
[]
[]
[]
[]
[]
[]
[]
[]
[]
[]
[]
[]
[]
[]
[]
[]
[]
[]
[]
[]
[]
[]
[]
[]
[]
[]
[]
[]
[]
[]
[]
[]
[]
[]
[]
[]
[]
[]
[]
[]
[]
[]
[]
[]
[]
[]
[]
[]
[]
[]
[]
[]
[]
[]
[]
[]
[]
[]
[]
[]
[]
[]
[]
[]
[]
[]
[]
[]
[]
[]
[]
[]
[]
[]
[]
[]
[]
[]
[]
[]
[]
[]
[]
[]
[]
[]
[]
[]
[]
[]
[]
[]
[]
[]
[]
[]
[]
[]
[]
[]
[]
[]
[]
[]
[]
[]
[]
[]
[]
[]
[]
[]
[]
[]
[]
[]
[]
[]
[]
[]
[]
[]
[]
[]
[]
[]
[]
[]
[]
[]
[]
[]
[]
[]
[]
[]
[]
[]
[]
[]
[]
[]
[]
[]
[]
[]
[]
[]
[]
[]
[]
[]
[]
[]
[]
[]
[]
[]
[]
[]
[]
[]
[]
[]
[]
[]
[]
[]
[]
[]
[]
[]
[]
[]
[]
[]
[]
[]
[]
[]
[]
[]
[]
[]
[]
[]
[]
[]
[]
[]
[]
[]
[]
[]
[]
[]
[]
[]
[]
[]
[]
[]
[]
[]
[]
[]
[]
[]
[]
[]
[]
[]
[]
[]
[]
[]
[]
[]
[]
[]
[]
[]
[]
[]
[]
[]
[]
[]
[]
[]
[]
[]
[]
[]
[]
[]
[]
[]
[]
[]
[]
[]
[]
[]
[]
[]
[]
[]
[]
[]
[]
[]
[]
[]
[]
[]
[]
[]
[]
[]
[]
[]
[]
[]
[]
[]
[]
[]
[]
[]
[]
[]
[]
[]
[]
[]
[]
[]
[]
[]
[]
[]
[]
[]
[]
[]
[]
[]
[]
[]
[]
[]
[]
[]
[]
[]
[]
[]
[]
[]
[]
[]
[]
[]
[]
[]
[]
[]
[]
[]
[]
[]
[]
[]
[]
[]
[]
[]
[]
[]
[]
[]
[]
[]
[]
[]
[]
[]
[]
[]
[]
[]
[]
[]
[]
[]
[]
[]
[]
[]
[]
[]
[]
[]
[]
[]
[]
[]
[]
[]
[]
[]
[]
[]
[]
[]
[]
[]
[]
[]
[]
[]
[]
[]
[]
[]
[]
[]
[]
[]
[]
[]
[]
[]
[]
[]
[]
[]
[]
[]
[]
[]
[]
[]
[]
[]
[]
[]
[]
[]
[]
[]
[]
[]
[]
[]
[]
[]
[]
[]
[]
[]
[]
[]
[]
[]
[]
[]
[]
[]
[]
[]
[]
[]
[]
[]
[]
[]
[]
[]
[]
[]
[]
[]
[]
[]
[]
[]
[]
[]
[]
[]
[]
[]
[]
[]
[]
[]
[]
[]
[]
[]
[]
[]
[]
[]
[]
[]
[]
[]
[]
[]
[]
[]
[]
[]
[]
[]
[]
[]
[]
[]
[]
[]
[]
[]
[]
[]
[]
[]
[]
[]
[]
[]
[]
[]
[]
[]
[]
[]
[]
[]
[]
[]
[]
[]
[]
[]
[]
[]
[]
[]
[]
[]
[]
[]
[]
[]
[]
[]
[]
[]
[]
[]
[]
[]
[]
[]
[]
[]
[]
[]
[]
[]
[]
[]
[]
[]
[]
[]
[]
[]
[]
[]
[]
[]
[]
[]
[]
[]
[]
[]
[]
[]
[]
[]
[]
[]
[]
[]
[]
[]
[]
[]
[]
[]
[]
[]
[]
[]
[]
[]
[]
[]
[]
[]
[]
[]
[]
[]
[]
[]
[]
[]
[]
[]
[]
[]
[]
[]
[]
[]
[]
[]
[]
[]
[]
[]
[]
[]
[]
[]
[]
[]
[]
[]
[]
[]
[]
[]
[]
[]
[]
[]
[]
[]
[]
[]
[]
[]
[]
[]
[]
[]
[]
[]
[]
[]
[]
[]
[]
[]
[]
[]
[]
[]
[]
[]
[]
[]
[]
[]
[]
[]
[]
[]
[]
[]
[]
[]
[]
[]
[]
[]
[]
[]
[]
[]
[]
[]
[]
[]
[]
[]
[]
[]
[]
[]
[]
[]
[]
[]
[]
[]
[]
[]
[]
[]
[]
[]
[]
[]
[]
[]
[]
[]
[]
[]
[]
[]
[]
[]
[]
[]
[]
[]
[]
[]
[]
[]
[]
[]
[]
[]
[]
[]
[]
[]
[]
[]
[]
[]
[]
[]
[]
[]
[]
[]
[]
[]
[]
[]
[]
[]
[]
[]
[]
[]
[]
[]
[]
[]
[]
[]
[]
[]
[]
[]
[]
[]
[]
[]
[]
[]
[]
[]
[]
[]
[]
[]
[]
[]
[]
[]
[]
[]
[]
[]
[]
[]
[]
[]
[]
[]
[]
[]
[]
[]
[]
[]
[]
[]
[]
[]
[]
[]
[]
[]
[]
[]
[]
[]
[]
[]
[]
[]
[]
[]
[]
[]
[]
[]
[]
[]
[]
[]
[]
[]
[]
[]
[]
[]
[]
[]
[]
[]
[]
[]
[]
[]
[]
[]
[]
[]
[]
[]
[]
[]
[]
[]
[]
[]
[]
[]
[]
[]
[]
[]
[]
[]
[]
[]
[]
[]
[]
[]
[]
[]
[]
[]
[]
[]
[]
[]
[]
[]
[]
[]
[]
[]
[]
[]
[]
[]
[]
[]
[]
[]
[]
[]
[]
[]
[]
[]
[]
[]
[]
[]
[]
[]
[]
[]
[]
[]
[]
[]
[]
[]
[]
[]
[]
[]
[]
[]
[]
[]
[]
[]
[]
[]
[]
[]
[]
[]
[]
[]
[]
[]
[]
[]
[]
[]
[]
[]
[]
[]
[]
[]
[]
[]
[]
[]
[]
[]
[]
[]
[]
[]
[]
[]
[]
[]
[]
[]
[]
[]
[]
[]
[]
[]
[]
[]
[]
[]
[]
[]
[]
[]
[]
[]
[]
[]
[]
[]
[]
[]
[]
[]
[]
[]
[]
[]
[]
[]
[]
[]
[]
[]
[]
[]
[]
[]
[]
[]
[]
[]
[]
[]
[]
[]
[]
[]
[]
[]
[]
[]
[]
[]
[]
[]
[]
[]
[]
[]
[]
[]
[]
[]
[]
[]
[]
[]
[]
[]
[]
[]
[]
[]
[]
[]
[]
[]
[]
[]
[]
[]
[]
[]
[]
[]
[]
[]
[]
[]
[]
[]
[]
[]
[]
[]
[]
[]
[]
[]
[]
[]
[]
[]
[]
[]
[]
[]
[]
[]
[]
[]
[]
[]
[]
[]
[]
[]
[]
[]
[]
[]
[]
[]
[]
[]
[]
[]
[]
[]
[]
[]
[]
[]
[]
[]
[]
[]
[]
[]
[]
[]
[]
[]
[]
[]
[]
[]
[]
[]
[]
[]
[]
[]
[]
[]
[]
[]
[]
[]
[]
[]
[]
[]
[]
[]
[]
[]
[]
[]
[]
[]
[]
[]
[]
[]
[]
[]
[]
[]
[]
[]
[]
[]
[]
[]
[]
[]
[]
[]
[]
[]
[]
[]
[]
[]
[]
[]
[]
[]
[]
[]
[]
[]
[]
[]
[]
[]
[]
[]
[]
[]
[]
[]
[]
[]
[]
[]
[]
[]
[]
[]
[]
[]
[]
[]
[]
[]
[]
[]
[]
[]
[]
[]
[]
[]
[]
[]
[]
[]
[]
[]
[]
[]
[]
[]
[]
[]
[]
[]
[]
[]
[]
[]
[]
[]
[]
[]
[]
[]
[]
[]
[]
[]
[]
[]
[]
[]
[]
[]
[]
[]
[]
[]
[]
[]
[]
[]
[]
[]
[]
[]
[]
[]
[]
[]
[]
[]
[]
[]
[]
[]
[]
[]
[]
[]
[]
[]
[]
[]
[]
[]
[]
[]
[]
[]
[]
[]
[]
[]
[]
[]
[]
[]
[]
[]
[]
[]
[]
[]
[]
[]
[]
[]
[]
[]
[]
[]
[]
[]
[]
[]
[]
[]
[]
[]
[]
[]
[]
[]
[]
[]
[]
[]
[]
[]
[]
[]
[]
[]
[]
[]
[]
[]
[]
[]
[]
[]
[]
[]
[]
[]
[]
[]
[]
[]
[]
[]
[]
[]
[]
[]
[]
[]
[]
[]
[]
[]
[]
[]
[]
[]
[]
[]
[]
[]
[]
[]
[]
[]
[]
[]
[]
[]
[]
[]
[]
[]
[]
[]
[]
[]
[]
[]
[]
[]
[]
[]
[]
[]
[]
[]
[]
[]
[]
[]
[]
[]
[]
[]
[]
[]
[]
[]
[]
[]
[]
[]
[]
[]
[]
[]
[]
[]
[]
[]
[]
[]
[]
[]
[]
[]
[]
[]
[]
[]
[]
[]
[]
[]
[]
[]
[]
[]
[]
[]
[]
[]
[]
[]
[]
[]
[]
[]
[]
[]
[]
[]
[]
[]
[]
[]
[]
[]
[]
[]
[]
[]
[]
[]
[]
[]
[]
[]
[]
[]
[]
[]
[]
[]
[]
[]
[]
[]
[]
[]
[]
[]
[]
[]
[]
[]
[]
[]
[]
[]
[]
[]
[]
[]
[]
[]
[]
[]
[]
[]
[]
[]
[]
[]
[]
[]
[]
[]
[]
[]
[]
[]
[]
[]
[]
[]
[]
[]
[]
[]
[]
[]
[]
[]
[]
[]
[]
[]
[]
[]
[]
[]
[]
[]
[]
[]
[]
[]
[]
[]
[]
[]
[]
[]
[]
[]
[]
[]
[]
[]
[]
[]
[]
[]
[]
[]
[]
[]
[]
[]
[]
[]
[]
[]
[]
[]
[]
[]
[]
[]
[]
[]
[]
[]
[]
[]
[]
[]
[]
[]
[]
[]
[]
[]
[]
[]
[]
[]
[]
[]
[]
[]
[]
[]
[]
[]
[]
[]
[]
[]
[]
[]
[]
[]
[]
[]
[]
[]
[]
[]
[]
[]
[]
[]
[]
[]
[]
[]
[]
[]
[]
[]
[]
[]
[]
[]
[]
[]
[]
[]
[]
[]
[]
[]
[]
[]
[]
[]
[]
[]
[]
[]
[]
[]
[]
[]
[]
[]
[]
[]
[]
[]
[]
[]
[]
[]
[]
[]
[]
[]
[]
[]
[]
[]
[]
[]
[]
[]
[]
[]
[]
[]
[]
[]
[]
[]
[]
[]
[]
[]
[]
[]
[]
[]
[]
[]
[]
[]
[]
[]
[]
[]
[]
[]
[]
[]
[]
[]
[]
[]
[]
[]
[]
[]
[]
[]
[]
[]
[]
[]
[]
[]
[]
[]
[]
[]
[]
[]
[]
[]
[]
[]
[]
[]
[]
[]
[]
[]
[]
[]
[]
[]
[]
[]
[]
[]
[]
[]
[]
[]
[]
[]
[]
[]
[]
[]
[]
[]
[]
[]
[]
[]
[]
[]
[]
[]
[]
[]
[]
[]
[]
[]
[]
[]
[]
[]
[]
[]
[]
[]
[]
[]
[]
[]
[]
[]
[]
[]
[]
[]
[]
[]
[]
[]
[]
[]
[]
[]
[]
[]
[]
[]
[]
[]
[]
[]
[]
[]
[]
[]
[]
[]
[]
[]
[]
[]
[]
[]
[]
[]
[]
[]
[]
[]
[]
[]
[]
[]
[]
[]
[]
[]
[]
[]
[]
[]
[]
[]
[]
[]
[]
[]
[]
[]
[]
[]
[]
[]
[]
[]
[]
[]
[]
[]
[]
[]
[]
[]
[]
[]
[]
[]
[]
[]
[]
[]
[]
[]
[]
[]
[]
[]
[]
[]
[]
[]
[]
[]
[]
[]
[]
[]
[]
[]
[]
[]
[]
[]
[]
[]
[]
[]
[]
[]
[]
[]
[]
[]
[]
[]
[]
[]
[]
[]
[]
[]
[]
[]
[]
[]
[]
[]
[]
[]
[]
[]
[]
[]
[]
[]
[]
[]
[]
[]
[]
[]
[]
[]
[]
[]
[]
[]
[]
[]
[]
[]
[]
[]
[]
[]
[]
[]
[]
[]
[]
[]
[]
[]
[]
[]
[]
[]
[]
[]
[]
[]
[]
[]
[]
[]
[]
[]
[]
[]
[]
[]
[]
[]
[]
[]
[]
[]
[]
[]
[]
[]
[]
[]
[]
[]
[]
[]
[]
[]
[]
[]
[]
[]
[]
[]
[]
[]
[]
[]
[]
[]
[]
[]
[]
[]
[]
[]
[]
[]
[]
[]
[]
[]
[]
[]
[]
[]
[]
[]
[]
[]
[]
[]
[]
[]
[]
[]
[]
[]
[]
[]
[]
[]
[]
[]
[]
[]
[]
[]
[]
[]
[]
[]
[]
[]
[]
[]
[]
[]
[]
[]
[]
[]
[]
[]
[]
[]
[]
[]
[]
[]
[]
[]
[]
[]
[]
[]
[]
[]
[]
[]
[]
[]
[]
[]
[]
[]
[]
[]
[]
[]
[]
[]
[]
[]
[]
[]
[]
[]
[]
[]
[]
[]
[]
[]
[]
[]
[]
[]
[]
[]
[]
[]
[]
[]
[]
[]
[]
[]
[]
[]
[]
[]
[]
[]
[]
[]
[]
[]
[]
[]
[]
[]
[]
[]
[]
[]
[]
[]
[]
[]
[]
[]
[]
[]
[]
[]
[]
[]
[]
[]
[]
[]
[]
[]
[]
[]
[]
[]
[]
[]
[]
[]
[]
[]
[]
[]
[]
[]
[]
[]
[]
[]
[]
[]
[]
[]
[]
[]
[]
[]
[]
[]
[]
[]
[]
[]
[]
[]
[]
[]
[]
[]
[]
[]
[]
[]
[]
[]
[]
[]
[]
[]
[]
[]
[]
[]
[]
[]
[]
[]
[]
[]
[]
[]
[]
[]
[]
[]
[]
[]
[]
[]
[]
[]
[]
[]
[]
[]
[]
[]
[]
[]
[]
[]
[]
[]
[]
[]
[]
[]
[]
[]
[]
[]
[]
[]
[]
[]
[]
[]
[]
[]
[]
[]
[]
[]
[]
[]
[]
[]
[]
[]
[]
[]
[]
[]
[]
[]
[]
[]
[]
[]
[]
[]
[]
[]
[]
[]
[]
[]
[]
[]
[]
[]
[]
[]
[]
[]
[]
[]
[]
[]
[]
[]
[]
[]
[]
[]
[]
[]
[]
[]
[]
[]
[]
[]
[]
[]
[]
[]
[]
[]
[]
[]
[]
[]
[]
[]
[]
[]
[]
[]
[]
[]
[]
[]
[]
[]
[]
[]
[]
[]
[]
[]
[]
[]
[]
[]
[]
[]
[]
[]
[]
[]
[]
[]
[]
[]
[]
[]
[]
[]
[]
[]
[]
[]
[]
[]
[]
[]
[]
[]
[]
[]
[]
[]
[]
[]
[]
[]
[]
[]
[]
[]
[]
[]
[]
[]
[]
[]
[]
[]
[]
[]
[]
[]
[]
[]
[]
[]
[]
[]
[]
[]
[]
[]
[]
[]
[]
[]
[]
[]
[]
[]
[]
[]
[]
[]
[]
[]
[]
[]
[]
[]
[]
[]
[]
[]
[]
[]
[]
[]
[]
[]
[]
[]
[]
[]
[]
[]
[]
[]
[]
[]
[]
[]
[]
[]
[]
[]
[]
[]
[]
[]
[]
[]
[]
[]
[]
[]
[]
[]
[]
[]
[]
[]
[]
[]
[]
[]
[]
[]
[]
[]
[]
[]
[]
[]
[]
[]
[]
[]
[]
[]
[]
[]
[]
[]
[]
[]
[]
[]
[]
[]
[]
[]
[]
[]
[]
[]
[]
[]
[]
[]
[]
[]
[]
[]
[]
[]
[]
[]
[]
[]
[]
[]
[]
[]
[]
[]
[]
[]
[]
[]
[]
[]
[]
[]
[]
[]
[]
[]
[]
[]
[]
[]
[]
[]
[]
[]
[]
[]
[]
[]
[]
[]
[]
[]
[]
[]
[]
[]
[]
[]
[]
[]
[]
[]
[]
[]
[]
[]
[]
[]
[]
[]
[]
[]
[]
[]
[]
[]
[]
[]
[]
[]
[]
[]
[]
[]
[]
[]
[]
[]
[]
[]
[]
[]
[]
[]
[]
[]
[]
[]
[]
[]
[]
[]
[]
[]
[]
[]
[]
[]
[]
[]
[]
[]
[]
[]
[]
[]
[]
[]
[]
[]
[]
[]
[]
[]
[]
[]
[]
[]
[]
[]
[]
[]
[]
[]
[]
[]
[]
[]
[]
[]
[]
[]
[]
[]
[]
[]
[]
[]
[]
[]
[]
[]
[]
[]
[]
[]
[]
[]
[]
[]
[]
[]
[]
[]
[]
[]
[]
[]
[]
[]
[]
[]
[]
[]
[]
[]
[]
[]
[]
[]
[]
[]
[]
[]
[]
[]
[]
[]
[]
[]
[]
[]
[]
[]
[]
[]
[]
[]
[]
[]
[]
[]
[]
[]
[]
[]
[]
[]
[]
[]
[]
[]
[]
[]
[]
[]
[]
[]
[]
[]
[]
[]
[]
[]
[]
[]
[]
[]
[]
[]
[]
[]
[]
[]
[]
[]
[]
[]
[]
[]
[]
[]
[]
[]
[]
[]
[]
[]
[]
[]
[]
[]
[]
[]
[]
[]
[]
[]
[]
[]
[]
[]
[]
[]
[]
[]
[]
[]
[]
[]
[]
[]
[]
[]
[]
[]
[]
[]
[]
[]
[]
[]
[]
[]
[]
[]
[]
[]
[]
[]
[]
[]
[]
[]
[]
[]
[]
[]
[]
[]
[]
[]
[]
[]
[]
[]
[]
[]
[]
[]
[]
[]
[]
[]
[]
[]
[]
[]
[]
[]
[]
[]
[]
[]
[]
[]
[]
[]
[]
[]
[]
[]
[]
[]
[]
[]
[]
[]
[]
[]
[]
[]
[]
[]
[]
[]
[]
[]
[]
[]
[]
[]
[]
[]
[]
[]
[]
[]
[]
[]
[]
[]
[]
[]
[]
[]
[]
[]
[]
[]
[]
[]
[]
[]
[]
[]
[]
[]
[]
[]
[]
[]
[]
[]
[]
[]
[]
[]
[]
[]
[]
[]
[]
[]
[]
[]
[]
[]
[]
[]
[]
[]
[]
[]
[]
[]
[]
[]
[]
[]
[]
[]
[]
[]
[]
[]
[]
[]
[]
[]
[]
[]
[]
[]
[]
[]
[]
[]
[]
[]
[]
[]
[]
[]
[]
[]
[]
[]
[]
[]
[]
[]
[]
[]
[]
[]
[]
[]
[]
[]
[]
[]
[]
[]
[]
[]
[]
[]
[]
[]
[]
[]
[]
[]
[]
[]
[]
[]
[]
[]
[]
[]
[]
[]
[]
[]
[]
[]
[]
[]
[]
[]
[]
[]
[]
[]
[]
[]
[]
[]
[]
[]
[]
[]
[]
[]
[]
[]
[]
[]
[]
[]
[]
[]
[]
[]
[]
[]
[]
[]
[]
[]
[]
[]
[]
[]
[]
[]
[]
[]
[]
[]
[]
[]
[]
[]
[]
[]
[]
[]
[]
[]
[]
[]
[]
[]
[]
[]
[]
[]
[]
[]
[]
[]
[]
[]
[]
[]
[]
[]
[]
[]
[]
[]
[]
[]
[]
[]
[]
[]
[]
[]
[]
[]
[]
[]
[]
[]
[]
[]
[]
[]
[]
[]
[]
[]
[]
[]
[]
[]
[]
[]
[]
[]
[]
[]
[]
[]
[]
[]
[]
[]
[]
[]
[]
[]
[]
[]
[]
[]
[]
[]
[]
[]
[]
[]
[]
[]
[]
[]
[]
[]
[]
[]
[]
[]
[]
[]
[]
[]
[]
[]
[]
[]
[]
[]
[]
[]
[]
[]
[]
[]
[]
[]
[]
[]
[]
[]
[]
[]
[]
[]
[]
[]
[]
[]
[]
[]
[]
[]
[]
[]
[]
[]
[]
[]
[]
[]
[]
[]
[]
[]
[]
[]
[]
[]
[]
[]
[]
[]
[]
[]
[]
[]
[]
[]
[]
[]
[]
[]
[]
[]
[]
[]
[]
[]
[]
[]
[]
[]
[]
[]
[]
[]
[]
[]
[]
[]
[]
[]
[]
[]
[]
[]
[]
[]
[]
[]
[]
[]
[]
[]
[]
[]
[]
[]
[]
[]
[]
[]
[]
[]
[]
[]
[]
[]
[]
[]
[]
[]
[]
[]
[]
[]
[]
[]
[]
[]
[]
[]
[]
[]
[]
[]
[]
[]
[]
[]
[]
[]
[]
[]
[]
[]
[]
[]
[]
[]
[]
[]
[]
[]
[]
[]
[]
[]
[]
[]
[]
[]
[]
[]
[]
[]
[]
[]
[]
[]
[]
[]
[]
[]
[]
[]
[]
[]
[]
[]
[]
[]
[]
[]
[]
[]
[]
[]
[]
[]
[]
[]
[]
[]
[]
[]
[]
[]
[]
[]
[]
[]
[]
[]
[]
[]
[]
[]
[]
[]
[]
[]
[]
[]
[]
[]
[]
[]
[]
[]
[]
[]
[]
[]
[]
[]
[]
[]
[]
[]
[]
[]
[]
[]
[]
[]
[]
[]
[]
[]
[]
[]
[]
[]
[]
[]
[]
[]
[]
[]
[]
[]
[]
[]
[]
[]
[]
[]
[]
[]
[]
[]
[]
[]
[]
[]
[]
[]
[]
[]
[]
[]
[]
[]
[]
[]
[]
[]
[]
[]
[]
[]
[]
[]
[]
[]
[]
[]
[]
[]
[]
[]
[]
[]
[]
[]
[]
[]
[]
[]
[]
[]
[]
[]
[]
[]
[]
[]
[]
[]
[]
[]
[]
[]
[]
[]
[]
[]
[]
[]
[]
[]
[]
[]
[]
[]
[]
[]
[]
[]
[]
[]
[]
[]
[]
[]
[]
[]
[]
[]
[]
[]
[]
[]
[]
[]
[]
[]
[]
[]
[]
[]
[]
[]
[]
[]
[]
[]
[]
[]
[]
[]
[]
[]
[]
[]
[]
[]
[]
[]
[]
[]
[]
[]
[]
[]
[]
[]
[]
[]
[]
[]
[]
[]
[]
[]
[]
[]
[]
[]
[]
[]
[]
[]
[]
[]
[]
[]
[]
[]
[]
[]
[]
[]
[]
[]
[]
[]
[]
[]
[]
[]
[]
[]
[]
[]
[]
[]
[]
[]
[]
[]
[]
[]
[]
[]
[]
[]
[]
[]
[]
[]
[]
[]
[]
[]
[]
[]
[]
[]
[]
[]
[]
[]
[]
[]
[]
[]
[]
[]
[]
[]
[]
[]
[]
[]
[]
[]
[]
[]
[]
[]
[]
[]
[]
[]
[]
[]
[]
[]
[]
[]
[]
[]
[]
[]
[]
[]
[]
[]
[]
[]
[]
[]
[]
[]
[]
[]
[]
[]
[]
[]
[]
[]
[]
[]
[]
[]
[]
[]
[]
[]
[]
[]
[]
[]
[]
[]
[]
[]
[]
[]
[]
[]
[]
[]
[]
[]
[]
[]
[]
[]
[]
[]
[]
[]
[]
[]
[]
[]
[]
[]
[]
[]
[]
[]
[]
[]
[]
[]
[]
[]
[]
[]
[]
[]
[]
[]
[]
[]
[]
[]
[]
[]
[]
[]
[]
[]
[]
[]
[]
[]
[]
[]
[]
[]
[]
[]
[]
[]
[]
[]
[]
[]
[]
[]
[]
[]
[]
[]
[]
[]
[]
[]
[]
[]
[]
[]
[]
[]
[]
[]
[]
[]
[]
[]
[]
[]
[]
[]
[]
[]
[]
[]
[]
[]
[]
[]
[]
[]
[]
[]
[]
[]
[]
[]
[]
[]
[]
[]
[]
[]
[]
[]
[]
[]
[]
[]
[]
[]
[]
[]
[]
[]
[]
[]
[]
[]
[]
[]
[]
[]
[]
[]
[]
[]
[]
[]
[]
[]
[]
[]
[]
[]
[]
[]
[]
[]
[]
[]
[]
[]
[]
[]
[]
[]
[]
[]
[]
[]
[]
[]
[]
[]
[]
[]
[]
[]
[]
[]
[]
[]
[]
[]
[]
[]
[]
[]
[]
[]
[]
[]
[]
[]
[]
[]
[]
[]
[]
[]
[]
[]
[]
[]
[]
[]
[]
[]
[]
[]
[]
[]
[]
[]
[]
[]
[]
[]
[]
[]
[]
[]
[]
[]
[]
[]
[]
[]
[]
[]
[]
[]
[]
[]
[]
[]
[]
[]
[]
[]
[]
[]
[]
[]
[]
[]
[]
[]
[]
[]
[]
[]
[]
[]
[]
[]
[]
[]
[]
[]
[]
[]
[]
[]
[]
[]
[]
[]
[]
[]
[]
[]
[]
[]
[]
[]
[]
[]
[]
[]
[]
[]
[]
[]
[]
[]
[]
[]
[]
[]
[]
[]
[]
[]
[]
[]
[]
[]
[]
[]
[]
[]
[]
[]
[]
[]
[]
[]
[]
[]
[]
[]
[]
[]
[]
[]
[]
[]
[]
[]
[]
[]
[]
[]
[]
[]
[]
[]
[]
[]
[]
[]
[]
[]
[]
[]
[]
[]
[]
[]
[]
[]
[]
[]
[]
[]
[]
[]
[]
[]
[]
[]
[]
[]
[]
[]
[]
[]
[]
[]
[]
[]
[]
[]
[]
[]
[]
[]
[]
[]
[]
[]
[]
[]
[]
[]
[]
[]
[]
[]
[]
[]
[]
[]
[]
[]
[]
[]
[]
[]
[]
[]
[]
[]
[]
[]
[]
[]
[]
[]
[]
[]
[]
[]
[]
[]
[]
[]
[]
[]
[]
[]
[]
[]
[]
[]
[]
[]
[]
[]
[]
[]
[]
[]
[]
[]
[]
[]
[]
[]
[]
[]
[]
[]
[]
[]
[]
[]
[]
[]
[]
[]
[]
[]
[]
[]
[]
[]
[]
[]
[]
[]
[]
[]
[]
[]
[]
[]
[]
[]
[]
[]
[]
[]
[]
[]
[]
[]
[]
[]
[]
[]
[]
[]
[]
[]
[]
[]
[]
[]
[]
[]
[]
[]
[]
[]
[]
[]
[]
[]
[]
[]
[]
[]
[]
[]
[]
[]
[]
[]
[]
[]
[]
[]
[]
[]
[]
[]
[]
[]
[]
[]
[]
[]
[]
[]
[]
[]
[]
[]
[]
[]
[]
[]
[]
[]
[]
[]
[]
[]
[]
[]
[]
[]
[]
[]
[]
[]
[]
[]
[]
[]
[]
[]
[]
[]
[]
[]
[]
[]
[]
[]
[]
[]
[]
[]
[]
[]
[]
[]
[]
[]
[]
[]
[]
[]
[]
[]
[]
[]
[]
[]
[]
[]
[]
[]
[]
[]
[]
[]
[]
[]
[]
[]
[]
[]
[]
[]
[]
[]
[]
[]
[]
[]
[]
[]
[]
[]
[]
[]
[]
[]
[]
[]
[]
[]
[]
[]
[]
[]
[]
[]
[]
[]
[]
[]
[]
[]
[]
[]
[]
[]
[]
[]
[]
[]
[]
[]
[]
[]
[]
[]
[]
[]
[]
[]
[]
[]
[]
[]
[]
[]
[]
[]
[]
[]
[]
[]
[]
[]
[]
[]
[]
[]
[]
[]
[]
[]
[]
[]
[]
[]
[]
[]
[]
[]
[]
[]
[]
[]
[]
[]
[]
[]
[]
[]
[]
[]
[]
[]
[]
[]
[]
[]
[]
[]
[]
[]
[]
[]
[]
[]
[]
[]
[]
[]
[]
[]
[]
[]
[]
[]
[]
[]
[]
[]
[]
[]
[]
[]
[]
[]
[]
[]
[]
[]
[]
[]
[]
[]
[]
[]
[]
[]
[]
[]
[]
[]
[]
[]
[]
[]
[]
[]
[]
[]
[]
[]
[]
[]
[]
[]
[]
[]
[]
[]
[]
[]
[]
[]
[]
[]
[]
[]
[]
[]
[]
[]
[]
[]
[]
[]
[]
[]
[]
[]
[]
[]
[]
[]
[]
[]
[]
[]
[]
[]
[]
[]
[]
[]
[]
[]
[]
[]
[]
[]
[]
[]
[]
[]
[]
[]
[]
[]
[]
[]
[]
[]
[]
[]
[]
[]
[]
[]
[]
[]
[]
[]
[]
[]
[]
[]
[]
[]
[]
[]
[]
[]
[]
[]
[]
[]
[]
[]
[]
[]
[]
[]
[]
[]
[]
[]
[]
[]
[]
[]
[]
[]
[]
[]
[]
[]
[]
[]
[]
[]
[]
[]
[]
[]
[]
[]
[]
[]
[]
[]
[]
[]
[]
[]
[]
[]
[]
[]
[]
[]
[]
[]
[]
[]
[]
[]
[]
[]
[]
[]
[]
[]
[]
[]
[]
[]
[]
[]
[]
[]
[]
[]
[]
[]
[]
[]
[]
[]
[]
[]
[]
[]
[]
[]
[]
[]
[]
[]
[]
[]
[]
[]
[]
[]
[]
[]
[]
[]
[]
[]
[]
[]
[]
[]
[]
[]
[]
[]
[]
[]
[]
[]
[]
[]
[]
[]
[]
[]
[]
[]
[]
[]
[]
[]
[]
[]
[]
[]
[]
[]
[]
[]
[]
[]
[]
[]
[]
[]
[]
[]
[]
[]
[]
[]
[]
[]
[]
[]
[]
[]
[]
[]
[]
[]
[]
[]
[]
[]
[]
[]
[]
[]
[]
[]
[]
[]
[]
[]
[]
[]
[]
[]
[]
[]
[]
[]
[]
[]
[]
[]
[]
[]
[]
[]
[]
[]
[]
[]
[]
[]
[]
[]
[]
[]
[]
[]
[]
[]
[]
[]
[]
[]
[]
[]
[]
[]
[]
[]
[]
[]
[]
[]
[]
[]
[]
[]
[]
[]
[]
[]
[]
[]
[]
[]
[]
[]
[]
[]
[]
[]
[]
[]
[]
[]
[]
[]
[]
[]
[]
[]
[]
[]
[]
[]
[]
[]
[]
[]
[]
[]
[]
[]
[]
[]
[]
[]
[]
[]
[]
[]
[]
[]
[]
[]
[]
[]
[]
[]
[]
[]
[]
[]
[]
[]
[]
[]
[]
[]
[]
[]
[]
[]
[]
[]
[]
[]
[]
[]
[]
[]
[]
[]
[]
[]
[]
[]
[]
[]
[]
[]
[]
[]
[]
[]
[]
[]
[]
[]
[]
[]
[]
[]
[]
[]
[]
[]
[]
[]
[]
[]
[]
[]
[]
[]
[]
[]
[]
[]
[]
[]
[]
[]
[]
[]
[]
[]
[]
[]
[]
[]
[]
[]
[]
[]
[]
[]
[]
[]
[]
[]
[]
[]
[]
[]
[]
[]
[]
[]
[]
[]
[]
[]
[]
[]
[]
[]
[]
[]
[]
[]
[]
[]
[]
[]
[]
[]
[]
[]
[]
[]
[]
[]
[]
[]
[]
[]
[]
[]
[]
[]
[]
[]
[]
[]
[]
[]
[]
[]
[]
[]
[]
[]
[]
[]
[]
[]
[]
[]
[]
[]
[]
[]
[]
[]
[]
[]
[]
[]
[]
[]
[]
[]
[]
[]
[]
[]
[]
[]
[]
[]
[]
[]
[]
[]
[]
[]
[]
[]
[]
[]
[]
[]
[]
[]
[]
[]
[]
[]
[]
[]
[]
[]
[]
[]
[]
[]
[]
[]
[]
[]
[]
[]
[]
[]
[]
[]
[]
[]
[]
[]
[]
[]
[]
[]
[]
[]
[]
[]
[]
[]
[]
[]
[]
[]
[]
[]
[]
[]
[]
[]
[]
[]
[]
[]
[]
[]
[]
[]
[]
[]
[]
[]
[]
[]
[]
[]
[]
[]
[]
[]
[]
[]
[]
[]
[]
[]
[]
[]
[]
[]
[]
[]
[]
[]
[]
[]
[]
[]
[]
[]
[]
[]
[]
[]
[]
[]
[]
[]
[]
[]
[]
[]
[]
[]
[]
[]
[]
[]
[]
[]
[]
[]
[]
[]
[]
[]
[]
[]
[]
[]
[]
[]
[]
[]
[]
[]
[]
[]
[]
[]
[]
[]
[]
[]
[]
[]
[]
[]
[]
[]
[]
[]
[]
[]
[]
[]
[]
[]
[]
[]
[]
[]
[]
[]
[]
[]
[]
[]
[]
[]
[]
[]
[]
[]
[]
[]
[]
[]
[]
[]
[]
[]
[]
[]
[]
[]
[]
[]
[]
[]
[]
[]
[]
[]
[]
[]
[]
[]
[]
[]
[]
[]
[]
[]
[]
[]
[]
[]
[]
[]
[]
[]
[]
[]
[]
[]
[]
[]
[]
[]
[]
[]
[]
[]
[]
[]
[]
[]
[]
[]
[]
[]
[]
[]
[]
[]
[]
[]
[]
[]
[]
[]
[]
[]
[]
[]
[]
[]
[]
[]
[]
[]
[]
[]
[]
[]
[]
[]
[]
[]
[]
[]
[]
[]
[]
[]
[]
[]
[]
[]
[]
[]
[]
[]
[]
[]
[]
[]
[]
[]
[]
[]
[]
[]
[]
[]
[]
[]
[]
[]
[]
[]
[]
[]
[]
[]
[]
[]
[]
[]
[]
[]
[]
[]
[]
[]
[]
[]
[]
[]
[]
[]
[]
[]
[]
[]
[]
[]
[]
[]
[]
[]
[]
[]
[]
[]
[]
[]
[]
[]
[]
[]
[]
[]
[]
[]
[]
[]
[]
[]
[]
[]
[]
[]
[]
[]
[]
[]
[]
[]
[]
[]
[]
[]
[]
[]
[]
[]
[]
[]
[]
[]
[]
[]
[]
[]
[]
[]
[]
[]
[]
[]
[]
[]
[]
[]
[]
[]
[]
[]
[]
[]
[]
[]
[]
[]
[]
[]
[]
[]
[]
[]
[]
[]
[]
[]
[]
[]
[]
[]
[]
[]
[]
[]
[]
[]
[]
[]
[]
[]
[]
[]
[]
[]
[]
[]
[]
[]
[]
[]
[]
[]
[]
[]
[]
[]
[]
[]
[]
[]
[]
[]
[]
[]
[]
[]
[]
[]
[]
[]
[]
[]
[]
[]
[]
[]
[]
[]
[]
[]
[]
[]
[]
[]
[]
[]
[]
[]
[]
[]
[]
[]
[]
[]
[]
[]
[]
[]
[]
[]
[]
[]
[]
[]
[]
[]
[]
[]
[]
[]
[]
[]
[]
[]
[]
[]
[]
[]
[]
[]
[]
[]
[]
[]
[]
[]
[]
[]
[]
[]
[]
[]
[]
[]
[]
[]
[]
[]
[]
[]
[]
[]
[]
[]
[]
[]
[]
[]
[]
[]
[]
[]
[]
[]
[]
[]
[]
[]
[]
[]
[]
[]
[]
[]
[]
[]
[]
[]
[]
[]
[]
[]
[]
[]
[]
[]
[]
[]
[]
[]
[]
[]
[]
[]
[]
[]
[]
[]
[]
[]
[]
[]
[]
[]
[]
[]
[]
[]
[]
[]
[]
[]
[]
[]
[]
[]
[]
[]
[]
[]
[]
[]
[]
[]
[]
[]
[]
[]
[]
[]
[]
[]
[]
[]
[]
[]
[]
[]
[]
[]
[]
[]
[]
[]
[]
[]
[]
[]
[]
[]
[]
[]
[]
[]
[]
[]
[]
[]
[]
[]
[]
[]
[]
[]
[]
[]
[]
[]
[]
[]
[]
[]
[]
[]
[]
[]
[]
[]
[]
[]
[]
[]
[]
[]
[]
[]
[]
[]
[]
[]
[]
[]
[]
[]
[]
[]
[]
[]
[]
[]
[]
[]
[]
[]
[]
[]
[]
[]
[]
[]
[]
[]
[]
[]
[]
[]
[]
[]
[]
[]
[]
[]
[]
[]
[]
[]
[]
[]
[]
[]
[]
[]
[]
[]
[]
[]
[]
[]
[]
[]
[]
[]
[]
[]
[]
[]
[]
[]
[]
[]
[]
[]
[]
[]
[]
[]
[]
[]
[]
[]
[]
[]
[]
[]
[]
[]
[]
[]
[]
[]
[]
[]
[]
[]
[]
[]
[]
[]
[]
[]
[]
[]
[]
[]
[]
[]
[]
[]
[]
[]
[]
[]
[]
[]
[]
[]
[]
[]
[]
[]
[]
[]
[]
[]
[]
[]
[]
[]
[]
[]
[]
[]
[]
[]
[]
[]
[]
[]
[]
[]
[]
[]
[]
[]
[]
[]
[]
[]
[]
[]
[]
[]
[]
[]
[]
[]
[]
[]
[]
[]
[]
[]
[]
[]
[]
[]
[]
[]
[]
[]
[]
[]
[]
[]
[]
[]
[]
[]
[]
[]
[]
[]
[]
[]
[]
[]
[]
[]
[]
[]
[]
[]
[]
[]
[]
[]
[]
[]
[]
[]
[]
[]
[]
[]
[]
[]
[]
[]
[]
[]
[]
[]
[]
[]
[]
[]
[]
[]
[]
[]
[]
[]
[]
[]
[]
[]
[]
[]
[]
[]
[]
[]
[]
[]
[]
[]
[]
[]
[]
[]
[]
[]
[]
[]
[]
[]
[]
[]
[]
[]
[]
[]
[]
[]
[]
[]
[]
[]
[]
[]
[]
[]
[]
[]
[]
[]
[]
[]
[]
[]
[]
[]
[]
[]
[]
[]
[]
[]
[]
[]
[]
[]
[]
[]
[]
[]
[]
[]
[]
[]
[]
[]
[]
[]
[]
[]
[]
[]
[]
[]
[]
[]
[]
[]
[]
[]
[]
[]
[]
[]
[]
[]
[]
[]
[]
[]
[]
[]
[]
[]
[]
[]
[]
[]
[]
[]
[]
[]
[]
[]
[]
[]
[]
[]
[]
[]
[]
[]
[]
[]
[]
[]
[]
[]
[]
[]
[]
[]
[]
[]
[]
[]
[]
[]
[]
[]
[]
[]
[]
[]
[]
[]
[]
[]
[]
[]
[]
[]
[]
[]
[]
[]
[]
[]
[]
[]
[]
[]
[]
[]
[]
[]
[]
[]
[]
[]
[]
[]
[]
[]
[]
[]
[]
[]
[]
[]
[]
[]
[]
[]
[]
[]
[]
[]
[]
[]
[]
[]
[]
[]
[]
[]
[]
[]
[]
[]
[]
[]
[]
[]
[]
[]
[]
[]
[]
[]
[]
[]
[]
[]
[]
[]
[]
[]
[]
[]
[]
[]
[]
[]
[]
[]
[]
[]
[]
[]
[]
[]
[]
[]
[]
[]
[]
[]
[]
[]
[]
[]
[]
[]
[]
[]
[]
[]
[]
[]
[]
[]
[]
[]
[]
[]
[]
[]
[]
[]
[]
[]
[]
[]
[]
[]
[]
[]
[]
[]
[]
[]
[]
[]
[]
[]
[]
[]
[]
[]
[]
[]
[]
[]
[]
[]
[]
[]
[]
[]
[]
[]
[]
[]
[]
[]
[]
[]
[]
[]
[]
[]
[]
[]
[]
[]
[]
[]
[]
[]
[]
[]
[]
[]
[]
[]
[]
[]
[]
[]
[]
[]
[]
[]
[]
[]
[]
[]
[]
[]
[]
[]
[]
[]
[]
[]
[]
[]
[]
[]
[]
[]
[]
[]
[]
[]
[]
[]
[]
[]
[]
[]
[]
[]
[]
[]
[]
[]
[]
[]
[]
[]
[]
[]
[]
[]
[]
[]
[]
[]
[]
[]
[]
[]
[]
[]
[]
[]
[]
[]
[]
[]
[]
[]
[]
[]
[]
[]
[]
[]
[]
[]
[]
[]
[]
[]
[]
[]
[]
[]
[]
[]
[]
[]
[]
[]
[]
[]
[]
[]
[]
[]
[]
[]
[]
[]
[]
[]
[]
[]
[]
[]
[]
[]
[]
[]
[]
[]
[]
[]
[]
[]
[]
[]
[]
[]
[]
[]
[]
[]
[]
[]
[]
[]
[]
[]
[]
[]
[]
[]
[]
[]
[]
[]
[]
[]
[]
[]
[]
[]
[]
[]
[]
[]
[]
[]
[]
[]
[]
[]
[]
[]
[]
[]
[]
[]
[]
[]
[]
[]
[]
[]
[]
[]
[]
[]
[]
[]
[]
[]
[]
[]
[]
[]
[]
[]
[]
[]
[]
[]
[]
[]
[]
[]
[]
[]
[]
[]
[]
[]
[]
[]
[]
[]
[]
[]
[]
[]
[]
[]
[]
[]
[]
[]
[]
[]
[]
[]
[]
[]
[]
[]
[]
[]
[]
[]
[]
[]
[]
[]
[]
[]
[]
[]
[]
[]
[]
[]
[]
[]
[]
[]
[]
[]
[]
[]
[]
[]
[]
[]
[]
[]
[]
[]
[]
[]
[]
[]
[]
[]
[]
[]
[]
[]
[]
[]
[]
[]
[]
[]
[]
[]
[]
[]
[]
[]
[]
[]
[]
[]
[]
[]
[]
[]
[]
[]
[]
[]
[]
[]
[]
[]
[]
[]
[]
[]
[]
[]
[]
[]
[]
[]
[]
[]
[]
[]
[]
[]
[]
[]
[]
[]
[]
[]
[]
[]
[]
[]
[]
[]
[]
[]
[]
[]
[]
[]
[]
[]
[]
[]
[]
[]
[]
[]
[]
[]
[]
[]
[]
[]
[]
[]
[]
[]
[]
[]
[]
[]
[]
[]
[]
[]
[]
[]
[]
[]
[]
[]
[]
[]
[]
[]
[]
[]
[]
[]
[]
[]
[]
[]
[]
[]
[]
[]
[]
[]
[]
[]
[]
[]
[]
[]
[]
[]
[]
[]
[]
[]
[]
[]
[]
[]
[]
[]
[]
[]
[]
[]
[]
[]
[]
[]
[]
[]
[]
[]
[]
[]
[]
[]
[]
[]
[]
[]
[]
[]
[]
[]
[]
[]
[]
[]
[]
[]
[]
[]
[]
[]
[]
[]
[]
[]
[]
[]
[]
[]
[]
[]
[]
[]
[]
[]
[]
[]
[]
[]
[]
[]
[]
[]
[]
[]
[]
[]
[]
[]
[]
[]
[]
[]
[]
[]
[]
[]
[]
[]
[]
[]
[]
[]
[]
[]
[]
[]
[]
[]
[]
[]
[]
[]
[]
[]
[]
[]
[]
[]
[]
[]
[]
[]
[]
[]
[]
[]
[]
[]
[]
[]
[]
[]
[]
[]
[]
[]
[]
[]
[]
[]
[]
[]
[]
[]
[]
[]
[]
[]
[]
[]
[]
[]
[]
[]
[]
[]
[]
[]
[]
[]
[]
[]
[]
[]
[]
[]
[]
[]
[]
[]
[]
[]
[]
[]
[]
[]
[]
[]
[]
[]
[]
[]
[]
[]
[]
[]
[]
[]
[]
[]
[]
[]
[]
[]
[]
[]
[]
[]
[]
[]
[]
[]
[]
[]
[]
[]
[]
[]
[]
[]
[]
[]
[]
[]
[]
[]
[]
[]
[]
[]
[]
[]
[]
[]
[]
[]
[]
[]
[]
[]
[]
[]
[]
[]
[]
[]
[]
[]
[]
[]
[]
[]
[]
[]
[]
[]
[]
[]
[]
[]
[]
[]
[]
[]
[]
[]
[]
[]
[]
[]
[]
[]
[]
[]
[]
[]
[]
[]
[]
[]
[]
[]
[]
[]
[]
[]
[]
[]
[]
[]
[]
[]
[]
[]
[]
[]
[]
[]
[]
[]
[]
[]
[]
[]
[]
[]
[]
[]
[]
[]
[]
[]
[]
[]
[]
[]
[]
[]
[]
[]
[]
[]
[]
[]
[]
[]
[]
[]
[]
[]
[]
[]
[]
[]
[]
[]
[]
[]
[]
[]
[]
[]
[]
[]
[]
[]
[]
[]
[]
[]
[]
[]
[]
[]
[]
[]
[]
[]
[]
[]
[]
[]
[]
[]
[]
[]
[]
[]
[]
[]
[]
[]
[]
[]
[]
[]
[]
[]
[]
[]
[]
[]
[]
[]
[]
[]
[]
[]
[]
[]
[]
[]
[]
[]
[]
[]
[]
[]
[]
[]
[]
[]
[]
[]
[]
[]
[]
[]
[]
[]
[]
[]
[]
[]
[]
[]
[]
[]
[]
[]
[]
[]
[]
[]
[]
[]
[]
[]
[]
[]
[]
[]
[]
[]
[]
[]
[]
[]
[]
[]
[]
[]
[]
[]
[]
[]
[]
[]
[]
[]
[]
[]
[]
[]
[]
[]
[]
[]
[]
[]
[]
[]
[]
[]
[]
[]
[]
[]
[]
[]
[]
[]
[]
[]
[]
[]
[]
[]
[]
[]
[]
[]
[]
[]
[]
[]
[]
[]
[]
[]
[]
[]
[]
[]
[]
[]
[]
[]
[]
[]
[]
[]
[]
[]
[]
[]
[]
[]
[]
[]
[]
[]
[]
[]
[]
[]
[]
[]
[]
[]
[]
[]
[]
[]
[]
[]
[]
[]
[]
[]
[]
[]
[]
[]
[]
[]
[]
[]
[]
[]
[]
[]
[null,null,null,null,null,null,null,null,null,null,null,null,null,null,null,null,null,null,null,null,null,null,null,null,null,null,null,null,null,null,null,null,null,null,null,null,null,null,null,null,null,null,null,null,null,null,null,null,null,null,null,null,null,null,null,null,null,null,null,null,null,null,null,null,null,null,null,null,null,null,null,null,null,null,null,null,null,null,null,null,null,null,null,null,null,null,null,null,null,null,null,null,null,null,null,null,null,null,null,null,null,null,null,null,null,null,null,null,null,null,null,null,null,null,null,null,null,null,null,null,null,null,null,null,null,null,null,null,null,null,null,null,null,null,null,null,null,null,null,null,null,null,null,null,null,null,null,null,null,null,null,null,null,null,null,null,null,null,null,null,null,null,null,null,null,null,null,null,null,null,null,null,null,null,null,null,null,null,null,null,null,null,null,null,null,null,null,null,null,null,null,null,null,null,null,null,null,null,null,null,null,null,null,null,null,null,null,null,null,null,null,null,null,null,null,null,null,null,null,null,null,null,null,null,null,null,null,null,null,null,null,null,null,null,null,null,null,null,null,null,null,null,null,null,null,null,null,null,null,null,null,null,null,null,null,2017]
[null,null,null,null,null,null,null,null,null,null,null,null,null,null,null,null,null,null,null,null,null,null,null,null,null,null,null,null,null,null,null,null,null,null,null,null,null,null,null,null,null,null,null,null,null,null,null,null,null,null,null,null,null,null,null,null,null,null,null,null,null,null,null,null,null,null,null,null,null,null,null,null,null,null,null,null,null,null,null,null,null,null,null,null,null,null,null,null,null,null,null,null,null,null,null,null,null,null,null,null,null,null,null,null,null,null,null,null,null,null,null,null,null,null,null,null,null,null,null,null,null,null,null,null,null,null,null,null,null,null,null,null,null,null,null,null,null,null,null,null,null,null,null,null,null,null,null,null,null,null,null,null,null,null,null,null,null,null,null,null,null,null,null,null,null,null,null,null,null,null,null,null,null,null,null,null,null,null,null,null,null,null,null,null,null,null,null,null,null,null,null,null,null,null,null,null,null,null,null,null,null,null,null,null,null,null,null,null,null,null,null,null,null,null,null,null,null,null,null,null,null,null,null,null,null,null,null,null,null,null,null,null,null,null,null,null,null,null,null,null,null,null,null,null,null,null,null,null,null,null,null,null,null,null,null,2]
[null,null,null,null,null,null,null,null,null,null,null,null,null,null,null,null,null,null,null,null,null,null,null,null,null,null,null,null,null,null,null,null,null,null,null,null,null,null,null,null,null,null,null,null,null,null,null,null,null,null,null,null,null,null,null,null,null,null,null,null,null,null,null,null,null,null,null,null,null,null,null,null,null,null,null,null,null,null,null,null,null,null,null,null,null,null,null,null,null,null,null,null,null,null,null,null,null,null,null,null,null,null,null,null,null,null,null,null,null,null,null,null,null,null,null,null,null,null,null,null,null,null,null,null,null,null,null,null,null,null,null,null,null,null,null,null,null,null,null,null,null,null,null,null,null,null,null,null,null,null,null,null,null,null,null,null,null,null,null,null,null,null,null,null,null,null,null,null,null,null,null,null,null,null,null,null,null,null,null,null,null,null,null,null,null,null,null,null,null,null,null,null,null,null,null,null,null,null,null,null,null,null,null,null,null,null,null,null,null,null,null,null,null,null,null,null,null,null,null,null,null,null,null,null,null,null,null,null,null,null,null,null,null,null,null,null,null,null,null,null,null,null,null,null,null,null,null,null,null,null,null,null,null,null,null,28]
[null,null,null,null,null,null,null,null,null,null,null,null,null,null,null,null,null,null,null,null,null,null,null,null,null,null,null,null,null,null,null,null,null,null,null,null,null,null,null,null,null,null,null,null,null,null,null,null,null,null,null,null,null,null,null,null,null,null,null,null,null,null,null,null,null,null,null,null,null,null,null,null,null,null,null,null,null,null,null,null,null,null,null,null,null,null,null,null,null,null,null,null,null,null,null,null,null,null,null,null,null,null,null,null,null,null,null,null,null,null,null,null,null,null,null,null,null,null,null,null,null,null,null,null,null,null,null,null,null,null,null,null,null,null,null,null,null,null,null,null,null,null,null,null,null,null,null,null,null,null,null,null,null,null,null,null,null,null,null,null,null,null,null,null,null,null,null,null,null,null,null,null,null,null,null,null,null,null,null,null,null,null,null,null,null,null,null,null,null,null,null,null,null,null,null,null,null,null,null,null,null,null,null,null,null,null,null,null,null,null,null,null,null,null,null,null,null,null,null,null,null,null,null,null,null,null,null,null,null,null,null,null,null,null,null,null,null,null,null,null,null,null,null,null,null,null,null,null,null,null,null,null,null,null,null,{"$f":"DATE(IV64997,IV64998,IV64999)","v":"2017-02-28"}]
[null,null,null,null,null,null,null,null,null,null,null,null,null,null,null,null,null,null,null,null,null,null,null,null,null,null,null,null,null,null,null,null,null,null,null,null,null,null,null,null,null,null,null,null,null,null,null,null,null,null,null,null,null,null,null,null,null,null,null,null,null,null,null,null,null,null,null,null,null,null,null,null,null,null,null,null,null,null,null,null,null,null,null,null,null,null,null,null,null,null,null,null,null,null,null,null,null,null,null,null,null,null,null,null,null,null,null,null,null,null,null,null,null,null,null,null,null,null,null,null,null,null,null,null,null,null,null,null,null,null,null,null,null,null,null,null,null,null,null,null,null,null,null,null,null,null,null,null,null,null,null,null,null,null,null,null,null,null,null,null,null,null,null,null,null,null,null,null,null,null,null,null,null,null,null,null,null,null,null,null,null,null,null,null,null,null,null,null,null,null,null,null,null,null,null,null,null,null,null,null,null,null,null,null,null,null,null,null,null,null,null,null,null,null,null,null,null,null,null,null,null,null,null,null,null,null,null,null,null,null,null,null,null,null,null,null,null,null,null,null,null,null,null,null,null,null,null,null,null,null,null,null,null,null,null,{"$f":"TODAY()","v":"2017-02-10"}]
[null,null,null,null,null,null,null,null,null,null,null,null,null,null,null,null,null,null,null,null,null,null,null,null,null,null,null,null,null,null,null,null,null,null,null,null,null,null,null,null,null,null,null,null,null,null,null,null,null,null,null,null,null,null,null,null,null,null,null,null,null,null,null,null,null,null,null,null,null,null,null,null,null,null,null,null,null,null,null,null,null,null,null,null,null,null,null,null,null,null,null,null,null,null,null,null,null,null,null,null,null,null,null,null,null,null,null,null,null,null,null,null,null,null,null,null,null,null,null,null,null,null,null,null,null,null,null,null,null,null,null,null,null,null,null,null,null,null,null,null,null,null,null,null,null,null,null,null,null,null,null,null,null,null,null,null,null,null,null,null,null,null,null,null,null,null,null,null,null,null,null,null,null,null,null,null,null,null,null,null,null,null,null,null,null,null,null,null,null,null,null,null,null,null,null,null,null,null,null,null,null,null,null,null,null,null,null,null,null,null,null,null,null,null,null,null,null,null,null,null,null,null,null,null,null,null,null,null,null,null,null,null,null,null,null,null,null,null,null,null,null,null,null,null,null,null,null,null,null,null,null,null,null,null,null,"2017-02-08"]